{"text_format":"1","workbook":"xlsx","n_sheets":13,"sheets":["Home","Minor_Boys","Junior_Boys","Intermediate_Boys","Senior_Boys","Boys Declarations","Minor_Girls","Junior_Girls","Intermediate_Girls","Senior_Girls","Girls Declarations","Overall Team Results","Full Results"],"not_rendered":{"charts":0,"images":12,"macros":1,"external_links":0,"defined_names":35,"comments":0,"pivot_tables":0},"unopened":[],"bounds":{"document_bytes":16777216,"sheet_cells":100000,"rows_first":2000,"rows_last":500,"rows_between":2000,"halvings":0,"cell_chars":16384,"cell_head_chars":4096},"cells_cut":0,"cells_raw":0,"read":"whole","date_system":"1900"}

{"sheet":"Home","index":0,"n_rows":23,"n_cols":10,"rows_kept":23,"cut":false,"hidden":false,"merged":[]}
["Event","Northern Schools' Inter-County Cross Country Championships"]
["Venue","Barnard Castle School"]
["Date","2018-02-03","enter date in following format  >>>>>>>",null,null,"dd/mm/yyyy",{"$f":"CONCATENATE(TEXT(I3,\"dddd\"),\" \",Home!J3)","v":"Saturday 3rd February 2018"},null,{"$f":"B3","v":"2018-02-03"},{"$f":"IF(B3=\"\",\"\",DAY(B3)&IF(OR(DAY(B3)={1,2,3,21,22,23,31}),CHOOSE(1*RIGHT(DAY(B3),1),\"st \",\"nd \",\"rd \"),\"th \")&TEXT(B3,\"mmmm yyyy\"))","v":"3rd February 2018"}]
["Age Groups","Minor Boys","Scoring Athletes",6,"District/Teams","Cleveland","Sheet Names",null,{"$f":"B3","v":"2018-02-03"}]
[null,"Minor Girls","Scoring Athletes",6,null,"Cumbria","Home"]
[null,"Junior Boys","Scoring Athletes",6,null,"Durham","Minor_Boys"]
[null,"Junior Girls","Scoring Athletes",6,null,"Northumberland","Minor_Girls"]
[null,"Intermediate Boys","Scoring Athletes",6,null,"North Yorkshire","Junior_Boys"]
[null,"Intermediate Girls","Scoring Athletes",6,null,null,"Junior_Girls"]
[null,"Senior Boys","Scoring Athletes",6,null,null,"Intermediate_Boys"]
[null,"Senior Girls","Scoring Athletes",6,null,null,"Intermediate_Girls"]
[null,null,null,null,null,null,"Senior_Boys"]
["WHEN ENTERING TIMES PLEASE USE THE(.) AS THE TIME SEPARATOR. The time column is in number format to 2 decimal places",null,null,null,null,null,"Senior_Girls"]
["Only the yellow shaded cells are unlocked please enter the event, venue and date above."]
["This sheet is protected please contact me on the phone number below to obtain password."]
["07506 678788","Dave Taylor"]
[]
[]
[]
[]
[]
[]
["Northern Schools' Inter-County Cross Country Results 2018"]

{"sheet":"Minor_Boys","index":1,"n_rows":120,"n_cols":39,"rows_kept":120,"cut":false,"hidden":false,"merged":[[107,8,107,13],[112,6,112,18],[108,8,108,13],[109,8,109,13],[106,6,106,18],[110,8,110,13],[98,8,98,13],[99,8,99,13],[100,8,100,13],[95,8,95,13],[96,8,96,13],[97,8,97,13],[104,8,104,13],[105,8,105,13],[101,8,101,13],[102,8,102,13],[103,8,103,13],[86,8,86,13],[87,8,87,13],[88,8,88,13],[83,8,83,13],[84,8,84,13],[85,8,85,13],[92,8,92,13],[93,8,93,13],[94,8,94,13],[89,8,89,13],[90,8,90,13],[91,8,91,13],[74,8,74,13],[75,8,75,13],[76,8,76,13],[71,8,71,13],[72,8,72,13],[73,8,73,13],[80,8,80,13],[81,8,81,13],[82,8,82,13],[77,8,77,13],[78,8,78,13],[79,8,79,13],[62,8,62,13],[63,8,63,13],[64,8,64,13],[59,8,59,13],[60,8,60,13],[61,8,61,13],[68,8,68,13],[69,8,69,13],[70,8,70,13],[65,8,65,13],[66,8,66,13],[67,8,67,13],[50,8,50,13],[51,8,51,13],[52,8,52,13],[47,8,47,13],[48,8,48,13],[49,8,49,13],[56,8,56,13],[57,8,57,13],[58,8,58,13],[53,8,53,13],[54,8,54,13],[55,8,55,13],[38,8,38,13],[39,8,39,13],[40,8,40,13],[35,8,35,13],[36,8,36,13],[37,8,37,13],[44,8,44,13],[45,8,45,13],[46,8,46,13],[41,8,41,13],[42,8,42,13],[43,8,43,13],[26,8,26,13],[27,8,27,13],[28,8,28,13],[23,8,23,13],[24,8,24,13],[25,8,25,13],[32,8,32,13],[33,8,33,13],[34,8,34,13],[29,8,29,13],[30,8,30,13],[31,8,31,13],[14,8,14,13],[15,8,15,13],[16,8,16,13],[11,8,11,13],[12,8,12,13],[13,8,13,13],[20,8,20,13],[21,8,21,13],[22,8,22,13],[17,8,17,13],[18,8,18,13],[19,8,19,13],[0,26,0,29],[1,26,1,29],[8,8,8,13],[9,8,9,13],[0,6,0,18],[1,6,1,18],[2,6,2,18],[10,8,10,13],[5,8,5,13],[6,8,6,13],[7,8,7,13]]}
[null,null,null,null,null,null,{"$f":"Home!$B$1","v":"Northern Schools' Inter-County Cross Country Championships"},null,null,null,null,null,null,null,null,null,null,null,null,"a",null,{"$f":"CONCATENATE(W1,X1)","v":"Home!$B4"},"Home!$B",{"$f":"IF(Y1=\"Minor_Boys\",4,IF(Y1=\"Junior_Boys\",6,IF(Y1=\"Intermediate_Boys\",8,IF(Y1=\"Senior_Boys\",10,IF(Y1=\"Minor_Girls\",5,IF(Y1=\"Junior_Girls\",7,IF(Y1=\"Intermediate_Girls\",9,IF(Y1=\"Senior_Girls\",11,\"\"))))))))","v":4},{"$f":"MID(CELL(\"Filename\",A1),SEARCH(\"]\",CELL(\"Filename\",A1),1)+1,32)","v":"Minor_Boys"},null,{"$f":"Y1","v":"Minor_Boys"},null,null,null,{"$f":"CONCATENATE(Y1,\" \",Z1)","v":"Minor_Boys "}]
[null,null,null,null,null,null,{"$f":"Home!$B$2","v":"Barnard Castle School"},null,null,null,null,null,null,null,null,null,null,null,null,"b",null,{"$f":"CONCATENATE(W2,X2)","v":"Home!$D4"},"Home!$D",{"$f":"X1","v":4}]
[null,null,null,null,null,null,{"$f":"Home!$G$3","v":"Saturday 3rd February 2018"},null,null,null,null,null,null,null,null,null,null,null,null,"c"]
[null,null,null,null,null,null,null,null,null,null,null,null,null,null,null,null,null,null,null,"c"]
[null,null,null,null,null,null,{"$f":"INDIRECT(V1)","v":"Minor Boys"},null,null,null,null,null,null,{"$f":"CONCATENATE(\"Team Results\",\" \",INDIRECT(V2),\" \",\"to Score\")","v":"Team Results 6 to Score"},null,null,null,null,null,"d"]
[{"$f":"Home!F4","v":"Cleveland"},{"$f":"Home!F5","v":"Cumbria"},{"$f":"Home!F6","v":"Durham"},{"$f":"Home!F7","v":"Northumberland"},{"$f":"Home!F8","v":"North Yorkshire"},{"$f":"Home!F9","v":0},"Pos","Num","Name",null,null,null,null,null,"County",null,null,null,"Time","e"]
[{"$f":"IF(O7=A6,COUNTIF(O7:O7,A6),\"\")","v":""},{"$f":"IF(O7=B6,COUNTIF(O7:O7,B6),\"\")","v":""},{"$f":"IF(O7=C6,COUNTIF(O7:O7,C6),\"\")","v":""},{"$f":"IF(O7=D6,COUNTIF(O7:O7,D6),\"\")","v":1},{"$f":"IF(O7=E6,COUNTIF(O7:O7,E6),\"\")","v":""},{"$f":"IF(O7=F6,COUNTIF(O7:O7,F6),\"\")","v":""},{"$f":"IF(LEFT(S7,1)=\"D\",0,AM7)","v":1},61,{"$f":"IFERROR(VLOOKUP(H7,INDIRECT($AA$1),2,0),\"\")","v":"Tom Slane"},null,null,null,null,null,{"$f":"IFERROR(VLOOKUP(H7,INDIRECT($AA$1),3,0),\"\")","v":"Northumberland"},null,null,null,9.0299999999999994,{"$f":"IF(H7=0,0,1)","v":1},null,null,null,null,null,null,null,null,null,null,null,null,null,null,null,null,null,null,1]
[{"$f":"IF(O8=A6,COUNTIF(O7:O8,A6),\"\")","v":""},{"$f":"IF(O8=B6,COUNTIF(O7:O8,B6),\"\")","v":""},{"$f":"IF(O8=C6,COUNTIF(O7:O8,C6),\"\")","v":""},{"$f":"IF(O8=D6,COUNTIF(O7:O8,D6),\"\")","v":""},{"$f":"IF(O8=E6,COUNTIF(O7:O8,E6),\"\")","v":1},{"$f":"IF(O8=F6,COUNTIF(O7:O8,F6),\"\")","v":""},2,82,"Archie Gray",null,null,null,null,null,"North Yorkshire",null,null,null,9.1199999999999992,1,null,null,null,null,null,null,null,null,null,null,null,null,null,null,null,null,null,null,2]
[{"$f":"IF(O9=A6,COUNTIF(O7:O9,A6),\"\")","v":""},{"$f":"IF(O9=B6,COUNTIF(O7:O9,B6),\"\")","v":""},{"$f":"IF(O9=C6,COUNTIF(O7:O9,C6),\"\")","v":""},{"$f":"IF(O9=D6,COUNTIF(O7:O9,D6),\"\")","v":""},{"$f":"IF(O9=E6,COUNTIF(O7:O9,E6),\"\")","v":2},{"$f":"IF(O9=F6,COUNTIF(O7:O9,F6),\"\")","v":""},3,83,"Archie Bordewich",null,null,null,null,null,"North Yorkshire",null,null,null,9.1300000000000008,1,null,null,null,null,null,null,null,null,null,null,null,null,null,null,null,null,null,null,3]
[{"$f":"IF(O10=A6,COUNTIF(O7:O10,A6),\"\")","v":""},{"$f":"IF(O10=B6,COUNTIF(O7:O10,B6),\"\")","v":1},{"$f":"IF(O10=C6,COUNTIF(O7:O10,C6),\"\")","v":""},{"$f":"IF(O10=D6,COUNTIF(O7:O10,D6),\"\")","v":""},{"$f":"IF(O10=E6,COUNTIF(O7:O10,E6),\"\")","v":""},{"$f":"IF(O10=F6,COUNTIF(O7:O10,F6),\"\")","v":""},4,21,"Thomas Renwick",null,null,null,null,null,"Cumbria",null,null,null,9.1999999999999993,1,null,null,null,null,null,null,null,null,null,null,null,null,null,null,null,null,null,null,4]
[{"$f":"IF(O11=A6,COUNTIF(O7:O11,A6),\"\")","v":""},{"$f":"IF(O11=B6,COUNTIF(O7:O11,B6),\"\")","v":""},{"$f":"IF(O11=C6,COUNTIF(O7:O11,C6),\"\")","v":1},{"$f":"IF(O11=D6,COUNTIF(O7:O11,D6),\"\")","v":""},{"$f":"IF(O11=E6,COUNTIF(O7:O11,E6),\"\")","v":""},{"$f":"IF(O11=F6,COUNTIF(O7:O11,F6),\"\")","v":""},5,41,"Daniel Richardson",null,null,null,null,null,"Durham",null,null,null,9.2200000000000006,1,null,null,null,null,null,null,null,null,null,null,null,null,null,null,null,null,null,null,5]
[{"$f":"IF(O12=A6,COUNTIF(O7:O12,A6),\"\")","v":""},{"$f":"IF(O12=B6,COUNTIF(O7:O12,B6),\"\")","v":""},{"$f":"IF(O12=C6,COUNTIF(O7:O12,C6),\"\")","v":2},{"$f":"IF(O12=D6,COUNTIF(O7:O12,D6),\"\")","v":""},{"$f":"IF(O12=E6,COUNTIF(O7:O12,E6),\"\")","v":""},{"$f":"IF(O12=F6,COUNTIF(O7:O12,F6),\"\")","v":""},6,42,"Dylan Wilson",null,null,null,null,null,"Durham",null,null,null,9.24,1,null,null,null,null,null,null,null,null,null,null,null,null,null,null,null,null,null,null,6]
[{"$f":"IF(O13=A6,COUNTIF(O7:O13,A6),\"\")","v":""},{"$f":"IF(O13=B6,COUNTIF(O7:O13,B6),\"\")","v":""},{"$f":"IF(O13=C6,COUNTIF(O7:O13,C6),\"\")","v":""},{"$f":"IF(O13=D6,COUNTIF(O7:O13,D6),\"\")","v":""},{"$f":"IF(O13=E6,COUNTIF(O7:O13,E6),\"\")","v":3},{"$f":"IF(O13=F6,COUNTIF(O7:O13,F6),\"\")","v":""},7,84,"Joshua Hammett",null,null,null,null,null,"North Yorkshire",null,null,null,9.25,1,null,null,null,null,null,null,null,null,null,null,null,null,null,null,null,null,null,null,7]
[{"$f":"IF(O14=A6,COUNTIF(O7:O14,A6),\"\")","v":""},{"$f":"IF(O14=B6,COUNTIF(O7:O14,B6),\"\")","v":""},{"$f":"IF(O14=C6,COUNTIF(O7:O14,C6),\"\")","v":3},{"$f":"IF(O14=D6,COUNTIF(O7:O14,D6),\"\")","v":""},{"$f":"IF(O14=E6,COUNTIF(O7:O14,E6),\"\")","v":""},{"$f":"IF(O14=F6,COUNTIF(O7:O14,F6),\"\")","v":""},8,43,"Angus Milne",null,null,null,null,null,"Durham",null,null,null,9.27,1,null,null,null,null,null,null,null,null,null,null,null,null,null,null,null,null,null,null,8]
[{"$f":"IF(O15=A6,COUNTIF(O7:O15,A6),\"\")","v":""},{"$f":"IF(O15=B6,COUNTIF(O7:O15,B6),\"\")","v":""},{"$f":"IF(O15=C6,COUNTIF(O7:O15,C6),\"\")","v":4},{"$f":"IF(O15=D6,COUNTIF(O7:O15,D6),\"\")","v":""},{"$f":"IF(O15=E6,COUNTIF(O7:O15,E6),\"\")","v":""},{"$f":"IF(O15=F6,COUNTIF(O7:O15,F6),\"\")","v":""},9,47,"Benjamin Giles",null,null,null,null,null,"Durham",null,null,null,9.2799999999999994,1,null,null,null,null,null,null,null,null,null,null,null,null,null,null,null,null,null,null,9]
[{"$f":"IF(O16=A6,COUNTIF(O7:O16,A6),\"\")","v":""},{"$f":"IF(O16=B6,COUNTIF(O7:O16,B6),\"\")","v":""},{"$f":"IF(O16=C6,COUNTIF(O7:O16,C6),\"\")","v":""},{"$f":"IF(O16=D6,COUNTIF(O7:O16,D6),\"\")","v":2},{"$f":"IF(O16=E6,COUNTIF(O7:O16,E6),\"\")","v":""},{"$f":"IF(O16=F6,COUNTIF(O7:O16,F6),\"\")","v":""},10,63,"Ethan Bond",null,null,null,null,null,"Northumberland",null,null,null,9.2799999999999994,1,null,null,null,null,null,null,null,null,null,null,null,null,null,null,null,null,null,null,10]
[{"$f":"IF(O17=A6,COUNTIF(O7:O17,A6),\"\")","v":""},{"$f":"IF(O17=B6,COUNTIF(O7:O17,B6),\"\")","v":""},{"$f":"IF(O17=C6,COUNTIF(O7:O17,C6),\"\")","v":""},{"$f":"IF(O17=D6,COUNTIF(O7:O17,D6),\"\")","v":3},{"$f":"IF(O17=E6,COUNTIF(O7:O17,E6),\"\")","v":""},{"$f":"IF(O17=F6,COUNTIF(O7:O17,F6),\"\")","v":""},11,73,"Oliver Dixon",null,null,null,null,null,"Northumberland",null,null,null,9.31,1,null,null,null,null,null,null,null,null,null,null,null,null,null,null,null,null,null,null,11]
[{"$f":"IF(O18=A6,COUNTIF(O7:O18,A6),\"\")","v":""},{"$f":"IF(O18=B6,COUNTIF(O7:O18,B6),\"\")","v":""},{"$f":"IF(O18=C6,COUNTIF(O7:O18,C6),\"\")","v":""},{"$f":"IF(O18=D6,COUNTIF(O7:O18,D6),\"\")","v":4},{"$f":"IF(O18=E6,COUNTIF(O7:O18,E6),\"\")","v":""},{"$f":"IF(O18=F6,COUNTIF(O7:O18,F6),\"\")","v":""},12,64,"Noah Curran",null,null,null,null,null,"Northumberland",null,null,null,9.33,1,null,null,null,null,null,null,null,null,null,null,null,null,null,null,null,null,null,null,12]
[{"$f":"IF(O19=A6,COUNTIF(O7:O19,A6),\"\")","v":""},{"$f":"IF(O19=B6,COUNTIF(O7:O19,B6),\"\")","v":""},{"$f":"IF(O19=C6,COUNTIF(O7:O19,C6),\"\")","v":""},{"$f":"IF(O19=D6,COUNTIF(O7:O19,D6),\"\")","v":""},{"$f":"IF(O19=E6,COUNTIF(O7:O19,E6),\"\")","v":4},{"$f":"IF(O19=F6,COUNTIF(O7:O19,F6),\"\")","v":""},13,85,"Will Partner",null,null,null,null,null,"North Yorkshire",null,null,null,9.33,1,null,null,null,null,null,null,null,null,null,null,null,null,null,null,null,null,null,null,13]
[{"$f":"IF(O20=A6,COUNTIF(O7:O20,A6),\"\")","v":""},{"$f":"IF(O20=B6,COUNTIF(O7:O20,B6),\"\")","v":""},{"$f":"IF(O20=C6,COUNTIF(O7:O20,C6),\"\")","v":""},{"$f":"IF(O20=D6,COUNTIF(O7:O20,D6),\"\")","v":""},{"$f":"IF(O20=E6,COUNTIF(O7:O20,E6),\"\")","v":5},{"$f":"IF(O20=F6,COUNTIF(O7:O20,F6),\"\")","v":""},14,81,"Campbell Darcy",null,null,null,null,null,"North Yorkshire",null,null,null,9.33,1,null,null,null,null,null,null,null,null,null,null,null,null,null,null,null,null,null,null,14]
[{"$f":"IF(O21=A6,COUNTIF(O7:O21,A6),\"\")","v":""},{"$f":"IF(O21=B6,COUNTIF(O7:O21,B6),\"\")","v":""},{"$f":"IF(O21=C6,COUNTIF(O7:O21,C6),\"\")","v":5},{"$f":"IF(O21=D6,COUNTIF(O7:O21,D6),\"\")","v":""},{"$f":"IF(O21=E6,COUNTIF(O7:O21,E6),\"\")","v":""},{"$f":"IF(O21=F6,COUNTIF(O7:O21,F6),\"\")","v":""},15,44,"George Wilkinson",null,null,null,null,null,"Durham",null,null,null,9.35,1,null,null,null,null,null,null,null,null,null,null,null,null,null,null,null,null,null,null,15]
[{"$f":"IF(O22=A6,COUNTIF(O7:O22,A6),\"\")","v":""},{"$f":"IF(O22=B6,COUNTIF(O7:O22,B6),\"\")","v":""},{"$f":"IF(O22=C6,COUNTIF(O7:O22,C6),\"\")","v":""},{"$f":"IF(O22=D6,COUNTIF(O7:O22,D6),\"\")","v":5},{"$f":"IF(O22=E6,COUNTIF(O7:O22,E6),\"\")","v":""},{"$f":"IF(O22=F6,COUNTIF(O7:O22,F6),\"\")","v":""},16,70,"Ryan Davies",null,null,null,null,null,"Northumberland",null,null,null,9.39,1,null,null,null,null,null,null,null,null,null,null,null,null,null,null,null,null,null,null,16]
[{"$f":"IF(O23=A6,COUNTIF(O7:O23,A6),\"\")","v":""},{"$f":"IF(O23=B6,COUNTIF(O7:O23,B6),\"\")","v":""},{"$f":"IF(O23=C6,COUNTIF(O7:O23,C6),\"\")","v":""},{"$f":"IF(O23=D6,COUNTIF(O7:O23,D6),\"\")","v":6},{"$f":"IF(O23=E6,COUNTIF(O7:O23,E6),\"\")","v":""},{"$f":"IF(O23=F6,COUNTIF(O7:O23,F6),\"\")","v":""},17,67,"Bertie  Marr",null,null,null,null,null,"Northumberland",null,null,null,9.34,1,null,null,null,null,null,null,null,null,null,null,null,null,null,null,null,null,null,null,17]
[{"$f":"IF(O24=A6,COUNTIF(O7:O24,A6),\"\")","v":""},{"$f":"IF(O24=B6,COUNTIF(O7:O24,B6),\"\")","v":""},{"$f":"IF(O24=C6,COUNTIF(O7:O24,C6),\"\")","v":6},{"$f":"IF(O24=D6,COUNTIF(O7:O24,D6),\"\")","v":""},{"$f":"IF(O24=E6,COUNTIF(O7:O24,E6),\"\")","v":""},{"$f":"IF(O24=F6,COUNTIF(O7:O24,F6),\"\")","v":""},18,45,"George Beevers",null,null,null,null,null,"Durham",null,null,null,9.44,1,null,null,null,null,null,null,null,null,null,null,null,null,null,null,null,null,null,null,18]
[{"$f":"IF(O25=A6,COUNTIF(O7:O25,A6),\"\")","v":""},{"$f":"IF(O25=B6,COUNTIF(O7:O25,B6),\"\")","v":""},{"$f":"IF(O25=C6,COUNTIF(O7:O25,C6),\"\")","v":""},{"$f":"IF(O25=D6,COUNTIF(O7:O25,D6),\"\")","v":""},{"$f":"IF(O25=E6,COUNTIF(O7:O25,E6),\"\")","v":6},{"$f":"IF(O25=F6,COUNTIF(O7:O25,F6),\"\")","v":""},19,90,"Freddie Marsh",null,null,null,null,null,"North Yorkshire",null,null,null,9.4499999999999993,1,null,null,null,null,null,null,null,null,null,null,null,null,null,null,null,null,null,null,19]
[{"$f":"IF(O26=A6,COUNTIF(O7:O26,A6),\"\")","v":""},{"$f":"IF(O26=B6,COUNTIF(O7:O26,B6),\"\")","v":2},{"$f":"IF(O26=C6,COUNTIF(O7:O26,C6),\"\")","v":""},{"$f":"IF(O26=D6,COUNTIF(O7:O26,D6),\"\")","v":""},{"$f":"IF(O26=E6,COUNTIF(O7:O26,E6),\"\")","v":""},{"$f":"IF(O26=F6,COUNTIF(O7:O26,F6),\"\")","v":""},20,22,"Hector Westmorland-Nicholson",null,null,null,null,null,"Cumbria",null,null,null,9.4600000000000009,1,null,null,null,null,null,null,null,null,null,null,null,null,null,null,null,null,null,null,20]
[{"$f":"IF(O27=A6,COUNTIF(O7:O27,A6),\"\")","v":""},{"$f":"IF(O27=B6,COUNTIF(O7:O27,B6),\"\")","v":""},{"$f":"IF(O27=C6,COUNTIF(O7:O27,C6),\"\")","v":""},{"$f":"IF(O27=D6,COUNTIF(O7:O27,D6),\"\")","v":7},{"$f":"IF(O27=E6,COUNTIF(O7:O27,E6),\"\")","v":""},{"$f":"IF(O27=F6,COUNTIF(O7:O27,F6),\"\")","v":""},21,72,"Lewis Henry",null,null,null,null,null,"Northumberland",null,null,null,9.48,1,null,null,null,null,null,null,null,null,null,null,null,null,null,null,null,null,null,null,21]
[{"$f":"IF(O28=A6,COUNTIF(O7:O28,A6),\"\")","v":""},{"$f":"IF(O28=B6,COUNTIF(O7:O28,B6),\"\")","v":""},{"$f":"IF(O28=C6,COUNTIF(O7:O28,C6),\"\")","v":""},{"$f":"IF(O28=D6,COUNTIF(O7:O28,D6),\"\")","v":""},{"$f":"IF(O28=E6,COUNTIF(O7:O28,E6),\"\")","v":7},{"$f":"IF(O28=F6,COUNTIF(O7:O28,F6),\"\")","v":""},22,91,"Cian Winter",null,null,null,null,null,"North Yorkshire",null,null,null,9.5399999999999991,1,null,null,null,null,null,null,null,null,null,null,null,null,null,null,null,null,null,null,22]
[{"$f":"IF(O29=A6,COUNTIF(O7:O29,A6),\"\")","v":""},{"$f":"IF(O29=B6,COUNTIF(O7:O29,B6),\"\")","v":""},{"$f":"IF(O29=C6,COUNTIF(O7:O29,C6),\"\")","v":""},{"$f":"IF(O29=D6,COUNTIF(O7:O29,D6),\"\")","v":8},{"$f":"IF(O29=E6,COUNTIF(O7:O29,E6),\"\")","v":""},{"$f":"IF(O29=F6,COUNTIF(O7:O29,F6),\"\")","v":""},23,65,"Cameron Simpson",null,null,null,null,null,"Northumberland",null,null,null,9.5500000000000007,1,null,null,null,null,null,null,null,null,null,null,null,null,null,null,null,null,null,null,23]
[{"$f":"IF(O30=A6,COUNTIF(O7:O30,A6),\"\")","v":""},{"$f":"IF(O30=B6,COUNTIF(O7:O30,B6),\"\")","v":3},{"$f":"IF(O30=C6,COUNTIF(O7:O30,C6),\"\")","v":""},{"$f":"IF(O30=D6,COUNTIF(O7:O30,D6),\"\")","v":""},{"$f":"IF(O30=E6,COUNTIF(O7:O30,E6),\"\")","v":""},{"$f":"IF(O30=F6,COUNTIF(O7:O30,F6),\"\")","v":""},24,32,"Kia Hatcher",null,null,null,null,null,"Cumbria",null,null,null,10,1,null,null,null,null,null,null,null,null,null,null,null,null,null,null,null,null,null,null,24]
[{"$f":"IF(O31=A6,COUNTIF(O7:O31,A6),\"\")","v":1},{"$f":"IF(O31=B6,COUNTIF(O7:O31,B6),\"\")","v":""},{"$f":"IF(O31=C6,COUNTIF(O7:O31,C6),\"\")","v":""},{"$f":"IF(O31=D6,COUNTIF(O7:O31,D6),\"\")","v":""},{"$f":"IF(O31=E6,COUNTIF(O7:O31,E6),\"\")","v":""},{"$f":"IF(O31=F6,COUNTIF(O7:O31,F6),\"\")","v":""},25,2,"Jack Farrell",null,null,null,null,null,"Cleveland",null,null,null,10,1,null,null,null,null,null,null,null,null,null,null,null,null,null,null,null,null,null,null,25]
[{"$f":"IF(O32=A6,COUNTIF(O7:O32,A6),\"\")","v":""},{"$f":"IF(O32=B6,COUNTIF(O7:O32,B6),\"\")","v":""},{"$f":"IF(O32=C6,COUNTIF(O7:O32,C6),\"\")","v":""},{"$f":"IF(O32=D6,COUNTIF(O7:O32,D6),\"\")","v":""},{"$f":"IF(O32=E6,COUNTIF(O7:O32,E6),\"\")","v":8},{"$f":"IF(O32=F6,COUNTIF(O7:O32,F6),\"\")","v":""},26,87,"Isaac Henson",null,null,null,null,null,"North Yorkshire",null,null,null,10,1,null,null,null,null,null,null,null,null,null,null,null,null,null,null,null,null,null,null,26]
[{"$f":"IF(O33=A6,COUNTIF(O7:O33,A6),\"\")","v":""},{"$f":"IF(O33=B6,COUNTIF(O7:O33,B6),\"\")","v":4},{"$f":"IF(O33=C6,COUNTIF(O7:O33,C6),\"\")","v":""},{"$f":"IF(O33=D6,COUNTIF(O7:O33,D6),\"\")","v":""},{"$f":"IF(O33=E6,COUNTIF(O7:O33,E6),\"\")","v":""},{"$f":"IF(O33=F6,COUNTIF(O7:O33,F6),\"\")","v":""},27,28,"Fin Logue",null,null,null,null,null,"Cumbria",null,null,null,10,1,null,null,null,null,null,null,null,null,null,null,null,null,null,null,null,null,null,null,27]
[{"$f":"IF(O34=A6,COUNTIF(O7:O34,A6),\"\")","v":""},{"$f":"IF(O34=B6,COUNTIF(O7:O34,B6),\"\")","v":""},{"$f":"IF(O34=C6,COUNTIF(O7:O34,C6),\"\")","v":""},{"$f":"IF(O34=D6,COUNTIF(O7:O34,D6),\"\")","v":9},{"$f":"IF(O34=E6,COUNTIF(O7:O34,E6),\"\")","v":""},{"$f":"IF(O34=F6,COUNTIF(O7:O34,F6),\"\")","v":""},28,66,"Charlie Whittaker",null,null,null,null,null,"Northumberland",null,null,null,10,1,null,null,null,null,null,null,null,null,null,null,null,null,null,null,null,null,null,null,28]
[{"$f":"IF(O35=A6,COUNTIF(O7:O35,A6),\"\")","v":""},{"$f":"IF(O35=B6,COUNTIF(O7:O35,B6),\"\")","v":""},{"$f":"IF(O35=C6,COUNTIF(O7:O35,C6),\"\")","v":7},{"$f":"IF(O35=D6,COUNTIF(O7:O35,D6),\"\")","v":""},{"$f":"IF(O35=E6,COUNTIF(O7:O35,E6),\"\")","v":""},{"$f":"IF(O35=F6,COUNTIF(O7:O35,F6),\"\")","v":""},29,48,"Luke Bell",null,null,null,null,null,"Durham",null,null,null,10,1,null,null,null,null,null,null,null,null,null,null,null,null,null,null,null,null,null,null,29]
[{"$f":"IF(O36=A6,COUNTIF(O7:O36,A6),\"\")","v":""},{"$f":"IF(O36=B6,COUNTIF(O7:O36,B6),\"\")","v":5},{"$f":"IF(O36=C6,COUNTIF(O7:O36,C6),\"\")","v":""},{"$f":"IF(O36=D6,COUNTIF(O7:O36,D6),\"\")","v":""},{"$f":"IF(O36=E6,COUNTIF(O7:O36,E6),\"\")","v":""},{"$f":"IF(O36=F6,COUNTIF(O7:O36,F6),\"\")","v":""},30,23,"Mason McAnaney",null,null,null,null,null,"Cumbria",null,null,null,10,1,null,null,null,null,null,null,null,null,null,null,null,null,null,null,null,null,null,null,30]
[{"$f":"IF(O37=A6,COUNTIF(O7:O37,A6),\"\")","v":2},{"$f":"IF(O37=B6,COUNTIF(O7:O37,B6),\"\")","v":""},{"$f":"IF(O37=C6,COUNTIF(O7:O37,C6),\"\")","v":""},{"$f":"IF(O37=D6,COUNTIF(O7:O37,D6),\"\")","v":""},{"$f":"IF(O37=E6,COUNTIF(O7:O37,E6),\"\")","v":""},{"$f":"IF(O37=F6,COUNTIF(O7:O37,F6),\"\")","v":""},31,8,"Liam Woods-Ruddick",null,null,null,null,null,"Cleveland",null,null,null,10,1,null,null,null,null,null,null,null,null,null,null,null,null,null,null,null,null,null,null,31]
[{"$f":"IF(O38=A6,COUNTIF(O7:O38,A6),\"\")","v":""},{"$f":"IF(O38=B6,COUNTIF(O7:O38,B6),\"\")","v":6},{"$f":"IF(O38=C6,COUNTIF(O7:O38,C6),\"\")","v":""},{"$f":"IF(O38=D6,COUNTIF(O7:O38,D6),\"\")","v":""},{"$f":"IF(O38=E6,COUNTIF(O7:O38,E6),\"\")","v":""},{"$f":"IF(O38=F6,COUNTIF(O7:O38,F6),\"\")","v":""},32,31,"Ed Sargent",null,null,null,null,null,"Cumbria",null,null,null,10,1,null,null,null,null,null,null,null,null,null,null,null,null,null,null,null,null,null,null,32]
[{"$f":"IF(O39=A6,COUNTIF(O7:O39,A6),\"\")","v":""},{"$f":"IF(O39=B6,COUNTIF(O7:O39,B6),\"\")","v":""},{"$f":"IF(O39=C6,COUNTIF(O7:O39,C6),\"\")","v":""},{"$f":"IF(O39=D6,COUNTIF(O7:O39,D6),\"\")","v":""},{"$f":"IF(O39=E6,COUNTIF(O7:O39,E6),\"\")","v":9},{"$f":"IF(O39=F6,COUNTIF(O7:O39,F6),\"\")","v":""},{"$f":"IF(LEFT(S39,1)=\"D\",0,AM39)","v":33},86,{"$f":"IFERROR(VLOOKUP(H39,INDIRECT($AA$1),2,0),\"\")","v":"Louis How"},null,null,null,null,null,{"$f":"IFERROR(VLOOKUP(H39,INDIRECT($AA$1),3,0),\"\")","v":"North Yorkshire"},null,null,null,10,{"$f":"IF(H39=0,0,1)","v":1},null,null,null,null,null,null,null,null,null,null,null,null,null,null,null,null,null,null,33]
[{"$f":"IF(O40=A6,COUNTIF(O7:O40,A6),\"\")","v":""},{"$f":"IF(O40=B6,COUNTIF(O7:O40,B6),\"\")","v":7},{"$f":"IF(O40=C6,COUNTIF(O7:O40,C6),\"\")","v":""},{"$f":"IF(O40=D6,COUNTIF(O7:O40,D6),\"\")","v":""},{"$f":"IF(O40=E6,COUNTIF(O7:O40,E6),\"\")","v":""},{"$f":"IF(O40=F6,COUNTIF(O7:O40,F6),\"\")","v":""},34,26,"Oliver Smith",null,null,null,null,null,"Cumbria",null,null,null,10,1,null,null,null,null,null,null,null,null,null,null,null,null,null,null,null,null,null,null,34]
[{"$f":"IF(O41=A6,COUNTIF(O7:O41,A6),\"\")","v":""},{"$f":"IF(O41=B6,COUNTIF(O7:O41,B6),\"\")","v":""},{"$f":"IF(O41=C6,COUNTIF(O7:O41,C6),\"\")","v":8},{"$f":"IF(O41=D6,COUNTIF(O7:O41,D6),\"\")","v":""},{"$f":"IF(O41=E6,COUNTIF(O7:O41,E6),\"\")","v":""},{"$f":"IF(O41=F6,COUNTIF(O7:O41,F6),\"\")","v":""},35,50,"William Henderson",null,null,null,null,null,"Durham",null,null,null,10,1,null,null,null,null,null,null,null,null,null,null,null,null,null,null,null,null,null,null,35]
[{"$f":"IF(O42=A6,COUNTIF(O7:O42,A6),\"\")","v":""},{"$f":"IF(O42=B6,COUNTIF(O7:O42,B6),\"\")","v":""},{"$f":"IF(O42=C6,COUNTIF(O7:O42,C6),\"\")","v":""},{"$f":"IF(O42=D6,COUNTIF(O7:O42,D6),\"\")","v":10},{"$f":"IF(O42=E6,COUNTIF(O7:O42,E6),\"\")","v":""},{"$f":"IF(O42=F6,COUNTIF(O7:O42,F6),\"\")","v":""},36,62,"Max Murray-John",null,null,null,null,null,"Northumberland",null,null,null,10,1,null,null,null,null,null,null,null,null,null,null,null,null,null,null,null,null,null,null,36]
[{"$f":"IF(O43=A6,COUNTIF(O7:O43,A6),\"\")","v":""},{"$f":"IF(O43=B6,COUNTIF(O7:O43,B6),\"\")","v":""},{"$f":"IF(O43=C6,COUNTIF(O7:O43,C6),\"\")","v":""},{"$f":"IF(O43=D6,COUNTIF(O7:O43,D6),\"\")","v":""},{"$f":"IF(O43=E6,COUNTIF(O7:O43,E6),\"\")","v":10},{"$f":"IF(O43=F6,COUNTIF(O7:O43,F6),\"\")","v":""},37,89,"Finlay Tulip",null,null,null,null,null,"North Yorkshire",null,null,null,10,1,null,null,null,null,null,null,null,null,null,null,null,null,null,null,null,null,null,null,37]
[{"$f":"IF(O44=A6,COUNTIF(O7:O44,A6),\"\")","v":""},{"$f":"IF(O44=B6,COUNTIF(O7:O44,B6),\"\")","v":""},{"$f":"IF(O44=C6,COUNTIF(O7:O44,C6),\"\")","v":""},{"$f":"IF(O44=D6,COUNTIF(O7:O44,D6),\"\")","v":11},{"$f":"IF(O44=E6,COUNTIF(O7:O44,E6),\"\")","v":""},{"$f":"IF(O44=F6,COUNTIF(O7:O44,F6),\"\")","v":""},38,74,"Harry  Twinn",null,null,null,null,null,"Northumberland",null,null,null,10,1,null,null,null,null,null,null,null,null,null,null,null,null,null,null,null,null,null,null,38]
[{"$f":"IF(O45=A6,COUNTIF(O7:O45,A6),\"\")","v":3},{"$f":"IF(O45=B6,COUNTIF(O7:O45,B6),\"\")","v":""},{"$f":"IF(O45=C6,COUNTIF(O7:O45,C6),\"\")","v":""},{"$f":"IF(O45=D6,COUNTIF(O7:O45,D6),\"\")","v":""},{"$f":"IF(O45=E6,COUNTIF(O7:O45,E6),\"\")","v":""},{"$f":"IF(O45=F6,COUNTIF(O7:O45,F6),\"\")","v":""},39,6,"John Bolam",null,null,null,null,null,"Cleveland",null,null,null,10,1,null,null,null,null,null,null,null,null,null,null,null,null,null,null,null,null,null,null,39]
[{"$f":"IF(O46=A6,COUNTIF(O7:O46,A6),\"\")","v":4},{"$f":"IF(O46=B6,COUNTIF(O7:O46,B6),\"\")","v":""},{"$f":"IF(O46=C6,COUNTIF(O7:O46,C6),\"\")","v":""},{"$f":"IF(O46=D6,COUNTIF(O7:O46,D6),\"\")","v":""},{"$f":"IF(O46=E6,COUNTIF(O7:O46,E6),\"\")","v":""},{"$f":"IF(O46=F6,COUNTIF(O7:O46,F6),\"\")","v":""},40,5,"Tom Graham",null,null,null,null,null,"Cleveland",null,null,null,10,1,null,null,null,null,null,null,null,null,null,null,null,null,null,null,null,null,null,null,40]
[{"$f":"IF(O47=A6,COUNTIF(O7:O47,A6),\"\")","v":""},{"$f":"IF(O47=B6,COUNTIF(O7:O47,B6),\"\")","v":""},{"$f":"IF(O47=C6,COUNTIF(O7:O47,C6),\"\")","v":""},{"$f":"IF(O47=D6,COUNTIF(O7:O47,D6),\"\")","v":12},{"$f":"IF(O47=E6,COUNTIF(O7:O47,E6),\"\")","v":""},{"$f":"IF(O47=F6,COUNTIF(O7:O47,F6),\"\")","v":""},41,69,"Joseph Hudspith",null,null,null,null,null,"Northumberland",null,null,null,10,1,null,null,null,null,null,null,null,null,null,null,null,null,null,null,null,null,null,null,41]
[{"$f":"IF(O48=A6,COUNTIF(O7:O48,A6),\"\")","v":5},{"$f":"IF(O48=B6,COUNTIF(O7:O48,B6),\"\")","v":""},{"$f":"IF(O48=C6,COUNTIF(O7:O48,C6),\"\")","v":""},{"$f":"IF(O48=D6,COUNTIF(O7:O48,D6),\"\")","v":""},{"$f":"IF(O48=E6,COUNTIF(O7:O48,E6),\"\")","v":""},{"$f":"IF(O48=F6,COUNTIF(O7:O48,F6),\"\")","v":""},42,1,"Noah Payne",null,null,null,null,null,"Cleveland",null,null,null,10,1,null,null,null,null,null,null,null,null,null,null,null,null,null,null,null,null,null,null,42]
[{"$f":"IF(O49=A6,COUNTIF(O7:O49,A6),\"\")","v":""},{"$f":"IF(O49=B6,COUNTIF(O7:O49,B6),\"\")","v":8},{"$f":"IF(O49=C6,COUNTIF(O7:O49,C6),\"\")","v":""},{"$f":"IF(O49=D6,COUNTIF(O7:O49,D6),\"\")","v":""},{"$f":"IF(O49=E6,COUNTIF(O7:O49,E6),\"\")","v":""},{"$f":"IF(O49=F6,COUNTIF(O7:O49,F6),\"\")","v":""},43,27,"Joseph Rigby",null,null,null,null,null,"Cumbria",null,null,null,10,1,null,null,null,null,null,null,null,null,null,null,null,null,null,null,null,null,null,null,43]
[{"$f":"IF(O50=A6,COUNTIF(O7:O50,A6),\"\")","v":""},{"$f":"IF(O50=B6,COUNTIF(O7:O50,B6),\"\")","v":9},{"$f":"IF(O50=C6,COUNTIF(O7:O50,C6),\"\")","v":""},{"$f":"IF(O50=D6,COUNTIF(O7:O50,D6),\"\")","v":""},{"$f":"IF(O50=E6,COUNTIF(O7:O50,E6),\"\")","v":""},{"$f":"IF(O50=F6,COUNTIF(O7:O50,F6),\"\")","v":""},44,30,"Daniel Knott",null,null,null,null,null,"Cumbria",null,null,null,10,1,null,null,null,null,null,null,null,null,null,null,null,null,null,null,null,null,null,null,44]
[{"$f":"IF(O51=A6,COUNTIF(O7:O51,A6),\"\")","v":""},{"$f":"IF(O51=B6,COUNTIF(O7:O51,B6),\"\")","v":10},{"$f":"IF(O51=C6,COUNTIF(O7:O51,C6),\"\")","v":""},{"$f":"IF(O51=D6,COUNTIF(O7:O51,D6),\"\")","v":""},{"$f":"IF(O51=E6,COUNTIF(O7:O51,E6),\"\")","v":""},{"$f":"IF(O51=F6,COUNTIF(O7:O51,F6),\"\")","v":""},45,24,"Charlie Barry",null,null,null,null,null,"Cumbria",null,null,null,10.01,1,null,null,null,null,null,null,null,null,null,null,null,null,null,null,null,null,null,null,45]
[{"$f":"IF(O52=A6,COUNTIF(O7:O52,A6),\"\")","v":""},{"$f":"IF(O52=B6,COUNTIF(O7:O52,B6),\"\")","v":""},{"$f":"IF(O52=C6,COUNTIF(O7:O52,C6),\"\")","v":""},{"$f":"IF(O52=D6,COUNTIF(O7:O52,D6),\"\")","v":13},{"$f":"IF(O52=E6,COUNTIF(O7:O52,E6),\"\")","v":""},{"$f":"IF(O52=F6,COUNTIF(O7:O52,F6),\"\")","v":""},46,77,"Ben Asquith",null,null,null,null,null,"Northumberland",null,null,null,10.3,1,null,null,null,null,null,null,null,null,null,null,null,null,null,null,null,null,null,null,46]
[{"$f":"IF(O53=A6,COUNTIF(O7:O53,A6),\"\")","v":6},{"$f":"IF(O53=B6,COUNTIF(O7:O53,B6),\"\")","v":""},{"$f":"IF(O53=C6,COUNTIF(O7:O53,C6),\"\")","v":""},{"$f":"IF(O53=D6,COUNTIF(O7:O53,D6),\"\")","v":""},{"$f":"IF(O53=E6,COUNTIF(O7:O53,E6),\"\")","v":""},{"$f":"IF(O53=F6,COUNTIF(O7:O53,F6),\"\")","v":""},47,3,"Riley Middleton",null,null,null,null,null,"Cleveland",null,null,null,10.08,1,null,null,null,null,null,null,null,null,null,null,null,null,null,null,null,null,null,null,47]
[{"$f":"IF(O54=A6,COUNTIF(O7:O54,A6),\"\")","v":""},{"$f":"IF(O54=B6,COUNTIF(O7:O54,B6),\"\")","v":""},{"$f":"IF(O54=C6,COUNTIF(O7:O54,C6),\"\")","v":""},{"$f":"IF(O54=D6,COUNTIF(O7:O54,D6),\"\")","v":14},{"$f":"IF(O54=E6,COUNTIF(O7:O54,E6),\"\")","v":""},{"$f":"IF(O54=F6,COUNTIF(O7:O54,F6),\"\")","v":""},48,71,"Nathaniel Henderson",null,null,null,null,null,"Northumberland",null,null,null,10.09,1,null,null,null,null,null,null,null,null,null,null,null,null,null,null,null,null,null,null,48]
[{"$f":"IF(O55=A6,COUNTIF(O7:O55,A6),\"\")","v":""},{"$f":"IF(O55=B6,COUNTIF(O7:O55,B6),\"\")","v":""},{"$f":"IF(O55=C6,COUNTIF(O7:O55,C6),\"\")","v":9},{"$f":"IF(O55=D6,COUNTIF(O7:O55,D6),\"\")","v":""},{"$f":"IF(O55=E6,COUNTIF(O7:O55,E6),\"\")","v":""},{"$f":"IF(O55=F6,COUNTIF(O7:O55,F6),\"\")","v":""},49,49,"Sam Terry",null,null,null,null,null,"Durham",null,null,null,10.130000000000001,1,null,null,null,null,null,null,null,null,null,null,null,null,null,null,null,null,null,null,49]
[{"$f":"IF(O56=A6,COUNTIF(O7:O56,A6),\"\")","v":""},{"$f":"IF(O56=B6,COUNTIF(O7:O56,B6),\"\")","v":""},{"$f":"IF(O56=C6,COUNTIF(O7:O56,C6),\"\")","v":""},{"$f":"IF(O56=D6,COUNTIF(O7:O56,D6),\"\")","v":""},{"$f":"IF(O56=E6,COUNTIF(O7:O56,E6),\"\")","v":11},{"$f":"IF(O56=F6,COUNTIF(O7:O56,F6),\"\")","v":""},50,88,"Sam Pratt",null,null,null,null,null,"North Yorkshire",null,null,null,10.130000000000001,1,null,null,null,null,null,null,null,null,null,null,null,null,null,null,null,null,null,null,50]
[{"$f":"IF(O57=A6,COUNTIF(O7:O57,A6),\"\")","v":""},{"$f":"IF(O57=B6,COUNTIF(O7:O57,B6),\"\")","v":11},{"$f":"IF(O57=C6,COUNTIF(O7:O57,C6),\"\")","v":""},{"$f":"IF(O57=D6,COUNTIF(O7:O57,D6),\"\")","v":""},{"$f":"IF(O57=E6,COUNTIF(O7:O57,E6),\"\")","v":""},{"$f":"IF(O57=F6,COUNTIF(O7:O57,F6),\"\")","v":""},51,37,"Finn Walker",null,null,null,null,null,"Cumbria",null,null,null,10.14,1,null,null,null,null,null,null,null,null,null,null,null,null,null,null,null,null,null,null,51]
[{"$f":"IF(O58=A6,COUNTIF(O7:O58,A6),\"\")","v":""},{"$f":"IF(O58=B6,COUNTIF(O7:O58,B6),\"\")","v":""},{"$f":"IF(O58=C6,COUNTIF(O7:O58,C6),\"\")","v":10},{"$f":"IF(O58=D6,COUNTIF(O7:O58,D6),\"\")","v":""},{"$f":"IF(O58=E6,COUNTIF(O7:O58,E6),\"\")","v":""},{"$f":"IF(O58=F6,COUNTIF(O7:O58,F6),\"\")","v":""},52,46,"Jordy Armstrong",null,null,null,null,null,"Durham",null,null,null,10.14,1,null,null,null,null,null,null,null,null,null,null,null,null,null,null,null,null,null,null,52]
[{"$f":"IF(O59=A6,COUNTIF(O7:O59,A6),\"\")","v":""},{"$f":"IF(O59=B6,COUNTIF(O7:O59,B6),\"\")","v":""},{"$f":"IF(O59=C6,COUNTIF(O7:O59,C6),\"\")","v":""},{"$f":"IF(O59=D6,COUNTIF(O7:O59,D6),\"\")","v":15},{"$f":"IF(O59=E6,COUNTIF(O7:O59,E6),\"\")","v":""},{"$f":"IF(O59=F6,COUNTIF(O7:O59,F6),\"\")","v":""},53,75,"Daniel Lamb",null,null,null,null,null,"Northumberland",null,null,null,10.15,1,null,null,null,null,null,null,null,null,null,null,null,null,null,null,null,null,null,null,53]
[{"$f":"IF(O60=A6,COUNTIF(O7:O60,A6),\"\")","v":""},{"$f":"IF(O60=B6,COUNTIF(O7:O60,B6),\"\")","v":12},{"$f":"IF(O60=C6,COUNTIF(O7:O60,C6),\"\")","v":""},{"$f":"IF(O60=D6,COUNTIF(O7:O60,D6),\"\")","v":""},{"$f":"IF(O60=E6,COUNTIF(O7:O60,E6),\"\")","v":""},{"$f":"IF(O60=F6,COUNTIF(O7:O60,F6),\"\")","v":""},54,29,"Greg Barnard McKenzie",null,null,null,null,null,"Cumbria",null,null,null,10.19,1,null,null,null,null,null,null,null,null,null,null,null,null,null,null,null,null,null,null,54]
[{"$f":"IF(O61=A6,COUNTIF(O7:O61,A6),\"\")","v":7},{"$f":"IF(O61=B6,COUNTIF(O7:O61,B6),\"\")","v":""},{"$f":"IF(O61=C6,COUNTIF(O7:O61,C6),\"\")","v":""},{"$f":"IF(O61=D6,COUNTIF(O7:O61,D6),\"\")","v":""},{"$f":"IF(O61=E6,COUNTIF(O7:O61,E6),\"\")","v":""},{"$f":"IF(O61=F6,COUNTIF(O7:O61,F6),\"\")","v":""},55,7,"Max Peverall",null,null,null,null,null,"Cleveland",null,null,null,10.23,1,null,null,null,null,null,null,null,null,null,null,null,null,null,null,null,null,null,null,55]
[{"$f":"IF(O62=A6,COUNTIF(O7:O62,A6),\"\")","v":""},{"$f":"IF(O62=B6,COUNTIF(O7:O62,B6),\"\")","v":13},{"$f":"IF(O62=C6,COUNTIF(O7:O62,C6),\"\")","v":""},{"$f":"IF(O62=D6,COUNTIF(O7:O62,D6),\"\")","v":""},{"$f":"IF(O62=E6,COUNTIF(O7:O62,E6),\"\")","v":""},{"$f":"IF(O62=F6,COUNTIF(O7:O62,F6),\"\")","v":""},56,33,"Isaac Barber",null,null,null,null,null,"Cumbria",null,null,null,10.24,1,null,null,null,null,null,null,null,null,null,null,null,null,null,null,null,null,null,null,56]
[{"$f":"IF(O63=A6,COUNTIF(O7:O63,A6),\"\")","v":""},{"$f":"IF(O63=B6,COUNTIF(O7:O63,B6),\"\")","v":""},{"$f":"IF(O63=C6,COUNTIF(O7:O63,C6),\"\")","v":""},{"$f":"IF(O63=D6,COUNTIF(O7:O63,D6),\"\")","v":16},{"$f":"IF(O63=E6,COUNTIF(O7:O63,E6),\"\")","v":""},{"$f":"IF(O63=F6,COUNTIF(O7:O63,F6),\"\")","v":""},57,76,"Adam Howliston",null,null,null,null,null,"Northumberland",null,null,null,10.46,1,null,null,null,null,null,null,null,null,null,null,null,null,null,null,null,null,null,null,57]
[{"$f":"IF(O64=A6,COUNTIF(O7:O64,A6),\"\")","v":""},{"$f":"IF(O64=B6,COUNTIF(O7:O64,B6),\"\")","v":""},{"$f":"IF(O64=C6,COUNTIF(O7:O64,C6),\"\")","v":""},{"$f":"IF(O64=D6,COUNTIF(O7:O64,D6),\"\")","v":""},{"$f":"IF(O64=E6,COUNTIF(O7:O64,E6),\"\")","v":""},{"$f":"IF(O64=F6,COUNTIF(O7:O64,F6),\"\")","v":""},58,null,"",null,null,null,null,null,"",null,null,null,null,0,null,null,null,null,null,null,null,null,null,null,null,null,null,null,null,null,null,null,58]
[{"$f":"IF(O65=A6,COUNTIF(O7:O65,A6),\"\")","v":""},{"$f":"IF(O65=B6,COUNTIF(O7:O65,B6),\"\")","v":""},{"$f":"IF(O65=C6,COUNTIF(O7:O65,C6),\"\")","v":""},{"$f":"IF(O65=D6,COUNTIF(O7:O65,D6),\"\")","v":""},{"$f":"IF(O65=E6,COUNTIF(O7:O65,E6),\"\")","v":""},{"$f":"IF(O65=F6,COUNTIF(O7:O65,F6),\"\")","v":""},59,null,"",null,null,null,null,null,"",null,null,null,null,0,null,null,null,null,null,null,null,null,null,null,null,null,null,null,null,null,null,null,59]
[{"$f":"IF(O66=A6,COUNTIF(O7:O66,A6),\"\")","v":""},{"$f":"IF(O66=B6,COUNTIF(O7:O66,B6),\"\")","v":""},{"$f":"IF(O66=C6,COUNTIF(O7:O66,C6),\"\")","v":""},{"$f":"IF(O66=D6,COUNTIF(O7:O66,D6),\"\")","v":""},{"$f":"IF(O66=E6,COUNTIF(O7:O66,E6),\"\")","v":""},{"$f":"IF(O66=F6,COUNTIF(O7:O66,F6),\"\")","v":""},60,null,"",null,null,null,null,null,"",null,null,null,null,0,null,null,null,null,null,null,null,null,null,null,null,null,null,null,null,null,null,null,60]
[{"$f":"IF(O67=A6,COUNTIF(O7:O67,A6),\"\")","v":""},{"$f":"IF(O67=B6,COUNTIF(O7:O67,B6),\"\")","v":""},{"$f":"IF(O67=C6,COUNTIF(O7:O67,C6),\"\")","v":""},{"$f":"IF(O67=D6,COUNTIF(O7:O67,D6),\"\")","v":""},{"$f":"IF(O67=E6,COUNTIF(O7:O67,E6),\"\")","v":""},{"$f":"IF(O67=F6,COUNTIF(O7:O67,F6),\"\")","v":""},61,null,"",null,null,null,null,null,"",null,null,null,null,0,null,null,null,null,null,null,null,null,null,null,null,null,null,null,null,null,null,null,61]
[{"$f":"IF(O68=A6,COUNTIF(O7:O68,A6),\"\")","v":""},{"$f":"IF(O68=B6,COUNTIF(O7:O68,B6),\"\")","v":""},{"$f":"IF(O68=C6,COUNTIF(O7:O68,C6),\"\")","v":""},{"$f":"IF(O68=D6,COUNTIF(O7:O68,D6),\"\")","v":""},{"$f":"IF(O68=E6,COUNTIF(O7:O68,E6),\"\")","v":""},{"$f":"IF(O68=F6,COUNTIF(O7:O68,F6),\"\")","v":""},62,null,"",null,null,null,null,null,"",null,null,null,null,0,null,null,null,null,null,null,null,null,null,null,null,null,null,null,null,null,null,null,62]
[{"$f":"IF(O69=A6,COUNTIF(O7:O69,A6),\"\")","v":""},{"$f":"IF(O69=B6,COUNTIF(O7:O69,B6),\"\")","v":""},{"$f":"IF(O69=C6,COUNTIF(O7:O69,C6),\"\")","v":""},{"$f":"IF(O69=D6,COUNTIF(O7:O69,D6),\"\")","v":""},{"$f":"IF(O69=E6,COUNTIF(O7:O69,E6),\"\")","v":""},{"$f":"IF(O69=F6,COUNTIF(O7:O69,F6),\"\")","v":""},63,null,"",null,null,null,null,null,"",null,null,null,null,0,null,null,null,null,null,null,null,null,null,null,null,null,null,null,null,null,null,null,63]
[{"$f":"IF(O70=A6,COUNTIF(O7:O70,A6),\"\")","v":""},{"$f":"IF(O70=B6,COUNTIF(O7:O70,B6),\"\")","v":""},{"$f":"IF(O70=C6,COUNTIF(O7:O70,C6),\"\")","v":""},{"$f":"IF(O70=D6,COUNTIF(O7:O70,D6),\"\")","v":""},{"$f":"IF(O70=E6,COUNTIF(O7:O70,E6),\"\")","v":""},{"$f":"IF(O70=F6,COUNTIF(O7:O70,F6),\"\")","v":""},64,null,"",null,null,null,null,null,"",null,null,null,null,0,null,null,null,null,null,null,null,null,null,null,null,null,null,null,null,null,null,null,64]
[{"$f":"IF(O71=A6,COUNTIF(O7:O71,A6),\"\")","v":""},{"$f":"IF(O71=B6,COUNTIF(O7:O71,B6),\"\")","v":""},{"$f":"IF(O71=C6,COUNTIF(O7:O71,C6),\"\")","v":""},{"$f":"IF(O71=D6,COUNTIF(O7:O71,D6),\"\")","v":""},{"$f":"IF(O71=E6,COUNTIF(O7:O71,E6),\"\")","v":""},{"$f":"IF(O71=F6,COUNTIF(O7:O71,F6),\"\")","v":""},{"$f":"IF(LEFT(S71,1)=\"D\",0,AM71)","v":65},null,{"$f":"IFERROR(VLOOKUP(H71,INDIRECT($AA$1),2,0),\"\")","v":""},null,null,null,null,null,{"$f":"IFERROR(VLOOKUP(H71,INDIRECT($AA$1),3,0),\"\")","v":""},null,null,null,null,{"$f":"IF(H71=0,0,1)","v":0},null,null,null,null,null,null,null,null,null,null,null,null,null,null,null,null,null,null,65]
[{"$f":"IF(O72=A6,COUNTIF(O7:O72,A6),\"\")","v":""},{"$f":"IF(O72=B6,COUNTIF(O7:O72,B6),\"\")","v":""},{"$f":"IF(O72=C6,COUNTIF(O7:O72,C6),\"\")","v":""},{"$f":"IF(O72=D6,COUNTIF(O7:O72,D6),\"\")","v":""},{"$f":"IF(O72=E6,COUNTIF(O7:O72,E6),\"\")","v":""},{"$f":"IF(O72=F6,COUNTIF(O7:O72,F6),\"\")","v":""},66,null,"",null,null,null,null,null,"",null,null,null,null,0,null,null,null,null,null,null,null,null,null,null,null,null,null,null,null,null,null,null,66]
[{"$f":"IF(O73=A6,COUNTIF(O7:O73,A6),\"\")","v":""},{"$f":"IF(O73=B6,COUNTIF(O7:O73,B6),\"\")","v":""},{"$f":"IF(O73=C6,COUNTIF(O7:O73,C6),\"\")","v":""},{"$f":"IF(O73=D6,COUNTIF(O7:O73,D6),\"\")","v":""},{"$f":"IF(O73=E6,COUNTIF(O7:O73,E6),\"\")","v":""},{"$f":"IF(O73=F6,COUNTIF(O7:O73,F6),\"\")","v":""},67,null,"",null,null,null,null,null,"",null,null,null,null,0,null,null,null,null,null,null,null,null,null,null,null,null,null,null,null,null,null,null,67]
[{"$f":"IF(O74=A6,COUNTIF(O7:O74,A6),\"\")","v":""},{"$f":"IF(O74=B6,COUNTIF(O7:O74,B6),\"\")","v":""},{"$f":"IF(O74=C6,COUNTIF(O7:O74,C6),\"\")","v":""},{"$f":"IF(O74=D6,COUNTIF(O7:O74,D6),\"\")","v":""},{"$f":"IF(O74=E6,COUNTIF(O7:O74,E6),\"\")","v":""},{"$f":"IF(O74=F6,COUNTIF(O7:O74,F6),\"\")","v":""},68,null,"",null,null,null,null,null,"",null,null,null,null,0,null,null,null,null,null,null,null,null,null,null,null,null,null,null,null,null,null,null,68]
[{"$f":"IF(O75=A6,COUNTIF(O7:O75,A6),\"\")","v":""},{"$f":"IF(O75=B6,COUNTIF(O7:O75,B6),\"\")","v":""},{"$f":"IF(O75=C6,COUNTIF(O7:O75,C6),\"\")","v":""},{"$f":"IF(O75=D6,COUNTIF(O7:O75,D6),\"\")","v":""},{"$f":"IF(O75=E6,COUNTIF(O7:O75,E6),\"\")","v":""},{"$f":"IF(O75=F6,COUNTIF(O7:O75,F6),\"\")","v":""},69,null,"",null,null,null,null,null,"",null,null,null,null,0,null,null,null,null,null,null,null,null,null,null,null,null,null,null,null,null,null,null,69]
[{"$f":"IF(O76=A6,COUNTIF(O7:O76,A6),\"\")","v":""},{"$f":"IF(O76=B6,COUNTIF(O7:O76,B6),\"\")","v":""},{"$f":"IF(O76=C6,COUNTIF(O7:O76,C6),\"\")","v":""},{"$f":"IF(O76=D6,COUNTIF(O7:O76,D6),\"\")","v":""},{"$f":"IF(O76=E6,COUNTIF(O7:O76,E6),\"\")","v":""},{"$f":"IF(O76=F6,COUNTIF(O7:O76,F6),\"\")","v":""},70,null,"",null,null,null,null,null,"",null,null,null,null,0,null,null,null,null,null,null,null,null,null,null,null,null,null,null,null,null,null,null,70]
[{"$f":"IF(O77=A6,COUNTIF(O7:O77,A6),\"\")","v":""},{"$f":"IF(O77=B6,COUNTIF(O7:O77,B6),\"\")","v":""},{"$f":"IF(O77=C6,COUNTIF(O7:O77,C6),\"\")","v":""},{"$f":"IF(O77=D6,COUNTIF(O7:O77,D6),\"\")","v":""},{"$f":"IF(O77=E6,COUNTIF(O7:O77,E6),\"\")","v":""},{"$f":"IF(O77=F6,COUNTIF(O7:O77,F6),\"\")","v":""},71,null,"",null,null,null,null,null,"",null,null,null,null,0,null,null,null,null,null,null,null,null,null,null,null,null,null,null,null,null,null,null,71]
[{"$f":"IF(O78=A6,COUNTIF(O7:O78,A6),\"\")","v":""},{"$f":"IF(O78=B6,COUNTIF(O7:O78,B6),\"\")","v":""},{"$f":"IF(O78=C6,COUNTIF(O7:O78,C6),\"\")","v":""},{"$f":"IF(O78=D6,COUNTIF(O7:O78,D6),\"\")","v":""},{"$f":"IF(O78=E6,COUNTIF(O7:O78,E6),\"\")","v":""},{"$f":"IF(O78=F6,COUNTIF(O7:O78,F6),\"\")","v":""},72,null,"",null,null,null,null,null,"",null,null,null,null,0,null,null,null,null,null,null,null,null,null,null,null,null,null,null,null,null,null,null,72]
[{"$f":"IF(O79=A6,COUNTIF(O7:O79,A6),\"\")","v":""},{"$f":"IF(O79=B6,COUNTIF(O7:O79,B6),\"\")","v":""},{"$f":"IF(O79=C6,COUNTIF(O7:O79,C6),\"\")","v":""},{"$f":"IF(O79=D6,COUNTIF(O7:O79,D6),\"\")","v":""},{"$f":"IF(O79=E6,COUNTIF(O7:O79,E6),\"\")","v":""},{"$f":"IF(O79=F6,COUNTIF(O7:O79,F6),\"\")","v":""},73,null,"",null,null,null,null,null,"",null,null,null,null,0,null,null,null,null,null,null,null,null,null,null,null,null,null,null,null,null,null,null,73]
[{"$f":"IF(O80=A6,COUNTIF(O7:O80,A6),\"\")","v":""},{"$f":"IF(O80=B6,COUNTIF(O7:O80,B6),\"\")","v":""},{"$f":"IF(O80=C6,COUNTIF(O7:O80,C6),\"\")","v":""},{"$f":"IF(O80=D6,COUNTIF(O7:O80,D6),\"\")","v":""},{"$f":"IF(O80=E6,COUNTIF(O7:O80,E6),\"\")","v":""},{"$f":"IF(O80=F6,COUNTIF(O7:O80,F6),\"\")","v":""},74,null,"",null,null,null,null,null,"",null,null,null,null,0,null,null,null,null,null,null,null,null,null,null,null,null,null,null,null,null,null,null,74]
[{"$f":"IF(O81=A6,COUNTIF(O7:O81,A6),\"\")","v":""},{"$f":"IF(O81=B6,COUNTIF(O7:O81,B6),\"\")","v":""},{"$f":"IF(O81=C6,COUNTIF(O7:O81,C6),\"\")","v":""},{"$f":"IF(O81=D6,COUNTIF(O7:O81,D6),\"\")","v":""},{"$f":"IF(O81=E6,COUNTIF(O7:O81,E6),\"\")","v":""},{"$f":"IF(O81=F6,COUNTIF(O7:O81,F6),\"\")","v":""},75,null,"",null,null,null,null,null,"",null,null,null,null,0,null,null,null,null,null,null,null,null,null,null,null,null,null,null,null,null,null,null,75]
[{"$f":"IF(O82=A6,COUNTIF(O7:O82,A6),\"\")","v":""},{"$f":"IF(O82=B6,COUNTIF(O7:O82,B6),\"\")","v":""},{"$f":"IF(O82=C6,COUNTIF(O7:O82,C6),\"\")","v":""},{"$f":"IF(O82=D6,COUNTIF(O7:O82,D6),\"\")","v":""},{"$f":"IF(O82=E6,COUNTIF(O7:O82,E6),\"\")","v":""},{"$f":"IF(O82=F6,COUNTIF(O7:O82,F6),\"\")","v":""},76,null,"",null,null,null,null,null,"",null,null,null,null,0,null,null,null,null,null,null,null,null,null,null,null,null,null,null,null,null,null,null,76]
[{"$f":"IF(O83=A6,COUNTIF(O7:O83,A6),\"\")","v":""},{"$f":"IF(O83=B6,COUNTIF(O7:O83,B6),\"\")","v":""},{"$f":"IF(O83=C6,COUNTIF(O7:O83,C6),\"\")","v":""},{"$f":"IF(O83=D6,COUNTIF(O7:O83,D6),\"\")","v":""},{"$f":"IF(O83=E6,COUNTIF(O7:O83,E6),\"\")","v":""},{"$f":"IF(O83=F6,COUNTIF(O7:O83,F6),\"\")","v":""},77,null,"",null,null,null,null,null,"",null,null,null,null,0,null,null,null,null,null,null,null,null,null,null,null,null,null,null,null,null,null,null,77]
[{"$f":"IF(O84=A6,COUNTIF(O7:O84,A6),\"\")","v":""},{"$f":"IF(O84=B6,COUNTIF(O7:O84,B6),\"\")","v":""},{"$f":"IF(O84=C6,COUNTIF(O7:O84,C6),\"\")","v":""},{"$f":"IF(O84=D6,COUNTIF(O7:O84,D6),\"\")","v":""},{"$f":"IF(O84=E6,COUNTIF(O7:O84,E6),\"\")","v":""},{"$f":"IF(O84=F6,COUNTIF(O7:O84,F6),\"\")","v":""},78,null,"",null,null,null,null,null,"",null,null,null,null,0,null,null,null,null,null,null,null,null,null,null,null,null,null,null,null,null,null,null,78]
[{"$f":"IF(O85=A6,COUNTIF(O7:O85,A6),\"\")","v":""},{"$f":"IF(O85=B6,COUNTIF(O7:O85,B6),\"\")","v":""},{"$f":"IF(O85=C6,COUNTIF(O7:O85,C6),\"\")","v":""},{"$f":"IF(O85=D6,COUNTIF(O7:O85,D6),\"\")","v":""},{"$f":"IF(O85=E6,COUNTIF(O7:O85,E6),\"\")","v":""},{"$f":"IF(O85=F6,COUNTIF(O7:O85,F6),\"\")","v":""},79,null,"",null,null,null,null,null,"",null,null,null,null,0,null,null,null,null,null,null,null,null,null,null,null,null,null,null,null,null,null,null,79]
[{"$f":"IF(O86=A6,COUNTIF(O7:O86,A6),\"\")","v":""},{"$f":"IF(O86=B6,COUNTIF(O7:O86,B6),\"\")","v":""},{"$f":"IF(O86=C6,COUNTIF(O7:O86,C6),\"\")","v":""},{"$f":"IF(O86=D6,COUNTIF(O7:O86,D6),\"\")","v":""},{"$f":"IF(O86=E6,COUNTIF(O7:O86,E6),\"\")","v":""},{"$f":"IF(O86=F6,COUNTIF(O7:O86,F6),\"\")","v":""},80,null,"",null,null,null,null,null,"",null,null,null,null,0,null,null,null,null,null,null,null,null,null,null,null,null,null,null,null,null,null,null,80]
[{"$f":"IF(O87=A6,COUNTIF(O7:O87,A6),\"\")","v":""},{"$f":"IF(O87=B6,COUNTIF(O7:O87,B6),\"\")","v":""},{"$f":"IF(O87=C6,COUNTIF(O7:O87,C6),\"\")","v":""},{"$f":"IF(O87=D6,COUNTIF(O7:O87,D6),\"\")","v":""},{"$f":"IF(O87=E6,COUNTIF(O7:O87,E6),\"\")","v":""},{"$f":"IF(O87=F6,COUNTIF(O7:O87,F6),\"\")","v":""},81,null,"",null,null,null,null,null,"",null,null,null,null,0,null,null,null,null,null,null,null,null,null,null,null,null,null,null,null,null,null,null,81]
[{"$f":"IF(O88=A6,COUNTIF(O7:O88,A6),\"\")","v":""},{"$f":"IF(O88=B6,COUNTIF(O7:O88,B6),\"\")","v":""},{"$f":"IF(O88=C6,COUNTIF(O7:O88,C6),\"\")","v":""},{"$f":"IF(O88=D6,COUNTIF(O7:O88,D6),\"\")","v":""},{"$f":"IF(O88=E6,COUNTIF(O7:O88,E6),\"\")","v":""},{"$f":"IF(O88=F6,COUNTIF(O7:O88,F6),\"\")","v":""},82,null,"",null,null,null,null,null,"",null,null,null,null,0,null,null,null,null,null,null,null,null,null,null,null,null,null,null,null,null,null,null,82]
[{"$f":"IF(O89=A6,COUNTIF(O7:O89,A6),\"\")","v":""},{"$f":"IF(O89=B6,COUNTIF(O7:O89,B6),\"\")","v":""},{"$f":"IF(O89=C6,COUNTIF(O7:O89,C6),\"\")","v":""},{"$f":"IF(O89=D6,COUNTIF(O7:O89,D6),\"\")","v":""},{"$f":"IF(O89=E6,COUNTIF(O7:O89,E6),\"\")","v":""},{"$f":"IF(O89=F6,COUNTIF(O7:O89,F6),\"\")","v":""},83,null,"",null,null,null,null,null,"",null,null,null,null,0,null,null,null,null,null,null,null,null,null,null,null,null,null,null,null,null,null,null,83]
[{"$f":"IF(O90=A6,COUNTIF(O7:O90,A6),\"\")","v":""},{"$f":"IF(O90=B6,COUNTIF(O7:O90,B6),\"\")","v":""},{"$f":"IF(O90=C6,COUNTIF(O7:O90,C6),\"\")","v":""},{"$f":"IF(O90=D6,COUNTIF(O7:O90,D6),\"\")","v":""},{"$f":"IF(O90=E6,COUNTIF(O7:O90,E6),\"\")","v":""},{"$f":"IF(O90=F6,COUNTIF(O7:O90,F6),\"\")","v":""},84,null,"",null,null,null,null,null,"",null,null,null,null,0,null,null,null,null,null,null,null,null,null,null,null,null,null,null,null,null,null,null,84]
[{"$f":"IF(O91=A6,COUNTIF(O7:O91,A6),\"\")","v":""},{"$f":"IF(O91=B6,COUNTIF(O7:O91,B6),\"\")","v":""},{"$f":"IF(O91=C6,COUNTIF(O7:O91,C6),\"\")","v":""},{"$f":"IF(O91=D6,COUNTIF(O7:O91,D6),\"\")","v":""},{"$f":"IF(O91=E6,COUNTIF(O7:O91,E6),\"\")","v":""},{"$f":"IF(O91=F6,COUNTIF(O7:O91,F6),\"\")","v":""},85,null,"",null,null,null,null,null,"",null,null,null,null,0,null,null,null,null,null,null,null,null,null,null,null,null,null,null,null,null,null,null,85]
[{"$f":"IF(O92=A6,COUNTIF(O7:O92,A6),\"\")","v":""},{"$f":"IF(O92=B6,COUNTIF(O7:O92,B6),\"\")","v":""},{"$f":"IF(O92=C6,COUNTIF(O7:O92,C6),\"\")","v":""},{"$f":"IF(O92=D6,COUNTIF(O7:O92,D6),\"\")","v":""},{"$f":"IF(O92=E6,COUNTIF(O7:O92,E6),\"\")","v":""},{"$f":"IF(O92=F6,COUNTIF(O7:O92,F6),\"\")","v":""},86,null,"",null,null,null,null,null,"",null,null,null,null,0,null,null,null,null,null,null,null,null,null,null,null,null,null,null,null,null,null,null,86]
[{"$f":"IF(O93=A6,COUNTIF(O7:O93,A6),\"\")","v":""},{"$f":"IF(O93=B6,COUNTIF(O7:O93,B6),\"\")","v":""},{"$f":"IF(O93=C6,COUNTIF(O7:O93,C6),\"\")","v":""},{"$f":"IF(O93=D6,COUNTIF(O7:O93,D6),\"\")","v":""},{"$f":"IF(O93=E6,COUNTIF(O7:O93,E6),\"\")","v":""},{"$f":"IF(O93=F6,COUNTIF(O7:O93,F6),\"\")","v":""},87,null,"",null,null,null,null,null,"",null,null,null,null,0,null,null,null,null,null,null,null,null,null,null,null,null,null,null,null,null,null,null,87]
[{"$f":"IF(O94=A6,COUNTIF(O7:O94,A6),\"\")","v":""},{"$f":"IF(O94=B6,COUNTIF(O7:O94,B6),\"\")","v":""},{"$f":"IF(O94=C6,COUNTIF(O7:O94,C6),\"\")","v":""},{"$f":"IF(O94=D6,COUNTIF(O7:O94,D6),\"\")","v":""},{"$f":"IF(O94=E6,COUNTIF(O7:O94,E6),\"\")","v":""},{"$f":"IF(O94=F6,COUNTIF(O7:O94,F6),\"\")","v":""},88,null,"",null,null,null,null,null,"",null,null,null,null,0,null,null,null,null,null,null,null,null,null,null,null,null,null,null,null,null,null,null,88]
[{"$f":"IF(O95=A6,COUNTIF(O7:O95,A6),\"\")","v":""},{"$f":"IF(O95=B6,COUNTIF(O7:O95,B6),\"\")","v":""},{"$f":"IF(O95=C6,COUNTIF(O7:O95,C6),\"\")","v":""},{"$f":"IF(O95=D6,COUNTIF(O7:O95,D6),\"\")","v":""},{"$f":"IF(O95=E6,COUNTIF(O7:O95,E6),\"\")","v":""},{"$f":"IF(O95=F6,COUNTIF(O7:O95,F6),\"\")","v":""},89,null,"",null,null,null,null,null,"",null,null,null,null,0,null,null,null,null,null,null,null,null,null,null,null,null,null,null,null,null,null,null,89]
[{"$f":"IF(O96=A6,COUNTIF(O7:O96,A6),\"\")","v":""},{"$f":"IF(O96=B6,COUNTIF(O7:O96,B6),\"\")","v":""},{"$f":"IF(O96=C6,COUNTIF(O7:O96,C6),\"\")","v":""},{"$f":"IF(O96=D6,COUNTIF(O7:O96,D6),\"\")","v":""},{"$f":"IF(O96=E6,COUNTIF(O7:O96,E6),\"\")","v":""},{"$f":"IF(O96=F6,COUNTIF(O7:O96,F6),\"\")","v":""},90,null,"",null,null,null,null,null,"",null,null,null,null,0,null,null,null,null,null,null,null,null,null,null,null,null,null,null,null,null,null,null,90]
[{"$f":"IF(O97=A6,COUNTIF(O7:O97,A6),\"\")","v":""},{"$f":"IF(O97=B6,COUNTIF(O7:O97,B6),\"\")","v":""},{"$f":"IF(O97=C6,COUNTIF(O7:O97,C6),\"\")","v":""},{"$f":"IF(O97=D6,COUNTIF(O7:O97,D6),\"\")","v":""},{"$f":"IF(O97=E6,COUNTIF(O7:O97,E6),\"\")","v":""},{"$f":"IF(O97=F6,COUNTIF(O7:O97,F6),\"\")","v":""},91,null,"",null,null,null,null,null,"",null,null,null,null,0,null,null,null,null,null,null,null,null,null,null,null,null,null,null,null,null,null,null,91]
[{"$f":"IF(O98=A6,COUNTIF(O7:O98,A6),\"\")","v":""},{"$f":"IF(O98=B6,COUNTIF(O7:O98,B6),\"\")","v":""},{"$f":"IF(O98=C6,COUNTIF(O7:O98,C6),\"\")","v":""},{"$f":"IF(O98=D6,COUNTIF(O7:O98,D6),\"\")","v":""},{"$f":"IF(O98=E6,COUNTIF(O7:O98,E6),\"\")","v":""},{"$f":"IF(O98=F6,COUNTIF(O7:O98,F6),\"\")","v":""},92,null,"",null,null,null,null,null,"",null,null,null,null,0,null,null,null,null,null,null,null,null,null,null,null,null,null,null,null,null,null,null,92]
[{"$f":"IF(O99=A6,COUNTIF(O7:O99,A6),\"\")","v":""},{"$f":"IF(O99=B6,COUNTIF(O7:O99,B6),\"\")","v":""},{"$f":"IF(O99=C6,COUNTIF(O7:O99,C6),\"\")","v":""},{"$f":"IF(O99=D6,COUNTIF(O7:O99,D6),\"\")","v":""},{"$f":"IF(O99=E6,COUNTIF(O7:O99,E6),\"\")","v":""},{"$f":"IF(O99=F6,COUNTIF(O7:O99,F6),\"\")","v":""},93,null,"",null,null,null,null,null,"",null,null,null,null,0,null,null,null,null,null,null,null,null,null,null,null,null,null,null,null,null,null,null,93]
[{"$f":"IF(O100=A6,COUNTIF(O7:O100,A6),\"\")","v":""},{"$f":"IF(O100=B6,COUNTIF(O7:O100,B6),\"\")","v":""},{"$f":"IF(O100=C6,COUNTIF(O7:O100,C6),\"\")","v":""},{"$f":"IF(O100=D6,COUNTIF(O7:O100,D6),\"\")","v":""},{"$f":"IF(O100=E6,COUNTIF(O7:O100,E6),\"\")","v":""},{"$f":"IF(O100=F6,COUNTIF(O7:O100,F6),\"\")","v":""},94,null,"",null,null,null,null,null,"",null,null,null,null,0,null,null,null,null,null,null,null,null,null,null,null,null,null,null,null,null,null,null,94]
[{"$f":"IF(O101=A6,COUNTIF(O7:O101,A6),\"\")","v":""},{"$f":"IF(O101=B6,COUNTIF(O7:O101,B6),\"\")","v":""},{"$f":"IF(O101=C6,COUNTIF(O7:O101,C6),\"\")","v":""},{"$f":"IF(O101=D6,COUNTIF(O7:O101,D6),\"\")","v":""},{"$f":"IF(O101=E6,COUNTIF(O7:O101,E6),\"\")","v":""},{"$f":"IF(O101=F6,COUNTIF(O7:O101,F6),\"\")","v":""},95,null,"",null,null,null,null,null,"",null,null,null,null,0,null,null,null,null,null,null,null,null,null,null,null,null,null,null,null,null,null,null,95]
[{"$f":"IF(O102=A6,COUNTIF(O7:O102,A6),\"\")","v":""},{"$f":"IF(O102=B6,COUNTIF(O7:O102,B6),\"\")","v":""},{"$f":"IF(O102=C6,COUNTIF(O7:O102,C6),\"\")","v":""},{"$f":"IF(O102=D6,COUNTIF(O7:O102,D6),\"\")","v":""},{"$f":"IF(O102=E6,COUNTIF(O7:O102,E6),\"\")","v":""},{"$f":"IF(O102=F6,COUNTIF(O7:O102,F6),\"\")","v":""},96,null,"",null,null,null,null,null,"",null,null,null,null,0,null,null,null,null,null,null,null,null,null,null,null,null,null,null,null,null,null,null,96]
[{"$f":"IF(O103=A6,COUNTIF(O7:O103,A6),\"\")","v":""},{"$f":"IF(O103=B6,COUNTIF(O7:O103,B6),\"\")","v":""},{"$f":"IF(O103=C6,COUNTIF(O7:O103,C6),\"\")","v":""},{"$f":"IF(O103=D6,COUNTIF(O7:O103,D6),\"\")","v":""},{"$f":"IF(O103=E6,COUNTIF(O7:O103,E6),\"\")","v":""},{"$f":"IF(O103=F6,COUNTIF(O7:O103,F6),\"\")","v":""},97,null,{"$f":"IFERROR(VLOOKUP(H103,INDIRECT($AA$1),2,0),\"\")","v":""},null,null,null,null,null,"",null,null,null,null,0,null,null,null,null,null,null,null,null,null,null,null,null,null,null,null,null,null,null,97]
[{"$f":"IF(O104=A6,COUNTIF(O7:O104,A6),\"\")","v":""},{"$f":"IF(O104=B6,COUNTIF(O7:O104,B6),\"\")","v":""},{"$f":"IF(O104=C6,COUNTIF(O7:O104,C6),\"\")","v":""},{"$f":"IF(O104=D6,COUNTIF(O7:O104,D6),\"\")","v":""},{"$f":"IF(O104=E6,COUNTIF(O7:O104,E6),\"\")","v":""},{"$f":"IF(O104=F6,COUNTIF(O7:O104,F6),\"\")","v":""},98,null,"",null,null,null,null,null,"",null,null,null,null,0,null,null,null,null,null,null,null,null,null,null,null,null,null,null,null,null,null,null,98]
[{"$f":"IF(O105=A6,COUNTIF(O7:O105,A6),\"\")","v":""},{"$f":"IF(O105=B6,COUNTIF(O7:O105,B6),\"\")","v":""},{"$f":"IF(O105=C6,COUNTIF(O7:O105,C6),\"\")","v":""},{"$f":"IF(O105=D6,COUNTIF(O7:O105,D6),\"\")","v":""},{"$f":"IF(O105=E6,COUNTIF(O7:O105,E6),\"\")","v":""},{"$f":"IF(O105=F6,COUNTIF(O7:O105,F6),\"\")","v":""},99,null,"",null,null,null,null,null,"",null,null,null,null,0,null,null,null,null,null,null,null,null,null,null,null,null,null,null,null,null,null,null,99]
[{"$f":"IF(O106=A6,COUNTIF(O7:O106,A6),\"\")","v":""},{"$f":"IF(O106=B6,COUNTIF(O7:O106,B6),\"\")","v":""},{"$f":"IF(O106=C6,COUNTIF(O7:O106,C6),\"\")","v":""},{"$f":"IF(O106=D6,COUNTIF(O7:O106,D6),\"\")","v":""},{"$f":"IF(O106=E6,COUNTIF(O7:O106,E6),\"\")","v":""},{"$f":"IF(O106=F6,COUNTIF(O7:O106,F6),\"\")","v":""},100,null,"",null,null,null,null,null,"",null,null,null,null,0,null,null,null,null,null,null,null,null,null,null,null,null,null,null,null,null,null,null,100]
[null,null,null,null,null,null,{"$f":"CONCATENATE($G$5,\" \",\"Individual Medal Winners\")","v":"Minor Boys Individual Medal Winners"},null,null,null,null,null,null,null,null,null,null,null,null,"f"]
[null,null,null,null,null,null,"Pos","Num","Name",null,null,null,null,null,"County",null,null,null,"Time"]
[null,null,null,null,null,null,1,{"$f":"IF(H7=0,\"\",H7)","v":61},"Tom Slane","","","","","","Northumberland",null,null,null,{"$f":"IF(S7=0,\"\",S7)","v":9.0299999999999994},{"$f":"IF(H109=\"\",0,1)","v":1}]
[null,null,null,null,null,null,2,82,"Archie Gray","","","","","","North Yorkshire",null,null,null,{"$f":"IF(S8=0,\"\",S8)","v":9.1199999999999992},{"$f":"IF(H110=\"\",0,1)","v":1}]
[null,null,null,null,null,null,3,83,"Archie Bordewich","","","","","","North Yorkshire",null,null,null,{"$f":"IF(S9=0,\"\",S9)","v":9.1300000000000008},{"$f":"IF(H111=\"\",0,1)","v":1}]
[null,null,null,null,null,null,null,null,null,null,null,null,null,null,null,null,null,null,null,"g"]
[null,null,null,null,null,null,{"$f":"CONCATENATE($G$5,\" \",\"Team Results\")","v":"Minor Boys Team Results"},null,null,null,null,null,null,null,null,null,null,null,null,"h",null,null,null,null,{"$f":"G113","v":"Minor Boys Team Results"}]
[null,null,null,null,null,null,null,"Team Name",null,null,null,null,"1st","2nd","3rd","4th","5th","6th","Points","i",null,null,{"$f":"P5","v":0},null,null,1,2,3,4,5,6,"Pts"]
[null,null,null,null,null,null,1,{"$f":"IFERROR(VLOOKUP(G115,$X$115:$AF$119,2,0),\"\")","v":"North Yorkshire"},null,null,null,null,{"$f":"IFERROR(VLOOKUP(G115,$X$115:$AF$119,3,0),\"\")","v":2},{"$f":"IFERROR(VLOOKUP(G115,$X$115:$AF$119,4,0),\"\")","v":3},{"$f":"IFERROR(VLOOKUP(G115,$X$115:$AF$119,5,0),\"\")","v":7},{"$f":"IFERROR(VLOOKUP(G115,$X$115:$AF$119,6,0),\"\")","v":13},{"$f":"IFERROR(VLOOKUP(G115,$X$115:$AF$119,7,0),\"\")","v":14},{"$f":"IFERROR(VLOOKUP(G115,$X$115:$AF$119,8,0),\"\")","v":19},{"$f":"SUM(M115:R115)","v":58},{"$f":"IF(H115=\"\",0,1)","v":1},null,null,7,{"$f":"IF(OR(AJ115=\"\",AJ115=0),0,RANK(AJ115,AJ115:AJ120,1))","v":5},{"$f":"Home!F4","v":"Cleveland"},{"$f":"IFERROR(VLOOKUP(Z114,$A$7:$G$106,W115,0),0)","v":25},{"$f":"IFERROR(VLOOKUP(AA114,A$7:G$106,W115,0),0)","v":31},{"$f":"IFERROR(VLOOKUP(AB114,A$7:G$106,W115,0),0)","v":39},{"$f":"IF(W114=3,0,IFERROR(VLOOKUP(AC114,A$7:G$106,W115,0),0))","v":40},{"$f":"IF(W114=4,0,IFERROR(VLOOKUP(AD114,A$7:G$106,W115,0),0))","v":42},{"$f":"IF(OR(W114=4,W114=5),0,IFERROR(VLOOKUP(AE114,A$7:G$106,W115,0),0))","v":47},{"$f":"IF(AE115=0,0,SUM(Z115:AE115))","v":224},{"$f":"IF(OR(AF115=0,AF115=\"\"),0,RANK(AF115,AF115:AF120,1))","v":6},{"$f":"IF(OR(AG115=0,AG115=\"\"),\"\",IF(OR(AG115=AG116,AG115=AG117,AG115=AG118,AG115=AG119,AG115=AG120),\"=\",\"\"))","v":""},{"$f":"IF(AH115=\"=\",COUNTIF(AH115:AH115,\"<>A\")-COUNTIF(AH115:AH115,\"\"),0)","v":0},{"$f":"IF(AND(AG115=0,AI115=0),\"\",AG115+(AI115/10)+AL115/10)","v":6.6},{"$f":"X115","v":5},{"$f":"IF(OR(AF115=0,AF115=\"\"),0,RANK(Z115,Z115:Z120,1))","v":6}]
[null,null,null,null,null,null,2,{"$f":"IFERROR(VLOOKUP(G116,$X$115:$AF$119,2,0),\"\")","v":"Durham"},null,null,null,null,{"$f":"IFERROR(VLOOKUP(G116,$X$115:$AF$119,3,0),\"\")","v":5},{"$f":"IFERROR(VLOOKUP(G116,$X$115:$AF$119,4,0),\"\")","v":6},{"$f":"IFERROR(VLOOKUP(G116,$X$115:$AF$119,5,0),\"\")","v":8},{"$f":"IFERROR(VLOOKUP(G116,$X$115:$AF$119,6,0),\"\")","v":9},{"$f":"IFERROR(VLOOKUP(G116,$X$115:$AF$119,7,0),\"\")","v":15},{"$f":"IFERROR(VLOOKUP(G116,$X$115:$AF$119,8,0),\"\")","v":18},{"$f":"SUM(M116:R116)","v":61},1,null,null,6,{"$f":"IF(OR(AJ116=\"\",AJ116=0),0,RANK(AJ116,AJ115:AJ120,1))","v":4},{"$f":"Home!F5","v":"Cumbria"},{"$f":"IFERROR(VLOOKUP(Z114,$B$7:$G$106,W116,0),0)","v":4},{"$f":"IFERROR(VLOOKUP(AA114,B$7:G$106,W116,0),0)","v":20},{"$f":"IFERROR(VLOOKUP(AB114,B$7:G$106,W116,0),0)","v":24},{"$f":"IF(W114=3,0,IFERROR(VLOOKUP(AC114,B$7:G$106,W116,0),0))","v":27},{"$f":"IF(W114=4,0,IFERROR(VLOOKUP(AD114,B$7:G$106,W116,0),0))","v":30},{"$f":"IF(OR(W114=4,W114=5),0,IFERROR(VLOOKUP(AE114,B$7:G$106,W116,0),0))","v":32},{"$f":"IF(AE116=0,0,SUM(Z116:AE116))","v":137},{"$f":"IF(OR(AF116=0,AF116=\"\"),0,RANK(AF116,AF115:AF120,1))","v":5},{"$f":"IF(OR(AG116=0,AG116=\"\"),\"\",IF(OR(AG116=AG117,AG116=AG118,AG116=AG119,AG116=AG120,AG116=AG115),\"=\",\"\"))","v":""},{"$f":"IF(AH116=\"=\",COUNTIF(AH115:AH116,\"<>A\")-COUNTIF(AH115:AH116,\"\"),0)","v":0},{"$f":"IF(AND(AG116=0,AI116=0),\"\",AG116+(AI116/10)+AL116/10)","v":5.4},{"$f":"X116","v":4},{"$f":"IF(OR(AF116=0,AF116=\"\"),0,RANK(Z116,Z115:Z120,1))","v":4}]
[null,null,null,null,null,null,3,"Northumberland",null,null,null,null,1,10,11,12,16,17,67,1,null,null,5,{"$f":"IF(OR(AJ117=\"\",AJ117=0),0,RANK(AJ117,AJ115:AJ120,1))","v":2},{"$f":"Home!F6","v":"Durham"},{"$f":"IFERROR(VLOOKUP(Z114,$C$7:$G$106,W117,0),0)","v":5},{"$f":"IFERROR(VLOOKUP(AA114,C$7:G$106,W117,0),0)","v":6},{"$f":"IFERROR(VLOOKUP(AB114,C$7:G$106,W117,0),0)","v":8},{"$f":"IF(W114=3,0,IFERROR(VLOOKUP(AC114,C$7:G$106,W117,0),0))","v":9},{"$f":"IF(W114=4,0,IFERROR(VLOOKUP(AD114,C$7:G$106,W117,0),0))","v":15},{"$f":"IF(OR(W114=4,W114=5),0,IFERROR(VLOOKUP(AE114,C$7:G$106,W117,0),0))","v":18},61,{"$f":"IF(OR(AF117=0,AF117=\"\"),0,RANK(AF117,AF115:AF120,1))","v":3},{"$f":"IF(OR(AG117=0,AG117=\"\"),\"\",IF(OR(AG117=AG118,AG117=AG119,AG117=AG120,AG117=AG115,AG117=AG116),\"=\",\"\"))","v":""},{"$f":"IF(AH117=\"=\",COUNTIF(AH115:AH117,\"<>A\")-COUNTIF(AH115:AH117,\"\"),0)","v":0},3.5,2,{"$f":"IF(OR(AF117=0,AF117=\"\"),0,RANK(Z117,Z115:Z120,1))","v":5}]
[null,null,null,null,null,null,4,"Cumbria",null,null,null,null,4,20,24,27,30,32,137,1,null,null,4,{"$f":"IF(OR(AJ118=\"\",AJ118=0),0,RANK(AJ118,AJ115:AJ120,1))","v":3},{"$f":"Home!F7","v":"Northumberland"},{"$f":"IFERROR(VLOOKUP(Z114,$D$7:$G$106,W118,0),0)","v":1},{"$f":"IFERROR(VLOOKUP(AA114,D$7:G$106,W118,0),0)","v":10},{"$f":"IFERROR(VLOOKUP(AB114,D$7:G$106,W118,0),0)","v":11},{"$f":"IF(W114=3,0,IFERROR(VLOOKUP(AC114,D$7:G$106,W118,0),0))","v":12},{"$f":"IF(W114=4,0,IFERROR(VLOOKUP(AD114,D$7:G$106,W118,0),0))","v":16},{"$f":"IF(OR(W114=4,W114=5),0,IFERROR(VLOOKUP(AE114,D$7:G$106,W118,0),0))","v":17},67,{"$f":"IF(OR(AF118=0,AF118=\"\"),0,RANK(AF118,AF115:AF120,1))","v":4},{"$f":"IF(OR(AG118=0,AG118=\"\"),\"\",IF(OR(AG118=AG119,AG118=AG120,AG118=AG115,AG118=AG116,AG118=AG117),\"=\",\"\"))","v":""},{"$f":"IF(AH118=\"=\",COUNTIF(AH115:AH118,\"<>A\")-COUNTIF(AH115:AH118,\"\"),0)","v":0},4.2,3,{"$f":"IF(OR(AF118=0,AF118=\"\"),0,RANK(Z118,Z115:Z120,1))","v":2}]
[null,null,null,null,null,null,5,"Cleveland",null,null,null,null,25,31,39,40,42,47,224,1,null,null,3,{"$f":"IF(OR(AJ119=\"\",AJ119=0),0,RANK(AJ119,AJ115:AJ120,1))","v":1},{"$f":"Home!F8","v":"North Yorkshire"},{"$f":"IFERROR(VLOOKUP(Z114,$E$7:$G$106,W119,0),0)","v":2},{"$f":"IFERROR(VLOOKUP(AA114,E$7:G$106,W119,0),0)","v":3},{"$f":"IFERROR(VLOOKUP(AB114,E$7:G$106,W119,0),0)","v":7},{"$f":"IF(W114=3,0,IFERROR(VLOOKUP(AC114,E$7:G$106,W119,0),0))","v":13},{"$f":"IF(W114=4,0,IFERROR(VLOOKUP(AD114,E$7:G$106,W119,0),0))","v":14},{"$f":"IF(OR(W114=4,W114=5),0,IFERROR(VLOOKUP(AE114,E$7:G$106,W119,0),0))","v":19},58,{"$f":"IF(OR(AF119=0,AF119=\"\"),0,RANK(AF119,AF115:AF120,1))","v":2},{"$f":"IF(OR(AG119=0,AG119=\"\"),\"\",IF(OR(AG119=AG120,AG119=AG115,AG119=AG116,AG119=AG117,AG119=AG118),\"=\",\"\"))","v":""},{"$f":"IF(AH119=\"=\",COUNTIF(AH115:AH119,\"<>A\")-COUNTIF(AH115:AH119,\"\"),0)","v":0},2.2999999999999998,1,{"$f":"IF(OR(AF119=0,AF119=\"\"),0,RANK(Z119,Z115:Z120,1))","v":3}]
[null,null,null,null,null,null,null,null,null,null,null,null,null,null,null,null,null,null,null,null,null,null,2,{"$f":"IF(OR(AJ120=\"\",AJ120=0),0,RANK(AJ120,AJ115:AJ120,1))","v":0},{"$f":"Home!F9","v":0},{"$f":"IFERROR(VLOOKUP(Z114,F7:G106,W120,0),0)","v":0},{"$f":"IFERROR(VLOOKUP(AA114,F7:G106,W120,0),0)","v":0},{"$f":"IFERROR(VLOOKUP(AB114,F7:G106,W120,0),0)","v":0},{"$f":"IF(W114=3,0,IFERROR(VLOOKUP(AC114,F7:G106,W120,0),0))","v":0},{"$f":"IF(W114=4,0,IFERROR(VLOOKUP(AD114,F7:G106,W120,0),0))","v":0},{"$f":"IF(OR(W114=4,W114=5),0,IFERROR(VLOOKUP(AE114,F7:G106,W120,0),0))","v":0},{"$f":"IF(AE120=0,0,SUM(Z120:AE120))","v":0},{"$f":"IF(OR(AF120=0,AF120=\"\"),0,RANK(AF120,AF115:AF120,1))","v":0},{"$f":"IF(OR(AG120=0,AG120=\"\"),\"\",IF(OR(AG120=AG115,AG120=AG116,AG120=AG117,AG120=AG118,AG120=AG119),\"=\",\"\"))","v":""},{"$f":"IF(AH120=\"=\",COUNTIF(AH115:AH120,\"<>A\")-COUNTIF(AH115:AH120,\"\"),0)","v":0},"",0,{"$f":"IF(OR(AF120=0,AF120=\"\"),0,RANK(Z120,Z115:Z120,1))","v":0}]

{"sheet":"Junior_Boys","index":2,"n_rows":120,"n_cols":39,"rows_kept":120,"cut":false,"hidden":false,"merged":[[110,8,110,13],[107,8,107,13],[108,8,108,13],[109,8,109,13],[112,6,112,18],[103,8,103,13],[104,8,104,13],[100,8,100,13],[101,8,101,13],[102,8,102,13],[105,8,105,13],[106,6,106,18],[97,8,97,13],[98,8,98,13],[99,8,99,13],[94,8,94,13],[95,8,95,13],[96,8,96,13],[91,8,91,13],[92,8,92,13],[93,8,93,13],[88,8,88,13],[89,8,89,13],[90,8,90,13],[85,8,85,13],[86,8,86,13],[87,8,87,13],[82,8,82,13],[83,8,83,13],[84,8,84,13],[79,8,79,13],[80,8,80,13],[81,8,81,13],[76,8,76,13],[77,8,77,13],[78,8,78,13],[73,8,73,13],[74,8,74,13],[75,8,75,13],[70,8,70,13],[71,8,71,13],[72,8,72,13],[67,8,67,13],[68,8,68,13],[69,8,69,13],[64,8,64,13],[65,8,65,13],[66,8,66,13],[61,8,61,13],[62,8,62,13],[63,8,63,13],[58,8,58,13],[59,8,59,13],[60,8,60,13],[55,8,55,13],[56,8,56,13],[57,8,57,13],[52,8,52,13],[53,8,53,13],[54,8,54,13],[49,8,49,13],[50,8,50,13],[51,8,51,13],[46,8,46,13],[47,8,47,13],[48,8,48,13],[43,8,43,13],[44,8,44,13],[45,8,45,13],[40,8,40,13],[41,8,41,13],[42,8,42,13],[37,8,37,13],[38,8,38,13],[39,8,39,13],[34,8,34,13],[35,8,35,13],[36,8,36,13],[31,8,31,13],[32,8,32,13],[33,8,33,13],[28,8,28,13],[29,8,29,13],[30,8,30,13],[25,8,25,13],[26,8,26,13],[27,8,27,13],[22,8,22,13],[23,8,23,13],[24,8,24,13],[19,8,19,13],[20,8,20,13],[21,8,21,13],[16,8,16,13],[17,8,17,13],[18,8,18,13],[14,8,14,13],[15,8,15,13],[10,8,10,13],[11,8,11,13],[12,8,12,13],[9,8,9,13],[5,8,5,13],[6,8,6,13],[13,8,13,13],[7,8,7,13],[8,8,8,13],[0,6,0,18],[0,26,0,29],[1,6,1,18],[1,26,1,29],[2,6,2,18]]}
[null,null,null,null,null,null,{"$f":"Home!$B$1","v":"Northern Schools' Inter-County Cross Country Championships"},null,null,null,null,null,null,null,null,null,null,null,null,"a",null,{"$f":"CONCATENATE(W1,X1)","v":"Home!$B6"},"Home!$B",{"$f":"IF(Y1=\"Minor_Boys\",4,IF(Y1=\"Junior_Boys\",6,IF(Y1=\"Intermediate_Boys\",8,IF(Y1=\"Senior_Boys\",10,IF(Y1=\"Minor_Girls\",5,IF(Y1=\"Junior_Girls\",7,IF(Y1=\"Intermediate_Girls\",9,IF(Y1=\"Senior_Girls\",11,\"\"))))))))","v":6},{"$f":"MID(CELL(\"Filename\",A1),SEARCH(\"]\",CELL(\"Filename\",A1),1)+1,32)","v":"Junior_Boys"},null,{"$f":"Y1","v":"Junior_Boys"},null,null,null,{"$f":"CONCATENATE(Y1,\" \",Z1)","v":"Junior_Boys "}]
[null,null,null,null,null,null,{"$f":"Home!$B$2","v":"Barnard Castle School"},null,null,null,null,null,null,null,null,null,null,null,null,"b",null,{"$f":"CONCATENATE(W2,X2)","v":"Home!$D6"},"Home!$D",{"$f":"X1","v":6}]
[null,null,null,null,null,null,{"$f":"Home!$G$3","v":"Saturday 3rd February 2018"},null,null,null,null,null,null,null,null,null,null,null,null,"c"]
[null,null,null,null,null,null,null,null,null,null,null,null,null,null,null,null,null,null,null,"c"]
[null,null,null,null,null,null,{"$f":"INDIRECT(V1)","v":"Junior Boys"},null,null,null,null,null,null,{"$f":"CONCATENATE(\"Team Results\",\" \",INDIRECT(V2),\" \",\"to Score\")","v":"Team Results 6 to Score"},null,null,null,null,null,"d"]
[{"$f":"Home!F4","v":"Cleveland"},{"$f":"Home!F5","v":"Cumbria"},{"$f":"Home!F6","v":"Durham"},{"$f":"Home!F7","v":"Northumberland"},{"$f":"Home!F8","v":"North Yorkshire"},{"$f":"Home!F9","v":0},"Pos","Num","Name",null,null,null,null,null,"County",null,null,null,"Time","e"]
[{"$f":"IF(O7=A6,COUNTIF(O7:O7,A6),\"\")","v":""},{"$f":"IF(O7=B6,COUNTIF(O7:O7,B6),\"\")","v":1},{"$f":"IF(O7=C6,COUNTIF(O7:O7,C6),\"\")","v":""},{"$f":"IF(O7=D6,COUNTIF(O7:O7,D6),\"\")","v":""},{"$f":"IF(O7=E6,COUNTIF(O7:O7,E6),\"\")","v":""},{"$f":"IF(O7=F6,COUNTIF(O7:O7,F6),\"\")","v":""},{"$f":"IF(LEFT(S7,1)=\"D\",0,AM7)","v":1},21,{"$f":"IFERROR(VLOOKUP(H7,INDIRECT($AA$1),2,0),\"\")","v":"Fraser Sproul"},null,null,null,null,null,{"$f":"IFERROR(VLOOKUP(H7,INDIRECT($AA$1),3,0),\"\")","v":"Cumbria"},null,null,null,14.31,{"$f":"IF(H7=0,0,1)","v":1},null,null,null,null,null,null,null,null,null,null,null,null,null,null,null,null,null,null,1]
[{"$f":"IF(O8=A6,COUNTIF(O7:O8,A6),\"\")","v":""},{"$f":"IF(O8=B6,COUNTIF(O7:O8,B6),\"\")","v":""},{"$f":"IF(O8=C6,COUNTIF(O7:O8,C6),\"\")","v":""},{"$f":"IF(O8=D6,COUNTIF(O7:O8,D6),\"\")","v":""},{"$f":"IF(O8=E6,COUNTIF(O7:O8,E6),\"\")","v":1},{"$f":"IF(O8=F6,COUNTIF(O7:O8,F6),\"\")","v":""},2,81,"Kyle Rabjohn",null,null,null,null,null,"North Yorkshire",null,null,null,14.33,1,null,null,null,null,null,null,null,null,null,null,null,null,null,null,null,null,null,null,2]
[{"$f":"IF(O9=A6,COUNTIF(O7:O9,A6),\"\")","v":""},{"$f":"IF(O9=B6,COUNTIF(O7:O9,B6),\"\")","v":2},{"$f":"IF(O9=C6,COUNTIF(O7:O9,C6),\"\")","v":""},{"$f":"IF(O9=D6,COUNTIF(O7:O9,D6),\"\")","v":""},{"$f":"IF(O9=E6,COUNTIF(O7:O9,E6),\"\")","v":""},{"$f":"IF(O9=F6,COUNTIF(O7:O9,F6),\"\")","v":""},3,22,"Daniel Sanderson",null,null,null,null,null,"Cumbria",null,null,null,14.46,1,null,null,null,null,null,null,null,null,null,null,null,null,null,null,null,null,null,null,3]
[{"$f":"IF(O10=A6,COUNTIF(O7:O10,A6),\"\")","v":""},{"$f":"IF(O10=B6,COUNTIF(O7:O10,B6),\"\")","v":""},{"$f":"IF(O10=C6,COUNTIF(O7:O10,C6),\"\")","v":""},{"$f":"IF(O10=D6,COUNTIF(O7:O10,D6),\"\")","v":""},{"$f":"IF(O10=E6,COUNTIF(O7:O10,E6),\"\")","v":2},{"$f":"IF(O10=F6,COUNTIF(O7:O10,F6),\"\")","v":""},4,82,"Charlie Stephenson",null,null,null,null,null,"North Yorkshire",null,null,null,14.48,1,null,null,null,null,null,null,null,null,null,null,null,null,null,null,null,null,null,null,4]
[{"$f":"IF(O11=A6,COUNTIF(O7:O11,A6),\"\")","v":""},{"$f":"IF(O11=B6,COUNTIF(O7:O11,B6),\"\")","v":""},{"$f":"IF(O11=C6,COUNTIF(O7:O11,C6),\"\")","v":""},{"$f":"IF(O11=D6,COUNTIF(O7:O11,D6),\"\")","v":1},{"$f":"IF(O11=E6,COUNTIF(O7:O11,E6),\"\")","v":""},{"$f":"IF(O11=F6,COUNTIF(O7:O11,F6),\"\")","v":""},5,62,"Euan Duffin",null,null,null,null,null,"Northumberland",null,null,null,14.5,1,null,null,null,null,null,null,null,null,null,null,null,null,null,null,null,null,null,null,5]
[{"$f":"IF(O12=A6,COUNTIF(O7:O12,A6),\"\")","v":""},{"$f":"IF(O12=B6,COUNTIF(O7:O12,B6),\"\")","v":""},{"$f":"IF(O12=C6,COUNTIF(O7:O12,C6),\"\")","v":""},{"$f":"IF(O12=D6,COUNTIF(O7:O12,D6),\"\")","v":""},{"$f":"IF(O12=E6,COUNTIF(O7:O12,E6),\"\")","v":3},{"$f":"IF(O12=F6,COUNTIF(O7:O12,F6),\"\")","v":""},6,84,"Daniel Francis",null,null,null,null,null,"North Yorkshire",null,null,null,14.56,1,null,null,null,null,null,null,null,null,null,null,null,null,null,null,null,null,null,null,6]
[{"$f":"IF(O13=A6,COUNTIF(O7:O13,A6),\"\")","v":""},{"$f":"IF(O13=B6,COUNTIF(O7:O13,B6),\"\")","v":""},{"$f":"IF(O13=C6,COUNTIF(O7:O13,C6),\"\")","v":1},{"$f":"IF(O13=D6,COUNTIF(O7:O13,D6),\"\")","v":""},{"$f":"IF(O13=E6,COUNTIF(O7:O13,E6),\"\")","v":""},{"$f":"IF(O13=F6,COUNTIF(O7:O13,F6),\"\")","v":""},7,45,"John Russell",null,null,null,null,null,"Durham",null,null,null,14.57,1,null,null,null,null,null,null,null,null,null,null,null,null,null,null,null,null,null,null,7]
[{"$f":"IF(O14=A6,COUNTIF(O7:O14,A6),\"\")","v":""},{"$f":"IF(O14=B6,COUNTIF(O7:O14,B6),\"\")","v":""},{"$f":"IF(O14=C6,COUNTIF(O7:O14,C6),\"\")","v":2},{"$f":"IF(O14=D6,COUNTIF(O7:O14,D6),\"\")","v":""},{"$f":"IF(O14=E6,COUNTIF(O7:O14,E6),\"\")","v":""},{"$f":"IF(O14=F6,COUNTIF(O7:O14,F6),\"\")","v":""},8,42,"Christopher Perkins",null,null,null,null,null,"Durham",null,null,null,15.01,1,null,null,null,null,null,null,null,null,null,null,null,null,null,null,null,null,null,null,8]
[{"$f":"IF(O15=A6,COUNTIF(O7:O15,A6),\"\")","v":""},{"$f":"IF(O15=B6,COUNTIF(O7:O15,B6),\"\")","v":""},{"$f":"IF(O15=C6,COUNTIF(O7:O15,C6),\"\")","v":""},{"$f":"IF(O15=D6,COUNTIF(O7:O15,D6),\"\")","v":""},{"$f":"IF(O15=E6,COUNTIF(O7:O15,E6),\"\")","v":4},{"$f":"IF(O15=F6,COUNTIF(O7:O15,F6),\"\")","v":""},9,83,"Will Hugill",null,null,null,null,null,"North Yorkshire",null,null,null,15.03,1,null,null,null,null,null,null,null,null,null,null,null,null,null,null,null,null,null,null,9]
[{"$f":"IF(O16=A6,COUNTIF(O7:O16,A6),\"\")","v":""},{"$f":"IF(O16=B6,COUNTIF(O7:O16,B6),\"\")","v":""},{"$f":"IF(O16=C6,COUNTIF(O7:O16,C6),\"\")","v":3},{"$f":"IF(O16=D6,COUNTIF(O7:O16,D6),\"\")","v":""},{"$f":"IF(O16=E6,COUNTIF(O7:O16,E6),\"\")","v":""},{"$f":"IF(O16=F6,COUNTIF(O7:O16,F6),\"\")","v":""},10,50,"Joshua Wraith",null,null,null,null,null,"Durham",null,null,null,15.12,1,null,null,null,null,null,null,null,null,null,null,null,null,null,null,null,null,null,null,10]
[{"$f":"IF(O17=A6,COUNTIF(O7:O17,A6),\"\")","v":""},{"$f":"IF(O17=B6,COUNTIF(O7:O17,B6),\"\")","v":""},{"$f":"IF(O17=C6,COUNTIF(O7:O17,C6),\"\")","v":""},{"$f":"IF(O17=D6,COUNTIF(O7:O17,D6),\"\")","v":2},{"$f":"IF(O17=E6,COUNTIF(O7:O17,E6),\"\")","v":""},{"$f":"IF(O17=F6,COUNTIF(O7:O17,F6),\"\")","v":""},11,63,"William Collinson",null,null,null,null,null,"Northumberland",null,null,null,15.14,1,null,null,null,null,null,null,null,null,null,null,null,null,null,null,null,null,null,null,11]
[{"$f":"IF(O18=A6,COUNTIF(O7:O18,A6),\"\")","v":""},{"$f":"IF(O18=B6,COUNTIF(O7:O18,B6),\"\")","v":""},{"$f":"IF(O18=C6,COUNTIF(O7:O18,C6),\"\")","v":4},{"$f":"IF(O18=D6,COUNTIF(O7:O18,D6),\"\")","v":""},{"$f":"IF(O18=E6,COUNTIF(O7:O18,E6),\"\")","v":""},{"$f":"IF(O18=F6,COUNTIF(O7:O18,F6),\"\")","v":""},12,60,0,null,null,null,null,null,"Durham",null,null,null,15.15,1,null,null,null,null,null,null,null,null,null,null,null,null,null,null,null,null,null,null,12]
[{"$f":"IF(O19=A6,COUNTIF(O7:O19,A6),\"\")","v":""},{"$f":"IF(O19=B6,COUNTIF(O7:O19,B6),\"\")","v":3},{"$f":"IF(O19=C6,COUNTIF(O7:O19,C6),\"\")","v":""},{"$f":"IF(O19=D6,COUNTIF(O7:O19,D6),\"\")","v":""},{"$f":"IF(O19=E6,COUNTIF(O7:O19,E6),\"\")","v":""},{"$f":"IF(O19=F6,COUNTIF(O7:O19,F6),\"\")","v":""},13,24,"Oliie Sanders",null,null,null,null,null,"Cumbria",null,null,null,15.17,1,null,null,null,null,null,null,null,null,null,null,null,null,null,null,null,null,null,null,13]
[{"$f":"IF(O20=A6,COUNTIF(O7:O20,A6),\"\")","v":""},{"$f":"IF(O20=B6,COUNTIF(O7:O20,B6),\"\")","v":""},{"$f":"IF(O20=C6,COUNTIF(O7:O20,C6),\"\")","v":5},{"$f":"IF(O20=D6,COUNTIF(O7:O20,D6),\"\")","v":""},{"$f":"IF(O20=E6,COUNTIF(O7:O20,E6),\"\")","v":""},{"$f":"IF(O20=F6,COUNTIF(O7:O20,F6),\"\")","v":""},14,43,"Adam Russell",null,null,null,null,null,"Durham",null,null,null,15.2,1,null,null,null,null,null,null,null,null,null,null,null,null,null,null,null,null,null,null,14]
[{"$f":"IF(O21=A6,COUNTIF(O7:O21,A6),\"\")","v":""},{"$f":"IF(O21=B6,COUNTIF(O7:O21,B6),\"\")","v":4},{"$f":"IF(O21=C6,COUNTIF(O7:O21,C6),\"\")","v":""},{"$f":"IF(O21=D6,COUNTIF(O7:O21,D6),\"\")","v":""},{"$f":"IF(O21=E6,COUNTIF(O7:O21,E6),\"\")","v":""},{"$f":"IF(O21=F6,COUNTIF(O7:O21,F6),\"\")","v":""},15,23,"James Bowen",null,null,null,null,null,"Cumbria",null,null,null,15.23,1,null,null,null,null,null,null,null,null,null,null,null,null,null,null,null,null,null,null,15]
[{"$f":"IF(O22=A6,COUNTIF(O7:O22,A6),\"\")","v":""},{"$f":"IF(O22=B6,COUNTIF(O7:O22,B6),\"\")","v":""},{"$f":"IF(O22=C6,COUNTIF(O7:O22,C6),\"\")","v":""},{"$f":"IF(O22=D6,COUNTIF(O7:O22,D6),\"\")","v":3},{"$f":"IF(O22=E6,COUNTIF(O7:O22,E6),\"\")","v":""},{"$f":"IF(O22=F6,COUNTIF(O7:O22,F6),\"\")","v":""},16,74,"Charlie Daley",null,null,null,null,null,"Northumberland",null,null,null,15.24,1,null,null,null,null,null,null,null,null,null,null,null,null,null,null,null,null,null,null,16]
[{"$f":"IF(O23=A6,COUNTIF(O7:O23,A6),\"\")","v":""},{"$f":"IF(O23=B6,COUNTIF(O7:O23,B6),\"\")","v":""},{"$f":"IF(O23=C6,COUNTIF(O7:O23,C6),\"\")","v":""},{"$f":"IF(O23=D6,COUNTIF(O7:O23,D6),\"\")","v":4},{"$f":"IF(O23=E6,COUNTIF(O7:O23,E6),\"\")","v":""},{"$f":"IF(O23=F6,COUNTIF(O7:O23,F6),\"\")","v":""},17,64,"Dylan Davies",null,null,null,null,null,"Northumberland",null,null,null,15.25,1,null,null,null,null,null,null,null,null,null,null,null,null,null,null,null,null,null,null,17]
[{"$f":"IF(O24=A6,COUNTIF(O7:O24,A6),\"\")","v":""},{"$f":"IF(O24=B6,COUNTIF(O7:O24,B6),\"\")","v":5},{"$f":"IF(O24=C6,COUNTIF(O7:O24,C6),\"\")","v":""},{"$f":"IF(O24=D6,COUNTIF(O7:O24,D6),\"\")","v":""},{"$f":"IF(O24=E6,COUNTIF(O7:O24,E6),\"\")","v":""},{"$f":"IF(O24=F6,COUNTIF(O7:O24,F6),\"\")","v":""},18,25,"John Egner",null,null,null,null,null,"Cumbria",null,null,null,15.26,1,null,null,null,null,null,null,null,null,null,null,null,null,null,null,null,null,null,null,18]
[{"$f":"IF(O25=A6,COUNTIF(O7:O25,A6),\"\")","v":""},{"$f":"IF(O25=B6,COUNTIF(O7:O25,B6),\"\")","v":""},{"$f":"IF(O25=C6,COUNTIF(O7:O25,C6),\"\")","v":""},{"$f":"IF(O25=D6,COUNTIF(O7:O25,D6),\"\")","v":5},{"$f":"IF(O25=E6,COUNTIF(O7:O25,E6),\"\")","v":""},{"$f":"IF(O25=F6,COUNTIF(O7:O25,F6),\"\")","v":""},19,65,"Kieron Mutch",null,null,null,null,null,"Northumberland",null,null,null,15.27,1,null,null,null,null,null,null,null,null,null,null,null,null,null,null,null,null,null,null,19]
[{"$f":"IF(O26=A6,COUNTIF(O7:O26,A6),\"\")","v":""},{"$f":"IF(O26=B6,COUNTIF(O7:O26,B6),\"\")","v":6},{"$f":"IF(O26=C6,COUNTIF(O7:O26,C6),\"\")","v":""},{"$f":"IF(O26=D6,COUNTIF(O7:O26,D6),\"\")","v":""},{"$f":"IF(O26=E6,COUNTIF(O7:O26,E6),\"\")","v":""},{"$f":"IF(O26=F6,COUNTIF(O7:O26,F6),\"\")","v":""},20,30,"George Sidaway",null,null,null,null,null,"Cumbria",null,null,null,15.33,1,null,null,null,null,null,null,null,null,null,null,null,null,null,null,null,null,null,null,20]
[{"$f":"IF(O27=A6,COUNTIF(O7:O27,A6),\"\")","v":""},{"$f":"IF(O27=B6,COUNTIF(O7:O27,B6),\"\")","v":""},{"$f":"IF(O27=C6,COUNTIF(O7:O27,C6),\"\")","v":""},{"$f":"IF(O27=D6,COUNTIF(O7:O27,D6),\"\")","v":6},{"$f":"IF(O27=E6,COUNTIF(O7:O27,E6),\"\")","v":""},{"$f":"IF(O27=F6,COUNTIF(O7:O27,F6),\"\")","v":""},21,68,"Oliver Douglass",null,null,null,null,null,"Northumberland",null,null,null,15.37,1,null,null,null,null,null,null,null,null,null,null,null,null,null,null,null,null,null,null,21]
[{"$f":"IF(O28=A6,COUNTIF(O7:O28,A6),\"\")","v":""},{"$f":"IF(O28=B6,COUNTIF(O7:O28,B6),\"\")","v":""},{"$f":"IF(O28=C6,COUNTIF(O7:O28,C6),\"\")","v":""},{"$f":"IF(O28=D6,COUNTIF(O7:O28,D6),\"\")","v":""},{"$f":"IF(O28=E6,COUNTIF(O7:O28,E6),\"\")","v":5},{"$f":"IF(O28=F6,COUNTIF(O7:O28,F6),\"\")","v":""},22,85,"Alex Thompson",null,null,null,null,null,"North Yorkshire",null,null,null,15.39,1,null,null,null,null,null,null,null,null,null,null,null,null,null,null,null,null,null,null,22]
[{"$f":"IF(O29=A6,COUNTIF(O7:O29,A6),\"\")","v":""},{"$f":"IF(O29=B6,COUNTIF(O7:O29,B6),\"\")","v":""},{"$f":"IF(O29=C6,COUNTIF(O7:O29,C6),\"\")","v":6},{"$f":"IF(O29=D6,COUNTIF(O7:O29,D6),\"\")","v":""},{"$f":"IF(O29=E6,COUNTIF(O7:O29,E6),\"\")","v":""},{"$f":"IF(O29=F6,COUNTIF(O7:O29,F6),\"\")","v":""},23,51,"Thomas Wraith",null,null,null,null,null,"Durham",null,null,null,15.41,1,null,null,null,null,null,null,null,null,null,null,null,null,null,null,null,null,null,null,23]
[{"$f":"IF(O30=A6,COUNTIF(O7:O30,A6),\"\")","v":""},{"$f":"IF(O30=B6,COUNTIF(O7:O30,B6),\"\")","v":7},{"$f":"IF(O30=C6,COUNTIF(O7:O30,C6),\"\")","v":""},{"$f":"IF(O30=D6,COUNTIF(O7:O30,D6),\"\")","v":""},{"$f":"IF(O30=E6,COUNTIF(O7:O30,E6),\"\")","v":""},{"$f":"IF(O30=F6,COUNTIF(O7:O30,F6),\"\")","v":""},24,27,"James Young",null,null,null,null,null,"Cumbria",null,null,null,15.42,1,null,null,null,null,null,null,null,null,null,null,null,null,null,null,null,null,null,null,24]
[{"$f":"IF(O31=A6,COUNTIF(O7:O31,A6),\"\")","v":""},{"$f":"IF(O31=B6,COUNTIF(O7:O31,B6),\"\")","v":8},{"$f":"IF(O31=C6,COUNTIF(O7:O31,C6),\"\")","v":""},{"$f":"IF(O31=D6,COUNTIF(O7:O31,D6),\"\")","v":""},{"$f":"IF(O31=E6,COUNTIF(O7:O31,E6),\"\")","v":""},{"$f":"IF(O31=F6,COUNTIF(O7:O31,F6),\"\")","v":""},25,29,"Ben Smith",null,null,null,null,null,"Cumbria",null,null,null,15.43,1,null,null,null,null,null,null,null,null,null,null,null,null,null,null,null,null,null,null,25]
[{"$f":"IF(O32=A6,COUNTIF(O7:O32,A6),\"\")","v":1},{"$f":"IF(O32=B6,COUNTIF(O7:O32,B6),\"\")","v":""},{"$f":"IF(O32=C6,COUNTIF(O7:O32,C6),\"\")","v":""},{"$f":"IF(O32=D6,COUNTIF(O7:O32,D6),\"\")","v":""},{"$f":"IF(O32=E6,COUNTIF(O7:O32,E6),\"\")","v":""},{"$f":"IF(O32=F6,COUNTIF(O7:O32,F6),\"\")","v":""},26,1,"Max Creasey",null,null,null,null,null,"Cleveland",null,null,null,15.44,1,null,null,null,null,null,null,null,null,null,null,null,null,null,null,null,null,null,null,26]
[{"$f":"IF(O33=A6,COUNTIF(O7:O33,A6),\"\")","v":""},{"$f":"IF(O33=B6,COUNTIF(O7:O33,B6),\"\")","v":9},{"$f":"IF(O33=C6,COUNTIF(O7:O33,C6),\"\")","v":""},{"$f":"IF(O33=D6,COUNTIF(O7:O33,D6),\"\")","v":""},{"$f":"IF(O33=E6,COUNTIF(O7:O33,E6),\"\")","v":""},{"$f":"IF(O33=F6,COUNTIF(O7:O33,F6),\"\")","v":""},27,35,"Harry Bowen",null,null,null,null,null,"Cumbria",null,null,null,15.46,1,null,null,null,null,null,null,null,null,null,null,null,null,null,null,null,null,null,null,27]
[{"$f":"IF(O34=A6,COUNTIF(O7:O34,A6),\"\")","v":""},{"$f":"IF(O34=B6,COUNTIF(O7:O34,B6),\"\")","v":""},{"$f":"IF(O34=C6,COUNTIF(O7:O34,C6),\"\")","v":7},{"$f":"IF(O34=D6,COUNTIF(O7:O34,D6),\"\")","v":""},{"$f":"IF(O34=E6,COUNTIF(O7:O34,E6),\"\")","v":""},{"$f":"IF(O34=F6,COUNTIF(O7:O34,F6),\"\")","v":""},28,47,"Chris Coulson",null,null,null,null,null,"Durham",null,null,null,15.47,1,null,null,null,null,null,null,null,null,null,null,null,null,null,null,null,null,null,null,28]
[{"$f":"IF(O35=A6,COUNTIF(O7:O35,A6),\"\")","v":""},{"$f":"IF(O35=B6,COUNTIF(O7:O35,B6),\"\")","v":""},{"$f":"IF(O35=C6,COUNTIF(O7:O35,C6),\"\")","v":""},{"$f":"IF(O35=D6,COUNTIF(O7:O35,D6),\"\")","v":""},{"$f":"IF(O35=E6,COUNTIF(O7:O35,E6),\"\")","v":6},{"$f":"IF(O35=F6,COUNTIF(O7:O35,F6),\"\")","v":""},29,86,"Jath Lee",null,null,null,null,null,"North Yorkshire",null,null,null,15.49,1,null,null,null,null,null,null,null,null,null,null,null,null,null,null,null,null,null,null,29]
[{"$f":"IF(O36=A6,COUNTIF(O7:O36,A6),\"\")","v":""},{"$f":"IF(O36=B6,COUNTIF(O7:O36,B6),\"\")","v":""},{"$f":"IF(O36=C6,COUNTIF(O7:O36,C6),\"\")","v":8},{"$f":"IF(O36=D6,COUNTIF(O7:O36,D6),\"\")","v":""},{"$f":"IF(O36=E6,COUNTIF(O7:O36,E6),\"\")","v":""},{"$f":"IF(O36=F6,COUNTIF(O7:O36,F6),\"\")","v":""},30,46,"Duncan Hughes",null,null,null,null,null,"Durham",null,null,null,15.51,1,null,null,null,null,null,null,null,null,null,null,null,null,null,null,null,null,null,null,30]
[{"$f":"IF(O37=A6,COUNTIF(O7:O37,A6),\"\")","v":""},{"$f":"IF(O37=B6,COUNTIF(O7:O37,B6),\"\")","v":10},{"$f":"IF(O37=C6,COUNTIF(O7:O37,C6),\"\")","v":""},{"$f":"IF(O37=D6,COUNTIF(O7:O37,D6),\"\")","v":""},{"$f":"IF(O37=E6,COUNTIF(O7:O37,E6),\"\")","v":""},{"$f":"IF(O37=F6,COUNTIF(O7:O37,F6),\"\")","v":""},31,33,"Finn Harrison",null,null,null,null,null,"Cumbria",null,null,null,15.52,1,null,null,null,null,null,null,null,null,null,null,null,null,null,null,null,null,null,null,31]
[{"$f":"IF(O38=A6,COUNTIF(O7:O38,A6),\"\")","v":""},{"$f":"IF(O38=B6,COUNTIF(O7:O38,B6),\"\")","v":11},{"$f":"IF(O38=C6,COUNTIF(O7:O38,C6),\"\")","v":""},{"$f":"IF(O38=D6,COUNTIF(O7:O38,D6),\"\")","v":""},{"$f":"IF(O38=E6,COUNTIF(O7:O38,E6),\"\")","v":""},{"$f":"IF(O38=F6,COUNTIF(O7:O38,F6),\"\")","v":""},32,34,"Felix Bower",null,null,null,null,null,"Cumbria",null,null,null,15.54,1,null,null,null,null,null,null,null,null,null,null,null,null,null,null,null,null,null,null,32]
[{"$f":"IF(O39=A6,COUNTIF(O7:O39,A6),\"\")","v":""},{"$f":"IF(O39=B6,COUNTIF(O7:O39,B6),\"\")","v":12},{"$f":"IF(O39=C6,COUNTIF(O7:O39,C6),\"\")","v":""},{"$f":"IF(O39=D6,COUNTIF(O7:O39,D6),\"\")","v":""},{"$f":"IF(O39=E6,COUNTIF(O7:O39,E6),\"\")","v":""},{"$f":"IF(O39=F6,COUNTIF(O7:O39,F6),\"\")","v":""},33,28,"James Dixon",null,null,null,null,null,"Cumbria",null,null,null,15.55,1,null,null,null,null,null,null,null,null,null,null,null,null,null,null,null,null,null,null,33]
[{"$f":"IF(O40=A6,COUNTIF(O7:O40,A6),\"\")","v":""},{"$f":"IF(O40=B6,COUNTIF(O7:O40,B6),\"\")","v":""},{"$f":"IF(O40=C6,COUNTIF(O7:O40,C6),\"\")","v":""},{"$f":"IF(O40=D6,COUNTIF(O7:O40,D6),\"\")","v":""},{"$f":"IF(O40=E6,COUNTIF(O7:O40,E6),\"\")","v":7},{"$f":"IF(O40=F6,COUNTIF(O7:O40,F6),\"\")","v":""},34,88,"Xavier Martin",null,null,null,null,null,"North Yorkshire",null,null,null,15.56,1,null,null,null,null,null,null,null,null,null,null,null,null,null,null,null,null,null,null,34]
[{"$f":"IF(O41=A6,COUNTIF(O7:O41,A6),\"\")","v":""},{"$f":"IF(O41=B6,COUNTIF(O7:O41,B6),\"\")","v":""},{"$f":"IF(O41=C6,COUNTIF(O7:O41,C6),\"\")","v":""},{"$f":"IF(O41=D6,COUNTIF(O7:O41,D6),\"\")","v":7},{"$f":"IF(O41=E6,COUNTIF(O7:O41,E6),\"\")","v":""},{"$f":"IF(O41=F6,COUNTIF(O7:O41,F6),\"\")","v":""},35,69,"Luis White",null,null,null,null,null,"Northumberland",null,null,null,15.57,1,null,null,null,null,null,null,null,null,null,null,null,null,null,null,null,null,null,null,35]
[{"$f":"IF(O42=A6,COUNTIF(O7:O42,A6),\"\")","v":""},{"$f":"IF(O42=B6,COUNTIF(O7:O42,B6),\"\")","v":""},{"$f":"IF(O42=C6,COUNTIF(O7:O42,C6),\"\")","v":""},{"$f":"IF(O42=D6,COUNTIF(O7:O42,D6),\"\")","v":8},{"$f":"IF(O42=E6,COUNTIF(O7:O42,E6),\"\")","v":""},{"$f":"IF(O42=F6,COUNTIF(O7:O42,F6),\"\")","v":""},36,71,"Zak Old",null,null,null,null,null,"Northumberland",null,null,null,15.58,1,null,null,null,null,null,null,null,null,null,null,null,null,null,null,null,null,null,null,36]
[{"$f":"IF(O43=A6,COUNTIF(O7:O43,A6),\"\")","v":""},{"$f":"IF(O43=B6,COUNTIF(O7:O43,B6),\"\")","v":""},{"$f":"IF(O43=C6,COUNTIF(O7:O43,C6),\"\")","v":9},{"$f":"IF(O43=D6,COUNTIF(O7:O43,D6),\"\")","v":""},{"$f":"IF(O43=E6,COUNTIF(O7:O43,E6),\"\")","v":""},{"$f":"IF(O43=F6,COUNTIF(O7:O43,F6),\"\")","v":""},37,56,"Theo Barrow",null,null,null,null,null,"Durham",null,null,null,15.59,1,null,null,null,null,null,null,null,null,null,null,null,null,null,null,null,null,null,null,37]
[{"$f":"IF(O44=A6,COUNTIF(O7:O44,A6),\"\")","v":""},{"$f":"IF(O44=B6,COUNTIF(O7:O44,B6),\"\")","v":""},{"$f":"IF(O44=C6,COUNTIF(O7:O44,C6),\"\")","v":""},{"$f":"IF(O44=D6,COUNTIF(O7:O44,D6),\"\")","v":9},{"$f":"IF(O44=E6,COUNTIF(O7:O44,E6),\"\")","v":""},{"$f":"IF(O44=F6,COUNTIF(O7:O44,F6),\"\")","v":""},38,67,"Samuel Tate",null,null,null,null,null,"Northumberland",null,null,null,16,1,null,null,null,null,null,null,null,null,null,null,null,null,null,null,null,null,null,null,38]
[{"$f":"IF(O45=A6,COUNTIF(O7:O45,A6),\"\")","v":""},{"$f":"IF(O45=B6,COUNTIF(O7:O45,B6),\"\")","v":""},{"$f":"IF(O45=C6,COUNTIF(O7:O45,C6),\"\")","v":""},{"$f":"IF(O45=D6,COUNTIF(O7:O45,D6),\"\")","v":""},{"$f":"IF(O45=E6,COUNTIF(O7:O45,E6),\"\")","v":8},{"$f":"IF(O45=F6,COUNTIF(O7:O45,F6),\"\")","v":""},39,87,"Ben Rees",null,null,null,null,null,"North Yorkshire",null,null,null,16,1,null,null,null,null,null,null,null,null,null,null,null,null,null,null,null,null,null,null,39]
[{"$f":"IF(O46=A6,COUNTIF(O7:O46,A6),\"\")","v":2},{"$f":"IF(O46=B6,COUNTIF(O7:O46,B6),\"\")","v":""},{"$f":"IF(O46=C6,COUNTIF(O7:O46,C6),\"\")","v":""},{"$f":"IF(O46=D6,COUNTIF(O7:O46,D6),\"\")","v":""},{"$f":"IF(O46=E6,COUNTIF(O7:O46,E6),\"\")","v":""},{"$f":"IF(O46=F6,COUNTIF(O7:O46,F6),\"\")","v":""},40,4,"Ben Johnson",null,null,null,null,null,"Cleveland",null,null,null,16,1,null,null,null,null,null,null,null,null,null,null,null,null,null,null,null,null,null,null,40]
[{"$f":"IF(O47=A6,COUNTIF(O7:O47,A6),\"\")","v":""},{"$f":"IF(O47=B6,COUNTIF(O7:O47,B6),\"\")","v":""},{"$f":"IF(O47=C6,COUNTIF(O7:O47,C6),\"\")","v":10},{"$f":"IF(O47=D6,COUNTIF(O7:O47,D6),\"\")","v":""},{"$f":"IF(O47=E6,COUNTIF(O7:O47,E6),\"\")","v":""},{"$f":"IF(O47=F6,COUNTIF(O7:O47,F6),\"\")","v":""},41,55,"Ben Underwood",null,null,null,null,null,"Durham",null,null,null,16,1,null,null,null,null,null,null,null,null,null,null,null,null,null,null,null,null,null,null,41]
[{"$f":"IF(O48=A6,COUNTIF(O7:O48,A6),\"\")","v":3},{"$f":"IF(O48=B6,COUNTIF(O7:O48,B6),\"\")","v":""},{"$f":"IF(O48=C6,COUNTIF(O7:O48,C6),\"\")","v":""},{"$f":"IF(O48=D6,COUNTIF(O7:O48,D6),\"\")","v":""},{"$f":"IF(O48=E6,COUNTIF(O7:O48,E6),\"\")","v":""},{"$f":"IF(O48=F6,COUNTIF(O7:O48,F6),\"\")","v":""},42,5,"Liam Cooper",null,null,null,null,null,"Cleveland",null,null,null,16.02,1,null,null,null,null,null,null,null,null,null,null,null,null,null,null,null,null,null,null,42]
[{"$f":"IF(O49=A6,COUNTIF(O7:O49,A6),\"\")","v":""},{"$f":"IF(O49=B6,COUNTIF(O7:O49,B6),\"\")","v":""},{"$f":"IF(O49=C6,COUNTIF(O7:O49,C6),\"\")","v":""},{"$f":"IF(O49=D6,COUNTIF(O7:O49,D6),\"\")","v":""},{"$f":"IF(O49=E6,COUNTIF(O7:O49,E6),\"\")","v":9},{"$f":"IF(O49=F6,COUNTIF(O7:O49,F6),\"\")","v":""},43,90,"Jack Mudd-Bowes",null,null,null,null,null,"North Yorkshire",null,null,null,16.02,1,null,null,null,null,null,null,null,null,null,null,null,null,null,null,null,null,null,null,43]
[{"$f":"IF(O50=A6,COUNTIF(O7:O50,A6),\"\")","v":""},{"$f":"IF(O50=B6,COUNTIF(O7:O50,B6),\"\")","v":""},{"$f":"IF(O50=C6,COUNTIF(O7:O50,C6),\"\")","v":11},{"$f":"IF(O50=D6,COUNTIF(O7:O50,D6),\"\")","v":""},{"$f":"IF(O50=E6,COUNTIF(O7:O50,E6),\"\")","v":""},{"$f":"IF(O50=F6,COUNTIF(O7:O50,F6),\"\")","v":""},44,53,"Freddie Langton",null,null,null,null,null,"Durham",null,null,null,16.03,1,null,null,null,null,null,null,null,null,null,null,null,null,null,null,null,null,null,null,44]
[{"$f":"IF(O51=A6,COUNTIF(O7:O51,A6),\"\")","v":4},{"$f":"IF(O51=B6,COUNTIF(O7:O51,B6),\"\")","v":""},{"$f":"IF(O51=C6,COUNTIF(O7:O51,C6),\"\")","v":""},{"$f":"IF(O51=D6,COUNTIF(O7:O51,D6),\"\")","v":""},{"$f":"IF(O51=E6,COUNTIF(O7:O51,E6),\"\")","v":""},{"$f":"IF(O51=F6,COUNTIF(O7:O51,F6),\"\")","v":""},45,7,"Harvey Kaid",null,null,null,null,null,"Cleveland",null,null,null,16.03,1,null,null,null,null,null,null,null,null,null,null,null,null,null,null,null,null,null,null,45]
[{"$f":"IF(O52=A6,COUNTIF(O7:O52,A6),\"\")","v":""},{"$f":"IF(O52=B6,COUNTIF(O7:O52,B6),\"\")","v":13},{"$f":"IF(O52=C6,COUNTIF(O7:O52,C6),\"\")","v":""},{"$f":"IF(O52=D6,COUNTIF(O7:O52,D6),\"\")","v":""},{"$f":"IF(O52=E6,COUNTIF(O7:O52,E6),\"\")","v":""},{"$f":"IF(O52=F6,COUNTIF(O7:O52,F6),\"\")","v":""},46,26,"Ben O'Dowd",null,null,null,null,null,"Cumbria",null,null,null,16.05,1,null,null,null,null,null,null,null,null,null,null,null,null,null,null,null,null,null,null,46]
[{"$f":"IF(O53=A6,COUNTIF(O7:O53,A6),\"\")","v":""},{"$f":"IF(O53=B6,COUNTIF(O7:O53,B6),\"\")","v":""},{"$f":"IF(O53=C6,COUNTIF(O7:O53,C6),\"\")","v":""},{"$f":"IF(O53=D6,COUNTIF(O7:O53,D6),\"\")","v":""},{"$f":"IF(O53=E6,COUNTIF(O7:O53,E6),\"\")","v":10},{"$f":"IF(O53=F6,COUNTIF(O7:O53,F6),\"\")","v":""},47,89,"Joe O'brien",null,null,null,null,null,"North Yorkshire",null,null,null,16.07,1,null,null,null,null,null,null,null,null,null,null,null,null,null,null,null,null,null,null,47]
[{"$f":"IF(O54=A6,COUNTIF(O7:O54,A6),\"\")","v":""},{"$f":"IF(O54=B6,COUNTIF(O7:O54,B6),\"\")","v":14},{"$f":"IF(O54=C6,COUNTIF(O7:O54,C6),\"\")","v":""},{"$f":"IF(O54=D6,COUNTIF(O7:O54,D6),\"\")","v":""},{"$f":"IF(O54=E6,COUNTIF(O7:O54,E6),\"\")","v":""},{"$f":"IF(O54=F6,COUNTIF(O7:O54,F6),\"\")","v":""},48,32,"Lucas Messenger Jones",null,null,null,null,null,"Cumbria",null,null,null,16.100000000000001,1,null,null,null,null,null,null,null,null,null,null,null,null,null,null,null,null,null,null,48]
[{"$f":"IF(O55=A6,COUNTIF(O7:O55,A6),\"\")","v":""},{"$f":"IF(O55=B6,COUNTIF(O7:O55,B6),\"\")","v":15},{"$f":"IF(O55=C6,COUNTIF(O7:O55,C6),\"\")","v":""},{"$f":"IF(O55=D6,COUNTIF(O7:O55,D6),\"\")","v":""},{"$f":"IF(O55=E6,COUNTIF(O7:O55,E6),\"\")","v":""},{"$f":"IF(O55=F6,COUNTIF(O7:O55,F6),\"\")","v":""},49,36,"Finlay Corkill",null,null,null,null,null,"Cumbria",null,null,null,16.13,1,null,null,null,null,null,null,null,null,null,null,null,null,null,null,null,null,null,null,49]
[{"$f":"IF(O56=A6,COUNTIF(O7:O56,A6),\"\")","v":""},{"$f":"IF(O56=B6,COUNTIF(O7:O56,B6),\"\")","v":""},{"$f":"IF(O56=C6,COUNTIF(O7:O56,C6),\"\")","v":""},{"$f":"IF(O56=D6,COUNTIF(O7:O56,D6),\"\")","v":""},{"$f":"IF(O56=E6,COUNTIF(O7:O56,E6),\"\")","v":11},{"$f":"IF(O56=F6,COUNTIF(O7:O56,F6),\"\")","v":""},50,91,"Edward Hanley",null,null,null,null,null,"North Yorkshire",null,null,null,16.13,1,null,null,null,null,null,null,null,null,null,null,null,null,null,null,null,null,null,null,50]
[{"$f":"IF(O57=A6,COUNTIF(O7:O57,A6),\"\")","v":""},{"$f":"IF(O57=B6,COUNTIF(O7:O57,B6),\"\")","v":""},{"$f":"IF(O57=C6,COUNTIF(O7:O57,C6),\"\")","v":12},{"$f":"IF(O57=D6,COUNTIF(O7:O57,D6),\"\")","v":""},{"$f":"IF(O57=E6,COUNTIF(O7:O57,E6),\"\")","v":""},{"$f":"IF(O57=F6,COUNTIF(O7:O57,F6),\"\")","v":""},51,49,"Dillon Revell",null,null,null,null,null,"Durham",null,null,null,16.170000000000002,1,null,null,null,null,null,null,null,null,null,null,null,null,null,null,null,null,null,null,51]
[{"$f":"IF(O58=A6,COUNTIF(O7:O58,A6),\"\")","v":5},{"$f":"IF(O58=B6,COUNTIF(O7:O58,B6),\"\")","v":""},{"$f":"IF(O58=C6,COUNTIF(O7:O58,C6),\"\")","v":""},{"$f":"IF(O58=D6,COUNTIF(O7:O58,D6),\"\")","v":""},{"$f":"IF(O58=E6,COUNTIF(O7:O58,E6),\"\")","v":""},{"$f":"IF(O58=F6,COUNTIF(O7:O58,F6),\"\")","v":""},52,2,"James Hughes",null,null,null,null,null,"Cleveland",null,null,null,16.190000000000001,1,null,null,null,null,null,null,null,null,null,null,null,null,null,null,null,null,null,null,52]
[{"$f":"IF(O59=A6,COUNTIF(O7:O59,A6),\"\")","v":""},{"$f":"IF(O59=B6,COUNTIF(O7:O59,B6),\"\")","v":""},{"$f":"IF(O59=C6,COUNTIF(O7:O59,C6),\"\")","v":""},{"$f":"IF(O59=D6,COUNTIF(O7:O59,D6),\"\")","v":""},{"$f":"IF(O59=E6,COUNTIF(O7:O59,E6),\"\")","v":12},{"$f":"IF(O59=F6,COUNTIF(O7:O59,F6),\"\")","v":""},53,94,"Charlie Wright",null,null,null,null,null,"North Yorkshire",null,null,null,16.2,1,null,null,null,null,null,null,null,null,null,null,null,null,null,null,null,null,null,null,53]
[{"$f":"IF(O60=A6,COUNTIF(O7:O60,A6),\"\")","v":6},{"$f":"IF(O60=B6,COUNTIF(O7:O60,B6),\"\")","v":""},{"$f":"IF(O60=C6,COUNTIF(O7:O60,C6),\"\")","v":""},{"$f":"IF(O60=D6,COUNTIF(O7:O60,D6),\"\")","v":""},{"$f":"IF(O60=E6,COUNTIF(O7:O60,E6),\"\")","v":""},{"$f":"IF(O60=F6,COUNTIF(O7:O60,F6),\"\")","v":""},54,9,"Matthew Walters",null,null,null,null,null,"Cleveland",null,null,null,16.22,1,null,null,null,null,null,null,null,null,null,null,null,null,null,null,null,null,null,null,54]
[{"$f":"IF(O61=A6,COUNTIF(O7:O61,A6),\"\")","v":""},{"$f":"IF(O61=B6,COUNTIF(O7:O61,B6),\"\")","v":16},{"$f":"IF(O61=C6,COUNTIF(O7:O61,C6),\"\")","v":""},{"$f":"IF(O61=D6,COUNTIF(O7:O61,D6),\"\")","v":""},{"$f":"IF(O61=E6,COUNTIF(O7:O61,E6),\"\")","v":""},{"$f":"IF(O61=F6,COUNTIF(O7:O61,F6),\"\")","v":""},55,39,"Jacob Nelson",null,null,null,null,null,"Cumbria",null,null,null,16.23,1,null,null,null,null,null,null,null,null,null,null,null,null,null,null,null,null,null,null,55]
[{"$f":"IF(O62=A6,COUNTIF(O7:O62,A6),\"\")","v":""},{"$f":"IF(O62=B6,COUNTIF(O7:O62,B6),\"\")","v":""},{"$f":"IF(O62=C6,COUNTIF(O7:O62,C6),\"\")","v":""},{"$f":"IF(O62=D6,COUNTIF(O7:O62,D6),\"\")","v":10},{"$f":"IF(O62=E6,COUNTIF(O7:O62,E6),\"\")","v":""},{"$f":"IF(O62=F6,COUNTIF(O7:O62,F6),\"\")","v":""},56,66,"Ralph Robinson",null,null,null,null,null,"Northumberland",null,null,null,16.27,1,null,null,null,null,null,null,null,null,null,null,null,null,null,null,null,null,null,null,56]
[{"$f":"IF(O63=A6,COUNTIF(O7:O63,A6),\"\")","v":""},{"$f":"IF(O63=B6,COUNTIF(O7:O63,B6),\"\")","v":""},{"$f":"IF(O63=C6,COUNTIF(O7:O63,C6),\"\")","v":13},{"$f":"IF(O63=D6,COUNTIF(O7:O63,D6),\"\")","v":""},{"$f":"IF(O63=E6,COUNTIF(O7:O63,E6),\"\")","v":""},{"$f":"IF(O63=F6,COUNTIF(O7:O63,F6),\"\")","v":""},57,58,"Harry Wilson",null,null,null,null,null,"Durham",null,null,null,16.309999999999999,1,null,null,null,null,null,null,null,null,null,null,null,null,null,null,null,null,null,null,57]
[{"$f":"IF(O64=A6,COUNTIF(O7:O64,A6),\"\")","v":""},{"$f":"IF(O64=B6,COUNTIF(O7:O64,B6),\"\")","v":""},{"$f":"IF(O64=C6,COUNTIF(O7:O64,C6),\"\")","v":""},{"$f":"IF(O64=D6,COUNTIF(O7:O64,D6),\"\")","v":11},{"$f":"IF(O64=E6,COUNTIF(O7:O64,E6),\"\")","v":""},{"$f":"IF(O64=F6,COUNTIF(O7:O64,F6),\"\")","v":""},58,72,"Dylan Gooding",null,null,null,null,null,"Northumberland",null,null,null,16.32,1,null,null,null,null,null,null,null,null,null,null,null,null,null,null,null,null,null,null,58]
[{"$f":"IF(O65=A6,COUNTIF(O7:O65,A6),\"\")","v":""},{"$f":"IF(O65=B6,COUNTIF(O7:O65,B6),\"\")","v":""},{"$f":"IF(O65=C6,COUNTIF(O7:O65,C6),\"\")","v":""},{"$f":"IF(O65=D6,COUNTIF(O7:O65,D6),\"\")","v":""},{"$f":"IF(O65=E6,COUNTIF(O7:O65,E6),\"\")","v":13},{"$f":"IF(O65=F6,COUNTIF(O7:O65,F6),\"\")","v":""},59,95,"Sam Headley ",null,null,null,null,null,"North Yorkshire",null,null,null,16.32,1,null,null,null,null,null,null,null,null,null,null,null,null,null,null,null,null,null,null,59]
[{"$f":"IF(O66=A6,COUNTIF(O7:O66,A6),\"\")","v":""},{"$f":"IF(O66=B6,COUNTIF(O7:O66,B6),\"\")","v":""},{"$f":"IF(O66=C6,COUNTIF(O7:O66,C6),\"\")","v":14},{"$f":"IF(O66=D6,COUNTIF(O7:O66,D6),\"\")","v":""},{"$f":"IF(O66=E6,COUNTIF(O7:O66,E6),\"\")","v":""},{"$f":"IF(O66=F6,COUNTIF(O7:O66,F6),\"\")","v":""},60,57,"Liam Eastaugh",null,null,null,null,null,"Durham",null,null,null,16.38,1,null,null,null,null,null,null,null,null,null,null,null,null,null,null,null,null,null,null,60]
[{"$f":"IF(O67=A6,COUNTIF(O7:O67,A6),\"\")","v":""},{"$f":"IF(O67=B6,COUNTIF(O7:O67,B6),\"\")","v":17},{"$f":"IF(O67=C6,COUNTIF(O7:O67,C6),\"\")","v":""},{"$f":"IF(O67=D6,COUNTIF(O7:O67,D6),\"\")","v":""},{"$f":"IF(O67=E6,COUNTIF(O7:O67,E6),\"\")","v":""},{"$f":"IF(O67=F6,COUNTIF(O7:O67,F6),\"\")","v":""},61,31,"Dylan Edwards",null,null,null,null,null,"Cumbria",null,null,null,16.41,1,null,null,null,null,null,null,null,null,null,null,null,null,null,null,null,null,null,null,61]
[{"$f":"IF(O68=A6,COUNTIF(O7:O68,A6),\"\")","v":""},{"$f":"IF(O68=B6,COUNTIF(O7:O68,B6),\"\")","v":""},{"$f":"IF(O68=C6,COUNTIF(O7:O68,C6),\"\")","v":15},{"$f":"IF(O68=D6,COUNTIF(O7:O68,D6),\"\")","v":""},{"$f":"IF(O68=E6,COUNTIF(O7:O68,E6),\"\")","v":""},{"$f":"IF(O68=F6,COUNTIF(O7:O68,F6),\"\")","v":""},62,54,"Oliver McKenna",null,null,null,null,null,"Durham",null,null,null,16.420000000000002,1,null,null,null,null,null,null,null,null,null,null,null,null,null,null,null,null,null,null,62]
[{"$f":"IF(O69=A6,COUNTIF(O7:O69,A6),\"\")","v":7},{"$f":"IF(O69=B6,COUNTIF(O7:O69,B6),\"\")","v":""},{"$f":"IF(O69=C6,COUNTIF(O7:O69,C6),\"\")","v":""},{"$f":"IF(O69=D6,COUNTIF(O7:O69,D6),\"\")","v":""},{"$f":"IF(O69=E6,COUNTIF(O7:O69,E6),\"\")","v":""},{"$f":"IF(O69=F6,COUNTIF(O7:O69,F6),\"\")","v":""},63,11,"Ben Hodgson",null,null,null,null,null,"Cleveland",null,null,null,16.43,1,null,null,null,null,null,null,null,null,null,null,null,null,null,null,null,null,null,null,63]
[{"$f":"IF(O70=A6,COUNTIF(O7:O70,A6),\"\")","v":""},{"$f":"IF(O70=B6,COUNTIF(O7:O70,B6),\"\")","v":""},{"$f":"IF(O70=C6,COUNTIF(O7:O70,C6),\"\")","v":""},{"$f":"IF(O70=D6,COUNTIF(O7:O70,D6),\"\")","v":""},{"$f":"IF(O70=E6,COUNTIF(O7:O70,E6),\"\")","v":14},{"$f":"IF(O70=F6,COUNTIF(O7:O70,F6),\"\")","v":""},64,92,"Will Atkinson",null,null,null,null,null,"North Yorkshire",null,null,null,16.489999999999998,1,null,null,null,null,null,null,null,null,null,null,null,null,null,null,null,null,null,null,64]
[{"$f":"IF(O71=A6,COUNTIF(O7:O71,A6),\"\")","v":""},{"$f":"IF(O71=B6,COUNTIF(O7:O71,B6),\"\")","v":""},{"$f":"IF(O71=C6,COUNTIF(O7:O71,C6),\"\")","v":16},{"$f":"IF(O71=D6,COUNTIF(O7:O71,D6),\"\")","v":""},{"$f":"IF(O71=E6,COUNTIF(O7:O71,E6),\"\")","v":""},{"$f":"IF(O71=F6,COUNTIF(O7:O71,F6),\"\")","v":""},{"$f":"IF(LEFT(S71,1)=\"D\",0,AM71)","v":65},48,{"$f":"IFERROR(VLOOKUP(H71,INDIRECT($AA$1),2,0),\"\")","v":"Ben Dowsett"},null,null,null,null,null,{"$f":"IFERROR(VLOOKUP(H71,INDIRECT($AA$1),3,0),\"\")","v":"Durham"},null,null,null,16.510000000000002,{"$f":"IF(H71=0,0,1)","v":1},null,null,null,null,null,null,null,null,null,null,null,null,null,null,null,null,null,null,65]
[{"$f":"IF(O72=A6,COUNTIF(O7:O72,A6),\"\")","v":8},{"$f":"IF(O72=B6,COUNTIF(O7:O72,B6),\"\")","v":""},{"$f":"IF(O72=C6,COUNTIF(O7:O72,C6),\"\")","v":""},{"$f":"IF(O72=D6,COUNTIF(O7:O72,D6),\"\")","v":""},{"$f":"IF(O72=E6,COUNTIF(O7:O72,E6),\"\")","v":""},{"$f":"IF(O72=F6,COUNTIF(O7:O72,F6),\"\")","v":""},66,12,"Alex Lake",null,null,null,null,null,"Cleveland",null,null,null,16.510000000000002,1,null,null,null,null,null,null,null,null,null,null,null,null,null,null,null,null,null,null,66]
[{"$f":"IF(O73=A6,COUNTIF(O7:O73,A6),\"\")","v":""},{"$f":"IF(O73=B6,COUNTIF(O7:O73,B6),\"\")","v":""},{"$f":"IF(O73=C6,COUNTIF(O7:O73,C6),\"\")","v":""},{"$f":"IF(O73=D6,COUNTIF(O7:O73,D6),\"\")","v":12},{"$f":"IF(O73=E6,COUNTIF(O7:O73,E6),\"\")","v":""},{"$f":"IF(O73=F6,COUNTIF(O7:O73,F6),\"\")","v":""},67,73,"Ben Waterfield",null,null,null,null,null,"Northumberland",null,null,null,16.53,1,null,null,null,null,null,null,null,null,null,null,null,null,null,null,null,null,null,null,67]
[{"$f":"IF(O74=A6,COUNTIF(O7:O74,A6),\"\")","v":9},{"$f":"IF(O74=B6,COUNTIF(O7:O74,B6),\"\")","v":""},{"$f":"IF(O74=C6,COUNTIF(O7:O74,C6),\"\")","v":""},{"$f":"IF(O74=D6,COUNTIF(O7:O74,D6),\"\")","v":""},{"$f":"IF(O74=E6,COUNTIF(O7:O74,E6),\"\")","v":""},{"$f":"IF(O74=F6,COUNTIF(O7:O74,F6),\"\")","v":""},68,8,"James Skull",null,null,null,null,null,"Cleveland",null,null,null,16.54,1,null,null,null,null,null,null,null,null,null,null,null,null,null,null,null,null,null,null,68]
[{"$f":"IF(O75=A6,COUNTIF(O7:O75,A6),\"\")","v":10},{"$f":"IF(O75=B6,COUNTIF(O7:O75,B6),\"\")","v":""},{"$f":"IF(O75=C6,COUNTIF(O7:O75,C6),\"\")","v":""},{"$f":"IF(O75=D6,COUNTIF(O7:O75,D6),\"\")","v":""},{"$f":"IF(O75=E6,COUNTIF(O7:O75,E6),\"\")","v":""},{"$f":"IF(O75=F6,COUNTIF(O7:O75,F6),\"\")","v":""},69,6,"Will Simpson",null,null,null,null,null,"Cleveland",null,null,null,16.55,1,null,null,null,null,null,null,null,null,null,null,null,null,null,null,null,null,null,null,69]
[{"$f":"IF(O76=A6,COUNTIF(O7:O76,A6),\"\")","v":""},{"$f":"IF(O76=B6,COUNTIF(O7:O76,B6),\"\")","v":""},{"$f":"IF(O76=C6,COUNTIF(O7:O76,C6),\"\")","v":17},{"$f":"IF(O76=D6,COUNTIF(O7:O76,D6),\"\")","v":""},{"$f":"IF(O76=E6,COUNTIF(O7:O76,E6),\"\")","v":""},{"$f":"IF(O76=F6,COUNTIF(O7:O76,F6),\"\")","v":""},70,44,"Peter Cook",null,null,null,null,null,"Durham",null,null,null,16.579999999999998,1,null,null,null,null,null,null,null,null,null,null,null,null,null,null,null,null,null,null,70]
[{"$f":"IF(O77=A6,COUNTIF(O7:O77,A6),\"\")","v":11},{"$f":"IF(O77=B6,COUNTIF(O7:O77,B6),\"\")","v":""},{"$f":"IF(O77=C6,COUNTIF(O7:O77,C6),\"\")","v":""},{"$f":"IF(O77=D6,COUNTIF(O7:O77,D6),\"\")","v":""},{"$f":"IF(O77=E6,COUNTIF(O7:O77,E6),\"\")","v":""},{"$f":"IF(O77=F6,COUNTIF(O7:O77,F6),\"\")","v":""},71,13,"Frankie Angloy",null,null,null,null,null,"Cleveland",null,null,null,17.170000000000002,1,null,null,null,null,null,null,null,null,null,null,null,null,null,null,null,null,null,null,71]
[{"$f":"IF(O78=A6,COUNTIF(O7:O78,A6),\"\")","v":12},{"$f":"IF(O78=B6,COUNTIF(O7:O78,B6),\"\")","v":""},{"$f":"IF(O78=C6,COUNTIF(O7:O78,C6),\"\")","v":""},{"$f":"IF(O78=D6,COUNTIF(O7:O78,D6),\"\")","v":""},{"$f":"IF(O78=E6,COUNTIF(O7:O78,E6),\"\")","v":""},{"$f":"IF(O78=F6,COUNTIF(O7:O78,F6),\"\")","v":""},72,10,"Scott Temple",null,null,null,null,null,"Cleveland",null,null,null,17.18,1,null,null,null,null,null,null,null,null,null,null,null,null,null,null,null,null,null,null,72]
[{"$f":"IF(O79=A6,COUNTIF(O7:O79,A6),\"\")","v":""},{"$f":"IF(O79=B6,COUNTIF(O7:O79,B6),\"\")","v":""},{"$f":"IF(O79=C6,COUNTIF(O7:O79,C6),\"\")","v":18},{"$f":"IF(O79=D6,COUNTIF(O7:O79,D6),\"\")","v":""},{"$f":"IF(O79=E6,COUNTIF(O7:O79,E6),\"\")","v":""},{"$f":"IF(O79=F6,COUNTIF(O7:O79,F6),\"\")","v":""},73,52,"Ryan Stewart",null,null,null,null,null,"Durham",null,null,null,17.2,1,null,null,null,null,null,null,null,null,null,null,null,null,null,null,null,null,null,null,73]
[{"$f":"IF(O80=A6,COUNTIF(O7:O80,A6),\"\")","v":""},{"$f":"IF(O80=B6,COUNTIF(O7:O80,B6),\"\")","v":""},{"$f":"IF(O80=C6,COUNTIF(O7:O80,C6),\"\")","v":""},{"$f":"IF(O80=D6,COUNTIF(O7:O80,D6),\"\")","v":""},{"$f":"IF(O80=E6,COUNTIF(O7:O80,E6),\"\")","v":15},{"$f":"IF(O80=F6,COUNTIF(O7:O80,F6),\"\")","v":""},74,93,"Theo Walton",null,null,null,null,null,"North Yorkshire",null,null,null,17.3,1,null,null,null,null,null,null,null,null,null,null,null,null,null,null,null,null,null,null,74]
[{"$f":"IF(O81=A6,COUNTIF(O7:O81,A6),\"\")","v":""},{"$f":"IF(O81=B6,COUNTIF(O7:O81,B6),\"\")","v":""},{"$f":"IF(O81=C6,COUNTIF(O7:O81,C6),\"\")","v":""},{"$f":"IF(O81=D6,COUNTIF(O7:O81,D6),\"\")","v":13},{"$f":"IF(O81=E6,COUNTIF(O7:O81,E6),\"\")","v":""},{"$f":"IF(O81=F6,COUNTIF(O7:O81,F6),\"\")","v":""},75,70,"Wesley Croom",null,null,null,null,null,"Northumberland",null,null,null,17.350000000000001,1,null,null,null,null,null,null,null,null,null,null,null,null,null,null,null,null,null,null,75]
[{"$f":"IF(O82=A6,COUNTIF(O7:O82,A6),\"\")","v":13},{"$f":"IF(O82=B6,COUNTIF(O7:O82,B6),\"\")","v":""},{"$f":"IF(O82=C6,COUNTIF(O7:O82,C6),\"\")","v":""},{"$f":"IF(O82=D6,COUNTIF(O7:O82,D6),\"\")","v":""},{"$f":"IF(O82=E6,COUNTIF(O7:O82,E6),\"\")","v":""},{"$f":"IF(O82=F6,COUNTIF(O7:O82,F6),\"\")","v":""},76,16,"Ollie Cairney",null,null,null,null,null,"Cleveland",null,null,null,18.13,1,null,null,null,null,null,null,null,null,null,null,null,null,null,null,null,null,null,null,76]
[{"$f":"IF(O83=A6,COUNTIF(O7:O83,A6),\"\")","v":14},{"$f":"IF(O83=B6,COUNTIF(O7:O83,B6),\"\")","v":""},{"$f":"IF(O83=C6,COUNTIF(O7:O83,C6),\"\")","v":""},{"$f":"IF(O83=D6,COUNTIF(O7:O83,D6),\"\")","v":""},{"$f":"IF(O83=E6,COUNTIF(O7:O83,E6),\"\")","v":""},{"$f":"IF(O83=F6,COUNTIF(O7:O83,F6),\"\")","v":""},77,14,"Lochlain Lacy",null,null,null,null,null,"Cleveland",null,null,null,18.54,1,null,null,null,null,null,null,null,null,null,null,null,null,null,null,null,null,null,null,77]
[{"$f":"IF(O84=A6,COUNTIF(O7:O84,A6),\"\")","v":""},{"$f":"IF(O84=B6,COUNTIF(O7:O84,B6),\"\")","v":""},{"$f":"IF(O84=C6,COUNTIF(O7:O84,C6),\"\")","v":""},{"$f":"IF(O84=D6,COUNTIF(O7:O84,D6),\"\")","v":""},{"$f":"IF(O84=E6,COUNTIF(O7:O84,E6),\"\")","v":""},{"$f":"IF(O84=F6,COUNTIF(O7:O84,F6),\"\")","v":""},78,null,"",null,null,null,null,null,"",null,null,null,null,0,null,null,null,null,null,null,null,null,null,null,null,null,null,null,null,null,null,null,78]
[{"$f":"IF(O85=A6,COUNTIF(O7:O85,A6),\"\")","v":""},{"$f":"IF(O85=B6,COUNTIF(O7:O85,B6),\"\")","v":""},{"$f":"IF(O85=C6,COUNTIF(O7:O85,C6),\"\")","v":""},{"$f":"IF(O85=D6,COUNTIF(O7:O85,D6),\"\")","v":""},{"$f":"IF(O85=E6,COUNTIF(O7:O85,E6),\"\")","v":""},{"$f":"IF(O85=F6,COUNTIF(O7:O85,F6),\"\")","v":""},79,null,"",null,null,null,null,null,"",null,null,null,null,0,null,null,null,null,null,null,null,null,null,null,null,null,null,null,null,null,null,null,79]
[{"$f":"IF(O86=A6,COUNTIF(O7:O86,A6),\"\")","v":""},{"$f":"IF(O86=B6,COUNTIF(O7:O86,B6),\"\")","v":""},{"$f":"IF(O86=C6,COUNTIF(O7:O86,C6),\"\")","v":""},{"$f":"IF(O86=D6,COUNTIF(O7:O86,D6),\"\")","v":""},{"$f":"IF(O86=E6,COUNTIF(O7:O86,E6),\"\")","v":""},{"$f":"IF(O86=F6,COUNTIF(O7:O86,F6),\"\")","v":""},80,null,"",null,null,null,null,null,"",null,null,null,null,0,null,null,null,null,null,null,null,null,null,null,null,null,null,null,null,null,null,null,80]
[{"$f":"IF(O87=A6,COUNTIF(O7:O87,A6),\"\")","v":""},{"$f":"IF(O87=B6,COUNTIF(O7:O87,B6),\"\")","v":""},{"$f":"IF(O87=C6,COUNTIF(O7:O87,C6),\"\")","v":""},{"$f":"IF(O87=D6,COUNTIF(O7:O87,D6),\"\")","v":""},{"$f":"IF(O87=E6,COUNTIF(O7:O87,E6),\"\")","v":""},{"$f":"IF(O87=F6,COUNTIF(O7:O87,F6),\"\")","v":""},81,null,"",null,null,null,null,null,"",null,null,null,null,0,null,null,null,null,null,null,null,null,null,null,null,null,null,null,null,null,null,null,81]
[{"$f":"IF(O88=A6,COUNTIF(O7:O88,A6),\"\")","v":""},{"$f":"IF(O88=B6,COUNTIF(O7:O88,B6),\"\")","v":""},{"$f":"IF(O88=C6,COUNTIF(O7:O88,C6),\"\")","v":""},{"$f":"IF(O88=D6,COUNTIF(O7:O88,D6),\"\")","v":""},{"$f":"IF(O88=E6,COUNTIF(O7:O88,E6),\"\")","v":""},{"$f":"IF(O88=F6,COUNTIF(O7:O88,F6),\"\")","v":""},82,null,"",null,null,null,null,null,"",null,null,null,null,0,null,null,null,null,null,null,null,null,null,null,null,null,null,null,null,null,null,null,82]
[{"$f":"IF(O89=A6,COUNTIF(O7:O89,A6),\"\")","v":""},{"$f":"IF(O89=B6,COUNTIF(O7:O89,B6),\"\")","v":""},{"$f":"IF(O89=C6,COUNTIF(O7:O89,C6),\"\")","v":""},{"$f":"IF(O89=D6,COUNTIF(O7:O89,D6),\"\")","v":""},{"$f":"IF(O89=E6,COUNTIF(O7:O89,E6),\"\")","v":""},{"$f":"IF(O89=F6,COUNTIF(O7:O89,F6),\"\")","v":""},83,null,"",null,null,null,null,null,"",null,null,null,null,0,null,null,null,null,null,null,null,null,null,null,null,null,null,null,null,null,null,null,83]
[{"$f":"IF(O90=A6,COUNTIF(O7:O90,A6),\"\")","v":""},{"$f":"IF(O90=B6,COUNTIF(O7:O90,B6),\"\")","v":""},{"$f":"IF(O90=C6,COUNTIF(O7:O90,C6),\"\")","v":""},{"$f":"IF(O90=D6,COUNTIF(O7:O90,D6),\"\")","v":""},{"$f":"IF(O90=E6,COUNTIF(O7:O90,E6),\"\")","v":""},{"$f":"IF(O90=F6,COUNTIF(O7:O90,F6),\"\")","v":""},84,null,"",null,null,null,null,null,"",null,null,null,null,0,null,null,null,null,null,null,null,null,null,null,null,null,null,null,null,null,null,null,84]
[{"$f":"IF(O91=A6,COUNTIF(O7:O91,A6),\"\")","v":""},{"$f":"IF(O91=B6,COUNTIF(O7:O91,B6),\"\")","v":""},{"$f":"IF(O91=C6,COUNTIF(O7:O91,C6),\"\")","v":""},{"$f":"IF(O91=D6,COUNTIF(O7:O91,D6),\"\")","v":""},{"$f":"IF(O91=E6,COUNTIF(O7:O91,E6),\"\")","v":""},{"$f":"IF(O91=F6,COUNTIF(O7:O91,F6),\"\")","v":""},85,null,"",null,null,null,null,null,"",null,null,null,null,0,null,null,null,null,null,null,null,null,null,null,null,null,null,null,null,null,null,null,85]
[{"$f":"IF(O92=A6,COUNTIF(O7:O92,A6),\"\")","v":""},{"$f":"IF(O92=B6,COUNTIF(O7:O92,B6),\"\")","v":""},{"$f":"IF(O92=C6,COUNTIF(O7:O92,C6),\"\")","v":""},{"$f":"IF(O92=D6,COUNTIF(O7:O92,D6),\"\")","v":""},{"$f":"IF(O92=E6,COUNTIF(O7:O92,E6),\"\")","v":""},{"$f":"IF(O92=F6,COUNTIF(O7:O92,F6),\"\")","v":""},86,null,"",null,null,null,null,null,"",null,null,null,null,0,null,null,null,null,null,null,null,null,null,null,null,null,null,null,null,null,null,null,86]
[{"$f":"IF(O93=A6,COUNTIF(O7:O93,A6),\"\")","v":""},{"$f":"IF(O93=B6,COUNTIF(O7:O93,B6),\"\")","v":""},{"$f":"IF(O93=C6,COUNTIF(O7:O93,C6),\"\")","v":""},{"$f":"IF(O93=D6,COUNTIF(O7:O93,D6),\"\")","v":""},{"$f":"IF(O93=E6,COUNTIF(O7:O93,E6),\"\")","v":""},{"$f":"IF(O93=F6,COUNTIF(O7:O93,F6),\"\")","v":""},87,null,"",null,null,null,null,null,"",null,null,null,null,0,null,null,null,null,null,null,null,null,null,null,null,null,null,null,null,null,null,null,87]
[{"$f":"IF(O94=A6,COUNTIF(O7:O94,A6),\"\")","v":""},{"$f":"IF(O94=B6,COUNTIF(O7:O94,B6),\"\")","v":""},{"$f":"IF(O94=C6,COUNTIF(O7:O94,C6),\"\")","v":""},{"$f":"IF(O94=D6,COUNTIF(O7:O94,D6),\"\")","v":""},{"$f":"IF(O94=E6,COUNTIF(O7:O94,E6),\"\")","v":""},{"$f":"IF(O94=F6,COUNTIF(O7:O94,F6),\"\")","v":""},88,null,"",null,null,null,null,null,"",null,null,null,null,0,null,null,null,null,null,null,null,null,null,null,null,null,null,null,null,null,null,null,88]
[{"$f":"IF(O95=A6,COUNTIF(O7:O95,A6),\"\")","v":""},{"$f":"IF(O95=B6,COUNTIF(O7:O95,B6),\"\")","v":""},{"$f":"IF(O95=C6,COUNTIF(O7:O95,C6),\"\")","v":""},{"$f":"IF(O95=D6,COUNTIF(O7:O95,D6),\"\")","v":""},{"$f":"IF(O95=E6,COUNTIF(O7:O95,E6),\"\")","v":""},{"$f":"IF(O95=F6,COUNTIF(O7:O95,F6),\"\")","v":""},89,null,"",null,null,null,null,null,"",null,null,null,null,0,null,null,null,null,null,null,null,null,null,null,null,null,null,null,null,null,null,null,89]
[{"$f":"IF(O96=A6,COUNTIF(O7:O96,A6),\"\")","v":""},{"$f":"IF(O96=B6,COUNTIF(O7:O96,B6),\"\")","v":""},{"$f":"IF(O96=C6,COUNTIF(O7:O96,C6),\"\")","v":""},{"$f":"IF(O96=D6,COUNTIF(O7:O96,D6),\"\")","v":""},{"$f":"IF(O96=E6,COUNTIF(O7:O96,E6),\"\")","v":""},{"$f":"IF(O96=F6,COUNTIF(O7:O96,F6),\"\")","v":""},90,null,"",null,null,null,null,null,"",null,null,null,null,0,null,null,null,null,null,null,null,null,null,null,null,null,null,null,null,null,null,null,90]
[{"$f":"IF(O97=A6,COUNTIF(O7:O97,A6),\"\")","v":""},{"$f":"IF(O97=B6,COUNTIF(O7:O97,B6),\"\")","v":""},{"$f":"IF(O97=C6,COUNTIF(O7:O97,C6),\"\")","v":""},{"$f":"IF(O97=D6,COUNTIF(O7:O97,D6),\"\")","v":""},{"$f":"IF(O97=E6,COUNTIF(O7:O97,E6),\"\")","v":""},{"$f":"IF(O97=F6,COUNTIF(O7:O97,F6),\"\")","v":""},91,null,"",null,null,null,null,null,"",null,null,null,null,0,null,null,null,null,null,null,null,null,null,null,null,null,null,null,null,null,null,null,91]
[{"$f":"IF(O98=A6,COUNTIF(O7:O98,A6),\"\")","v":""},{"$f":"IF(O98=B6,COUNTIF(O7:O98,B6),\"\")","v":""},{"$f":"IF(O98=C6,COUNTIF(O7:O98,C6),\"\")","v":""},{"$f":"IF(O98=D6,COUNTIF(O7:O98,D6),\"\")","v":""},{"$f":"IF(O98=E6,COUNTIF(O7:O98,E6),\"\")","v":""},{"$f":"IF(O98=F6,COUNTIF(O7:O98,F6),\"\")","v":""},92,null,"",null,null,null,null,null,"",null,null,null,null,0,null,null,null,null,null,null,null,null,null,null,null,null,null,null,null,null,null,null,92]
[{"$f":"IF(O99=A6,COUNTIF(O7:O99,A6),\"\")","v":""},{"$f":"IF(O99=B6,COUNTIF(O7:O99,B6),\"\")","v":""},{"$f":"IF(O99=C6,COUNTIF(O7:O99,C6),\"\")","v":""},{"$f":"IF(O99=D6,COUNTIF(O7:O99,D6),\"\")","v":""},{"$f":"IF(O99=E6,COUNTIF(O7:O99,E6),\"\")","v":""},{"$f":"IF(O99=F6,COUNTIF(O7:O99,F6),\"\")","v":""},93,null,"",null,null,null,null,null,"",null,null,null,null,0,null,null,null,null,null,null,null,null,null,null,null,null,null,null,null,null,null,null,93]
[{"$f":"IF(O100=A6,COUNTIF(O7:O100,A6),\"\")","v":""},{"$f":"IF(O100=B6,COUNTIF(O7:O100,B6),\"\")","v":""},{"$f":"IF(O100=C6,COUNTIF(O7:O100,C6),\"\")","v":""},{"$f":"IF(O100=D6,COUNTIF(O7:O100,D6),\"\")","v":""},{"$f":"IF(O100=E6,COUNTIF(O7:O100,E6),\"\")","v":""},{"$f":"IF(O100=F6,COUNTIF(O7:O100,F6),\"\")","v":""},94,null,"",null,null,null,null,null,"",null,null,null,null,0,null,null,null,null,null,null,null,null,null,null,null,null,null,null,null,null,null,null,94]
[{"$f":"IF(O101=A6,COUNTIF(O7:O101,A6),\"\")","v":""},{"$f":"IF(O101=B6,COUNTIF(O7:O101,B6),\"\")","v":""},{"$f":"IF(O101=C6,COUNTIF(O7:O101,C6),\"\")","v":""},{"$f":"IF(O101=D6,COUNTIF(O7:O101,D6),\"\")","v":""},{"$f":"IF(O101=E6,COUNTIF(O7:O101,E6),\"\")","v":""},{"$f":"IF(O101=F6,COUNTIF(O7:O101,F6),\"\")","v":""},95,null,"",null,null,null,null,null,"",null,null,null,null,0,null,null,null,null,null,null,null,null,null,null,null,null,null,null,null,null,null,null,95]
[{"$f":"IF(O102=A6,COUNTIF(O7:O102,A6),\"\")","v":""},{"$f":"IF(O102=B6,COUNTIF(O7:O102,B6),\"\")","v":""},{"$f":"IF(O102=C6,COUNTIF(O7:O102,C6),\"\")","v":""},{"$f":"IF(O102=D6,COUNTIF(O7:O102,D6),\"\")","v":""},{"$f":"IF(O102=E6,COUNTIF(O7:O102,E6),\"\")","v":""},{"$f":"IF(O102=F6,COUNTIF(O7:O102,F6),\"\")","v":""},96,null,"",null,null,null,null,null,"",null,null,null,null,0,null,null,null,null,null,null,null,null,null,null,null,null,null,null,null,null,null,null,96]
[{"$f":"IF(O103=A6,COUNTIF(O7:O103,A6),\"\")","v":""},{"$f":"IF(O103=B6,COUNTIF(O7:O103,B6),\"\")","v":""},{"$f":"IF(O103=C6,COUNTIF(O7:O103,C6),\"\")","v":""},{"$f":"IF(O103=D6,COUNTIF(O7:O103,D6),\"\")","v":""},{"$f":"IF(O103=E6,COUNTIF(O7:O103,E6),\"\")","v":""},{"$f":"IF(O103=F6,COUNTIF(O7:O103,F6),\"\")","v":""},97,null,"",null,null,null,null,null,"",null,null,null,null,0,null,null,null,null,null,null,null,null,null,null,null,null,null,null,null,null,null,null,97]
[{"$f":"IF(O104=A6,COUNTIF(O7:O104,A6),\"\")","v":""},{"$f":"IF(O104=B6,COUNTIF(O7:O104,B6),\"\")","v":""},{"$f":"IF(O104=C6,COUNTIF(O7:O104,C6),\"\")","v":""},{"$f":"IF(O104=D6,COUNTIF(O7:O104,D6),\"\")","v":""},{"$f":"IF(O104=E6,COUNTIF(O7:O104,E6),\"\")","v":""},{"$f":"IF(O104=F6,COUNTIF(O7:O104,F6),\"\")","v":""},98,null,"",null,null,null,null,null,"",null,null,null,null,0,null,null,null,null,null,null,null,null,null,null,null,null,null,null,null,null,null,null,98]
[{"$f":"IF(O105=A6,COUNTIF(O7:O105,A6),\"\")","v":""},{"$f":"IF(O105=B6,COUNTIF(O7:O105,B6),\"\")","v":""},{"$f":"IF(O105=C6,COUNTIF(O7:O105,C6),\"\")","v":""},{"$f":"IF(O105=D6,COUNTIF(O7:O105,D6),\"\")","v":""},{"$f":"IF(O105=E6,COUNTIF(O7:O105,E6),\"\")","v":""},{"$f":"IF(O105=F6,COUNTIF(O7:O105,F6),\"\")","v":""},99,null,"",null,null,null,null,null,"",null,null,null,null,0,null,null,null,null,null,null,null,null,null,null,null,null,null,null,null,null,null,null,99]
[{"$f":"IF(O106=A6,COUNTIF(O7:O106,A6),\"\")","v":""},{"$f":"IF(O106=B6,COUNTIF(O7:O106,B6),\"\")","v":""},{"$f":"IF(O106=C6,COUNTIF(O7:O106,C6),\"\")","v":""},{"$f":"IF(O106=D6,COUNTIF(O7:O106,D6),\"\")","v":""},{"$f":"IF(O106=E6,COUNTIF(O7:O106,E6),\"\")","v":""},{"$f":"IF(O106=F6,COUNTIF(O7:O106,F6),\"\")","v":""},100,null,"",null,null,null,null,null,"",null,null,null,null,0,null,null,null,null,null,null,null,null,null,null,null,null,null,null,null,null,null,null,100]
[null,null,null,null,null,null,{"$f":"CONCATENATE($G$5,\" \",\"Individual Medal Winners\")","v":"Junior Boys Individual Medal Winners"},null,null,null,null,null,null,null,null,null,null,null,null,"f"]
[null,null,null,null,null,null,"Pos","Num","Name",null,null,null,null,null,"County",null,null,null,"Time"]
[null,null,null,null,null,null,1,{"$f":"IF(H7=0,\"\",H7)","v":21},"Fraser Sproul","","","","","","Cumbria",null,null,null,{"$f":"IF(S7=0,\"\",S7)","v":14.31},{"$f":"IF(H109=\"\",0,1)","v":1}]
[null,null,null,null,null,null,2,81,"Kyle Rabjohn","","","","","","North Yorkshire",null,null,null,{"$f":"IF(S8=0,\"\",S8)","v":14.33},{"$f":"IF(H110=\"\",0,1)","v":1}]
[null,null,null,null,null,null,3,22,"Daniel Sanderson","","","","","","Cumbria",null,null,null,{"$f":"IF(S9=0,\"\",S9)","v":14.46},{"$f":"IF(H111=\"\",0,1)","v":1}]
[null,null,null,null,null,null,null,null,null,null,null,null,null,null,null,null,null,null,null,"g"]
[null,null,null,null,null,null,{"$f":"CONCATENATE($G$5,\" \",\"Team Results\")","v":"Junior Boys Team Results"},null,null,null,null,null,null,null,null,null,null,null,null,"h",null,null,null,null,{"$f":"G113","v":"Junior Boys Team Results"}]
[null,null,null,null,null,null,null,"Team Name",null,null,null,null,"1st","2nd","3rd","4th","5th","6th","Points","i",null,null,{"$f":"P5","v":0},null,null,1,2,3,4,5,6,"Pts"]
[null,null,null,null,null,null,1,{"$f":"IFERROR(VLOOKUP(G115,$X$115:$AF$119,2,0),\"\")","v":"Cumbria"},null,null,null,null,{"$f":"IFERROR(VLOOKUP(G115,$X$115:$AF$119,3,0),\"\")","v":1},{"$f":"IFERROR(VLOOKUP(G115,$X$115:$AF$119,4,0),\"\")","v":3},{"$f":"IFERROR(VLOOKUP(G115,$X$115:$AF$119,5,0),\"\")","v":13},{"$f":"IFERROR(VLOOKUP(G115,$X$115:$AF$119,6,0),\"\")","v":15},{"$f":"IFERROR(VLOOKUP(G115,$X$115:$AF$119,7,0),\"\")","v":18},{"$f":"IFERROR(VLOOKUP(G115,$X$115:$AF$119,8,0),\"\")","v":20},{"$f":"SUM(M115:R115)","v":70},{"$f":"IF(H115=\"\",0,1)","v":1},null,null,7,{"$f":"IF(OR(AJ115=\"\",AJ115=0),0,RANK(AJ115,AJ115:AJ120,1))","v":5},{"$f":"Home!F4","v":"Cleveland"},{"$f":"IFERROR(VLOOKUP(Z114,$A$7:$G$106,W115,0),0)","v":26},{"$f":"IFERROR(VLOOKUP(AA114,A$7:G$106,W115,0),0)","v":40},{"$f":"IFERROR(VLOOKUP(AB114,A$7:G$106,W115,0),0)","v":42},{"$f":"IF(W114=3,0,IFERROR(VLOOKUP(AC114,A$7:G$106,W115,0),0))","v":45},{"$f":"IF(W114=4,0,IFERROR(VLOOKUP(AD114,A$7:G$106,W115,0),0))","v":52},{"$f":"IF(OR(W114=4,W114=5),0,IFERROR(VLOOKUP(AE114,A$7:G$106,W115,0),0))","v":54},{"$f":"IF(AE115=0,0,SUM(Z115:AE115))","v":259},{"$f":"IF(OR(AF115=0,AF115=\"\"),0,RANK(AF115,AF115:AF120,1))","v":6},{"$f":"IF(OR(AG115=0,AG115=\"\"),\"\",IF(OR(AG115=AG116,AG115=AG117,AG115=AG118,AG115=AG119,AG115=AG120),\"=\",\"\"))","v":""},{"$f":"IF(AH115=\"=\",COUNTIF(AH115:AH115,\"<>A\")-COUNTIF(AH115:AH115,\"\"),0)","v":0},{"$f":"IF(AND(AG115=0,AI115=0),\"\",AG115+(AI115/10)+AL115/10)","v":6.6},{"$f":"X115","v":5},{"$f":"IF(OR(AF115=0,AF115=\"\"),0,RANK(Z115,Z115:Z120,1))","v":6}]
[null,null,null,null,null,null,2,{"$f":"IFERROR(VLOOKUP(G116,$X$115:$AF$119,2,0),\"\")","v":"North Yorkshire"},null,null,null,null,{"$f":"IFERROR(VLOOKUP(G116,$X$115:$AF$119,3,0),\"\")","v":2},{"$f":"IFERROR(VLOOKUP(G116,$X$115:$AF$119,4,0),\"\")","v":4},{"$f":"IFERROR(VLOOKUP(G116,$X$115:$AF$119,5,0),\"\")","v":6},{"$f":"IFERROR(VLOOKUP(G116,$X$115:$AF$119,6,0),\"\")","v":9},{"$f":"IFERROR(VLOOKUP(G116,$X$115:$AF$119,7,0),\"\")","v":22},{"$f":"IFERROR(VLOOKUP(G116,$X$115:$AF$119,8,0),\"\")","v":29},{"$f":"SUM(M116:R116)","v":72},1,null,null,6,{"$f":"IF(OR(AJ116=\"\",AJ116=0),0,RANK(AJ116,AJ115:AJ120,1))","v":1},{"$f":"Home!F5","v":"Cumbria"},{"$f":"IFERROR(VLOOKUP(Z114,$B$7:$G$106,W116,0),0)","v":1},{"$f":"IFERROR(VLOOKUP(AA114,B$7:G$106,W116,0),0)","v":3},{"$f":"IFERROR(VLOOKUP(AB114,B$7:G$106,W116,0),0)","v":13},{"$f":"IF(W114=3,0,IFERROR(VLOOKUP(AC114,B$7:G$106,W116,0),0))","v":15},{"$f":"IF(W114=4,0,IFERROR(VLOOKUP(AD114,B$7:G$106,W116,0),0))","v":18},{"$f":"IF(OR(W114=4,W114=5),0,IFERROR(VLOOKUP(AE114,B$7:G$106,W116,0),0))","v":20},{"$f":"IF(AE116=0,0,SUM(Z116:AE116))","v":70},{"$f":"IF(OR(AF116=0,AF116=\"\"),0,RANK(AF116,AF115:AF120,1))","v":2},{"$f":"IF(OR(AG116=0,AG116=\"\"),\"\",IF(OR(AG116=AG117,AG116=AG118,AG116=AG119,AG116=AG120,AG116=AG115),\"=\",\"\"))","v":""},{"$f":"IF(AH116=\"=\",COUNTIF(AH115:AH116,\"<>A\")-COUNTIF(AH115:AH116,\"\"),0)","v":0},{"$f":"IF(AND(AG116=0,AI116=0),\"\",AG116+(AI116/10)+AL116/10)","v":2.2000000000000002},{"$f":"X116","v":1},{"$f":"IF(OR(AF116=0,AF116=\"\"),0,RANK(Z116,Z115:Z120,1))","v":2}]
[null,null,null,null,null,null,3,"Durham",null,null,null,null,7,8,10,12,14,23,74,1,null,null,5,{"$f":"IF(OR(AJ117=\"\",AJ117=0),0,RANK(AJ117,AJ115:AJ120,1))","v":3},{"$f":"Home!F6","v":"Durham"},{"$f":"IFERROR(VLOOKUP(Z114,$C$7:$G$106,W117,0),0)","v":7},{"$f":"IFERROR(VLOOKUP(AA114,C$7:G$106,W117,0),0)","v":8},{"$f":"IFERROR(VLOOKUP(AB114,C$7:G$106,W117,0),0)","v":10},{"$f":"IF(W114=3,0,IFERROR(VLOOKUP(AC114,C$7:G$106,W117,0),0))","v":12},{"$f":"IF(W114=4,0,IFERROR(VLOOKUP(AD114,C$7:G$106,W117,0),0))","v":14},{"$f":"IF(OR(W114=4,W114=5),0,IFERROR(VLOOKUP(AE114,C$7:G$106,W117,0),0))","v":23},74,{"$f":"IF(OR(AF117=0,AF117=\"\"),0,RANK(AF117,AF115:AF120,1))","v":4},{"$f":"IF(OR(AG117=0,AG117=\"\"),\"\",IF(OR(AG117=AG118,AG117=AG119,AG117=AG120,AG117=AG115,AG117=AG116),\"=\",\"\"))","v":""},{"$f":"IF(AH117=\"=\",COUNTIF(AH115:AH117,\"<>A\")-COUNTIF(AH115:AH117,\"\"),0)","v":0},4.5,3,{"$f":"IF(OR(AF117=0,AF117=\"\"),0,RANK(Z117,Z115:Z120,1))","v":5}]
[null,null,null,null,null,null,4,"Northumberland",null,null,null,null,5,11,16,17,19,21,89,1,null,null,4,{"$f":"IF(OR(AJ118=\"\",AJ118=0),0,RANK(AJ118,AJ115:AJ120,1))","v":4},{"$f":"Home!F7","v":"Northumberland"},{"$f":"IFERROR(VLOOKUP(Z114,$D$7:$G$106,W118,0),0)","v":5},{"$f":"IFERROR(VLOOKUP(AA114,D$7:G$106,W118,0),0)","v":11},{"$f":"IFERROR(VLOOKUP(AB114,D$7:G$106,W118,0),0)","v":16},{"$f":"IF(W114=3,0,IFERROR(VLOOKUP(AC114,D$7:G$106,W118,0),0))","v":17},{"$f":"IF(W114=4,0,IFERROR(VLOOKUP(AD114,D$7:G$106,W118,0),0))","v":19},{"$f":"IF(OR(W114=4,W114=5),0,IFERROR(VLOOKUP(AE114,D$7:G$106,W118,0),0))","v":21},89,{"$f":"IF(OR(AF118=0,AF118=\"\"),0,RANK(AF118,AF115:AF120,1))","v":5},{"$f":"IF(OR(AG118=0,AG118=\"\"),\"\",IF(OR(AG118=AG119,AG118=AG120,AG118=AG115,AG118=AG116,AG118=AG117),\"=\",\"\"))","v":""},{"$f":"IF(AH118=\"=\",COUNTIF(AH115:AH118,\"<>A\")-COUNTIF(AH115:AH118,\"\"),0)","v":0},5.4,4,{"$f":"IF(OR(AF118=0,AF118=\"\"),0,RANK(Z118,Z115:Z120,1))","v":4}]
[null,null,null,null,null,null,5,"Cleveland",null,null,null,null,26,40,42,45,52,54,259,1,null,null,3,{"$f":"IF(OR(AJ119=\"\",AJ119=0),0,RANK(AJ119,AJ115:AJ120,1))","v":2},{"$f":"Home!F8","v":"North Yorkshire"},{"$f":"IFERROR(VLOOKUP(Z114,$E$7:$G$106,W119,0),0)","v":2},{"$f":"IFERROR(VLOOKUP(AA114,E$7:G$106,W119,0),0)","v":4},{"$f":"IFERROR(VLOOKUP(AB114,E$7:G$106,W119,0),0)","v":6},{"$f":"IF(W114=3,0,IFERROR(VLOOKUP(AC114,E$7:G$106,W119,0),0))","v":9},{"$f":"IF(W114=4,0,IFERROR(VLOOKUP(AD114,E$7:G$106,W119,0),0))","v":22},{"$f":"IF(OR(W114=4,W114=5),0,IFERROR(VLOOKUP(AE114,E$7:G$106,W119,0),0))","v":29},72,{"$f":"IF(OR(AF119=0,AF119=\"\"),0,RANK(AF119,AF115:AF120,1))","v":3},{"$f":"IF(OR(AG119=0,AG119=\"\"),\"\",IF(OR(AG119=AG120,AG119=AG115,AG119=AG116,AG119=AG117,AG119=AG118),\"=\",\"\"))","v":""},{"$f":"IF(AH119=\"=\",COUNTIF(AH115:AH119,\"<>A\")-COUNTIF(AH115:AH119,\"\"),0)","v":0},3.3,2,{"$f":"IF(OR(AF119=0,AF119=\"\"),0,RANK(Z119,Z115:Z120,1))","v":3}]
[null,null,null,null,null,null,null,null,null,null,null,null,null,null,null,null,null,null,null,null,null,null,2,{"$f":"IF(OR(AJ120=\"\",AJ120=0),0,RANK(AJ120,AJ115:AJ120,1))","v":0},{"$f":"Home!F9","v":0},{"$f":"IFERROR(VLOOKUP(Z114,F7:G106,W120,0),0)","v":0},{"$f":"IFERROR(VLOOKUP(AA114,F7:G106,W120,0),0)","v":0},{"$f":"IFERROR(VLOOKUP(AB114,F7:G106,W120,0),0)","v":0},{"$f":"IF(W114=3,0,IFERROR(VLOOKUP(AC114,F7:G106,W120,0),0))","v":0},{"$f":"IF(W114=4,0,IFERROR(VLOOKUP(AD114,F7:G106,W120,0),0))","v":0},{"$f":"IF(OR(W114=4,W114=5),0,IFERROR(VLOOKUP(AE114,F7:G106,W120,0),0))","v":0},{"$f":"IF(AE120=0,0,SUM(Z120:AE120))","v":0},{"$f":"IF(OR(AF120=0,AF120=\"\"),0,RANK(AF120,AF115:AF120,1))","v":0},{"$f":"IF(OR(AG120=0,AG120=\"\"),\"\",IF(OR(AG120=AG115,AG120=AG116,AG120=AG117,AG120=AG118,AG120=AG119),\"=\",\"\"))","v":""},{"$f":"IF(AH120=\"=\",COUNTIF(AH115:AH120,\"<>A\")-COUNTIF(AH115:AH120,\"\"),0)","v":0},"",0,{"$f":"IF(OR(AF120=0,AF120=\"\"),0,RANK(Z120,Z115:Z120,1))","v":0}]

{"sheet":"Intermediate_Boys","index":3,"n_rows":120,"n_cols":39,"rows_kept":120,"cut":false,"hidden":false,"merged":[[110,8,110,13],[107,8,107,13],[108,8,108,13],[109,8,109,13],[112,6,112,18],[103,8,103,13],[104,8,104,13],[100,8,100,13],[101,8,101,13],[102,8,102,13],[105,8,105,13],[106,6,106,18],[97,8,97,13],[98,8,98,13],[99,8,99,13],[94,8,94,13],[95,8,95,13],[96,8,96,13],[91,8,91,13],[92,8,92,13],[93,8,93,13],[88,8,88,13],[89,8,89,13],[90,8,90,13],[85,8,85,13],[86,8,86,13],[87,8,87,13],[82,8,82,13],[83,8,83,13],[84,8,84,13],[79,8,79,13],[80,8,80,13],[81,8,81,13],[76,8,76,13],[77,8,77,13],[78,8,78,13],[73,8,73,13],[74,8,74,13],[75,8,75,13],[70,8,70,13],[71,8,71,13],[72,8,72,13],[67,8,67,13],[68,8,68,13],[69,8,69,13],[64,8,64,13],[65,8,65,13],[66,8,66,13],[61,8,61,13],[62,8,62,13],[63,8,63,13],[58,8,58,13],[59,8,59,13],[60,8,60,13],[55,8,55,13],[56,8,56,13],[57,8,57,13],[52,8,52,13],[53,8,53,13],[54,8,54,13],[49,8,49,13],[50,8,50,13],[51,8,51,13],[46,8,46,13],[47,8,47,13],[48,8,48,13],[43,8,43,13],[44,8,44,13],[45,8,45,13],[40,8,40,13],[41,8,41,13],[42,8,42,13],[37,8,37,13],[38,8,38,13],[39,8,39,13],[34,8,34,13],[35,8,35,13],[36,8,36,13],[31,8,31,13],[32,8,32,13],[33,8,33,13],[28,8,28,13],[29,8,29,13],[30,8,30,13],[25,8,25,13],[26,8,26,13],[27,8,27,13],[22,8,22,13],[23,8,23,13],[24,8,24,13],[19,8,19,13],[20,8,20,13],[21,8,21,13],[16,8,16,13],[17,8,17,13],[18,8,18,13],[14,8,14,13],[15,8,15,13],[10,8,10,13],[11,8,11,13],[12,8,12,13],[9,8,9,13],[5,8,5,13],[6,8,6,13],[13,8,13,13],[7,8,7,13],[8,8,8,13],[0,6,0,18],[0,26,0,29],[1,6,1,18],[1,26,1,29],[2,6,2,18]]}
[null,null,null,null,null,null,{"$f":"Home!$B$1","v":"Northern Schools' Inter-County Cross Country Championships"},null,null,null,null,null,null,null,null,null,null,null,null,"a",null,{"$f":"CONCATENATE(W1,X1)","v":"Home!$B8"},"Home!$B",{"$f":"IF(Y1=\"Minor_Boys\",4,IF(Y1=\"Junior_Boys\",6,IF(Y1=\"Intermediate_Boys\",8,IF(Y1=\"Senior_Boys\",10,IF(Y1=\"Minor_Girls\",5,IF(Y1=\"Junior_Girls\",7,IF(Y1=\"Intermediate_Girls\",9,IF(Y1=\"Senior_Girls\",11,\"\"))))))))","v":8},{"$f":"MID(CELL(\"Filename\",A1),SEARCH(\"]\",CELL(\"Filename\",A1),1)+1,32)","v":"Intermediate_Boys"},null,{"$f":"Y1","v":"Intermediate_Boys"},null,null,null,{"$f":"CONCATENATE(Y1,\" \",Z1)","v":"Intermediate_Boys "}]
[null,null,null,null,null,null,{"$f":"Home!$B$2","v":"Barnard Castle School"},null,null,null,null,null,null,null,null,null,null,null,null,"b",null,{"$f":"CONCATENATE(W2,X2)","v":"Home!$D8"},"Home!$D",{"$f":"X1","v":8}]
[null,null,null,null,null,null,{"$f":"Home!$G$3","v":"Saturday 3rd February 2018"},null,null,null,null,null,null,null,null,null,null,null,null,"c"]
[null,null,null,null,null,null,null,null,null,null,null,null,null,null,null,null,null,null,null,"c"]
[null,null,null,null,null,null,{"$f":"INDIRECT(V1)","v":"Intermediate Boys"},null,null,null,null,null,null,{"$f":"CONCATENATE(\"Team Results\",\" \",INDIRECT(V2),\" \",\"to Score\")","v":"Team Results 6 to Score"},null,null,null,null,null,"d"]
[{"$f":"Home!F4","v":"Cleveland"},{"$f":"Home!F5","v":"Cumbria"},{"$f":"Home!F6","v":"Durham"},{"$f":"Home!F7","v":"Northumberland"},{"$f":"Home!F8","v":"North Yorkshire"},{"$f":"Home!F9","v":0},"Pos","Num","Name",null,null,null,null,null,"County",null,null,null,"Time","e"]
[{"$f":"IF(O7=A6,COUNTIF(O7:O7,A6),\"\")","v":1},{"$f":"IF(O7=B6,COUNTIF(O7:O7,B6),\"\")","v":""},{"$f":"IF(O7=C6,COUNTIF(O7:O7,C6),\"\")","v":""},{"$f":"IF(O7=D6,COUNTIF(O7:O7,D6),\"\")","v":""},{"$f":"IF(O7=E6,COUNTIF(O7:O7,E6),\"\")","v":""},{"$f":"IF(O7=F6,COUNTIF(O7:O7,F6),\"\")","v":""},{"$f":"IF(LEFT(S7,1)=\"D\",0,AM7)","v":1},1,{"$f":"IFERROR(VLOOKUP(H7,INDIRECT($AA$1),2,0),\"\")","v":"Archie Lowe"},null,null,null,null,null,{"$f":"IFERROR(VLOOKUP(H7,INDIRECT($AA$1),3,0),\"\")","v":"Cleveland"},null,null,null,19.2,{"$f":"IF(H7=0,0,1)","v":1},null,null,null,null,null,null,null,null,null,null,null,null,null,null,null,null,null,null,1]
[{"$f":"IF(O8=A6,COUNTIF(O7:O8,A6),\"\")","v":""},{"$f":"IF(O8=B6,COUNTIF(O7:O8,B6),\"\")","v":""},{"$f":"IF(O8=C6,COUNTIF(O7:O8,C6),\"\")","v":""},{"$f":"IF(O8=D6,COUNTIF(O7:O8,D6),\"\")","v":1},{"$f":"IF(O8=E6,COUNTIF(O7:O8,E6),\"\")","v":""},{"$f":"IF(O8=F6,COUNTIF(O7:O8,F6),\"\")","v":""},2,61,"Sam Charlton",null,null,null,null,null,"Northumberland",null,null,null,19.43,1,null,null,null,null,null,null,null,null,null,null,null,null,null,null,null,null,null,null,2]
[{"$f":"IF(O9=A6,COUNTIF(O7:O9,A6),\"\")","v":2},{"$f":"IF(O9=B6,COUNTIF(O7:O9,B6),\"\")","v":""},{"$f":"IF(O9=C6,COUNTIF(O7:O9,C6),\"\")","v":""},{"$f":"IF(O9=D6,COUNTIF(O7:O9,D6),\"\")","v":""},{"$f":"IF(O9=E6,COUNTIF(O7:O9,E6),\"\")","v":""},{"$f":"IF(O9=F6,COUNTIF(O7:O9,F6),\"\")","v":""},3,4,"Patrick Haycock",null,null,null,null,null,"Cleveland",null,null,null,20.22,1,null,null,null,null,null,null,null,null,null,null,null,null,null,null,null,null,null,null,3]
[{"$f":"IF(O10=A6,COUNTIF(O7:O10,A6),\"\")","v":""},{"$f":"IF(O10=B6,COUNTIF(O7:O10,B6),\"\")","v":""},{"$f":"IF(O10=C6,COUNTIF(O7:O10,C6),\"\")","v":1},{"$f":"IF(O10=D6,COUNTIF(O7:O10,D6),\"\")","v":""},{"$f":"IF(O10=E6,COUNTIF(O7:O10,E6),\"\")","v":""},{"$f":"IF(O10=F6,COUNTIF(O7:O10,F6),\"\")","v":""},4,57,"Will Bellamy",null,null,null,null,null,"Durham",null,null,null,20.23,1,null,null,null,null,null,null,null,null,null,null,null,null,null,null,null,null,null,null,4]
[{"$f":"IF(O11=A6,COUNTIF(O7:O11,A6),\"\")","v":3},{"$f":"IF(O11=B6,COUNTIF(O7:O11,B6),\"\")","v":""},{"$f":"IF(O11=C6,COUNTIF(O7:O11,C6),\"\")","v":""},{"$f":"IF(O11=D6,COUNTIF(O7:O11,D6),\"\")","v":""},{"$f":"IF(O11=E6,COUNTIF(O7:O11,E6),\"\")","v":""},{"$f":"IF(O11=F6,COUNTIF(O7:O11,F6),\"\")","v":""},5,2,"Daniel Currie",null,null,null,null,null,"Cleveland",null,null,null,20.260000000000002,1,null,null,null,null,null,null,null,null,null,null,null,null,null,null,null,null,null,null,5]
[{"$f":"IF(O12=A6,COUNTIF(O7:O12,A6),\"\")","v":""},{"$f":"IF(O12=B6,COUNTIF(O7:O12,B6),\"\")","v":""},{"$f":"IF(O12=C6,COUNTIF(O7:O12,C6),\"\")","v":""},{"$f":"IF(O12=D6,COUNTIF(O7:O12,D6),\"\")","v":2},{"$f":"IF(O12=E6,COUNTIF(O7:O12,E6),\"\")","v":""},{"$f":"IF(O12=F6,COUNTIF(O7:O12,F6),\"\")","v":""},6,62,"Ross Charlton",null,null,null,null,null,"Northumberland",null,null,null,20.29,1,null,null,null,null,null,null,null,null,null,null,null,null,null,null,null,null,null,null,6]
[{"$f":"IF(O13=A6,COUNTIF(O7:O13,A6),\"\")","v":""},{"$f":"IF(O13=B6,COUNTIF(O7:O13,B6),\"\")","v":""},{"$f":"IF(O13=C6,COUNTIF(O7:O13,C6),\"\")","v":""},{"$f":"IF(O13=D6,COUNTIF(O7:O13,D6),\"\")","v":""},{"$f":"IF(O13=E6,COUNTIF(O7:O13,E6),\"\")","v":1},{"$f":"IF(O13=F6,COUNTIF(O7:O13,F6),\"\")","v":""},7,81,"Finnian Hutchinson",null,null,null,null,null,"North Yorkshire",null,null,null,20.440000000000001,1,null,null,null,null,null,null,null,null,null,null,null,null,null,null,null,null,null,null,7]
[{"$f":"IF(O14=A6,COUNTIF(O7:O14,A6),\"\")","v":""},{"$f":"IF(O14=B6,COUNTIF(O7:O14,B6),\"\")","v":""},{"$f":"IF(O14=C6,COUNTIF(O7:O14,C6),\"\")","v":""},{"$f":"IF(O14=D6,COUNTIF(O7:O14,D6),\"\")","v":3},{"$f":"IF(O14=E6,COUNTIF(O7:O14,E6),\"\")","v":""},{"$f":"IF(O14=F6,COUNTIF(O7:O14,F6),\"\")","v":""},8,76,"Charlie McMillan",null,null,null,null,null,"Northumberland",null,null,null,20.52,1,null,null,null,null,null,null,null,null,null,null,null,null,null,null,null,null,null,null,8]
[{"$f":"IF(O15=A6,COUNTIF(O7:O15,A6),\"\")","v":""},{"$f":"IF(O15=B6,COUNTIF(O7:O15,B6),\"\")","v":""},{"$f":"IF(O15=C6,COUNTIF(O7:O15,C6),\"\")","v":""},{"$f":"IF(O15=D6,COUNTIF(O7:O15,D6),\"\")","v":4},{"$f":"IF(O15=E6,COUNTIF(O7:O15,E6),\"\")","v":""},{"$f":"IF(O15=F6,COUNTIF(O7:O15,F6),\"\")","v":""},9,63,"Daniel Melling",null,null,null,null,null,"Northumberland",null,null,null,21,1,null,null,null,null,null,null,null,null,null,null,null,null,null,null,null,null,null,null,9]
[{"$f":"IF(O16=A6,COUNTIF(O7:O16,A6),\"\")","v":""},{"$f":"IF(O16=B6,COUNTIF(O7:O16,B6),\"\")","v":""},{"$f":"IF(O16=C6,COUNTIF(O7:O16,C6),\"\")","v":""},{"$f":"IF(O16=D6,COUNTIF(O7:O16,D6),\"\")","v":5},{"$f":"IF(O16=E6,COUNTIF(O7:O16,E6),\"\")","v":""},{"$f":"IF(O16=F6,COUNTIF(O7:O16,F6),\"\")","v":""},10,65,"Josh Fiddaman",null,null,null,null,null,"Northumberland",null,null,null,21.05,1,null,null,null,null,null,null,null,null,null,null,null,null,null,null,null,null,null,null,10]
[{"$f":"IF(O17=A6,COUNTIF(O7:O17,A6),\"\")","v":""},{"$f":"IF(O17=B6,COUNTIF(O7:O17,B6),\"\")","v":""},{"$f":"IF(O17=C6,COUNTIF(O7:O17,C6),\"\")","v":2},{"$f":"IF(O17=D6,COUNTIF(O7:O17,D6),\"\")","v":""},{"$f":"IF(O17=E6,COUNTIF(O7:O17,E6),\"\")","v":""},{"$f":"IF(O17=F6,COUNTIF(O7:O17,F6),\"\")","v":""},11,46,"Jamie Barnshaw",null,null,null,null,null,"Durham",null,null,null,21.1,1,null,null,null,null,null,null,null,null,null,null,null,null,null,null,null,null,null,null,11]
[{"$f":"IF(O18=A6,COUNTIF(O7:O18,A6),\"\")","v":""},{"$f":"IF(O18=B6,COUNTIF(O7:O18,B6),\"\")","v":""},{"$f":"IF(O18=C6,COUNTIF(O7:O18,C6),\"\")","v":""},{"$f":"IF(O18=D6,COUNTIF(O7:O18,D6),\"\")","v":6},{"$f":"IF(O18=E6,COUNTIF(O7:O18,E6),\"\")","v":""},{"$f":"IF(O18=F6,COUNTIF(O7:O18,F6),\"\")","v":""},12,66,"Thomas Susham",null,null,null,null,null,"Northumberland",null,null,null,21.13,1,null,null,null,null,null,null,null,null,null,null,null,null,null,null,null,null,null,null,12]
[{"$f":"IF(O19=A6,COUNTIF(O7:O19,A6),\"\")","v":4},{"$f":"IF(O19=B6,COUNTIF(O7:O19,B6),\"\")","v":""},{"$f":"IF(O19=C6,COUNTIF(O7:O19,C6),\"\")","v":""},{"$f":"IF(O19=D6,COUNTIF(O7:O19,D6),\"\")","v":""},{"$f":"IF(O19=E6,COUNTIF(O7:O19,E6),\"\")","v":""},{"$f":"IF(O19=F6,COUNTIF(O7:O19,F6),\"\")","v":""},13,3,"Dan Payne",null,null,null,null,null,"Cleveland",null,null,null,21.19,1,null,null,null,null,null,null,null,null,null,null,null,null,null,null,null,null,null,null,13]
[{"$f":"IF(O20=A6,COUNTIF(O7:O20,A6),\"\")","v":""},{"$f":"IF(O20=B6,COUNTIF(O7:O20,B6),\"\")","v":""},{"$f":"IF(O20=C6,COUNTIF(O7:O20,C6),\"\")","v":""},{"$f":"IF(O20=D6,COUNTIF(O7:O20,D6),\"\")","v":""},{"$f":"IF(O20=E6,COUNTIF(O7:O20,E6),\"\")","v":2},{"$f":"IF(O20=F6,COUNTIF(O7:O20,F6),\"\")","v":""},14,86,"Toby Antcliff",null,null,null,null,null,"North Yorkshire",null,null,null,21.21,1,null,null,null,null,null,null,null,null,null,null,null,null,null,null,null,null,null,null,14]
[{"$f":"IF(O21=A6,COUNTIF(O7:O21,A6),\"\")","v":""},{"$f":"IF(O21=B6,COUNTIF(O7:O21,B6),\"\")","v":""},{"$f":"IF(O21=C6,COUNTIF(O7:O21,C6),\"\")","v":3},{"$f":"IF(O21=D6,COUNTIF(O7:O21,D6),\"\")","v":""},{"$f":"IF(O21=E6,COUNTIF(O7:O21,E6),\"\")","v":""},{"$f":"IF(O21=F6,COUNTIF(O7:O21,F6),\"\")","v":""},15,43,"Cameron Thomas",null,null,null,null,null,"Durham",null,null,null,21.26,1,null,null,null,null,null,null,null,null,null,null,null,null,null,null,null,null,null,null,15]
[{"$f":"IF(O22=A6,COUNTIF(O7:O22,A6),\"\")","v":""},{"$f":"IF(O22=B6,COUNTIF(O7:O22,B6),\"\")","v":""},{"$f":"IF(O22=C6,COUNTIF(O7:O22,C6),\"\")","v":""},{"$f":"IF(O22=D6,COUNTIF(O7:O22,D6),\"\")","v":""},{"$f":"IF(O22=E6,COUNTIF(O7:O22,E6),\"\")","v":3},{"$f":"IF(O22=F6,COUNTIF(O7:O22,F6),\"\")","v":""},16,88,"Tom Hayes",null,null,null,null,null,"North Yorkshire",null,null,null,21.28,1,null,null,null,null,null,null,null,null,null,null,null,null,null,null,null,null,null,null,16]
[{"$f":"IF(O23=A6,COUNTIF(O7:O23,A6),\"\")","v":""},{"$f":"IF(O23=B6,COUNTIF(O7:O23,B6),\"\")","v":""},{"$f":"IF(O23=C6,COUNTIF(O7:O23,C6),\"\")","v":""},{"$f":"IF(O23=D6,COUNTIF(O7:O23,D6),\"\")","v":""},{"$f":"IF(O23=E6,COUNTIF(O7:O23,E6),\"\")","v":4},{"$f":"IF(O23=F6,COUNTIF(O7:O23,F6),\"\")","v":""},17,85,"Archie Lawson",null,null,null,null,null,"North Yorkshire",null,null,null,21.29,1,null,null,null,null,null,null,null,null,null,null,null,null,null,null,null,null,null,null,17]
[{"$f":"IF(O24=A6,COUNTIF(O7:O24,A6),\"\")","v":""},{"$f":"IF(O24=B6,COUNTIF(O7:O24,B6),\"\")","v":""},{"$f":"IF(O24=C6,COUNTIF(O7:O24,C6),\"\")","v":""},{"$f":"IF(O24=D6,COUNTIF(O7:O24,D6),\"\")","v":""},{"$f":"IF(O24=E6,COUNTIF(O7:O24,E6),\"\")","v":5},{"$f":"IF(O24=F6,COUNTIF(O7:O24,F6),\"\")","v":""},18,89,"Joe Crannley",null,null,null,null,null,"North Yorkshire",null,null,null,21.3,1,null,null,null,null,null,null,null,null,null,null,null,null,null,null,null,null,null,null,18]
[{"$f":"IF(O25=A6,COUNTIF(O7:O25,A6),\"\")","v":""},{"$f":"IF(O25=B6,COUNTIF(O7:O25,B6),\"\")","v":1},{"$f":"IF(O25=C6,COUNTIF(O7:O25,C6),\"\")","v":""},{"$f":"IF(O25=D6,COUNTIF(O7:O25,D6),\"\")","v":""},{"$f":"IF(O25=E6,COUNTIF(O7:O25,E6),\"\")","v":""},{"$f":"IF(O25=F6,COUNTIF(O7:O25,F6),\"\")","v":""},19,40,"Leo Peres",null,null,null,null,null,"Cumbria",null,null,null,21.35,1,null,null,null,null,null,null,null,null,null,null,null,null,null,null,null,null,null,null,19]
[{"$f":"IF(O26=A6,COUNTIF(O7:O26,A6),\"\")","v":""},{"$f":"IF(O26=B6,COUNTIF(O7:O26,B6),\"\")","v":""},{"$f":"IF(O26=C6,COUNTIF(O7:O26,C6),\"\")","v":""},{"$f":"IF(O26=D6,COUNTIF(O7:O26,D6),\"\")","v":7},{"$f":"IF(O26=E6,COUNTIF(O7:O26,E6),\"\")","v":""},{"$f":"IF(O26=F6,COUNTIF(O7:O26,F6),\"\")","v":""},20,68,"Tom Balsdon",null,null,null,null,null,"Northumberland",null,null,null,21.4,1,null,null,null,null,null,null,null,null,null,null,null,null,null,null,null,null,null,null,20]
[{"$f":"IF(O27=A6,COUNTIF(O7:O27,A6),\"\")","v":""},{"$f":"IF(O27=B6,COUNTIF(O7:O27,B6),\"\")","v":""},{"$f":"IF(O27=C6,COUNTIF(O7:O27,C6),\"\")","v":4},{"$f":"IF(O27=D6,COUNTIF(O7:O27,D6),\"\")","v":""},{"$f":"IF(O27=E6,COUNTIF(O7:O27,E6),\"\")","v":""},{"$f":"IF(O27=F6,COUNTIF(O7:O27,F6),\"\")","v":""},21,45,"Daniel Boyer",null,null,null,null,null,"Durham",null,null,null,21.4,1,null,null,null,null,null,null,null,null,null,null,null,null,null,null,null,null,null,null,21]
[{"$f":"IF(O28=A6,COUNTIF(O7:O28,A6),\"\")","v":""},{"$f":"IF(O28=B6,COUNTIF(O7:O28,B6),\"\")","v":2},{"$f":"IF(O28=C6,COUNTIF(O7:O28,C6),\"\")","v":""},{"$f":"IF(O28=D6,COUNTIF(O7:O28,D6),\"\")","v":""},{"$f":"IF(O28=E6,COUNTIF(O7:O28,E6),\"\")","v":""},{"$f":"IF(O28=F6,COUNTIF(O7:O28,F6),\"\")","v":""},22,23,"Charlie Harding",null,null,null,null,null,"Cumbria",null,null,null,21.44,1,null,null,null,null,null,null,null,null,null,null,null,null,null,null,null,null,null,null,22]
[{"$f":"IF(O29=A6,COUNTIF(O7:O29,A6),\"\")","v":5},{"$f":"IF(O29=B6,COUNTIF(O7:O29,B6),\"\")","v":""},{"$f":"IF(O29=C6,COUNTIF(O7:O29,C6),\"\")","v":""},{"$f":"IF(O29=D6,COUNTIF(O7:O29,D6),\"\")","v":""},{"$f":"IF(O29=E6,COUNTIF(O7:O29,E6),\"\")","v":""},{"$f":"IF(O29=F6,COUNTIF(O7:O29,F6),\"\")","v":""},23,5,"Jake Creasey",null,null,null,null,null,"Cleveland",null,null,null,21.46,1,null,null,null,null,null,null,null,null,null,null,null,null,null,null,null,null,null,null,23]
[{"$f":"IF(O30=A6,COUNTIF(O7:O30,A6),\"\")","v":""},{"$f":"IF(O30=B6,COUNTIF(O7:O30,B6),\"\")","v":3},{"$f":"IF(O30=C6,COUNTIF(O7:O30,C6),\"\")","v":""},{"$f":"IF(O30=D6,COUNTIF(O7:O30,D6),\"\")","v":""},{"$f":"IF(O30=E6,COUNTIF(O7:O30,E6),\"\")","v":""},{"$f":"IF(O30=F6,COUNTIF(O7:O30,F6),\"\")","v":""},24,27,"Lewis Bowness",null,null,null,null,null,"Cumbria",null,null,null,21.5,1,null,null,null,null,null,null,null,null,null,null,null,null,null,null,null,null,null,null,24]
[{"$f":"IF(O31=A6,COUNTIF(O7:O31,A6),\"\")","v":""},{"$f":"IF(O31=B6,COUNTIF(O7:O31,B6),\"\")","v":""},{"$f":"IF(O31=C6,COUNTIF(O7:O31,C6),\"\")","v":""},{"$f":"IF(O31=D6,COUNTIF(O7:O31,D6),\"\")","v":""},{"$f":"IF(O31=E6,COUNTIF(O7:O31,E6),\"\")","v":6},{"$f":"IF(O31=F6,COUNTIF(O7:O31,F6),\"\")","v":""},25,87,"Matthew Somers",null,null,null,null,null,"North Yorkshire",null,null,null,21.53,1,null,null,null,null,null,null,null,null,null,null,null,null,null,null,null,null,null,null,25]
[{"$f":"IF(O32=A6,COUNTIF(O7:O32,A6),\"\")","v":""},{"$f":"IF(O32=B6,COUNTIF(O7:O32,B6),\"\")","v":""},{"$f":"IF(O32=C6,COUNTIF(O7:O32,C6),\"\")","v":""},{"$f":"IF(O32=D6,COUNTIF(O7:O32,D6),\"\")","v":8},{"$f":"IF(O32=E6,COUNTIF(O7:O32,E6),\"\")","v":""},{"$f":"IF(O32=F6,COUNTIF(O7:O32,F6),\"\")","v":""},26,69,"Roean Bennett",null,null,null,null,null,"Northumberland",null,null,null,21.54,1,null,null,null,null,null,null,null,null,null,null,null,null,null,null,null,null,null,null,26]
[{"$f":"IF(O33=A6,COUNTIF(O7:O33,A6),\"\")","v":""},{"$f":"IF(O33=B6,COUNTIF(O7:O33,B6),\"\")","v":""},{"$f":"IF(O33=C6,COUNTIF(O7:O33,C6),\"\")","v":5},{"$f":"IF(O33=D6,COUNTIF(O7:O33,D6),\"\")","v":""},{"$f":"IF(O33=E6,COUNTIF(O7:O33,E6),\"\")","v":""},{"$f":"IF(O33=F6,COUNTIF(O7:O33,F6),\"\")","v":""},27,48,"Izaak Robinson Taylor",null,null,null,null,null,"Durham",null,null,null,22.04,1,null,null,null,null,null,null,null,null,null,null,null,null,null,null,null,null,null,null,27]
[{"$f":"IF(O34=A6,COUNTIF(O7:O34,A6),\"\")","v":""},{"$f":"IF(O34=B6,COUNTIF(O7:O34,B6),\"\")","v":4},{"$f":"IF(O34=C6,COUNTIF(O7:O34,C6),\"\")","v":""},{"$f":"IF(O34=D6,COUNTIF(O7:O34,D6),\"\")","v":""},{"$f":"IF(O34=E6,COUNTIF(O7:O34,E6),\"\")","v":""},{"$f":"IF(O34=F6,COUNTIF(O7:O34,F6),\"\")","v":""},28,25,"Toby Umpleby",null,null,null,null,null,"Cumbria",null,null,null,22.08,1,null,null,null,null,null,null,null,null,null,null,null,null,null,null,null,null,null,null,28]
[{"$f":"IF(O35=A6,COUNTIF(O7:O35,A6),\"\")","v":6},{"$f":"IF(O35=B6,COUNTIF(O7:O35,B6),\"\")","v":""},{"$f":"IF(O35=C6,COUNTIF(O7:O35,C6),\"\")","v":""},{"$f":"IF(O35=D6,COUNTIF(O7:O35,D6),\"\")","v":""},{"$f":"IF(O35=E6,COUNTIF(O7:O35,E6),\"\")","v":""},{"$f":"IF(O35=F6,COUNTIF(O7:O35,F6),\"\")","v":""},29,9,"Dominic Shipman",null,null,null,null,null,"Cleveland",null,null,null,22.1,1,null,null,null,null,null,null,null,null,null,null,null,null,null,null,null,null,null,null,29]
[{"$f":"IF(O36=A6,COUNTIF(O7:O36,A6),\"\")","v":""},{"$f":"IF(O36=B6,COUNTIF(O7:O36,B6),\"\")","v":5},{"$f":"IF(O36=C6,COUNTIF(O7:O36,C6),\"\")","v":""},{"$f":"IF(O36=D6,COUNTIF(O7:O36,D6),\"\")","v":""},{"$f":"IF(O36=E6,COUNTIF(O7:O36,E6),\"\")","v":""},{"$f":"IF(O36=F6,COUNTIF(O7:O36,F6),\"\")","v":""},30,26,"Max Parry",null,null,null,null,null,"Cumbria",null,null,null,22.1,1,null,null,null,null,null,null,null,null,null,null,null,null,null,null,null,null,null,null,30]
[{"$f":"IF(O37=A6,COUNTIF(O7:O37,A6),\"\")","v":""},{"$f":"IF(O37=B6,COUNTIF(O7:O37,B6),\"\")","v":""},{"$f":"IF(O37=C6,COUNTIF(O7:O37,C6),\"\")","v":6},{"$f":"IF(O37=D6,COUNTIF(O7:O37,D6),\"\")","v":""},{"$f":"IF(O37=E6,COUNTIF(O7:O37,E6),\"\")","v":""},{"$f":"IF(O37=F6,COUNTIF(O7:O37,F6),\"\")","v":""},31,44,"Daniel Joyce",null,null,null,null,null,"Durham",null,null,null,22.19,1,null,null,null,null,null,null,null,null,null,null,null,null,null,null,null,null,null,null,31]
[{"$f":"IF(O38=A6,COUNTIF(O7:O38,A6),\"\")","v":7},{"$f":"IF(O38=B6,COUNTIF(O7:O38,B6),\"\")","v":""},{"$f":"IF(O38=C6,COUNTIF(O7:O38,C6),\"\")","v":""},{"$f":"IF(O38=D6,COUNTIF(O7:O38,D6),\"\")","v":""},{"$f":"IF(O38=E6,COUNTIF(O7:O38,E6),\"\")","v":""},{"$f":"IF(O38=F6,COUNTIF(O7:O38,F6),\"\")","v":""},32,8,"Harry Dunmure",null,null,null,null,null,"Cleveland",null,null,null,22.21,1,null,null,null,null,null,null,null,null,null,null,null,null,null,null,null,null,null,null,32]
[{"$f":"IF(O39=A6,COUNTIF(O7:O39,A6),\"\")","v":""},{"$f":"IF(O39=B6,COUNTIF(O7:O39,B6),\"\")","v":""},{"$f":"IF(O39=C6,COUNTIF(O7:O39,C6),\"\")","v":""},{"$f":"IF(O39=D6,COUNTIF(O7:O39,D6),\"\")","v":9},{"$f":"IF(O39=E6,COUNTIF(O7:O39,E6),\"\")","v":""},{"$f":"IF(O39=F6,COUNTIF(O7:O39,F6),\"\")","v":""},33,77,"Harry Morris",null,null,null,null,null,"Northumberland",null,null,null,22.22,1,null,null,null,null,null,null,null,null,null,null,null,null,null,null,null,null,null,null,33]
[{"$f":"IF(O40=A6,COUNTIF(O7:O40,A6),\"\")","v":""},{"$f":"IF(O40=B6,COUNTIF(O7:O40,B6),\"\")","v":6},{"$f":"IF(O40=C6,COUNTIF(O7:O40,C6),\"\")","v":""},{"$f":"IF(O40=D6,COUNTIF(O7:O40,D6),\"\")","v":""},{"$f":"IF(O40=E6,COUNTIF(O7:O40,E6),\"\")","v":""},{"$f":"IF(O40=F6,COUNTIF(O7:O40,F6),\"\")","v":""},34,31,"Felix Kirsten",null,null,null,null,null,"Cumbria",null,null,null,22.23,1,null,null,null,null,null,null,null,null,null,null,null,null,null,null,null,null,null,null,34]
[{"$f":"IF(O41=A6,COUNTIF(O7:O41,A6),\"\")","v":""},{"$f":"IF(O41=B6,COUNTIF(O7:O41,B6),\"\")","v":7},{"$f":"IF(O41=C6,COUNTIF(O7:O41,C6),\"\")","v":""},{"$f":"IF(O41=D6,COUNTIF(O7:O41,D6),\"\")","v":""},{"$f":"IF(O41=E6,COUNTIF(O7:O41,E6),\"\")","v":""},{"$f":"IF(O41=F6,COUNTIF(O7:O41,F6),\"\")","v":""},35,24,"Mitchell Liddle",null,null,null,null,null,"Cumbria",null,null,null,22.24,1,null,null,null,null,null,null,null,null,null,null,null,null,null,null,null,null,null,null,35]
[{"$f":"IF(O42=A6,COUNTIF(O7:O42,A6),\"\")","v":""},{"$f":"IF(O42=B6,COUNTIF(O7:O42,B6),\"\")","v":""},{"$f":"IF(O42=C6,COUNTIF(O7:O42,C6),\"\")","v":""},{"$f":"IF(O42=D6,COUNTIF(O7:O42,D6),\"\")","v":""},{"$f":"IF(O42=E6,COUNTIF(O7:O42,E6),\"\")","v":7},{"$f":"IF(O42=F6,COUNTIF(O7:O42,F6),\"\")","v":""},36,90,"Arthur Peel",null,null,null,null,null,"North Yorkshire",null,null,null,22.26,1,null,null,null,null,null,null,null,null,null,null,null,null,null,null,null,null,null,null,36]
[{"$f":"IF(O43=A6,COUNTIF(O7:O43,A6),\"\")","v":""},{"$f":"IF(O43=B6,COUNTIF(O7:O43,B6),\"\")","v":""},{"$f":"IF(O43=C6,COUNTIF(O7:O43,C6),\"\")","v":7},{"$f":"IF(O43=D6,COUNTIF(O7:O43,D6),\"\")","v":""},{"$f":"IF(O43=E6,COUNTIF(O7:O43,E6),\"\")","v":""},{"$f":"IF(O43=F6,COUNTIF(O7:O43,F6),\"\")","v":""},37,52,"Joshua Dan",null,null,null,null,null,"Durham",null,null,null,22.27,1,null,null,null,null,null,null,null,null,null,null,null,null,null,null,null,null,null,null,37]
[{"$f":"IF(O44=A6,COUNTIF(O7:O44,A6),\"\")","v":""},{"$f":"IF(O44=B6,COUNTIF(O7:O44,B6),\"\")","v":""},{"$f":"IF(O44=C6,COUNTIF(O7:O44,C6),\"\")","v":""},{"$f":"IF(O44=D6,COUNTIF(O7:O44,D6),\"\")","v":10},{"$f":"IF(O44=E6,COUNTIF(O7:O44,E6),\"\")","v":""},{"$f":"IF(O44=F6,COUNTIF(O7:O44,F6),\"\")","v":""},38,67,"Oscar Onley",null,null,null,null,null,"Northumberland",null,null,null,22.27,1,null,null,null,null,null,null,null,null,null,null,null,null,null,null,null,null,null,null,38]
[{"$f":"IF(O45=A6,COUNTIF(O7:O45,A6),\"\")","v":""},{"$f":"IF(O45=B6,COUNTIF(O7:O45,B6),\"\")","v":""},{"$f":"IF(O45=C6,COUNTIF(O7:O45,C6),\"\")","v":8},{"$f":"IF(O45=D6,COUNTIF(O7:O45,D6),\"\")","v":""},{"$f":"IF(O45=E6,COUNTIF(O7:O45,E6),\"\")","v":""},{"$f":"IF(O45=F6,COUNTIF(O7:O45,F6),\"\")","v":""},39,47,"James Roberts",null,null,null,null,null,"Durham",null,null,null,22.35,1,null,null,null,null,null,null,null,null,null,null,null,null,null,null,null,null,null,null,39]
[{"$f":"IF(O46=A6,COUNTIF(O7:O46,A6),\"\")","v":""},{"$f":"IF(O46=B6,COUNTIF(O7:O46,B6),\"\")","v":""},{"$f":"IF(O46=C6,COUNTIF(O7:O46,C6),\"\")","v":9},{"$f":"IF(O46=D6,COUNTIF(O7:O46,D6),\"\")","v":""},{"$f":"IF(O46=E6,COUNTIF(O7:O46,E6),\"\")","v":""},{"$f":"IF(O46=F6,COUNTIF(O7:O46,F6),\"\")","v":""},40,54,"Will Lindsey",null,null,null,null,null,"Durham",null,null,null,22.4,1,null,null,null,null,null,null,null,null,null,null,null,null,null,null,null,null,null,null,40]
[{"$f":"IF(O47=A6,COUNTIF(O7:O47,A6),\"\")","v":""},{"$f":"IF(O47=B6,COUNTIF(O7:O47,B6),\"\")","v":""},{"$f":"IF(O47=C6,COUNTIF(O7:O47,C6),\"\")","v":""},{"$f":"IF(O47=D6,COUNTIF(O7:O47,D6),\"\")","v":""},{"$f":"IF(O47=E6,COUNTIF(O7:O47,E6),\"\")","v":8},{"$f":"IF(O47=F6,COUNTIF(O7:O47,F6),\"\")","v":""},41,84,"Kyle McLeay",null,null,null,null,null,"North Yorkshire",null,null,null,22.44,1,null,null,null,null,null,null,null,null,null,null,null,null,null,null,null,null,null,null,41]
[{"$f":"IF(O48=A6,COUNTIF(O7:O48,A6),\"\")","v":""},{"$f":"IF(O48=B6,COUNTIF(O7:O48,B6),\"\")","v":""},{"$f":"IF(O48=C6,COUNTIF(O7:O48,C6),\"\")","v":""},{"$f":"IF(O48=D6,COUNTIF(O7:O48,D6),\"\")","v":""},{"$f":"IF(O48=E6,COUNTIF(O7:O48,E6),\"\")","v":9},{"$f":"IF(O48=F6,COUNTIF(O7:O48,F6),\"\")","v":""},42,92,"Matthew Lambert",null,null,null,null,null,"North Yorkshire",null,null,null,22.44,1,null,null,null,null,null,null,null,null,null,null,null,null,null,null,null,null,null,null,42]
[{"$f":"IF(O49=A6,COUNTIF(O7:O49,A6),\"\")","v":""},{"$f":"IF(O49=B6,COUNTIF(O7:O49,B6),\"\")","v":""},{"$f":"IF(O49=C6,COUNTIF(O7:O49,C6),\"\")","v":""},{"$f":"IF(O49=D6,COUNTIF(O7:O49,D6),\"\")","v":""},{"$f":"IF(O49=E6,COUNTIF(O7:O49,E6),\"\")","v":10},{"$f":"IF(O49=F6,COUNTIF(O7:O49,F6),\"\")","v":""},43,91,"Will Thompson",null,null,null,null,null,"North Yorkshire",null,null,null,22.57,1,null,null,null,null,null,null,null,null,null,null,null,null,null,null,null,null,null,null,43]
[{"$f":"IF(O50=A6,COUNTIF(O7:O50,A6),\"\")","v":""},{"$f":"IF(O50=B6,COUNTIF(O7:O50,B6),\"\")","v":""},{"$f":"IF(O50=C6,COUNTIF(O7:O50,C6),\"\")","v":10},{"$f":"IF(O50=D6,COUNTIF(O7:O50,D6),\"\")","v":""},{"$f":"IF(O50=E6,COUNTIF(O7:O50,E6),\"\")","v":""},{"$f":"IF(O50=F6,COUNTIF(O7:O50,F6),\"\")","v":""},44,53,"Liam Brittle",null,null,null,null,null,"Durham",null,null,null,23.01,1,null,null,null,null,null,null,null,null,null,null,null,null,null,null,null,null,null,null,44]
[{"$f":"IF(O51=A6,COUNTIF(O7:O51,A6),\"\")","v":8},{"$f":"IF(O51=B6,COUNTIF(O7:O51,B6),\"\")","v":""},{"$f":"IF(O51=C6,COUNTIF(O7:O51,C6),\"\")","v":""},{"$f":"IF(O51=D6,COUNTIF(O7:O51,D6),\"\")","v":""},{"$f":"IF(O51=E6,COUNTIF(O7:O51,E6),\"\")","v":""},{"$f":"IF(O51=F6,COUNTIF(O7:O51,F6),\"\")","v":""},45,7,"Henry Mitson",null,null,null,null,null,"Cleveland",null,null,null,23.02,1,null,null,null,null,null,null,null,null,null,null,null,null,null,null,null,null,null,null,45]
[{"$f":"IF(O52=A6,COUNTIF(O7:O52,A6),\"\")","v":""},{"$f":"IF(O52=B6,COUNTIF(O7:O52,B6),\"\")","v":""},{"$f":"IF(O52=C6,COUNTIF(O7:O52,C6),\"\")","v":""},{"$f":"IF(O52=D6,COUNTIF(O7:O52,D6),\"\")","v":11},{"$f":"IF(O52=E6,COUNTIF(O7:O52,E6),\"\")","v":""},{"$f":"IF(O52=F6,COUNTIF(O7:O52,F6),\"\")","v":""},46,71,"Daniel Buffham",null,null,null,null,null,"Northumberland",null,null,null,23.07,1,null,null,null,null,null,null,null,null,null,null,null,null,null,null,null,null,null,null,46]
[{"$f":"IF(O53=A6,COUNTIF(O7:O53,A6),\"\")","v":""},{"$f":"IF(O53=B6,COUNTIF(O7:O53,B6),\"\")","v":""},{"$f":"IF(O53=C6,COUNTIF(O7:O53,C6),\"\")","v":11},{"$f":"IF(O53=D6,COUNTIF(O7:O53,D6),\"\")","v":""},{"$f":"IF(O53=E6,COUNTIF(O7:O53,E6),\"\")","v":""},{"$f":"IF(O53=F6,COUNTIF(O7:O53,F6),\"\")","v":""},47,50,"Alfie Phillips",null,null,null,null,null,"Durham",null,null,null,23.19,1,null,null,null,null,null,null,null,null,null,null,null,null,null,null,null,null,null,null,47]
[{"$f":"IF(O54=A6,COUNTIF(O7:O54,A6),\"\")","v":""},{"$f":"IF(O54=B6,COUNTIF(O7:O54,B6),\"\")","v":""},{"$f":"IF(O54=C6,COUNTIF(O7:O54,C6),\"\")","v":""},{"$f":"IF(O54=D6,COUNTIF(O7:O54,D6),\"\")","v":12},{"$f":"IF(O54=E6,COUNTIF(O7:O54,E6),\"\")","v":""},{"$f":"IF(O54=F6,COUNTIF(O7:O54,F6),\"\")","v":""},48,72,"Jamie Styles",null,null,null,null,null,"Northumberland",null,null,null,23.29,1,null,null,null,null,null,null,null,null,null,null,null,null,null,null,null,null,null,null,48]
[{"$f":"IF(O55=A6,COUNTIF(O7:O55,A6),\"\")","v":""},{"$f":"IF(O55=B6,COUNTIF(O7:O55,B6),\"\")","v":""},{"$f":"IF(O55=C6,COUNTIF(O7:O55,C6),\"\")","v":12},{"$f":"IF(O55=D6,COUNTIF(O7:O55,D6),\"\")","v":""},{"$f":"IF(O55=E6,COUNTIF(O7:O55,E6),\"\")","v":""},{"$f":"IF(O55=F6,COUNTIF(O7:O55,F6),\"\")","v":""},49,49,"Joshua Maner",null,null,null,null,null,"Durham",null,null,null,23.32,1,null,null,null,null,null,null,null,null,null,null,null,null,null,null,null,null,null,null,49]
[{"$f":"IF(O56=A6,COUNTIF(O7:O56,A6),\"\")","v":""},{"$f":"IF(O56=B6,COUNTIF(O7:O56,B6),\"\")","v":8},{"$f":"IF(O56=C6,COUNTIF(O7:O56,C6),\"\")","v":""},{"$f":"IF(O56=D6,COUNTIF(O7:O56,D6),\"\")","v":""},{"$f":"IF(O56=E6,COUNTIF(O7:O56,E6),\"\")","v":""},{"$f":"IF(O56=F6,COUNTIF(O7:O56,F6),\"\")","v":""},50,33,"Toby Winnard",null,null,null,null,null,"Cumbria",null,null,null,23.44,1,null,null,null,null,null,null,null,null,null,null,null,null,null,null,null,null,null,null,50]
[{"$f":"IF(O57=A6,COUNTIF(O7:O57,A6),\"\")","v":""},{"$f":"IF(O57=B6,COUNTIF(O7:O57,B6),\"\")","v":9},{"$f":"IF(O57=C6,COUNTIF(O7:O57,C6),\"\")","v":""},{"$f":"IF(O57=D6,COUNTIF(O7:O57,D6),\"\")","v":""},{"$f":"IF(O57=E6,COUNTIF(O7:O57,E6),\"\")","v":""},{"$f":"IF(O57=F6,COUNTIF(O7:O57,F6),\"\")","v":""},51,35,"Alex Beddoes",null,null,null,null,null,"Cumbria",null,null,null,23.51,1,null,null,null,null,null,null,null,null,null,null,null,null,null,null,null,null,null,null,51]
[{"$f":"IF(O58=A6,COUNTIF(O7:O58,A6),\"\")","v":""},{"$f":"IF(O58=B6,COUNTIF(O7:O58,B6),\"\")","v":""},{"$f":"IF(O58=C6,COUNTIF(O7:O58,C6),\"\")","v":13},{"$f":"IF(O58=D6,COUNTIF(O7:O58,D6),\"\")","v":""},{"$f":"IF(O58=E6,COUNTIF(O7:O58,E6),\"\")","v":""},{"$f":"IF(O58=F6,COUNTIF(O7:O58,F6),\"\")","v":""},52,56,"Ollie Barrett",null,null,null,null,null,"Durham",null,null,null,23.54,1,null,null,null,null,null,null,null,null,null,null,null,null,null,null,null,null,null,null,52]
[{"$f":"IF(O59=A6,COUNTIF(O7:O59,A6),\"\")","v":""},{"$f":"IF(O59=B6,COUNTIF(O7:O59,B6),\"\")","v":10},{"$f":"IF(O59=C6,COUNTIF(O7:O59,C6),\"\")","v":""},{"$f":"IF(O59=D6,COUNTIF(O7:O59,D6),\"\")","v":""},{"$f":"IF(O59=E6,COUNTIF(O7:O59,E6),\"\")","v":""},{"$f":"IF(O59=F6,COUNTIF(O7:O59,F6),\"\")","v":""},53,29,"Ben Edmondson",null,null,null,null,null,"Cumbria",null,null,null,23.59,1,null,null,null,null,null,null,null,null,null,null,null,null,null,null,null,null,null,null,53]
[{"$f":"IF(O60=A6,COUNTIF(O7:O60,A6),\"\")","v":""},{"$f":"IF(O60=B6,COUNTIF(O7:O60,B6),\"\")","v":""},{"$f":"IF(O60=C6,COUNTIF(O7:O60,C6),\"\")","v":14},{"$f":"IF(O60=D6,COUNTIF(O7:O60,D6),\"\")","v":""},{"$f":"IF(O60=E6,COUNTIF(O7:O60,E6),\"\")","v":""},{"$f":"IF(O60=F6,COUNTIF(O7:O60,F6),\"\")","v":""},54,55,"Charles McIntosh",null,null,null,null,null,"Durham",null,null,null,24.02,1,null,null,null,null,null,null,null,null,null,null,null,null,null,null,null,null,null,null,54]
[{"$f":"IF(O61=A6,COUNTIF(O7:O61,A6),\"\")","v":9},{"$f":"IF(O61=B6,COUNTIF(O7:O61,B6),\"\")","v":""},{"$f":"IF(O61=C6,COUNTIF(O7:O61,C6),\"\")","v":""},{"$f":"IF(O61=D6,COUNTIF(O7:O61,D6),\"\")","v":""},{"$f":"IF(O61=E6,COUNTIF(O7:O61,E6),\"\")","v":""},{"$f":"IF(O61=F6,COUNTIF(O7:O61,F6),\"\")","v":""},55,13,"Luke Hutchinson",null,null,null,null,null,"Cleveland",null,null,null,24.07,1,null,null,null,null,null,null,null,null,null,null,null,null,null,null,null,null,null,null,55]
[{"$f":"IF(O62=A6,COUNTIF(O7:O62,A6),\"\")","v":""},{"$f":"IF(O62=B6,COUNTIF(O7:O62,B6),\"\")","v":""},{"$f":"IF(O62=C6,COUNTIF(O7:O62,C6),\"\")","v":""},{"$f":"IF(O62=D6,COUNTIF(O7:O62,D6),\"\")","v":13},{"$f":"IF(O62=E6,COUNTIF(O7:O62,E6),\"\")","v":""},{"$f":"IF(O62=F6,COUNTIF(O7:O62,F6),\"\")","v":""},56,73,"Ben Murray-John",null,null,null,null,null,"Northumberland",null,null,null,24.1,1,null,null,null,null,null,null,null,null,null,null,null,null,null,null,null,null,null,null,56]
[{"$f":"IF(O63=A6,COUNTIF(O7:O63,A6),\"\")","v":""},{"$f":"IF(O63=B6,COUNTIF(O7:O63,B6),\"\")","v":""},{"$f":"IF(O63=C6,COUNTIF(O7:O63,C6),\"\")","v":""},{"$f":"IF(O63=D6,COUNTIF(O7:O63,D6),\"\")","v":14},{"$f":"IF(O63=E6,COUNTIF(O7:O63,E6),\"\")","v":""},{"$f":"IF(O63=F6,COUNTIF(O7:O63,F6),\"\")","v":""},57,75,"Luke Shears",null,null,null,null,null,"Northumberland",null,null,null,24.18,1,null,null,null,null,null,null,null,null,null,null,null,null,null,null,null,null,null,null,57]
[{"$f":"IF(O64=A6,COUNTIF(O7:O64,A6),\"\")","v":""},{"$f":"IF(O64=B6,COUNTIF(O7:O64,B6),\"\")","v":""},{"$f":"IF(O64=C6,COUNTIF(O7:O64,C6),\"\")","v":15},{"$f":"IF(O64=D6,COUNTIF(O7:O64,D6),\"\")","v":""},{"$f":"IF(O64=E6,COUNTIF(O7:O64,E6),\"\")","v":""},{"$f":"IF(O64=F6,COUNTIF(O7:O64,F6),\"\")","v":""},58,51,"Matthew Appleby",null,null,null,null,null,"Durham",null,null,null,24.32,1,null,null,null,null,null,null,null,null,null,null,null,null,null,null,null,null,null,null,58]
[{"$f":"IF(O65=A6,COUNTIF(O7:O65,A6),\"\")","v":10},{"$f":"IF(O65=B6,COUNTIF(O7:O65,B6),\"\")","v":""},{"$f":"IF(O65=C6,COUNTIF(O7:O65,C6),\"\")","v":""},{"$f":"IF(O65=D6,COUNTIF(O7:O65,D6),\"\")","v":""},{"$f":"IF(O65=E6,COUNTIF(O7:O65,E6),\"\")","v":""},{"$f":"IF(O65=F6,COUNTIF(O7:O65,F6),\"\")","v":""},59,10,"Ben Grounds",null,null,null,null,null,"Cleveland",null,null,null,24.32,1,null,null,null,null,null,null,null,null,null,null,null,null,null,null,null,null,null,null,59]
[{"$f":"IF(O66=A6,COUNTIF(O7:O66,A6),\"\")","v":""},{"$f":"IF(O66=B6,COUNTIF(O7:O66,B6),\"\")","v":11},{"$f":"IF(O66=C6,COUNTIF(O7:O66,C6),\"\")","v":""},{"$f":"IF(O66=D6,COUNTIF(O7:O66,D6),\"\")","v":""},{"$f":"IF(O66=E6,COUNTIF(O7:O66,E6),\"\")","v":""},{"$f":"IF(O66=F6,COUNTIF(O7:O66,F6),\"\")","v":""},60,37,"Craig Bottomley",null,null,null,null,null,"Cumbria",null,null,null,24.59,1,null,null,null,null,null,null,null,null,null,null,null,null,null,null,null,null,null,null,60]
[{"$f":"IF(O67=A6,COUNTIF(O7:O67,A6),\"\")","v":""},{"$f":"IF(O67=B6,COUNTIF(O7:O67,B6),\"\")","v":12},{"$f":"IF(O67=C6,COUNTIF(O7:O67,C6),\"\")","v":""},{"$f":"IF(O67=D6,COUNTIF(O7:O67,D6),\"\")","v":""},{"$f":"IF(O67=E6,COUNTIF(O7:O67,E6),\"\")","v":""},{"$f":"IF(O67=F6,COUNTIF(O7:O67,F6),\"\")","v":""},61,34,"Elliott Judge",null,null,null,null,null,"Cumbria",null,null,null,26.03,1,null,null,null,null,null,null,null,null,null,null,null,null,null,null,null,null,null,null,61]
[{"$f":"IF(O68=A6,COUNTIF(O7:O68,A6),\"\")","v":""},{"$f":"IF(O68=B6,COUNTIF(O7:O68,B6),\"\")","v":""},{"$f":"IF(O68=C6,COUNTIF(O7:O68,C6),\"\")","v":""},{"$f":"IF(O68=D6,COUNTIF(O7:O68,D6),\"\")","v":15},{"$f":"IF(O68=E6,COUNTIF(O7:O68,E6),\"\")","v":""},{"$f":"IF(O68=F6,COUNTIF(O7:O68,F6),\"\")","v":""},62,74,"Brad Brown",null,null,null,null,null,"Northumberland",null,null,null,26.27,1,null,null,null,null,null,null,null,null,null,null,null,null,null,null,null,null,null,null,62]
[{"$f":"IF(O69=A6,COUNTIF(O7:O69,A6),\"\")","v":""},{"$f":"IF(O69=B6,COUNTIF(O7:O69,B6),\"\")","v":""},{"$f":"IF(O69=C6,COUNTIF(O7:O69,C6),\"\")","v":""},{"$f":"IF(O69=D6,COUNTIF(O7:O69,D6),\"\")","v":""},{"$f":"IF(O69=E6,COUNTIF(O7:O69,E6),\"\")","v":""},{"$f":"IF(O69=F6,COUNTIF(O7:O69,F6),\"\")","v":""},63,null,"",null,null,null,null,null,"",null,null,null,null,0,null,null,null,null,null,null,null,null,null,null,null,null,null,null,null,null,null,null,63]
[{"$f":"IF(O70=A6,COUNTIF(O7:O70,A6),\"\")","v":""},{"$f":"IF(O70=B6,COUNTIF(O7:O70,B6),\"\")","v":""},{"$f":"IF(O70=C6,COUNTIF(O7:O70,C6),\"\")","v":""},{"$f":"IF(O70=D6,COUNTIF(O7:O70,D6),\"\")","v":""},{"$f":"IF(O70=E6,COUNTIF(O7:O70,E6),\"\")","v":""},{"$f":"IF(O70=F6,COUNTIF(O7:O70,F6),\"\")","v":""},64,null,"",null,null,null,null,null,"",null,null,null,null,0,null,null,null,null,null,null,null,null,null,null,null,null,null,null,null,null,null,null,64]
[{"$f":"IF(O71=A6,COUNTIF(O7:O71,A6),\"\")","v":""},{"$f":"IF(O71=B6,COUNTIF(O7:O71,B6),\"\")","v":""},{"$f":"IF(O71=C6,COUNTIF(O7:O71,C6),\"\")","v":""},{"$f":"IF(O71=D6,COUNTIF(O7:O71,D6),\"\")","v":""},{"$f":"IF(O71=E6,COUNTIF(O7:O71,E6),\"\")","v":""},{"$f":"IF(O71=F6,COUNTIF(O7:O71,F6),\"\")","v":""},{"$f":"IF(LEFT(S71,1)=\"D\",0,AM71)","v":65},null,{"$f":"IFERROR(VLOOKUP(H71,INDIRECT($AA$1),2,0),\"\")","v":""},null,null,null,null,null,{"$f":"IFERROR(VLOOKUP(H71,INDIRECT($AA$1),3,0),\"\")","v":""},null,null,null,null,{"$f":"IF(H71=0,0,1)","v":0},null,null,null,null,null,null,null,null,null,null,null,null,null,null,null,null,null,null,65]
[{"$f":"IF(O72=A6,COUNTIF(O7:O72,A6),\"\")","v":""},{"$f":"IF(O72=B6,COUNTIF(O7:O72,B6),\"\")","v":""},{"$f":"IF(O72=C6,COUNTIF(O7:O72,C6),\"\")","v":""},{"$f":"IF(O72=D6,COUNTIF(O7:O72,D6),\"\")","v":""},{"$f":"IF(O72=E6,COUNTIF(O7:O72,E6),\"\")","v":""},{"$f":"IF(O72=F6,COUNTIF(O7:O72,F6),\"\")","v":""},66,null,"",null,null,null,null,null,"",null,null,null,null,0,null,null,null,null,null,null,null,null,null,null,null,null,null,null,null,null,null,null,66]
[{"$f":"IF(O73=A6,COUNTIF(O7:O73,A6),\"\")","v":""},{"$f":"IF(O73=B6,COUNTIF(O7:O73,B6),\"\")","v":""},{"$f":"IF(O73=C6,COUNTIF(O7:O73,C6),\"\")","v":""},{"$f":"IF(O73=D6,COUNTIF(O7:O73,D6),\"\")","v":""},{"$f":"IF(O73=E6,COUNTIF(O7:O73,E6),\"\")","v":""},{"$f":"IF(O73=F6,COUNTIF(O7:O73,F6),\"\")","v":""},67,null,"",null,null,null,null,null,"",null,null,null,null,0,null,null,null,null,null,null,null,null,null,null,null,null,null,null,null,null,null,null,67]
[{"$f":"IF(O74=A6,COUNTIF(O7:O74,A6),\"\")","v":""},{"$f":"IF(O74=B6,COUNTIF(O7:O74,B6),\"\")","v":""},{"$f":"IF(O74=C6,COUNTIF(O7:O74,C6),\"\")","v":""},{"$f":"IF(O74=D6,COUNTIF(O7:O74,D6),\"\")","v":""},{"$f":"IF(O74=E6,COUNTIF(O7:O74,E6),\"\")","v":""},{"$f":"IF(O74=F6,COUNTIF(O7:O74,F6),\"\")","v":""},68,null,"",null,null,null,null,null,"",null,null,null,null,0,null,null,null,null,null,null,null,null,null,null,null,null,null,null,null,null,null,null,68]
[{"$f":"IF(O75=A6,COUNTIF(O7:O75,A6),\"\")","v":""},{"$f":"IF(O75=B6,COUNTIF(O7:O75,B6),\"\")","v":""},{"$f":"IF(O75=C6,COUNTIF(O7:O75,C6),\"\")","v":""},{"$f":"IF(O75=D6,COUNTIF(O7:O75,D6),\"\")","v":""},{"$f":"IF(O75=E6,COUNTIF(O7:O75,E6),\"\")","v":""},{"$f":"IF(O75=F6,COUNTIF(O7:O75,F6),\"\")","v":""},69,null,"",null,null,null,null,null,"",null,null,null,null,0,null,null,null,null,null,null,null,null,null,null,null,null,null,null,null,null,null,null,69]
[{"$f":"IF(O76=A6,COUNTIF(O7:O76,A6),\"\")","v":""},{"$f":"IF(O76=B6,COUNTIF(O7:O76,B6),\"\")","v":""},{"$f":"IF(O76=C6,COUNTIF(O7:O76,C6),\"\")","v":""},{"$f":"IF(O76=D6,COUNTIF(O7:O76,D6),\"\")","v":""},{"$f":"IF(O76=E6,COUNTIF(O7:O76,E6),\"\")","v":""},{"$f":"IF(O76=F6,COUNTIF(O7:O76,F6),\"\")","v":""},70,null,"",null,null,null,null,null,"",null,null,null,null,0,null,null,null,null,null,null,null,null,null,null,null,null,null,null,null,null,null,null,70]
[{"$f":"IF(O77=A6,COUNTIF(O7:O77,A6),\"\")","v":""},{"$f":"IF(O77=B6,COUNTIF(O7:O77,B6),\"\")","v":""},{"$f":"IF(O77=C6,COUNTIF(O7:O77,C6),\"\")","v":""},{"$f":"IF(O77=D6,COUNTIF(O7:O77,D6),\"\")","v":""},{"$f":"IF(O77=E6,COUNTIF(O7:O77,E6),\"\")","v":""},{"$f":"IF(O77=F6,COUNTIF(O7:O77,F6),\"\")","v":""},71,null,"",null,null,null,null,null,"",null,null,null,null,0,null,null,null,null,null,null,null,null,null,null,null,null,null,null,null,null,null,null,71]
[{"$f":"IF(O78=A6,COUNTIF(O7:O78,A6),\"\")","v":""},{"$f":"IF(O78=B6,COUNTIF(O7:O78,B6),\"\")","v":""},{"$f":"IF(O78=C6,COUNTIF(O7:O78,C6),\"\")","v":""},{"$f":"IF(O78=D6,COUNTIF(O7:O78,D6),\"\")","v":""},{"$f":"IF(O78=E6,COUNTIF(O7:O78,E6),\"\")","v":""},{"$f":"IF(O78=F6,COUNTIF(O7:O78,F6),\"\")","v":""},72,null,"",null,null,null,null,null,"",null,null,null,null,0,null,null,null,null,null,null,null,null,null,null,null,null,null,null,null,null,null,null,72]
[{"$f":"IF(O79=A6,COUNTIF(O7:O79,A6),\"\")","v":""},{"$f":"IF(O79=B6,COUNTIF(O7:O79,B6),\"\")","v":""},{"$f":"IF(O79=C6,COUNTIF(O7:O79,C6),\"\")","v":""},{"$f":"IF(O79=D6,COUNTIF(O7:O79,D6),\"\")","v":""},{"$f":"IF(O79=E6,COUNTIF(O7:O79,E6),\"\")","v":""},{"$f":"IF(O79=F6,COUNTIF(O7:O79,F6),\"\")","v":""},73,null,"",null,null,null,null,null,"",null,null,null,null,0,null,null,null,null,null,null,null,null,null,null,null,null,null,null,null,null,null,null,73]
[{"$f":"IF(O80=A6,COUNTIF(O7:O80,A6),\"\")","v":""},{"$f":"IF(O80=B6,COUNTIF(O7:O80,B6),\"\")","v":""},{"$f":"IF(O80=C6,COUNTIF(O7:O80,C6),\"\")","v":""},{"$f":"IF(O80=D6,COUNTIF(O7:O80,D6),\"\")","v":""},{"$f":"IF(O80=E6,COUNTIF(O7:O80,E6),\"\")","v":""},{"$f":"IF(O80=F6,COUNTIF(O7:O80,F6),\"\")","v":""},74,null,"",null,null,null,null,null,"",null,null,null,null,0,null,null,null,null,null,null,null,null,null,null,null,null,null,null,null,null,null,null,74]
[{"$f":"IF(O81=A6,COUNTIF(O7:O81,A6),\"\")","v":""},{"$f":"IF(O81=B6,COUNTIF(O7:O81,B6),\"\")","v":""},{"$f":"IF(O81=C6,COUNTIF(O7:O81,C6),\"\")","v":""},{"$f":"IF(O81=D6,COUNTIF(O7:O81,D6),\"\")","v":""},{"$f":"IF(O81=E6,COUNTIF(O7:O81,E6),\"\")","v":""},{"$f":"IF(O81=F6,COUNTIF(O7:O81,F6),\"\")","v":""},75,null,"",null,null,null,null,null,"",null,null,null,null,0,null,null,null,null,null,null,null,null,null,null,null,null,null,null,null,null,null,null,75]
[{"$f":"IF(O82=A6,COUNTIF(O7:O82,A6),\"\")","v":""},{"$f":"IF(O82=B6,COUNTIF(O7:O82,B6),\"\")","v":""},{"$f":"IF(O82=C6,COUNTIF(O7:O82,C6),\"\")","v":""},{"$f":"IF(O82=D6,COUNTIF(O7:O82,D6),\"\")","v":""},{"$f":"IF(O82=E6,COUNTIF(O7:O82,E6),\"\")","v":""},{"$f":"IF(O82=F6,COUNTIF(O7:O82,F6),\"\")","v":""},76,null,"",null,null,null,null,null,"",null,null,null,null,0,null,null,null,null,null,null,null,null,null,null,null,null,null,null,null,null,null,null,76]
[{"$f":"IF(O83=A6,COUNTIF(O7:O83,A6),\"\")","v":""},{"$f":"IF(O83=B6,COUNTIF(O7:O83,B6),\"\")","v":""},{"$f":"IF(O83=C6,COUNTIF(O7:O83,C6),\"\")","v":""},{"$f":"IF(O83=D6,COUNTIF(O7:O83,D6),\"\")","v":""},{"$f":"IF(O83=E6,COUNTIF(O7:O83,E6),\"\")","v":""},{"$f":"IF(O83=F6,COUNTIF(O7:O83,F6),\"\")","v":""},77,null,"",null,null,null,null,null,"",null,null,null,null,0,null,null,null,null,null,null,null,null,null,null,null,null,null,null,null,null,null,null,77]
[{"$f":"IF(O84=A6,COUNTIF(O7:O84,A6),\"\")","v":""},{"$f":"IF(O84=B6,COUNTIF(O7:O84,B6),\"\")","v":""},{"$f":"IF(O84=C6,COUNTIF(O7:O84,C6),\"\")","v":""},{"$f":"IF(O84=D6,COUNTIF(O7:O84,D6),\"\")","v":""},{"$f":"IF(O84=E6,COUNTIF(O7:O84,E6),\"\")","v":""},{"$f":"IF(O84=F6,COUNTIF(O7:O84,F6),\"\")","v":""},78,null,"",null,null,null,null,null,"",null,null,null,null,0,null,null,null,null,null,null,null,null,null,null,null,null,null,null,null,null,null,null,78]
[{"$f":"IF(O85=A6,COUNTIF(O7:O85,A6),\"\")","v":""},{"$f":"IF(O85=B6,COUNTIF(O7:O85,B6),\"\")","v":""},{"$f":"IF(O85=C6,COUNTIF(O7:O85,C6),\"\")","v":""},{"$f":"IF(O85=D6,COUNTIF(O7:O85,D6),\"\")","v":""},{"$f":"IF(O85=E6,COUNTIF(O7:O85,E6),\"\")","v":""},{"$f":"IF(O85=F6,COUNTIF(O7:O85,F6),\"\")","v":""},79,null,"",null,null,null,null,null,"",null,null,null,null,0,null,null,null,null,null,null,null,null,null,null,null,null,null,null,null,null,null,null,79]
[{"$f":"IF(O86=A6,COUNTIF(O7:O86,A6),\"\")","v":""},{"$f":"IF(O86=B6,COUNTIF(O7:O86,B6),\"\")","v":""},{"$f":"IF(O86=C6,COUNTIF(O7:O86,C6),\"\")","v":""},{"$f":"IF(O86=D6,COUNTIF(O7:O86,D6),\"\")","v":""},{"$f":"IF(O86=E6,COUNTIF(O7:O86,E6),\"\")","v":""},{"$f":"IF(O86=F6,COUNTIF(O7:O86,F6),\"\")","v":""},80,null,"",null,null,null,null,null,"",null,null,null,null,0,null,null,null,null,null,null,null,null,null,null,null,null,null,null,null,null,null,null,80]
[{"$f":"IF(O87=A6,COUNTIF(O7:O87,A6),\"\")","v":""},{"$f":"IF(O87=B6,COUNTIF(O7:O87,B6),\"\")","v":""},{"$f":"IF(O87=C6,COUNTIF(O7:O87,C6),\"\")","v":""},{"$f":"IF(O87=D6,COUNTIF(O7:O87,D6),\"\")","v":""},{"$f":"IF(O87=E6,COUNTIF(O7:O87,E6),\"\")","v":""},{"$f":"IF(O87=F6,COUNTIF(O7:O87,F6),\"\")","v":""},81,null,"",null,null,null,null,null,"",null,null,null,null,0,null,null,null,null,null,null,null,null,null,null,null,null,null,null,null,null,null,null,81]
[{"$f":"IF(O88=A6,COUNTIF(O7:O88,A6),\"\")","v":""},{"$f":"IF(O88=B6,COUNTIF(O7:O88,B6),\"\")","v":""},{"$f":"IF(O88=C6,COUNTIF(O7:O88,C6),\"\")","v":""},{"$f":"IF(O88=D6,COUNTIF(O7:O88,D6),\"\")","v":""},{"$f":"IF(O88=E6,COUNTIF(O7:O88,E6),\"\")","v":""},{"$f":"IF(O88=F6,COUNTIF(O7:O88,F6),\"\")","v":""},82,null,"",null,null,null,null,null,"",null,null,null,null,0,null,null,null,null,null,null,null,null,null,null,null,null,null,null,null,null,null,null,82]
[{"$f":"IF(O89=A6,COUNTIF(O7:O89,A6),\"\")","v":""},{"$f":"IF(O89=B6,COUNTIF(O7:O89,B6),\"\")","v":""},{"$f":"IF(O89=C6,COUNTIF(O7:O89,C6),\"\")","v":""},{"$f":"IF(O89=D6,COUNTIF(O7:O89,D6),\"\")","v":""},{"$f":"IF(O89=E6,COUNTIF(O7:O89,E6),\"\")","v":""},{"$f":"IF(O89=F6,COUNTIF(O7:O89,F6),\"\")","v":""},83,null,"",null,null,null,null,null,"",null,null,null,null,0,null,null,null,null,null,null,null,null,null,null,null,null,null,null,null,null,null,null,83]
[{"$f":"IF(O90=A6,COUNTIF(O7:O90,A6),\"\")","v":""},{"$f":"IF(O90=B6,COUNTIF(O7:O90,B6),\"\")","v":""},{"$f":"IF(O90=C6,COUNTIF(O7:O90,C6),\"\")","v":""},{"$f":"IF(O90=D6,COUNTIF(O7:O90,D6),\"\")","v":""},{"$f":"IF(O90=E6,COUNTIF(O7:O90,E6),\"\")","v":""},{"$f":"IF(O90=F6,COUNTIF(O7:O90,F6),\"\")","v":""},84,null,"",null,null,null,null,null,"",null,null,null,null,0,null,null,null,null,null,null,null,null,null,null,null,null,null,null,null,null,null,null,84]
[{"$f":"IF(O91=A6,COUNTIF(O7:O91,A6),\"\")","v":""},{"$f":"IF(O91=B6,COUNTIF(O7:O91,B6),\"\")","v":""},{"$f":"IF(O91=C6,COUNTIF(O7:O91,C6),\"\")","v":""},{"$f":"IF(O91=D6,COUNTIF(O7:O91,D6),\"\")","v":""},{"$f":"IF(O91=E6,COUNTIF(O7:O91,E6),\"\")","v":""},{"$f":"IF(O91=F6,COUNTIF(O7:O91,F6),\"\")","v":""},85,null,"",null,null,null,null,null,"",null,null,null,null,0,null,null,null,null,null,null,null,null,null,null,null,null,null,null,null,null,null,null,85]
[{"$f":"IF(O92=A6,COUNTIF(O7:O92,A6),\"\")","v":""},{"$f":"IF(O92=B6,COUNTIF(O7:O92,B6),\"\")","v":""},{"$f":"IF(O92=C6,COUNTIF(O7:O92,C6),\"\")","v":""},{"$f":"IF(O92=D6,COUNTIF(O7:O92,D6),\"\")","v":""},{"$f":"IF(O92=E6,COUNTIF(O7:O92,E6),\"\")","v":""},{"$f":"IF(O92=F6,COUNTIF(O7:O92,F6),\"\")","v":""},86,null,"",null,null,null,null,null,"",null,null,null,null,0,null,null,null,null,null,null,null,null,null,null,null,null,null,null,null,null,null,null,86]
[{"$f":"IF(O93=A6,COUNTIF(O7:O93,A6),\"\")","v":""},{"$f":"IF(O93=B6,COUNTIF(O7:O93,B6),\"\")","v":""},{"$f":"IF(O93=C6,COUNTIF(O7:O93,C6),\"\")","v":""},{"$f":"IF(O93=D6,COUNTIF(O7:O93,D6),\"\")","v":""},{"$f":"IF(O93=E6,COUNTIF(O7:O93,E6),\"\")","v":""},{"$f":"IF(O93=F6,COUNTIF(O7:O93,F6),\"\")","v":""},87,null,"",null,null,null,null,null,"",null,null,null,null,0,null,null,null,null,null,null,null,null,null,null,null,null,null,null,null,null,null,null,87]
[{"$f":"IF(O94=A6,COUNTIF(O7:O94,A6),\"\")","v":""},{"$f":"IF(O94=B6,COUNTIF(O7:O94,B6),\"\")","v":""},{"$f":"IF(O94=C6,COUNTIF(O7:O94,C6),\"\")","v":""},{"$f":"IF(O94=D6,COUNTIF(O7:O94,D6),\"\")","v":""},{"$f":"IF(O94=E6,COUNTIF(O7:O94,E6),\"\")","v":""},{"$f":"IF(O94=F6,COUNTIF(O7:O94,F6),\"\")","v":""},88,null,"",null,null,null,null,null,"",null,null,null,null,0,null,null,null,null,null,null,null,null,null,null,null,null,null,null,null,null,null,null,88]
[{"$f":"IF(O95=A6,COUNTIF(O7:O95,A6),\"\")","v":""},{"$f":"IF(O95=B6,COUNTIF(O7:O95,B6),\"\")","v":""},{"$f":"IF(O95=C6,COUNTIF(O7:O95,C6),\"\")","v":""},{"$f":"IF(O95=D6,COUNTIF(O7:O95,D6),\"\")","v":""},{"$f":"IF(O95=E6,COUNTIF(O7:O95,E6),\"\")","v":""},{"$f":"IF(O95=F6,COUNTIF(O7:O95,F6),\"\")","v":""},89,null,"",null,null,null,null,null,"",null,null,null,null,0,null,null,null,null,null,null,null,null,null,null,null,null,null,null,null,null,null,null,89]
[{"$f":"IF(O96=A6,COUNTIF(O7:O96,A6),\"\")","v":""},{"$f":"IF(O96=B6,COUNTIF(O7:O96,B6),\"\")","v":""},{"$f":"IF(O96=C6,COUNTIF(O7:O96,C6),\"\")","v":""},{"$f":"IF(O96=D6,COUNTIF(O7:O96,D6),\"\")","v":""},{"$f":"IF(O96=E6,COUNTIF(O7:O96,E6),\"\")","v":""},{"$f":"IF(O96=F6,COUNTIF(O7:O96,F6),\"\")","v":""},90,null,"",null,null,null,null,null,"",null,null,null,null,0,null,null,null,null,null,null,null,null,null,null,null,null,null,null,null,null,null,null,90]
[{"$f":"IF(O97=A6,COUNTIF(O7:O97,A6),\"\")","v":""},{"$f":"IF(O97=B6,COUNTIF(O7:O97,B6),\"\")","v":""},{"$f":"IF(O97=C6,COUNTIF(O7:O97,C6),\"\")","v":""},{"$f":"IF(O97=D6,COUNTIF(O7:O97,D6),\"\")","v":""},{"$f":"IF(O97=E6,COUNTIF(O7:O97,E6),\"\")","v":""},{"$f":"IF(O97=F6,COUNTIF(O7:O97,F6),\"\")","v":""},91,null,"",null,null,null,null,null,"",null,null,null,null,0,null,null,null,null,null,null,null,null,null,null,null,null,null,null,null,null,null,null,91]
[{"$f":"IF(O98=A6,COUNTIF(O7:O98,A6),\"\")","v":""},{"$f":"IF(O98=B6,COUNTIF(O7:O98,B6),\"\")","v":""},{"$f":"IF(O98=C6,COUNTIF(O7:O98,C6),\"\")","v":""},{"$f":"IF(O98=D6,COUNTIF(O7:O98,D6),\"\")","v":""},{"$f":"IF(O98=E6,COUNTIF(O7:O98,E6),\"\")","v":""},{"$f":"IF(O98=F6,COUNTIF(O7:O98,F6),\"\")","v":""},92,null,"",null,null,null,null,null,"",null,null,null,null,0,null,null,null,null,null,null,null,null,null,null,null,null,null,null,null,null,null,null,92]
[{"$f":"IF(O99=A6,COUNTIF(O7:O99,A6),\"\")","v":""},{"$f":"IF(O99=B6,COUNTIF(O7:O99,B6),\"\")","v":""},{"$f":"IF(O99=C6,COUNTIF(O7:O99,C6),\"\")","v":""},{"$f":"IF(O99=D6,COUNTIF(O7:O99,D6),\"\")","v":""},{"$f":"IF(O99=E6,COUNTIF(O7:O99,E6),\"\")","v":""},{"$f":"IF(O99=F6,COUNTIF(O7:O99,F6),\"\")","v":""},93,null,"",null,null,null,null,null,"",null,null,null,null,0,null,null,null,null,null,null,null,null,null,null,null,null,null,null,null,null,null,null,93]
[{"$f":"IF(O100=A6,COUNTIF(O7:O100,A6),\"\")","v":""},{"$f":"IF(O100=B6,COUNTIF(O7:O100,B6),\"\")","v":""},{"$f":"IF(O100=C6,COUNTIF(O7:O100,C6),\"\")","v":""},{"$f":"IF(O100=D6,COUNTIF(O7:O100,D6),\"\")","v":""},{"$f":"IF(O100=E6,COUNTIF(O7:O100,E6),\"\")","v":""},{"$f":"IF(O100=F6,COUNTIF(O7:O100,F6),\"\")","v":""},94,null,"",null,null,null,null,null,"",null,null,null,null,0,null,null,null,null,null,null,null,null,null,null,null,null,null,null,null,null,null,null,94]
[{"$f":"IF(O101=A6,COUNTIF(O7:O101,A6),\"\")","v":""},{"$f":"IF(O101=B6,COUNTIF(O7:O101,B6),\"\")","v":""},{"$f":"IF(O101=C6,COUNTIF(O7:O101,C6),\"\")","v":""},{"$f":"IF(O101=D6,COUNTIF(O7:O101,D6),\"\")","v":""},{"$f":"IF(O101=E6,COUNTIF(O7:O101,E6),\"\")","v":""},{"$f":"IF(O101=F6,COUNTIF(O7:O101,F6),\"\")","v":""},95,null,"",null,null,null,null,null,"",null,null,null,null,0,null,null,null,null,null,null,null,null,null,null,null,null,null,null,null,null,null,null,95]
[{"$f":"IF(O102=A6,COUNTIF(O7:O102,A6),\"\")","v":""},{"$f":"IF(O102=B6,COUNTIF(O7:O102,B6),\"\")","v":""},{"$f":"IF(O102=C6,COUNTIF(O7:O102,C6),\"\")","v":""},{"$f":"IF(O102=D6,COUNTIF(O7:O102,D6),\"\")","v":""},{"$f":"IF(O102=E6,COUNTIF(O7:O102,E6),\"\")","v":""},{"$f":"IF(O102=F6,COUNTIF(O7:O102,F6),\"\")","v":""},96,null,"",null,null,null,null,null,"",null,null,null,null,0,null,null,null,null,null,null,null,null,null,null,null,null,null,null,null,null,null,null,96]
[{"$f":"IF(O103=A6,COUNTIF(O7:O103,A6),\"\")","v":""},{"$f":"IF(O103=B6,COUNTIF(O7:O103,B6),\"\")","v":""},{"$f":"IF(O103=C6,COUNTIF(O7:O103,C6),\"\")","v":""},{"$f":"IF(O103=D6,COUNTIF(O7:O103,D6),\"\")","v":""},{"$f":"IF(O103=E6,COUNTIF(O7:O103,E6),\"\")","v":""},{"$f":"IF(O103=F6,COUNTIF(O7:O103,F6),\"\")","v":""},97,null,"",null,null,null,null,null,"",null,null,null,null,0,null,null,null,null,null,null,null,null,null,null,null,null,null,null,null,null,null,null,97]
[{"$f":"IF(O104=A6,COUNTIF(O7:O104,A6),\"\")","v":""},{"$f":"IF(O104=B6,COUNTIF(O7:O104,B6),\"\")","v":""},{"$f":"IF(O104=C6,COUNTIF(O7:O104,C6),\"\")","v":""},{"$f":"IF(O104=D6,COUNTIF(O7:O104,D6),\"\")","v":""},{"$f":"IF(O104=E6,COUNTIF(O7:O104,E6),\"\")","v":""},{"$f":"IF(O104=F6,COUNTIF(O7:O104,F6),\"\")","v":""},98,null,"",null,null,null,null,null,"",null,null,null,null,0,null,null,null,null,null,null,null,null,null,null,null,null,null,null,null,null,null,null,98]
[{"$f":"IF(O105=A6,COUNTIF(O7:O105,A6),\"\")","v":""},{"$f":"IF(O105=B6,COUNTIF(O7:O105,B6),\"\")","v":""},{"$f":"IF(O105=C6,COUNTIF(O7:O105,C6),\"\")","v":""},{"$f":"IF(O105=D6,COUNTIF(O7:O105,D6),\"\")","v":""},{"$f":"IF(O105=E6,COUNTIF(O7:O105,E6),\"\")","v":""},{"$f":"IF(O105=F6,COUNTIF(O7:O105,F6),\"\")","v":""},99,null,"",null,null,null,null,null,"",null,null,null,null,0,null,null,null,null,null,null,null,null,null,null,null,null,null,null,null,null,null,null,99]
[{"$f":"IF(O106=A6,COUNTIF(O7:O106,A6),\"\")","v":""},{"$f":"IF(O106=B6,COUNTIF(O7:O106,B6),\"\")","v":""},{"$f":"IF(O106=C6,COUNTIF(O7:O106,C6),\"\")","v":""},{"$f":"IF(O106=D6,COUNTIF(O7:O106,D6),\"\")","v":""},{"$f":"IF(O106=E6,COUNTIF(O7:O106,E6),\"\")","v":""},{"$f":"IF(O106=F6,COUNTIF(O7:O106,F6),\"\")","v":""},100,null,"",null,null,null,null,null,"",null,null,null,null,0,null,null,null,null,null,null,null,null,null,null,null,null,null,null,null,null,null,null,100]
[null,null,null,null,null,null,{"$f":"CONCATENATE($G$5,\" \",\"Individual Medal Winners\")","v":"Intermediate Boys Individual Medal Winners"},null,null,null,null,null,null,null,null,null,null,null,null,"f"]
[null,null,null,null,null,null,"Pos","Num","Name",null,null,null,null,null,"County",null,null,null,"Time"]
[null,null,null,null,null,null,1,{"$f":"IF(H7=0,\"\",H7)","v":1},"Archie Lowe","","","","","","Cleveland",null,null,null,{"$f":"IF(S7=0,\"\",S7)","v":19.2},{"$f":"IF(H109=\"\",0,1)","v":1}]
[null,null,null,null,null,null,2,61,"Sam Charlton","","","","","","Northumberland",null,null,null,{"$f":"IF(S8=0,\"\",S8)","v":19.43},{"$f":"IF(H110=\"\",0,1)","v":1}]
[null,null,null,null,null,null,3,4,"Patrick Haycock","","","","","","Cleveland",null,null,null,{"$f":"IF(S9=0,\"\",S9)","v":20.22},{"$f":"IF(H111=\"\",0,1)","v":1}]
[null,null,null,null,null,null,null,null,null,null,null,null,null,null,null,null,null,null,null,"g"]
[null,null,null,null,null,null,{"$f":"CONCATENATE($G$5,\" \",\"Team Results\")","v":"Intermediate Boys Team Results"},null,null,null,null,null,null,null,null,null,null,null,null,"h",null,null,null,null,{"$f":"G113","v":"Intermediate Boys Team Results"}]
[null,null,null,null,null,null,null,"Team Name",null,null,null,null,"1st","2nd","3rd","4th","5th","6th","Points","i",null,null,{"$f":"P5","v":0},null,null,1,2,3,4,5,6,"Pts"]
[null,null,null,null,null,null,1,{"$f":"IFERROR(VLOOKUP(G115,$X$115:$AF$119,2,0),\"\")","v":"Northumberland"},null,null,null,null,{"$f":"IFERROR(VLOOKUP(G115,$X$115:$AF$119,3,0),\"\")","v":2},{"$f":"IFERROR(VLOOKUP(G115,$X$115:$AF$119,4,0),\"\")","v":6},{"$f":"IFERROR(VLOOKUP(G115,$X$115:$AF$119,5,0),\"\")","v":8},{"$f":"IFERROR(VLOOKUP(G115,$X$115:$AF$119,6,0),\"\")","v":9},{"$f":"IFERROR(VLOOKUP(G115,$X$115:$AF$119,7,0),\"\")","v":10},{"$f":"IFERROR(VLOOKUP(G115,$X$115:$AF$119,8,0),\"\")","v":12},{"$f":"SUM(M115:R115)","v":47},{"$f":"IF(H115=\"\",0,1)","v":1},null,null,7,{"$f":"IF(OR(AJ115=\"\",AJ115=0),0,RANK(AJ115,AJ115:AJ120,1))","v":2},{"$f":"Home!F4","v":"Cleveland"},{"$f":"IFERROR(VLOOKUP(Z114,$A$7:$G$106,W115,0),0)","v":1},{"$f":"IFERROR(VLOOKUP(AA114,A$7:G$106,W115,0),0)","v":3},{"$f":"IFERROR(VLOOKUP(AB114,A$7:G$106,W115,0),0)","v":5},{"$f":"IF(W114=3,0,IFERROR(VLOOKUP(AC114,A$7:G$106,W115,0),0))","v":13},{"$f":"IF(W114=4,0,IFERROR(VLOOKUP(AD114,A$7:G$106,W115,0),0))","v":23},{"$f":"IF(OR(W114=4,W114=5),0,IFERROR(VLOOKUP(AE114,A$7:G$106,W115,0),0))","v":29},{"$f":"IF(AE115=0,0,SUM(Z115:AE115))","v":74},{"$f":"IF(OR(AF115=0,AF115=\"\"),0,RANK(AF115,AF115:AF120,1))","v":3},{"$f":"IF(OR(AG115=0,AG115=\"\"),\"\",IF(OR(AG115=AG116,AG115=AG117,AG115=AG118,AG115=AG119,AG115=AG120),\"=\",\"\"))","v":""},{"$f":"IF(AH115=\"=\",COUNTIF(AH115:AH115,\"<>A\")-COUNTIF(AH115:AH115,\"\"),0)","v":0},{"$f":"IF(AND(AG115=0,AI115=0),\"\",AG115+(AI115/10)+AL115/10)","v":3.2},{"$f":"X115","v":2},{"$f":"IF(OR(AF115=0,AF115=\"\"),0,RANK(Z115,Z115:Z120,1))","v":2}]
[null,null,null,null,null,null,2,{"$f":"IFERROR(VLOOKUP(G116,$X$115:$AF$119,2,0),\"\")","v":"Cleveland"},null,null,null,null,{"$f":"IFERROR(VLOOKUP(G116,$X$115:$AF$119,3,0),\"\")","v":1},{"$f":"IFERROR(VLOOKUP(G116,$X$115:$AF$119,4,0),\"\")","v":3},{"$f":"IFERROR(VLOOKUP(G116,$X$115:$AF$119,5,0),\"\")","v":5},{"$f":"IFERROR(VLOOKUP(G116,$X$115:$AF$119,6,0),\"\")","v":13},{"$f":"IFERROR(VLOOKUP(G116,$X$115:$AF$119,7,0),\"\")","v":23},{"$f":"IFERROR(VLOOKUP(G116,$X$115:$AF$119,8,0),\"\")","v":29},{"$f":"SUM(M116:R116)","v":74},1,null,null,6,{"$f":"IF(OR(AJ116=\"\",AJ116=0),0,RANK(AJ116,AJ115:AJ120,1))","v":5},{"$f":"Home!F5","v":"Cumbria"},{"$f":"IFERROR(VLOOKUP(Z114,$B$7:$G$106,W116,0),0)","v":19},{"$f":"IFERROR(VLOOKUP(AA114,B$7:G$106,W116,0),0)","v":22},{"$f":"IFERROR(VLOOKUP(AB114,B$7:G$106,W116,0),0)","v":24},{"$f":"IF(W114=3,0,IFERROR(VLOOKUP(AC114,B$7:G$106,W116,0),0))","v":28},{"$f":"IF(W114=4,0,IFERROR(VLOOKUP(AD114,B$7:G$106,W116,0),0))","v":30},{"$f":"IF(OR(W114=4,W114=5),0,IFERROR(VLOOKUP(AE114,B$7:G$106,W116,0),0))","v":34},{"$f":"IF(AE116=0,0,SUM(Z116:AE116))","v":157},{"$f":"IF(OR(AF116=0,AF116=\"\"),0,RANK(AF116,AF115:AF120,1))","v":6},{"$f":"IF(OR(AG116=0,AG116=\"\"),\"\",IF(OR(AG116=AG117,AG116=AG118,AG116=AG119,AG116=AG120,AG116=AG115),\"=\",\"\"))","v":""},{"$f":"IF(AH116=\"=\",COUNTIF(AH115:AH116,\"<>A\")-COUNTIF(AH115:AH116,\"\"),0)","v":0},{"$f":"IF(AND(AG116=0,AI116=0),\"\",AG116+(AI116/10)+AL116/10)","v":6.6},{"$f":"X116","v":5},{"$f":"IF(OR(AF116=0,AF116=\"\"),0,RANK(Z116,Z115:Z120,1))","v":6}]
[null,null,null,null,null,null,3,"North Yorkshire",null,null,null,null,7,14,16,17,18,25,97,1,null,null,5,{"$f":"IF(OR(AJ117=\"\",AJ117=0),0,RANK(AJ117,AJ115:AJ120,1))","v":4},{"$f":"Home!F6","v":"Durham"},{"$f":"IFERROR(VLOOKUP(Z114,$C$7:$G$106,W117,0),0)","v":4},{"$f":"IFERROR(VLOOKUP(AA114,C$7:G$106,W117,0),0)","v":11},{"$f":"IFERROR(VLOOKUP(AB114,C$7:G$106,W117,0),0)","v":15},{"$f":"IF(W114=3,0,IFERROR(VLOOKUP(AC114,C$7:G$106,W117,0),0))","v":21},{"$f":"IF(W114=4,0,IFERROR(VLOOKUP(AD114,C$7:G$106,W117,0),0))","v":27},{"$f":"IF(OR(W114=4,W114=5),0,IFERROR(VLOOKUP(AE114,C$7:G$106,W117,0),0))","v":31},109,{"$f":"IF(OR(AF117=0,AF117=\"\"),0,RANK(AF117,AF115:AF120,1))","v":5},{"$f":"IF(OR(AG117=0,AG117=\"\"),\"\",IF(OR(AG117=AG118,AG117=AG119,AG117=AG120,AG117=AG115,AG117=AG116),\"=\",\"\"))","v":""},{"$f":"IF(AH117=\"=\",COUNTIF(AH115:AH117,\"<>A\")-COUNTIF(AH115:AH117,\"\"),0)","v":0},5.4,4,{"$f":"IF(OR(AF117=0,AF117=\"\"),0,RANK(Z117,Z115:Z120,1))","v":4}]
[null,null,null,null,null,null,4,"Durham",null,null,null,null,4,11,15,21,27,31,109,1,null,null,4,{"$f":"IF(OR(AJ118=\"\",AJ118=0),0,RANK(AJ118,AJ115:AJ120,1))","v":1},{"$f":"Home!F7","v":"Northumberland"},{"$f":"IFERROR(VLOOKUP(Z114,$D$7:$G$106,W118,0),0)","v":2},{"$f":"IFERROR(VLOOKUP(AA114,D$7:G$106,W118,0),0)","v":6},{"$f":"IFERROR(VLOOKUP(AB114,D$7:G$106,W118,0),0)","v":8},{"$f":"IF(W114=3,0,IFERROR(VLOOKUP(AC114,D$7:G$106,W118,0),0))","v":9},{"$f":"IF(W114=4,0,IFERROR(VLOOKUP(AD114,D$7:G$106,W118,0),0))","v":10},{"$f":"IF(OR(W114=4,W114=5),0,IFERROR(VLOOKUP(AE114,D$7:G$106,W118,0),0))","v":12},47,{"$f":"IF(OR(AF118=0,AF118=\"\"),0,RANK(AF118,AF115:AF120,1))","v":2},{"$f":"IF(OR(AG118=0,AG118=\"\"),\"\",IF(OR(AG118=AG119,AG118=AG120,AG118=AG115,AG118=AG116,AG118=AG117),\"=\",\"\"))","v":""},{"$f":"IF(AH118=\"=\",COUNTIF(AH115:AH118,\"<>A\")-COUNTIF(AH115:AH118,\"\"),0)","v":0},2.2999999999999998,1,{"$f":"IF(OR(AF118=0,AF118=\"\"),0,RANK(Z118,Z115:Z120,1))","v":3}]
[null,null,null,null,null,null,5,"Cumbria",null,null,null,null,19,22,24,28,30,34,157,1,null,null,3,{"$f":"IF(OR(AJ119=\"\",AJ119=0),0,RANK(AJ119,AJ115:AJ120,1))","v":3},{"$f":"Home!F8","v":"North Yorkshire"},{"$f":"IFERROR(VLOOKUP(Z114,$E$7:$G$106,W119,0),0)","v":7},{"$f":"IFERROR(VLOOKUP(AA114,E$7:G$106,W119,0),0)","v":14},{"$f":"IFERROR(VLOOKUP(AB114,E$7:G$106,W119,0),0)","v":16},{"$f":"IF(W114=3,0,IFERROR(VLOOKUP(AC114,E$7:G$106,W119,0),0))","v":17},{"$f":"IF(W114=4,0,IFERROR(VLOOKUP(AD114,E$7:G$106,W119,0),0))","v":18},{"$f":"IF(OR(W114=4,W114=5),0,IFERROR(VLOOKUP(AE114,E$7:G$106,W119,0),0))","v":25},97,{"$f":"IF(OR(AF119=0,AF119=\"\"),0,RANK(AF119,AF115:AF120,1))","v":4},{"$f":"IF(OR(AG119=0,AG119=\"\"),\"\",IF(OR(AG119=AG120,AG119=AG115,AG119=AG116,AG119=AG117,AG119=AG118),\"=\",\"\"))","v":""},{"$f":"IF(AH119=\"=\",COUNTIF(AH115:AH119,\"<>A\")-COUNTIF(AH115:AH119,\"\"),0)","v":0},4.5,3,{"$f":"IF(OR(AF119=0,AF119=\"\"),0,RANK(Z119,Z115:Z120,1))","v":5}]
[null,null,null,null,null,null,null,null,null,null,null,null,null,null,null,null,null,null,null,null,null,null,2,{"$f":"IF(OR(AJ120=\"\",AJ120=0),0,RANK(AJ120,AJ115:AJ120,1))","v":0},{"$f":"Home!F9","v":0},{"$f":"IFERROR(VLOOKUP(Z114,F7:G106,W120,0),0)","v":0},{"$f":"IFERROR(VLOOKUP(AA114,F7:G106,W120,0),0)","v":0},{"$f":"IFERROR(VLOOKUP(AB114,F7:G106,W120,0),0)","v":0},{"$f":"IF(W114=3,0,IFERROR(VLOOKUP(AC114,F7:G106,W120,0),0))","v":0},{"$f":"IF(W114=4,0,IFERROR(VLOOKUP(AD114,F7:G106,W120,0),0))","v":0},{"$f":"IF(OR(W114=4,W114=5),0,IFERROR(VLOOKUP(AE114,F7:G106,W120,0),0))","v":0},{"$f":"IF(AE120=0,0,SUM(Z120:AE120))","v":0},{"$f":"IF(OR(AF120=0,AF120=\"\"),0,RANK(AF120,AF115:AF120,1))","v":0},{"$f":"IF(OR(AG120=0,AG120=\"\"),\"\",IF(OR(AG120=AG115,AG120=AG116,AG120=AG117,AG120=AG118,AG120=AG119),\"=\",\"\"))","v":""},{"$f":"IF(AH120=\"=\",COUNTIF(AH115:AH120,\"<>A\")-COUNTIF(AH115:AH120,\"\"),0)","v":0},"",0,{"$f":"IF(OR(AF120=0,AF120=\"\"),0,RANK(Z120,Z115:Z120,1))","v":0}]

{"sheet":"Senior_Boys","index":4,"n_rows":120,"n_cols":39,"rows_kept":120,"cut":false,"hidden":false,"merged":[[110,8,110,13],[107,8,107,13],[108,8,108,13],[109,8,109,13],[112,6,112,18],[103,8,103,13],[104,8,104,13],[100,8,100,13],[101,8,101,13],[102,8,102,13],[105,8,105,13],[106,6,106,18],[97,8,97,13],[98,8,98,13],[99,8,99,13],[94,8,94,13],[95,8,95,13],[96,8,96,13],[91,8,91,13],[92,8,92,13],[93,8,93,13],[88,8,88,13],[89,8,89,13],[90,8,90,13],[85,8,85,13],[86,8,86,13],[87,8,87,13],[82,8,82,13],[83,8,83,13],[84,8,84,13],[79,8,79,13],[80,8,80,13],[81,8,81,13],[76,8,76,13],[77,8,77,13],[78,8,78,13],[73,8,73,13],[74,8,74,13],[75,8,75,13],[70,8,70,13],[71,8,71,13],[72,8,72,13],[67,8,67,13],[68,8,68,13],[69,8,69,13],[64,8,64,13],[65,8,65,13],[66,8,66,13],[61,8,61,13],[62,8,62,13],[63,8,63,13],[58,8,58,13],[59,8,59,13],[60,8,60,13],[55,8,55,13],[56,8,56,13],[57,8,57,13],[52,8,52,13],[53,8,53,13],[54,8,54,13],[49,8,49,13],[50,8,50,13],[51,8,51,13],[46,8,46,13],[47,8,47,13],[48,8,48,13],[43,8,43,13],[44,8,44,13],[45,8,45,13],[40,8,40,13],[41,8,41,13],[42,8,42,13],[37,8,37,13],[38,8,38,13],[39,8,39,13],[34,8,34,13],[35,8,35,13],[36,8,36,13],[31,8,31,13],[32,8,32,13],[33,8,33,13],[28,8,28,13],[29,8,29,13],[30,8,30,13],[25,8,25,13],[26,8,26,13],[27,8,27,13],[22,8,22,13],[23,8,23,13],[24,8,24,13],[19,8,19,13],[20,8,20,13],[21,8,21,13],[16,8,16,13],[17,8,17,13],[18,8,18,13],[14,8,14,13],[15,8,15,13],[10,8,10,13],[11,8,11,13],[12,8,12,13],[9,8,9,13],[5,8,5,13],[6,8,6,13],[13,8,13,13],[7,8,7,13],[8,8,8,13],[0,6,0,18],[0,26,0,29],[1,6,1,18],[1,26,1,29],[2,6,2,18]]}
[null,null,null,null,null,null,{"$f":"Home!$B$1","v":"Northern Schools' Inter-County Cross Country Championships"},null,null,null,null,null,null,null,null,null,null,null,null,"a",null,{"$f":"CONCATENATE(W1,X1)","v":"Home!$B10"},"Home!$B",{"$f":"IF(Y1=\"Minor_Boys\",4,IF(Y1=\"Junior_Boys\",6,IF(Y1=\"Intermediate_Boys\",8,IF(Y1=\"Senior_Boys\",10,IF(Y1=\"Minor_Girls\",5,IF(Y1=\"Junior_Girls\",7,IF(Y1=\"Intermediate_Girls\",9,IF(Y1=\"Senior_Girls\",11,\"\"))))))))","v":10},{"$f":"MID(CELL(\"Filename\",A1),SEARCH(\"]\",CELL(\"Filename\",A1),1)+1,32)","v":"Senior_Boys"},null,{"$f":"Y1","v":"Senior_Boys"},null,null,null,{"$f":"CONCATENATE(Y1,\" \",Z1)","v":"Senior_Boys "}]
[null,null,null,null,null,null,{"$f":"Home!$B$2","v":"Barnard Castle School"},null,null,null,null,null,null,null,null,null,null,null,null,"b",null,{"$f":"CONCATENATE(W2,X2)","v":"Home!$D10"},"Home!$D",{"$f":"X1","v":10}]
[null,null,null,null,null,null,{"$f":"Home!$G$3","v":"Saturday 3rd February 2018"},null,null,null,null,null,null,null,null,null,null,null,null,"c"]
[null,null,null,null,null,null,null,null,null,null,null,null,null,null,null,null,null,null,null,"c"]
[null,null,null,null,null,null,{"$f":"INDIRECT(V1)","v":"Senior Boys"},null,null,null,null,null,null,{"$f":"CONCATENATE(\"Team Results\",\" \",INDIRECT(V2),\" \",\"to Score\")","v":"Team Results 6 to Score"},null,null,null,null,null,"d"]
[{"$f":"Home!F4","v":"Cleveland"},{"$f":"Home!F5","v":"Cumbria"},{"$f":"Home!F6","v":"Durham"},{"$f":"Home!F7","v":"Northumberland"},{"$f":"Home!F8","v":"North Yorkshire"},{"$f":"Home!F9","v":0},"Pos","Num","Name",null,null,null,null,null,"County",null,null,null,"Time","e"]
[{"$f":"IF(O7=A6,COUNTIF(O7:O7,A6),\"\")","v":1},{"$f":"IF(O7=B6,COUNTIF(O7:O7,B6),\"\")","v":""},{"$f":"IF(O7=C6,COUNTIF(O7:O7,C6),\"\")","v":""},{"$f":"IF(O7=D6,COUNTIF(O7:O7,D6),\"\")","v":""},{"$f":"IF(O7=E6,COUNTIF(O7:O7,E6),\"\")","v":""},{"$f":"IF(O7=F6,COUNTIF(O7:O7,F6),\"\")","v":""},{"$f":"IF(LEFT(S7,1)=\"D\",0,AM7)","v":1},1,{"$f":"IFERROR(VLOOKUP(H7,INDIRECT($AA$1),2,0),\"\")","v":"Josh Cowpertwaite"},null,null,null,null,null,{"$f":"IFERROR(VLOOKUP(H7,INDIRECT($AA$1),3,0),\"\")","v":"Cleveland"},null,null,null,23.41,{"$f":"IF(H7=0,0,1)","v":1},null,null,null,null,null,null,null,null,null,null,null,null,null,null,null,null,null,null,1]
[{"$f":"IF(O8=A6,COUNTIF(O7:O8,A6),\"\")","v":""},{"$f":"IF(O8=B6,COUNTIF(O7:O8,B6),\"\")","v":1},{"$f":"IF(O8=C6,COUNTIF(O7:O8,C6),\"\")","v":""},{"$f":"IF(O8=D6,COUNTIF(O7:O8,D6),\"\")","v":""},{"$f":"IF(O8=E6,COUNTIF(O7:O8,E6),\"\")","v":""},{"$f":"IF(O8=F6,COUNTIF(O7:O8,F6),\"\")","v":""},2,21,"Joe Dugdale",null,null,null,null,null,"Cumbria",null,null,null,24.24,1,null,null,null,null,null,null,null,null,null,null,null,null,null,null,null,null,null,null,2]
[{"$f":"IF(O9=A6,COUNTIF(O7:O9,A6),\"\")","v":""},{"$f":"IF(O9=B6,COUNTIF(O7:O9,B6),\"\")","v":""},{"$f":"IF(O9=C6,COUNTIF(O7:O9,C6),\"\")","v":""},{"$f":"IF(O9=D6,COUNTIF(O7:O9,D6),\"\")","v":1},{"$f":"IF(O9=E6,COUNTIF(O7:O9,E6),\"\")","v":""},{"$f":"IF(O9=F6,COUNTIF(O7:O9,F6),\"\")","v":""},3,61,"Kieran Hedley",null,null,null,null,null,"Northumberland",null,null,null,24.52,1,null,null,null,null,null,null,null,null,null,null,null,null,null,null,null,null,null,null,3]
[{"$f":"IF(O10=A6,COUNTIF(O7:O10,A6),\"\")","v":""},{"$f":"IF(O10=B6,COUNTIF(O7:O10,B6),\"\")","v":""},{"$f":"IF(O10=C6,COUNTIF(O7:O10,C6),\"\")","v":""},{"$f":"IF(O10=D6,COUNTIF(O7:O10,D6),\"\")","v":""},{"$f":"IF(O10=E6,COUNTIF(O7:O10,E6),\"\")","v":1},{"$f":"IF(O10=F6,COUNTIF(O7:O10,F6),\"\")","v":""},4,81,"Joe Hudson",null,null,null,null,null,"North Yorkshire",null,null,null,24.57,1,null,null,null,null,null,null,null,null,null,null,null,null,null,null,null,null,null,null,4]
[{"$f":"IF(O11=A6,COUNTIF(O7:O11,A6),\"\")","v":""},{"$f":"IF(O11=B6,COUNTIF(O7:O11,B6),\"\")","v":""},{"$f":"IF(O11=C6,COUNTIF(O7:O11,C6),\"\")","v":""},{"$f":"IF(O11=D6,COUNTIF(O7:O11,D6),\"\")","v":""},{"$f":"IF(O11=E6,COUNTIF(O7:O11,E6),\"\")","v":2},{"$f":"IF(O11=F6,COUNTIF(O7:O11,F6),\"\")","v":""},5,84,"Jack Brennan",null,null,null,null,null,"North Yorkshire",null,null,null,24.59,1,null,null,null,null,null,null,null,null,null,null,null,null,null,null,null,null,null,null,5]
[{"$f":"IF(O12=A6,COUNTIF(O7:O12,A6),\"\")","v":""},{"$f":"IF(O12=B6,COUNTIF(O7:O12,B6),\"\")","v":""},{"$f":"IF(O12=C6,COUNTIF(O7:O12,C6),\"\")","v":""},{"$f":"IF(O12=D6,COUNTIF(O7:O12,D6),\"\")","v":2},{"$f":"IF(O12=E6,COUNTIF(O7:O12,E6),\"\")","v":""},{"$f":"IF(O12=F6,COUNTIF(O7:O12,F6),\"\")","v":""},6,62,"Taylor Glover",null,null,null,null,null,"Northumberland",null,null,null,25.08,1,null,null,null,null,null,null,null,null,null,null,null,null,null,null,null,null,null,null,6]
[{"$f":"IF(O13=A6,COUNTIF(O7:O13,A6),\"\")","v":""},{"$f":"IF(O13=B6,COUNTIF(O7:O13,B6),\"\")","v":""},{"$f":"IF(O13=C6,COUNTIF(O7:O13,C6),\"\")","v":""},{"$f":"IF(O13=D6,COUNTIF(O7:O13,D6),\"\")","v":""},{"$f":"IF(O13=E6,COUNTIF(O7:O13,E6),\"\")","v":3},{"$f":"IF(O13=F6,COUNTIF(O7:O13,F6),\"\")","v":""},7,83,"Ben Bergstrand",null,null,null,null,null,"North Yorkshire",null,null,null,25.21,1,null,null,null,null,null,null,null,null,null,null,null,null,null,null,null,null,null,null,7]
[{"$f":"IF(O14=A6,COUNTIF(O7:O14,A6),\"\")","v":""},{"$f":"IF(O14=B6,COUNTIF(O7:O14,B6),\"\")","v":""},{"$f":"IF(O14=C6,COUNTIF(O7:O14,C6),\"\")","v":""},{"$f":"IF(O14=D6,COUNTIF(O7:O14,D6),\"\")","v":""},{"$f":"IF(O14=E6,COUNTIF(O7:O14,E6),\"\")","v":4},{"$f":"IF(O14=F6,COUNTIF(O7:O14,F6),\"\")","v":""},8,82,"Matthew Merrick",null,null,null,null,null,"North Yorkshire",null,null,null,25.43,1,null,null,null,null,null,null,null,null,null,null,null,null,null,null,null,null,null,null,8]
[{"$f":"IF(O15=A6,COUNTIF(O7:O15,A6),\"\")","v":""},{"$f":"IF(O15=B6,COUNTIF(O7:O15,B6),\"\")","v":""},{"$f":"IF(O15=C6,COUNTIF(O7:O15,C6),\"\")","v":""},{"$f":"IF(O15=D6,COUNTIF(O7:O15,D6),\"\")","v":""},{"$f":"IF(O15=E6,COUNTIF(O7:O15,E6),\"\")","v":5},{"$f":"IF(O15=F6,COUNTIF(O7:O15,F6),\"\")","v":""},9,85,"Tom Barrett",null,null,null,null,null,"North Yorkshire",null,null,null,25.49,1,null,null,null,null,null,null,null,null,null,null,null,null,null,null,null,null,null,null,9]
[{"$f":"IF(O16=A6,COUNTIF(O7:O16,A6),\"\")","v":""},{"$f":"IF(O16=B6,COUNTIF(O7:O16,B6),\"\")","v":2},{"$f":"IF(O16=C6,COUNTIF(O7:O16,C6),\"\")","v":""},{"$f":"IF(O16=D6,COUNTIF(O7:O16,D6),\"\")","v":""},{"$f":"IF(O16=E6,COUNTIF(O7:O16,E6),\"\")","v":""},{"$f":"IF(O16=F6,COUNTIF(O7:O16,F6),\"\")","v":""},10,27,"Joshua Liddle",null,null,null,null,null,"Cumbria",null,null,null,25.49,1,null,null,null,null,null,null,null,null,null,null,null,null,null,null,null,null,null,null,10]
[{"$f":"IF(O17=A6,COUNTIF(O7:O17,A6),\"\")","v":""},{"$f":"IF(O17=B6,COUNTIF(O7:O17,B6),\"\")","v":""},{"$f":"IF(O17=C6,COUNTIF(O7:O17,C6),\"\")","v":1},{"$f":"IF(O17=D6,COUNTIF(O7:O17,D6),\"\")","v":""},{"$f":"IF(O17=E6,COUNTIF(O7:O17,E6),\"\")","v":""},{"$f":"IF(O17=F6,COUNTIF(O7:O17,F6),\"\")","v":""},11,57,"Luke Pickering",null,null,null,null,null,"Durham",null,null,null,25.56,1,null,null,null,null,null,null,null,null,null,null,null,null,null,null,null,null,null,null,11]
[{"$f":"IF(O18=A6,COUNTIF(O7:O18,A6),\"\")","v":""},{"$f":"IF(O18=B6,COUNTIF(O7:O18,B6),\"\")","v":3},{"$f":"IF(O18=C6,COUNTIF(O7:O18,C6),\"\")","v":""},{"$f":"IF(O18=D6,COUNTIF(O7:O18,D6),\"\")","v":""},{"$f":"IF(O18=E6,COUNTIF(O7:O18,E6),\"\")","v":""},{"$f":"IF(O18=F6,COUNTIF(O7:O18,F6),\"\")","v":""},12,23,"Ben Van Djik",null,null,null,null,null,"Cumbria",null,null,null,25.58,1,null,null,null,null,null,null,null,null,null,null,null,null,null,null,null,null,null,null,12]
[{"$f":"IF(O19=A6,COUNTIF(O7:O19,A6),\"\")","v":""},{"$f":"IF(O19=B6,COUNTIF(O7:O19,B6),\"\")","v":4},{"$f":"IF(O19=C6,COUNTIF(O7:O19,C6),\"\")","v":""},{"$f":"IF(O19=D6,COUNTIF(O7:O19,D6),\"\")","v":""},{"$f":"IF(O19=E6,COUNTIF(O7:O19,E6),\"\")","v":""},{"$f":"IF(O19=F6,COUNTIF(O7:O19,F6),\"\")","v":""},13,25,"Reuben Copley",null,null,null,null,null,"Cumbria",null,null,null,25.59,1,null,null,null,null,null,null,null,null,null,null,null,null,null,null,null,null,null,null,13]
[{"$f":"IF(O20=A6,COUNTIF(O7:O20,A6),\"\")","v":""},{"$f":"IF(O20=B6,COUNTIF(O7:O20,B6),\"\")","v":""},{"$f":"IF(O20=C6,COUNTIF(O7:O20,C6),\"\")","v":""},{"$f":"IF(O20=D6,COUNTIF(O7:O20,D6),\"\")","v":3},{"$f":"IF(O20=E6,COUNTIF(O7:O20,E6),\"\")","v":""},{"$f":"IF(O20=F6,COUNTIF(O7:O20,F6),\"\")","v":""},14,64,"Max Pearson",null,null,null,null,null,"Northumberland",null,null,null,26.08,1,null,null,null,null,null,null,null,null,null,null,null,null,null,null,null,null,null,null,14]
[{"$f":"IF(O21=A6,COUNTIF(O7:O21,A6),\"\")","v":2},{"$f":"IF(O21=B6,COUNTIF(O7:O21,B6),\"\")","v":""},{"$f":"IF(O21=C6,COUNTIF(O7:O21,C6),\"\")","v":""},{"$f":"IF(O21=D6,COUNTIF(O7:O21,D6),\"\")","v":""},{"$f":"IF(O21=E6,COUNTIF(O7:O21,E6),\"\")","v":""},{"$f":"IF(O21=F6,COUNTIF(O7:O21,F6),\"\")","v":""},15,3,"Luke Petit",null,null,null,null,null,"Cleveland",null,null,null,26.11,1,null,null,null,null,null,null,null,null,null,null,null,null,null,null,null,null,null,null,15]
[{"$f":"IF(O22=A6,COUNTIF(O7:O22,A6),\"\")","v":""},{"$f":"IF(O22=B6,COUNTIF(O7:O22,B6),\"\")","v":""},{"$f":"IF(O22=C6,COUNTIF(O7:O22,C6),\"\")","v":2},{"$f":"IF(O22=D6,COUNTIF(O7:O22,D6),\"\")","v":""},{"$f":"IF(O22=E6,COUNTIF(O7:O22,E6),\"\")","v":""},{"$f":"IF(O22=F6,COUNTIF(O7:O22,F6),\"\")","v":""},16,43,"Jack Brown",null,null,null,null,null,"Durham",null,null,null,26.12,1,null,null,null,null,null,null,null,null,null,null,null,null,null,null,null,null,null,null,16]
[{"$f":"IF(O23=A6,COUNTIF(O7:O23,A6),\"\")","v":""},{"$f":"IF(O23=B6,COUNTIF(O7:O23,B6),\"\")","v":""},{"$f":"IF(O23=C6,COUNTIF(O7:O23,C6),\"\")","v":3},{"$f":"IF(O23=D6,COUNTIF(O7:O23,D6),\"\")","v":""},{"$f":"IF(O23=E6,COUNTIF(O7:O23,E6),\"\")","v":""},{"$f":"IF(O23=F6,COUNTIF(O7:O23,F6),\"\")","v":""},17,58,"Michael Wade",null,null,null,null,null,"Durham",null,null,null,26.14,1,null,null,null,null,null,null,null,null,null,null,null,null,null,null,null,null,null,null,17]
[{"$f":"IF(O24=A6,COUNTIF(O7:O24,A6),\"\")","v":""},{"$f":"IF(O24=B6,COUNTIF(O7:O24,B6),\"\")","v":""},{"$f":"IF(O24=C6,COUNTIF(O7:O24,C6),\"\")","v":""},{"$f":"IF(O24=D6,COUNTIF(O7:O24,D6),\"\")","v":""},{"$f":"IF(O24=E6,COUNTIF(O7:O24,E6),\"\")","v":6},{"$f":"IF(O24=F6,COUNTIF(O7:O24,F6),\"\")","v":""},18,86,"Sam Jackson",null,null,null,null,null,"North Yorkshire",null,null,null,26.19,1,null,null,null,null,null,null,null,null,null,null,null,null,null,null,null,null,null,null,18]
[{"$f":"IF(O25=A6,COUNTIF(O7:O25,A6),\"\")","v":""},{"$f":"IF(O25=B6,COUNTIF(O7:O25,B6),\"\")","v":5},{"$f":"IF(O25=C6,COUNTIF(O7:O25,C6),\"\")","v":""},{"$f":"IF(O25=D6,COUNTIF(O7:O25,D6),\"\")","v":""},{"$f":"IF(O25=E6,COUNTIF(O7:O25,E6),\"\")","v":""},{"$f":"IF(O25=F6,COUNTIF(O7:O25,F6),\"\")","v":""},19,24,"Harry Greenbank",null,null,null,null,null,"Cumbria",null,null,null,26.21,1,null,null,null,null,null,null,null,null,null,null,null,null,null,null,null,null,null,null,19]
[{"$f":"IF(O26=A6,COUNTIF(O7:O26,A6),\"\")","v":""},{"$f":"IF(O26=B6,COUNTIF(O7:O26,B6),\"\")","v":6},{"$f":"IF(O26=C6,COUNTIF(O7:O26,C6),\"\")","v":""},{"$f":"IF(O26=D6,COUNTIF(O7:O26,D6),\"\")","v":""},{"$f":"IF(O26=E6,COUNTIF(O7:O26,E6),\"\")","v":""},{"$f":"IF(O26=F6,COUNTIF(O7:O26,F6),\"\")","v":""},20,31,"Luke Bowen",null,null,null,null,null,"Cumbria",null,null,null,26.33,1,null,null,null,null,null,null,null,null,null,null,null,null,null,null,null,null,null,null,20]
[{"$f":"IF(O27=A6,COUNTIF(O7:O27,A6),\"\")","v":3},{"$f":"IF(O27=B6,COUNTIF(O7:O27,B6),\"\")","v":""},{"$f":"IF(O27=C6,COUNTIF(O7:O27,C6),\"\")","v":""},{"$f":"IF(O27=D6,COUNTIF(O7:O27,D6),\"\")","v":""},{"$f":"IF(O27=E6,COUNTIF(O7:O27,E6),\"\")","v":""},{"$f":"IF(O27=F6,COUNTIF(O7:O27,F6),\"\")","v":""},21,2,"BenPalmer",null,null,null,null,null,"Cleveland",null,null,null,26.36,1,null,null,null,null,null,null,null,null,null,null,null,null,null,null,null,null,null,null,21]
[{"$f":"IF(O28=A6,COUNTIF(O7:O28,A6),\"\")","v":""},{"$f":"IF(O28=B6,COUNTIF(O7:O28,B6),\"\")","v":""},{"$f":"IF(O28=C6,COUNTIF(O7:O28,C6),\"\")","v":4},{"$f":"IF(O28=D6,COUNTIF(O7:O28,D6),\"\")","v":""},{"$f":"IF(O28=E6,COUNTIF(O7:O28,E6),\"\")","v":""},{"$f":"IF(O28=F6,COUNTIF(O7:O28,F6),\"\")","v":""},22,48,"Joe Ponfret",null,null,null,null,null,"Durham",null,null,null,23.38,1,null,null,null,null,null,null,null,null,null,null,null,null,null,null,null,null,null,null,22]
[{"$f":"IF(O29=A6,COUNTIF(O7:O29,A6),\"\")","v":""},{"$f":"IF(O29=B6,COUNTIF(O7:O29,B6),\"\")","v":""},{"$f":"IF(O29=C6,COUNTIF(O7:O29,C6),\"\")","v":""},{"$f":"IF(O29=D6,COUNTIF(O7:O29,D6),\"\")","v":""},{"$f":"IF(O29=E6,COUNTIF(O7:O29,E6),\"\")","v":7},{"$f":"IF(O29=F6,COUNTIF(O7:O29,F6),\"\")","v":""},23,87,"Jake Stephenson",null,null,null,null,null,"North Yorkshire",null,null,null,26.42,1,null,null,null,null,null,null,null,null,null,null,null,null,null,null,null,null,null,null,23]
[{"$f":"IF(O30=A6,COUNTIF(O7:O30,A6),\"\")","v":""},{"$f":"IF(O30=B6,COUNTIF(O7:O30,B6),\"\")","v":""},{"$f":"IF(O30=C6,COUNTIF(O7:O30,C6),\"\")","v":""},{"$f":"IF(O30=D6,COUNTIF(O7:O30,D6),\"\")","v":4},{"$f":"IF(O30=E6,COUNTIF(O7:O30,E6),\"\")","v":""},{"$f":"IF(O30=F6,COUNTIF(O7:O30,F6),\"\")","v":""},24,63,"Patrick Donald",null,null,null,null,null,"Northumberland",null,null,null,26.42,1,null,null,null,null,null,null,null,null,null,null,null,null,null,null,null,null,null,null,24]
[{"$f":"IF(O31=A6,COUNTIF(O7:O31,A6),\"\")","v":""},{"$f":"IF(O31=B6,COUNTIF(O7:O31,B6),\"\")","v":""},{"$f":"IF(O31=C6,COUNTIF(O7:O31,C6),\"\")","v":""},{"$f":"IF(O31=D6,COUNTIF(O7:O31,D6),\"\")","v":""},{"$f":"IF(O31=E6,COUNTIF(O7:O31,E6),\"\")","v":8},{"$f":"IF(O31=F6,COUNTIF(O7:O31,F6),\"\")","v":""},25,89,"Josh Fothergill",null,null,null,null,null,"North Yorkshire",null,null,null,26.43,1,null,null,null,null,null,null,null,null,null,null,null,null,null,null,null,null,null,null,25]
[{"$f":"IF(O32=A6,COUNTIF(O7:O32,A6),\"\")","v":""},{"$f":"IF(O32=B6,COUNTIF(O7:O32,B6),\"\")","v":""},{"$f":"IF(O32=C6,COUNTIF(O7:O32,C6),\"\")","v":5},{"$f":"IF(O32=D6,COUNTIF(O7:O32,D6),\"\")","v":""},{"$f":"IF(O32=E6,COUNTIF(O7:O32,E6),\"\")","v":""},{"$f":"IF(O32=F6,COUNTIF(O7:O32,F6),\"\")","v":""},26,45,"Matthew Phillips",null,null,null,null,null,"Durham",null,null,null,26.44,1,null,null,null,null,null,null,null,null,null,null,null,null,null,null,null,null,null,null,26]
[{"$f":"IF(O33=A6,COUNTIF(O7:O33,A6),\"\")","v":""},{"$f":"IF(O33=B6,COUNTIF(O7:O33,B6),\"\")","v":7},{"$f":"IF(O33=C6,COUNTIF(O7:O33,C6),\"\")","v":""},{"$f":"IF(O33=D6,COUNTIF(O7:O33,D6),\"\")","v":""},{"$f":"IF(O33=E6,COUNTIF(O7:O33,E6),\"\")","v":""},{"$f":"IF(O33=F6,COUNTIF(O7:O33,F6),\"\")","v":""},27,29,"Kieran Reynolds",null,null,null,null,null,"Cumbria",null,null,null,26.46,1,null,null,null,null,null,null,null,null,null,null,null,null,null,null,null,null,null,null,27]
[{"$f":"IF(O34=A6,COUNTIF(O7:O34,A6),\"\")","v":""},{"$f":"IF(O34=B6,COUNTIF(O7:O34,B6),\"\")","v":8},{"$f":"IF(O34=C6,COUNTIF(O7:O34,C6),\"\")","v":""},{"$f":"IF(O34=D6,COUNTIF(O7:O34,D6),\"\")","v":""},{"$f":"IF(O34=E6,COUNTIF(O7:O34,E6),\"\")","v":""},{"$f":"IF(O34=F6,COUNTIF(O7:O34,F6),\"\")","v":""},28,30,"Edward Taylor",null,null,null,null,null,"Cumbria",null,null,null,26.49,1,null,null,null,null,null,null,null,null,null,null,null,null,null,null,null,null,null,null,28]
[{"$f":"IF(O35=A6,COUNTIF(O7:O35,A6),\"\")","v":""},{"$f":"IF(O35=B6,COUNTIF(O7:O35,B6),\"\")","v":""},{"$f":"IF(O35=C6,COUNTIF(O7:O35,C6),\"\")","v":""},{"$f":"IF(O35=D6,COUNTIF(O7:O35,D6),\"\")","v":5},{"$f":"IF(O35=E6,COUNTIF(O7:O35,E6),\"\")","v":""},{"$f":"IF(O35=F6,COUNTIF(O7:O35,F6),\"\")","v":""},29,65,"James Morris",null,null,null,null,null,"Northumberland",null,null,null,26.5,1,null,null,null,null,null,null,null,null,null,null,null,null,null,null,null,null,null,null,29]
[{"$f":"IF(O36=A6,COUNTIF(O7:O36,A6),\"\")","v":""},{"$f":"IF(O36=B6,COUNTIF(O7:O36,B6),\"\")","v":9},{"$f":"IF(O36=C6,COUNTIF(O7:O36,C6),\"\")","v":""},{"$f":"IF(O36=D6,COUNTIF(O7:O36,D6),\"\")","v":""},{"$f":"IF(O36=E6,COUNTIF(O7:O36,E6),\"\")","v":""},{"$f":"IF(O36=F6,COUNTIF(O7:O36,F6),\"\")","v":""},30,33,"Harry Bolton",null,null,null,null,null,"Cumbria",null,null,null,26.5,1,null,null,null,null,null,null,null,null,null,null,null,null,null,null,null,null,null,null,30]
[{"$f":"IF(O37=A6,COUNTIF(O7:O37,A6),\"\")","v":""},{"$f":"IF(O37=B6,COUNTIF(O7:O37,B6),\"\")","v":""},{"$f":"IF(O37=C6,COUNTIF(O7:O37,C6),\"\")","v":""},{"$f":"IF(O37=D6,COUNTIF(O7:O37,D6),\"\")","v":6},{"$f":"IF(O37=E6,COUNTIF(O7:O37,E6),\"\")","v":""},{"$f":"IF(O37=F6,COUNTIF(O7:O37,F6),\"\")","v":""},31,69,"Matthew Briggs",null,null,null,null,null,"Northumberland",null,null,null,26.5,1,null,null,null,null,null,null,null,null,null,null,null,null,null,null,null,null,null,null,31]
[{"$f":"IF(O38=A6,COUNTIF(O7:O38,A6),\"\")","v":""},{"$f":"IF(O38=B6,COUNTIF(O7:O38,B6),\"\")","v":10},{"$f":"IF(O38=C6,COUNTIF(O7:O38,C6),\"\")","v":""},{"$f":"IF(O38=D6,COUNTIF(O7:O38,D6),\"\")","v":""},{"$f":"IF(O38=E6,COUNTIF(O7:O38,E6),\"\")","v":""},{"$f":"IF(O38=F6,COUNTIF(O7:O38,F6),\"\")","v":""},32,26,"Jamie McMillan",null,null,null,null,null,"Cumbria",null,null,null,26.51,1,null,null,null,null,null,null,null,null,null,null,null,null,null,null,null,null,null,null,32]
[{"$f":"IF(O39=A6,COUNTIF(O7:O39,A6),\"\")","v":""},{"$f":"IF(O39=B6,COUNTIF(O7:O39,B6),\"\")","v":""},{"$f":"IF(O39=C6,COUNTIF(O7:O39,C6),\"\")","v":6},{"$f":"IF(O39=D6,COUNTIF(O7:O39,D6),\"\")","v":""},{"$f":"IF(O39=E6,COUNTIF(O7:O39,E6),\"\")","v":""},{"$f":"IF(O39=F6,COUNTIF(O7:O39,F6),\"\")","v":""},33,50,"James Martin",null,null,null,null,null,"Durham",null,null,null,26.55,1,null,null,null,null,null,null,null,null,null,null,null,null,null,null,null,null,null,null,33]
[{"$f":"IF(O40=A6,COUNTIF(O7:O40,A6),\"\")","v":""},{"$f":"IF(O40=B6,COUNTIF(O7:O40,B6),\"\")","v":""},{"$f":"IF(O40=C6,COUNTIF(O7:O40,C6),\"\")","v":""},{"$f":"IF(O40=D6,COUNTIF(O7:O40,D6),\"\")","v":7},{"$f":"IF(O40=E6,COUNTIF(O7:O40,E6),\"\")","v":""},{"$f":"IF(O40=F6,COUNTIF(O7:O40,F6),\"\")","v":""},34,70,"Alex Cunningham",null,null,null,null,null,"Northumberland",null,null,null,27,1,null,null,null,null,null,null,null,null,null,null,null,null,null,null,null,null,null,null,34]
[{"$f":"IF(O41=A6,COUNTIF(O7:O41,A6),\"\")","v":""},{"$f":"IF(O41=B6,COUNTIF(O7:O41,B6),\"\")","v":11},{"$f":"IF(O41=C6,COUNTIF(O7:O41,C6),\"\")","v":""},{"$f":"IF(O41=D6,COUNTIF(O7:O41,D6),\"\")","v":""},{"$f":"IF(O41=E6,COUNTIF(O7:O41,E6),\"\")","v":""},{"$f":"IF(O41=F6,COUNTIF(O7:O41,F6),\"\")","v":""},35,35,"Jacob Aubrey",null,null,null,null,null,"Cumbria",null,null,null,27.07,1,null,null,null,null,null,null,null,null,null,null,null,null,null,null,null,null,null,null,35]
[{"$f":"IF(O42=A6,COUNTIF(O7:O42,A6),\"\")","v":""},{"$f":"IF(O42=B6,COUNTIF(O7:O42,B6),\"\")","v":""},{"$f":"IF(O42=C6,COUNTIF(O7:O42,C6),\"\")","v":7},{"$f":"IF(O42=D6,COUNTIF(O7:O42,D6),\"\")","v":""},{"$f":"IF(O42=E6,COUNTIF(O7:O42,E6),\"\")","v":""},{"$f":"IF(O42=F6,COUNTIF(O7:O42,F6),\"\")","v":""},36,44,"Sean Mackie",null,null,null,null,null,"Durham",null,null,null,27.09,1,null,null,null,null,null,null,null,null,null,null,null,null,null,null,null,null,null,null,36]
[{"$f":"IF(O43=A6,COUNTIF(O7:O43,A6),\"\")","v":""},{"$f":"IF(O43=B6,COUNTIF(O7:O43,B6),\"\")","v":""},{"$f":"IF(O43=C6,COUNTIF(O7:O43,C6),\"\")","v":""},{"$f":"IF(O43=D6,COUNTIF(O7:O43,D6),\"\")","v":8},{"$f":"IF(O43=E6,COUNTIF(O7:O43,E6),\"\")","v":""},{"$f":"IF(O43=F6,COUNTIF(O7:O43,F6),\"\")","v":""},37,66,"William Dixon",null,null,null,null,null,"Northumberland",null,null,null,27.2,1,null,null,null,null,null,null,null,null,null,null,null,null,null,null,null,null,null,null,37]
[{"$f":"IF(O44=A6,COUNTIF(O7:O44,A6),\"\")","v":4},{"$f":"IF(O44=B6,COUNTIF(O7:O44,B6),\"\")","v":""},{"$f":"IF(O44=C6,COUNTIF(O7:O44,C6),\"\")","v":""},{"$f":"IF(O44=D6,COUNTIF(O7:O44,D6),\"\")","v":""},{"$f":"IF(O44=E6,COUNTIF(O7:O44,E6),\"\")","v":""},{"$f":"IF(O44=F6,COUNTIF(O7:O44,F6),\"\")","v":""},38,4,"Cameron Spence",null,null,null,null,null,"Cleveland",null,null,null,27.22,1,null,null,null,null,null,null,null,null,null,null,null,null,null,null,null,null,null,null,38]
[{"$f":"IF(O45=A6,COUNTIF(O7:O45,A6),\"\")","v":""},{"$f":"IF(O45=B6,COUNTIF(O7:O45,B6),\"\")","v":""},{"$f":"IF(O45=C6,COUNTIF(O7:O45,C6),\"\")","v":""},{"$f":"IF(O45=D6,COUNTIF(O7:O45,D6),\"\")","v":9},{"$f":"IF(O45=E6,COUNTIF(O7:O45,E6),\"\")","v":""},{"$f":"IF(O45=F6,COUNTIF(O7:O45,F6),\"\")","v":""},39,72,"Leodhais MacPherson",null,null,null,null,null,"Northumberland",null,null,null,27.34,1,null,null,null,null,null,null,null,null,null,null,null,null,null,null,null,null,null,null,39]
[{"$f":"IF(O46=A6,COUNTIF(O7:O46,A6),\"\")","v":""},{"$f":"IF(O46=B6,COUNTIF(O7:O46,B6),\"\")","v":""},{"$f":"IF(O46=C6,COUNTIF(O7:O46,C6),\"\")","v":8},{"$f":"IF(O46=D6,COUNTIF(O7:O46,D6),\"\")","v":""},{"$f":"IF(O46=E6,COUNTIF(O7:O46,E6),\"\")","v":""},{"$f":"IF(O46=F6,COUNTIF(O7:O46,F6),\"\")","v":""},40,47,"Jonny Langley",null,null,null,null,null,"Durham",null,null,null,27.4,1,null,null,null,null,null,null,null,null,null,null,null,null,null,null,null,null,null,null,40]
[{"$f":"IF(O47=A6,COUNTIF(O7:O47,A6),\"\")","v":""},{"$f":"IF(O47=B6,COUNTIF(O7:O47,B6),\"\")","v":""},{"$f":"IF(O47=C6,COUNTIF(O7:O47,C6),\"\")","v":""},{"$f":"IF(O47=D6,COUNTIF(O7:O47,D6),\"\")","v":10},{"$f":"IF(O47=E6,COUNTIF(O7:O47,E6),\"\")","v":""},{"$f":"IF(O47=F6,COUNTIF(O7:O47,F6),\"\")","v":""},41,67,"Jack Boaden",null,null,null,null,null,"Northumberland",null,null,null,27.44,1,null,null,null,null,null,null,null,null,null,null,null,null,null,null,null,null,null,null,41]
[{"$f":"IF(O48=A6,COUNTIF(O7:O48,A6),\"\")","v":""},{"$f":"IF(O48=B6,COUNTIF(O7:O48,B6),\"\")","v":""},{"$f":"IF(O48=C6,COUNTIF(O7:O48,C6),\"\")","v":9},{"$f":"IF(O48=D6,COUNTIF(O7:O48,D6),\"\")","v":""},{"$f":"IF(O48=E6,COUNTIF(O7:O48,E6),\"\")","v":""},{"$f":"IF(O48=F6,COUNTIF(O7:O48,F6),\"\")","v":""},42,51,"Jacob Stephenson",null,null,null,null,null,"Durham",null,null,null,28,1,null,null,null,null,null,null,null,null,null,null,null,null,null,null,null,null,null,null,42]
[{"$f":"IF(O49=A6,COUNTIF(O7:O49,A6),\"\")","v":""},{"$f":"IF(O49=B6,COUNTIF(O7:O49,B6),\"\")","v":""},{"$f":"IF(O49=C6,COUNTIF(O7:O49,C6),\"\")","v":10},{"$f":"IF(O49=D6,COUNTIF(O7:O49,D6),\"\")","v":""},{"$f":"IF(O49=E6,COUNTIF(O7:O49,E6),\"\")","v":""},{"$f":"IF(O49=F6,COUNTIF(O7:O49,F6),\"\")","v":""},43,52,"Joshua Erlebach",null,null,null,null,null,"Durham",null,null,null,28.04,1,null,null,null,null,null,null,null,null,null,null,null,null,null,null,null,null,null,null,43]
[{"$f":"IF(O50=A6,COUNTIF(O7:O50,A6),\"\")","v":""},{"$f":"IF(O50=B6,COUNTIF(O7:O50,B6),\"\")","v":""},{"$f":"IF(O50=C6,COUNTIF(O7:O50,C6),\"\")","v":11},{"$f":"IF(O50=D6,COUNTIF(O7:O50,D6),\"\")","v":""},{"$f":"IF(O50=E6,COUNTIF(O7:O50,E6),\"\")","v":""},{"$f":"IF(O50=F6,COUNTIF(O7:O50,F6),\"\")","v":""},44,54,"Conal Tufnell",null,null,null,null,null,"Durham",null,null,null,28.1,1,null,null,null,null,null,null,null,null,null,null,null,null,null,null,null,null,null,null,44]
[{"$f":"IF(O51=A6,COUNTIF(O7:O51,A6),\"\")","v":""},{"$f":"IF(O51=B6,COUNTIF(O7:O51,B6),\"\")","v":""},{"$f":"IF(O51=C6,COUNTIF(O7:O51,C6),\"\")","v":""},{"$f":"IF(O51=D6,COUNTIF(O7:O51,D6),\"\")","v":""},{"$f":"IF(O51=E6,COUNTIF(O7:O51,E6),\"\")","v":9},{"$f":"IF(O51=F6,COUNTIF(O7:O51,F6),\"\")","v":""},45,90,"Jasper Johnson ",null,null,null,null,null,"North Yorkshire",null,null,null,28.24,1,null,null,null,null,null,null,null,null,null,null,null,null,null,null,null,null,null,null,45]
[{"$f":"IF(O52=A6,COUNTIF(O7:O52,A6),\"\")","v":""},{"$f":"IF(O52=B6,COUNTIF(O7:O52,B6),\"\")","v":""},{"$f":"IF(O52=C6,COUNTIF(O7:O52,C6),\"\")","v":""},{"$f":"IF(O52=D6,COUNTIF(O7:O52,D6),\"\")","v":""},{"$f":"IF(O52=E6,COUNTIF(O7:O52,E6),\"\")","v":10},{"$f":"IF(O52=F6,COUNTIF(O7:O52,F6),\"\")","v":""},46,88,"Harry Robson",null,null,null,null,null,"North Yorkshire",null,null,null,28.26,1,null,null,null,null,null,null,null,null,null,null,null,null,null,null,null,null,null,null,46]
[{"$f":"IF(O53=A6,COUNTIF(O7:O53,A6),\"\")","v":""},{"$f":"IF(O53=B6,COUNTIF(O7:O53,B6),\"\")","v":12},{"$f":"IF(O53=C6,COUNTIF(O7:O53,C6),\"\")","v":""},{"$f":"IF(O53=D6,COUNTIF(O7:O53,D6),\"\")","v":""},{"$f":"IF(O53=E6,COUNTIF(O7:O53,E6),\"\")","v":""},{"$f":"IF(O53=F6,COUNTIF(O7:O53,F6),\"\")","v":""},47,36,"James Mattinson",null,null,null,null,null,"Cumbria",null,null,null,28.28,1,null,null,null,null,null,null,null,null,null,null,null,null,null,null,null,null,null,null,47]
[{"$f":"IF(O54=A6,COUNTIF(O7:O54,A6),\"\")","v":""},{"$f":"IF(O54=B6,COUNTIF(O7:O54,B6),\"\")","v":13},{"$f":"IF(O54=C6,COUNTIF(O7:O54,C6),\"\")","v":""},{"$f":"IF(O54=D6,COUNTIF(O7:O54,D6),\"\")","v":""},{"$f":"IF(O54=E6,COUNTIF(O7:O54,E6),\"\")","v":""},{"$f":"IF(O54=F6,COUNTIF(O7:O54,F6),\"\")","v":""},48,38,"Struan Freeborn",null,null,null,null,null,"Cumbria",null,null,null,28.47,1,null,null,null,null,null,null,null,null,null,null,null,null,null,null,null,null,null,null,48]
[{"$f":"IF(O55=A6,COUNTIF(O7:O55,A6),\"\")","v":""},{"$f":"IF(O55=B6,COUNTIF(O7:O55,B6),\"\")","v":""},{"$f":"IF(O55=C6,COUNTIF(O7:O55,C6),\"\")","v":12},{"$f":"IF(O55=D6,COUNTIF(O7:O55,D6),\"\")","v":""},{"$f":"IF(O55=E6,COUNTIF(O7:O55,E6),\"\")","v":""},{"$f":"IF(O55=F6,COUNTIF(O7:O55,F6),\"\")","v":""},49,53,"Adam Middleton",null,null,null,null,null,"Durham",null,null,null,29.26,1,null,null,null,null,null,null,null,null,null,null,null,null,null,null,null,null,null,null,49]
[{"$f":"IF(O56=A6,COUNTIF(O7:O56,A6),\"\")","v":""},{"$f":"IF(O56=B6,COUNTIF(O7:O56,B6),\"\")","v":""},{"$f":"IF(O56=C6,COUNTIF(O7:O56,C6),\"\")","v":13},{"$f":"IF(O56=D6,COUNTIF(O7:O56,D6),\"\")","v":""},{"$f":"IF(O56=E6,COUNTIF(O7:O56,E6),\"\")","v":""},{"$f":"IF(O56=F6,COUNTIF(O7:O56,F6),\"\")","v":""},50,56,"Mitch Marshall",null,null,null,null,null,"Durham",null,null,null,29.59,1,null,null,null,null,null,null,null,null,null,null,null,null,null,null,null,null,null,null,50]
[{"$f":"IF(O57=A6,COUNTIF(O7:O57,A6),\"\")","v":""},{"$f":"IF(O57=B6,COUNTIF(O7:O57,B6),\"\")","v":14},{"$f":"IF(O57=C6,COUNTIF(O7:O57,C6),\"\")","v":""},{"$f":"IF(O57=D6,COUNTIF(O7:O57,D6),\"\")","v":""},{"$f":"IF(O57=E6,COUNTIF(O7:O57,E6),\"\")","v":""},{"$f":"IF(O57=F6,COUNTIF(O7:O57,F6),\"\")","v":""},51,22,"Scott Evans",null,null,null,null,null,"Cumbria",null,null,null,30.11,1,null,null,null,null,null,null,null,null,null,null,null,null,null,null,null,null,null,null,51]
[{"$f":"IF(O58=A6,COUNTIF(O7:O58,A6),\"\")","v":""},{"$f":"IF(O58=B6,COUNTIF(O7:O58,B6),\"\")","v":""},{"$f":"IF(O58=C6,COUNTIF(O7:O58,C6),\"\")","v":14},{"$f":"IF(O58=D6,COUNTIF(O7:O58,D6),\"\")","v":""},{"$f":"IF(O58=E6,COUNTIF(O7:O58,E6),\"\")","v":""},{"$f":"IF(O58=F6,COUNTIF(O7:O58,F6),\"\")","v":""},52,55,"Jack Prowse",null,null,null,null,null,"Durham",null,null,null,30.22,1,null,null,null,null,null,null,null,null,null,null,null,null,null,null,null,null,null,null,52]
[{"$f":"IF(O59=A6,COUNTIF(O7:O59,A6),\"\")","v":5},{"$f":"IF(O59=B6,COUNTIF(O7:O59,B6),\"\")","v":""},{"$f":"IF(O59=C6,COUNTIF(O7:O59,C6),\"\")","v":""},{"$f":"IF(O59=D6,COUNTIF(O7:O59,D6),\"\")","v":""},{"$f":"IF(O59=E6,COUNTIF(O7:O59,E6),\"\")","v":""},{"$f":"IF(O59=F6,COUNTIF(O7:O59,F6),\"\")","v":""},53,5,"Scott Mann",null,null,null,null,null,"Cleveland",null,null,null,32.26,1,null,null,null,null,null,null,null,null,null,null,null,null,null,null,null,null,null,null,53]
[{"$f":"IF(O60=A6,COUNTIF(O7:O60,A6),\"\")","v":""},{"$f":"IF(O60=B6,COUNTIF(O7:O60,B6),\"\")","v":""},{"$f":"IF(O60=C6,COUNTIF(O7:O60,C6),\"\")","v":""},{"$f":"IF(O60=D6,COUNTIF(O7:O60,D6),\"\")","v":""},{"$f":"IF(O60=E6,COUNTIF(O7:O60,E6),\"\")","v":""},{"$f":"IF(O60=F6,COUNTIF(O7:O60,F6),\"\")","v":""},54,null,"",null,null,null,null,null,"",null,null,null,null,0,null,null,null,null,null,null,null,null,null,null,null,null,null,null,null,null,null,null,54]
[{"$f":"IF(O61=A6,COUNTIF(O7:O61,A6),\"\")","v":""},{"$f":"IF(O61=B6,COUNTIF(O7:O61,B6),\"\")","v":""},{"$f":"IF(O61=C6,COUNTIF(O7:O61,C6),\"\")","v":""},{"$f":"IF(O61=D6,COUNTIF(O7:O61,D6),\"\")","v":""},{"$f":"IF(O61=E6,COUNTIF(O7:O61,E6),\"\")","v":""},{"$f":"IF(O61=F6,COUNTIF(O7:O61,F6),\"\")","v":""},55,null,"",null,null,null,null,null,"",null,null,null,null,0,null,null,null,null,null,null,null,null,null,null,null,null,null,null,null,null,null,null,55]
[{"$f":"IF(O62=A6,COUNTIF(O7:O62,A6),\"\")","v":""},{"$f":"IF(O62=B6,COUNTIF(O7:O62,B6),\"\")","v":""},{"$f":"IF(O62=C6,COUNTIF(O7:O62,C6),\"\")","v":""},{"$f":"IF(O62=D6,COUNTIF(O7:O62,D6),\"\")","v":""},{"$f":"IF(O62=E6,COUNTIF(O7:O62,E6),\"\")","v":""},{"$f":"IF(O62=F6,COUNTIF(O7:O62,F6),\"\")","v":""},56,null,"",null,null,null,null,null,"",null,null,null,null,0,null,null,null,null,null,null,null,null,null,null,null,null,null,null,null,null,null,null,56]
[{"$f":"IF(O63=A6,COUNTIF(O7:O63,A6),\"\")","v":""},{"$f":"IF(O63=B6,COUNTIF(O7:O63,B6),\"\")","v":""},{"$f":"IF(O63=C6,COUNTIF(O7:O63,C6),\"\")","v":""},{"$f":"IF(O63=D6,COUNTIF(O7:O63,D6),\"\")","v":""},{"$f":"IF(O63=E6,COUNTIF(O7:O63,E6),\"\")","v":""},{"$f":"IF(O63=F6,COUNTIF(O7:O63,F6),\"\")","v":""},57,null,"",null,null,null,null,null,"",null,null,null,null,0,null,null,null,null,null,null,null,null,null,null,null,null,null,null,null,null,null,null,57]
[{"$f":"IF(O64=A6,COUNTIF(O7:O64,A6),\"\")","v":""},{"$f":"IF(O64=B6,COUNTIF(O7:O64,B6),\"\")","v":""},{"$f":"IF(O64=C6,COUNTIF(O7:O64,C6),\"\")","v":""},{"$f":"IF(O64=D6,COUNTIF(O7:O64,D6),\"\")","v":""},{"$f":"IF(O64=E6,COUNTIF(O7:O64,E6),\"\")","v":""},{"$f":"IF(O64=F6,COUNTIF(O7:O64,F6),\"\")","v":""},58,null,"",null,null,null,null,null,"",null,null,null,null,0,null,null,null,null,null,null,null,null,null,null,null,null,null,null,null,null,null,null,58]
[{"$f":"IF(O65=A6,COUNTIF(O7:O65,A6),\"\")","v":""},{"$f":"IF(O65=B6,COUNTIF(O7:O65,B6),\"\")","v":""},{"$f":"IF(O65=C6,COUNTIF(O7:O65,C6),\"\")","v":""},{"$f":"IF(O65=D6,COUNTIF(O7:O65,D6),\"\")","v":""},{"$f":"IF(O65=E6,COUNTIF(O7:O65,E6),\"\")","v":""},{"$f":"IF(O65=F6,COUNTIF(O7:O65,F6),\"\")","v":""},59,null,"",null,null,null,null,null,"",null,null,null,null,0,null,null,null,null,null,null,null,null,null,null,null,null,null,null,null,null,null,null,59]
[{"$f":"IF(O66=A6,COUNTIF(O7:O66,A6),\"\")","v":""},{"$f":"IF(O66=B6,COUNTIF(O7:O66,B6),\"\")","v":""},{"$f":"IF(O66=C6,COUNTIF(O7:O66,C6),\"\")","v":""},{"$f":"IF(O66=D6,COUNTIF(O7:O66,D6),\"\")","v":""},{"$f":"IF(O66=E6,COUNTIF(O7:O66,E6),\"\")","v":""},{"$f":"IF(O66=F6,COUNTIF(O7:O66,F6),\"\")","v":""},60,null,"",null,null,null,null,null,"",null,null,null,null,0,null,null,null,null,null,null,null,null,null,null,null,null,null,null,null,null,null,null,60]
[{"$f":"IF(O67=A6,COUNTIF(O7:O67,A6),\"\")","v":""},{"$f":"IF(O67=B6,COUNTIF(O7:O67,B6),\"\")","v":""},{"$f":"IF(O67=C6,COUNTIF(O7:O67,C6),\"\")","v":""},{"$f":"IF(O67=D6,COUNTIF(O7:O67,D6),\"\")","v":""},{"$f":"IF(O67=E6,COUNTIF(O7:O67,E6),\"\")","v":""},{"$f":"IF(O67=F6,COUNTIF(O7:O67,F6),\"\")","v":""},61,null,"",null,null,null,null,null,"",null,null,null,null,0,null,null,null,null,null,null,null,null,null,null,null,null,null,null,null,null,null,null,61]
[{"$f":"IF(O68=A6,COUNTIF(O7:O68,A6),\"\")","v":""},{"$f":"IF(O68=B6,COUNTIF(O7:O68,B6),\"\")","v":""},{"$f":"IF(O68=C6,COUNTIF(O7:O68,C6),\"\")","v":""},{"$f":"IF(O68=D6,COUNTIF(O7:O68,D6),\"\")","v":""},{"$f":"IF(O68=E6,COUNTIF(O7:O68,E6),\"\")","v":""},{"$f":"IF(O68=F6,COUNTIF(O7:O68,F6),\"\")","v":""},62,null,"",null,null,null,null,null,"",null,null,null,null,0,null,null,null,null,null,null,null,null,null,null,null,null,null,null,null,null,null,null,62]
[{"$f":"IF(O69=A6,COUNTIF(O7:O69,A6),\"\")","v":""},{"$f":"IF(O69=B6,COUNTIF(O7:O69,B6),\"\")","v":""},{"$f":"IF(O69=C6,COUNTIF(O7:O69,C6),\"\")","v":""},{"$f":"IF(O69=D6,COUNTIF(O7:O69,D6),\"\")","v":""},{"$f":"IF(O69=E6,COUNTIF(O7:O69,E6),\"\")","v":""},{"$f":"IF(O69=F6,COUNTIF(O7:O69,F6),\"\")","v":""},63,null,"",null,null,null,null,null,"",null,null,null,null,0,null,null,null,null,null,null,null,null,null,null,null,null,null,null,null,null,null,null,63]
[{"$f":"IF(O70=A6,COUNTIF(O7:O70,A6),\"\")","v":""},{"$f":"IF(O70=B6,COUNTIF(O7:O70,B6),\"\")","v":""},{"$f":"IF(O70=C6,COUNTIF(O7:O70,C6),\"\")","v":""},{"$f":"IF(O70=D6,COUNTIF(O7:O70,D6),\"\")","v":""},{"$f":"IF(O70=E6,COUNTIF(O7:O70,E6),\"\")","v":""},{"$f":"IF(O70=F6,COUNTIF(O7:O70,F6),\"\")","v":""},64,null,"",null,null,null,null,null,"",null,null,null,null,0,null,null,null,null,null,null,null,null,null,null,null,null,null,null,null,null,null,null,64]
[{"$f":"IF(O71=A6,COUNTIF(O7:O71,A6),\"\")","v":""},{"$f":"IF(O71=B6,COUNTIF(O7:O71,B6),\"\")","v":""},{"$f":"IF(O71=C6,COUNTIF(O7:O71,C6),\"\")","v":""},{"$f":"IF(O71=D6,COUNTIF(O7:O71,D6),\"\")","v":""},{"$f":"IF(O71=E6,COUNTIF(O7:O71,E6),\"\")","v":""},{"$f":"IF(O71=F6,COUNTIF(O7:O71,F6),\"\")","v":""},{"$f":"IF(LEFT(S71,1)=\"D\",0,AM71)","v":65},null,{"$f":"IFERROR(VLOOKUP(H71,INDIRECT($AA$1),2,0),\"\")","v":""},null,null,null,null,null,{"$f":"IFERROR(VLOOKUP(H71,INDIRECT($AA$1),3,0),\"\")","v":""},null,null,null,null,{"$f":"IF(H71=0,0,1)","v":0},null,null,null,null,null,null,null,null,null,null,null,null,null,null,null,null,null,null,65]
[{"$f":"IF(O72=A6,COUNTIF(O7:O72,A6),\"\")","v":""},{"$f":"IF(O72=B6,COUNTIF(O7:O72,B6),\"\")","v":""},{"$f":"IF(O72=C6,COUNTIF(O7:O72,C6),\"\")","v":""},{"$f":"IF(O72=D6,COUNTIF(O7:O72,D6),\"\")","v":""},{"$f":"IF(O72=E6,COUNTIF(O7:O72,E6),\"\")","v":""},{"$f":"IF(O72=F6,COUNTIF(O7:O72,F6),\"\")","v":""},66,null,"",null,null,null,null,null,"",null,null,null,null,0,null,null,null,null,null,null,null,null,null,null,null,null,null,null,null,null,null,null,66]
[{"$f":"IF(O73=A6,COUNTIF(O7:O73,A6),\"\")","v":""},{"$f":"IF(O73=B6,COUNTIF(O7:O73,B6),\"\")","v":""},{"$f":"IF(O73=C6,COUNTIF(O7:O73,C6),\"\")","v":""},{"$f":"IF(O73=D6,COUNTIF(O7:O73,D6),\"\")","v":""},{"$f":"IF(O73=E6,COUNTIF(O7:O73,E6),\"\")","v":""},{"$f":"IF(O73=F6,COUNTIF(O7:O73,F6),\"\")","v":""},67,null,"",null,null,null,null,null,"",null,null,null,null,0,null,null,null,null,null,null,null,null,null,null,null,null,null,null,null,null,null,null,67]
[{"$f":"IF(O74=A6,COUNTIF(O7:O74,A6),\"\")","v":""},{"$f":"IF(O74=B6,COUNTIF(O7:O74,B6),\"\")","v":""},{"$f":"IF(O74=C6,COUNTIF(O7:O74,C6),\"\")","v":""},{"$f":"IF(O74=D6,COUNTIF(O7:O74,D6),\"\")","v":""},{"$f":"IF(O74=E6,COUNTIF(O7:O74,E6),\"\")","v":""},{"$f":"IF(O74=F6,COUNTIF(O7:O74,F6),\"\")","v":""},68,null,"",null,null,null,null,null,"",null,null,null,null,0,null,null,null,null,null,null,null,null,null,null,null,null,null,null,null,null,null,null,68]
[{"$f":"IF(O75=A6,COUNTIF(O7:O75,A6),\"\")","v":""},{"$f":"IF(O75=B6,COUNTIF(O7:O75,B6),\"\")","v":""},{"$f":"IF(O75=C6,COUNTIF(O7:O75,C6),\"\")","v":""},{"$f":"IF(O75=D6,COUNTIF(O7:O75,D6),\"\")","v":""},{"$f":"IF(O75=E6,COUNTIF(O7:O75,E6),\"\")","v":""},{"$f":"IF(O75=F6,COUNTIF(O7:O75,F6),\"\")","v":""},69,null,"",null,null,null,null,null,"",null,null,null,null,0,null,null,null,null,null,null,null,null,null,null,null,null,null,null,null,null,null,null,69]
[{"$f":"IF(O76=A6,COUNTIF(O7:O76,A6),\"\")","v":""},{"$f":"IF(O76=B6,COUNTIF(O7:O76,B6),\"\")","v":""},{"$f":"IF(O76=C6,COUNTIF(O7:O76,C6),\"\")","v":""},{"$f":"IF(O76=D6,COUNTIF(O7:O76,D6),\"\")","v":""},{"$f":"IF(O76=E6,COUNTIF(O7:O76,E6),\"\")","v":""},{"$f":"IF(O76=F6,COUNTIF(O7:O76,F6),\"\")","v":""},70,null,"",null,null,null,null,null,"",null,null,null,null,0,null,null,null,null,null,null,null,null,null,null,null,null,null,null,null,null,null,null,70]
[{"$f":"IF(O77=A6,COUNTIF(O7:O77,A6),\"\")","v":""},{"$f":"IF(O77=B6,COUNTIF(O7:O77,B6),\"\")","v":""},{"$f":"IF(O77=C6,COUNTIF(O7:O77,C6),\"\")","v":""},{"$f":"IF(O77=D6,COUNTIF(O7:O77,D6),\"\")","v":""},{"$f":"IF(O77=E6,COUNTIF(O7:O77,E6),\"\")","v":""},{"$f":"IF(O77=F6,COUNTIF(O7:O77,F6),\"\")","v":""},71,null,"",null,null,null,null,null,"",null,null,null,null,0,null,null,null,null,null,null,null,null,null,null,null,null,null,null,null,null,null,null,71]
[{"$f":"IF(O78=A6,COUNTIF(O7:O78,A6),\"\")","v":""},{"$f":"IF(O78=B6,COUNTIF(O7:O78,B6),\"\")","v":""},{"$f":"IF(O78=C6,COUNTIF(O7:O78,C6),\"\")","v":""},{"$f":"IF(O78=D6,COUNTIF(O7:O78,D6),\"\")","v":""},{"$f":"IF(O78=E6,COUNTIF(O7:O78,E6),\"\")","v":""},{"$f":"IF(O78=F6,COUNTIF(O7:O78,F6),\"\")","v":""},72,null,"",null,null,null,null,null,"",null,null,null,null,0,null,null,null,null,null,null,null,null,null,null,null,null,null,null,null,null,null,null,72]
[{"$f":"IF(O79=A6,COUNTIF(O7:O79,A6),\"\")","v":""},{"$f":"IF(O79=B6,COUNTIF(O7:O79,B6),\"\")","v":""},{"$f":"IF(O79=C6,COUNTIF(O7:O79,C6),\"\")","v":""},{"$f":"IF(O79=D6,COUNTIF(O7:O79,D6),\"\")","v":""},{"$f":"IF(O79=E6,COUNTIF(O7:O79,E6),\"\")","v":""},{"$f":"IF(O79=F6,COUNTIF(O7:O79,F6),\"\")","v":""},73,null,"",null,null,null,null,null,"",null,null,null,null,0,null,null,null,null,null,null,null,null,null,null,null,null,null,null,null,null,null,null,73]
[{"$f":"IF(O80=A6,COUNTIF(O7:O80,A6),\"\")","v":""},{"$f":"IF(O80=B6,COUNTIF(O7:O80,B6),\"\")","v":""},{"$f":"IF(O80=C6,COUNTIF(O7:O80,C6),\"\")","v":""},{"$f":"IF(O80=D6,COUNTIF(O7:O80,D6),\"\")","v":""},{"$f":"IF(O80=E6,COUNTIF(O7:O80,E6),\"\")","v":""},{"$f":"IF(O80=F6,COUNTIF(O7:O80,F6),\"\")","v":""},74,null,"",null,null,null,null,null,"",null,null,null,null,0,null,null,null,null,null,null,null,null,null,null,null,null,null,null,null,null,null,null,74]
[{"$f":"IF(O81=A6,COUNTIF(O7:O81,A6),\"\")","v":""},{"$f":"IF(O81=B6,COUNTIF(O7:O81,B6),\"\")","v":""},{"$f":"IF(O81=C6,COUNTIF(O7:O81,C6),\"\")","v":""},{"$f":"IF(O81=D6,COUNTIF(O7:O81,D6),\"\")","v":""},{"$f":"IF(O81=E6,COUNTIF(O7:O81,E6),\"\")","v":""},{"$f":"IF(O81=F6,COUNTIF(O7:O81,F6),\"\")","v":""},75,null,"",null,null,null,null,null,"",null,null,null,null,0,null,null,null,null,null,null,null,null,null,null,null,null,null,null,null,null,null,null,75]
[{"$f":"IF(O82=A6,COUNTIF(O7:O82,A6),\"\")","v":""},{"$f":"IF(O82=B6,COUNTIF(O7:O82,B6),\"\")","v":""},{"$f":"IF(O82=C6,COUNTIF(O7:O82,C6),\"\")","v":""},{"$f":"IF(O82=D6,COUNTIF(O7:O82,D6),\"\")","v":""},{"$f":"IF(O82=E6,COUNTIF(O7:O82,E6),\"\")","v":""},{"$f":"IF(O82=F6,COUNTIF(O7:O82,F6),\"\")","v":""},76,null,"",null,null,null,null,null,"",null,null,null,null,0,null,null,null,null,null,null,null,null,null,null,null,null,null,null,null,null,null,null,76]
[{"$f":"IF(O83=A6,COUNTIF(O7:O83,A6),\"\")","v":""},{"$f":"IF(O83=B6,COUNTIF(O7:O83,B6),\"\")","v":""},{"$f":"IF(O83=C6,COUNTIF(O7:O83,C6),\"\")","v":""},{"$f":"IF(O83=D6,COUNTIF(O7:O83,D6),\"\")","v":""},{"$f":"IF(O83=E6,COUNTIF(O7:O83,E6),\"\")","v":""},{"$f":"IF(O83=F6,COUNTIF(O7:O83,F6),\"\")","v":""},77,null,"",null,null,null,null,null,"",null,null,null,null,0,null,null,null,null,null,null,null,null,null,null,null,null,null,null,null,null,null,null,77]
[{"$f":"IF(O84=A6,COUNTIF(O7:O84,A6),\"\")","v":""},{"$f":"IF(O84=B6,COUNTIF(O7:O84,B6),\"\")","v":""},{"$f":"IF(O84=C6,COUNTIF(O7:O84,C6),\"\")","v":""},{"$f":"IF(O84=D6,COUNTIF(O7:O84,D6),\"\")","v":""},{"$f":"IF(O84=E6,COUNTIF(O7:O84,E6),\"\")","v":""},{"$f":"IF(O84=F6,COUNTIF(O7:O84,F6),\"\")","v":""},78,null,"",null,null,null,null,null,"",null,null,null,null,0,null,null,null,null,null,null,null,null,null,null,null,null,null,null,null,null,null,null,78]
[{"$f":"IF(O85=A6,COUNTIF(O7:O85,A6),\"\")","v":""},{"$f":"IF(O85=B6,COUNTIF(O7:O85,B6),\"\")","v":""},{"$f":"IF(O85=C6,COUNTIF(O7:O85,C6),\"\")","v":""},{"$f":"IF(O85=D6,COUNTIF(O7:O85,D6),\"\")","v":""},{"$f":"IF(O85=E6,COUNTIF(O7:O85,E6),\"\")","v":""},{"$f":"IF(O85=F6,COUNTIF(O7:O85,F6),\"\")","v":""},79,null,"",null,null,null,null,null,"",null,null,null,null,0,null,null,null,null,null,null,null,null,null,null,null,null,null,null,null,null,null,null,79]
[{"$f":"IF(O86=A6,COUNTIF(O7:O86,A6),\"\")","v":""},{"$f":"IF(O86=B6,COUNTIF(O7:O86,B6),\"\")","v":""},{"$f":"IF(O86=C6,COUNTIF(O7:O86,C6),\"\")","v":""},{"$f":"IF(O86=D6,COUNTIF(O7:O86,D6),\"\")","v":""},{"$f":"IF(O86=E6,COUNTIF(O7:O86,E6),\"\")","v":""},{"$f":"IF(O86=F6,COUNTIF(O7:O86,F6),\"\")","v":""},80,null,"",null,null,null,null,null,"",null,null,null,null,0,null,null,null,null,null,null,null,null,null,null,null,null,null,null,null,null,null,null,80]
[{"$f":"IF(O87=A6,COUNTIF(O7:O87,A6),\"\")","v":""},{"$f":"IF(O87=B6,COUNTIF(O7:O87,B6),\"\")","v":""},{"$f":"IF(O87=C6,COUNTIF(O7:O87,C6),\"\")","v":""},{"$f":"IF(O87=D6,COUNTIF(O7:O87,D6),\"\")","v":""},{"$f":"IF(O87=E6,COUNTIF(O7:O87,E6),\"\")","v":""},{"$f":"IF(O87=F6,COUNTIF(O7:O87,F6),\"\")","v":""},81,null,"",null,null,null,null,null,"",null,null,null,null,0,null,null,null,null,null,null,null,null,null,null,null,null,null,null,null,null,null,null,81]
[{"$f":"IF(O88=A6,COUNTIF(O7:O88,A6),\"\")","v":""},{"$f":"IF(O88=B6,COUNTIF(O7:O88,B6),\"\")","v":""},{"$f":"IF(O88=C6,COUNTIF(O7:O88,C6),\"\")","v":""},{"$f":"IF(O88=D6,COUNTIF(O7:O88,D6),\"\")","v":""},{"$f":"IF(O88=E6,COUNTIF(O7:O88,E6),\"\")","v":""},{"$f":"IF(O88=F6,COUNTIF(O7:O88,F6),\"\")","v":""},82,null,"",null,null,null,null,null,"",null,null,null,null,0,null,null,null,null,null,null,null,null,null,null,null,null,null,null,null,null,null,null,82]
[{"$f":"IF(O89=A6,COUNTIF(O7:O89,A6),\"\")","v":""},{"$f":"IF(O89=B6,COUNTIF(O7:O89,B6),\"\")","v":""},{"$f":"IF(O89=C6,COUNTIF(O7:O89,C6),\"\")","v":""},{"$f":"IF(O89=D6,COUNTIF(O7:O89,D6),\"\")","v":""},{"$f":"IF(O89=E6,COUNTIF(O7:O89,E6),\"\")","v":""},{"$f":"IF(O89=F6,COUNTIF(O7:O89,F6),\"\")","v":""},83,null,"",null,null,null,null,null,"",null,null,null,null,0,null,null,null,null,null,null,null,null,null,null,null,null,null,null,null,null,null,null,83]
[{"$f":"IF(O90=A6,COUNTIF(O7:O90,A6),\"\")","v":""},{"$f":"IF(O90=B6,COUNTIF(O7:O90,B6),\"\")","v":""},{"$f":"IF(O90=C6,COUNTIF(O7:O90,C6),\"\")","v":""},{"$f":"IF(O90=D6,COUNTIF(O7:O90,D6),\"\")","v":""},{"$f":"IF(O90=E6,COUNTIF(O7:O90,E6),\"\")","v":""},{"$f":"IF(O90=F6,COUNTIF(O7:O90,F6),\"\")","v":""},84,null,"",null,null,null,null,null,"",null,null,null,null,0,null,null,null,null,null,null,null,null,null,null,null,null,null,null,null,null,null,null,84]
[{"$f":"IF(O91=A6,COUNTIF(O7:O91,A6),\"\")","v":""},{"$f":"IF(O91=B6,COUNTIF(O7:O91,B6),\"\")","v":""},{"$f":"IF(O91=C6,COUNTIF(O7:O91,C6),\"\")","v":""},{"$f":"IF(O91=D6,COUNTIF(O7:O91,D6),\"\")","v":""},{"$f":"IF(O91=E6,COUNTIF(O7:O91,E6),\"\")","v":""},{"$f":"IF(O91=F6,COUNTIF(O7:O91,F6),\"\")","v":""},85,null,"",null,null,null,null,null,"",null,null,null,null,0,null,null,null,null,null,null,null,null,null,null,null,null,null,null,null,null,null,null,85]
[{"$f":"IF(O92=A6,COUNTIF(O7:O92,A6),\"\")","v":""},{"$f":"IF(O92=B6,COUNTIF(O7:O92,B6),\"\")","v":""},{"$f":"IF(O92=C6,COUNTIF(O7:O92,C6),\"\")","v":""},{"$f":"IF(O92=D6,COUNTIF(O7:O92,D6),\"\")","v":""},{"$f":"IF(O92=E6,COUNTIF(O7:O92,E6),\"\")","v":""},{"$f":"IF(O92=F6,COUNTIF(O7:O92,F6),\"\")","v":""},86,null,"",null,null,null,null,null,"",null,null,null,null,0,null,null,null,null,null,null,null,null,null,null,null,null,null,null,null,null,null,null,86]
[{"$f":"IF(O93=A6,COUNTIF(O7:O93,A6),\"\")","v":""},{"$f":"IF(O93=B6,COUNTIF(O7:O93,B6),\"\")","v":""},{"$f":"IF(O93=C6,COUNTIF(O7:O93,C6),\"\")","v":""},{"$f":"IF(O93=D6,COUNTIF(O7:O93,D6),\"\")","v":""},{"$f":"IF(O93=E6,COUNTIF(O7:O93,E6),\"\")","v":""},{"$f":"IF(O93=F6,COUNTIF(O7:O93,F6),\"\")","v":""},87,null,"",null,null,null,null,null,"",null,null,null,null,0,null,null,null,null,null,null,null,null,null,null,null,null,null,null,null,null,null,null,87]
[{"$f":"IF(O94=A6,COUNTIF(O7:O94,A6),\"\")","v":""},{"$f":"IF(O94=B6,COUNTIF(O7:O94,B6),\"\")","v":""},{"$f":"IF(O94=C6,COUNTIF(O7:O94,C6),\"\")","v":""},{"$f":"IF(O94=D6,COUNTIF(O7:O94,D6),\"\")","v":""},{"$f":"IF(O94=E6,COUNTIF(O7:O94,E6),\"\")","v":""},{"$f":"IF(O94=F6,COUNTIF(O7:O94,F6),\"\")","v":""},88,null,"",null,null,null,null,null,"",null,null,null,null,0,null,null,null,null,null,null,null,null,null,null,null,null,null,null,null,null,null,null,88]
[{"$f":"IF(O95=A6,COUNTIF(O7:O95,A6),\"\")","v":""},{"$f":"IF(O95=B6,COUNTIF(O7:O95,B6),\"\")","v":""},{"$f":"IF(O95=C6,COUNTIF(O7:O95,C6),\"\")","v":""},{"$f":"IF(O95=D6,COUNTIF(O7:O95,D6),\"\")","v":""},{"$f":"IF(O95=E6,COUNTIF(O7:O95,E6),\"\")","v":""},{"$f":"IF(O95=F6,COUNTIF(O7:O95,F6),\"\")","v":""},89,null,"",null,null,null,null,null,"",null,null,null,null,0,null,null,null,null,null,null,null,null,null,null,null,null,null,null,null,null,null,null,89]
[{"$f":"IF(O96=A6,COUNTIF(O7:O96,A6),\"\")","v":""},{"$f":"IF(O96=B6,COUNTIF(O7:O96,B6),\"\")","v":""},{"$f":"IF(O96=C6,COUNTIF(O7:O96,C6),\"\")","v":""},{"$f":"IF(O96=D6,COUNTIF(O7:O96,D6),\"\")","v":""},{"$f":"IF(O96=E6,COUNTIF(O7:O96,E6),\"\")","v":""},{"$f":"IF(O96=F6,COUNTIF(O7:O96,F6),\"\")","v":""},90,null,"",null,null,null,null,null,"",null,null,null,null,0,null,null,null,null,null,null,null,null,null,null,null,null,null,null,null,null,null,null,90]
[{"$f":"IF(O97=A6,COUNTIF(O7:O97,A6),\"\")","v":""},{"$f":"IF(O97=B6,COUNTIF(O7:O97,B6),\"\")","v":""},{"$f":"IF(O97=C6,COUNTIF(O7:O97,C6),\"\")","v":""},{"$f":"IF(O97=D6,COUNTIF(O7:O97,D6),\"\")","v":""},{"$f":"IF(O97=E6,COUNTIF(O7:O97,E6),\"\")","v":""},{"$f":"IF(O97=F6,COUNTIF(O7:O97,F6),\"\")","v":""},91,null,"",null,null,null,null,null,"",null,null,null,null,0,null,null,null,null,null,null,null,null,null,null,null,null,null,null,null,null,null,null,91]
[{"$f":"IF(O98=A6,COUNTIF(O7:O98,A6),\"\")","v":""},{"$f":"IF(O98=B6,COUNTIF(O7:O98,B6),\"\")","v":""},{"$f":"IF(O98=C6,COUNTIF(O7:O98,C6),\"\")","v":""},{"$f":"IF(O98=D6,COUNTIF(O7:O98,D6),\"\")","v":""},{"$f":"IF(O98=E6,COUNTIF(O7:O98,E6),\"\")","v":""},{"$f":"IF(O98=F6,COUNTIF(O7:O98,F6),\"\")","v":""},92,null,"",null,null,null,null,null,"",null,null,null,null,0,null,null,null,null,null,null,null,null,null,null,null,null,null,null,null,null,null,null,92]
[{"$f":"IF(O99=A6,COUNTIF(O7:O99,A6),\"\")","v":""},{"$f":"IF(O99=B6,COUNTIF(O7:O99,B6),\"\")","v":""},{"$f":"IF(O99=C6,COUNTIF(O7:O99,C6),\"\")","v":""},{"$f":"IF(O99=D6,COUNTIF(O7:O99,D6),\"\")","v":""},{"$f":"IF(O99=E6,COUNTIF(O7:O99,E6),\"\")","v":""},{"$f":"IF(O99=F6,COUNTIF(O7:O99,F6),\"\")","v":""},93,null,"",null,null,null,null,null,"",null,null,null,null,0,null,null,null,null,null,null,null,null,null,null,null,null,null,null,null,null,null,null,93]
[{"$f":"IF(O100=A6,COUNTIF(O7:O100,A6),\"\")","v":""},{"$f":"IF(O100=B6,COUNTIF(O7:O100,B6),\"\")","v":""},{"$f":"IF(O100=C6,COUNTIF(O7:O100,C6),\"\")","v":""},{"$f":"IF(O100=D6,COUNTIF(O7:O100,D6),\"\")","v":""},{"$f":"IF(O100=E6,COUNTIF(O7:O100,E6),\"\")","v":""},{"$f":"IF(O100=F6,COUNTIF(O7:O100,F6),\"\")","v":""},94,null,"",null,null,null,null,null,"",null,null,null,null,0,null,null,null,null,null,null,null,null,null,null,null,null,null,null,null,null,null,null,94]
[{"$f":"IF(O101=A6,COUNTIF(O7:O101,A6),\"\")","v":""},{"$f":"IF(O101=B6,COUNTIF(O7:O101,B6),\"\")","v":""},{"$f":"IF(O101=C6,COUNTIF(O7:O101,C6),\"\")","v":""},{"$f":"IF(O101=D6,COUNTIF(O7:O101,D6),\"\")","v":""},{"$f":"IF(O101=E6,COUNTIF(O7:O101,E6),\"\")","v":""},{"$f":"IF(O101=F6,COUNTIF(O7:O101,F6),\"\")","v":""},95,null,"",null,null,null,null,null,"",null,null,null,null,0,null,null,null,null,null,null,null,null,null,null,null,null,null,null,null,null,null,null,95]
[{"$f":"IF(O102=A6,COUNTIF(O7:O102,A6),\"\")","v":""},{"$f":"IF(O102=B6,COUNTIF(O7:O102,B6),\"\")","v":""},{"$f":"IF(O102=C6,COUNTIF(O7:O102,C6),\"\")","v":""},{"$f":"IF(O102=D6,COUNTIF(O7:O102,D6),\"\")","v":""},{"$f":"IF(O102=E6,COUNTIF(O7:O102,E6),\"\")","v":""},{"$f":"IF(O102=F6,COUNTIF(O7:O102,F6),\"\")","v":""},96,null,"",null,null,null,null,null,"",null,null,null,null,0,null,null,null,null,null,null,null,null,null,null,null,null,null,null,null,null,null,null,96]
[{"$f":"IF(O103=A6,COUNTIF(O7:O103,A6),\"\")","v":""},{"$f":"IF(O103=B6,COUNTIF(O7:O103,B6),\"\")","v":""},{"$f":"IF(O103=C6,COUNTIF(O7:O103,C6),\"\")","v":""},{"$f":"IF(O103=D6,COUNTIF(O7:O103,D6),\"\")","v":""},{"$f":"IF(O103=E6,COUNTIF(O7:O103,E6),\"\")","v":""},{"$f":"IF(O103=F6,COUNTIF(O7:O103,F6),\"\")","v":""},97,null,"",null,null,null,null,null,"",null,null,null,null,0,null,null,null,null,null,null,null,null,null,null,null,null,null,null,null,null,null,null,97]
[{"$f":"IF(O104=A6,COUNTIF(O7:O104,A6),\"\")","v":""},{"$f":"IF(O104=B6,COUNTIF(O7:O104,B6),\"\")","v":""},{"$f":"IF(O104=C6,COUNTIF(O7:O104,C6),\"\")","v":""},{"$f":"IF(O104=D6,COUNTIF(O7:O104,D6),\"\")","v":""},{"$f":"IF(O104=E6,COUNTIF(O7:O104,E6),\"\")","v":""},{"$f":"IF(O104=F6,COUNTIF(O7:O104,F6),\"\")","v":""},98,null,"",null,null,null,null,null,"",null,null,null,null,0,null,null,null,null,null,null,null,null,null,null,null,null,null,null,null,null,null,null,98]
[{"$f":"IF(O105=A6,COUNTIF(O7:O105,A6),\"\")","v":""},{"$f":"IF(O105=B6,COUNTIF(O7:O105,B6),\"\")","v":""},{"$f":"IF(O105=C6,COUNTIF(O7:O105,C6),\"\")","v":""},{"$f":"IF(O105=D6,COUNTIF(O7:O105,D6),\"\")","v":""},{"$f":"IF(O105=E6,COUNTIF(O7:O105,E6),\"\")","v":""},{"$f":"IF(O105=F6,COUNTIF(O7:O105,F6),\"\")","v":""},99,null,"",null,null,null,null,null,"",null,null,null,null,0,null,null,null,null,null,null,null,null,null,null,null,null,null,null,null,null,null,null,99]
[{"$f":"IF(O106=A6,COUNTIF(O7:O106,A6),\"\")","v":""},{"$f":"IF(O106=B6,COUNTIF(O7:O106,B6),\"\")","v":""},{"$f":"IF(O106=C6,COUNTIF(O7:O106,C6),\"\")","v":""},{"$f":"IF(O106=D6,COUNTIF(O7:O106,D6),\"\")","v":""},{"$f":"IF(O106=E6,COUNTIF(O7:O106,E6),\"\")","v":""},{"$f":"IF(O106=F6,COUNTIF(O7:O106,F6),\"\")","v":""},100,null,"",null,null,null,null,null,"",null,null,null,null,0,null,null,null,null,null,null,null,null,null,null,null,null,null,null,null,null,null,null,100]
[null,null,null,null,null,null,{"$f":"CONCATENATE($G$5,\" \",\"Individual Medal Winners\")","v":"Senior Boys Individual Medal Winners"},null,null,null,null,null,null,null,null,null,null,null,null,"f"]
[null,null,null,null,null,null,"Pos","Num","Name",null,null,null,null,null,"County",null,null,null,"Time"]
[null,null,null,null,null,null,1,{"$f":"IF(H7=0,\"\",H7)","v":1},"Josh Cowpertwaite","","","","","","Cleveland",null,null,null,{"$f":"IF(S7=0,\"\",S7)","v":23.41},{"$f":"IF(H109=\"\",0,1)","v":1}]
[null,null,null,null,null,null,2,21,"Joe Dugdale","","","","","","Cumbria",null,null,null,{"$f":"IF(S8=0,\"\",S8)","v":24.24},{"$f":"IF(H110=\"\",0,1)","v":1}]
[null,null,null,null,null,null,3,61,"Kieran Hedley","","","","","","Northumberland",null,null,null,{"$f":"IF(S9=0,\"\",S9)","v":24.52},{"$f":"IF(H111=\"\",0,1)","v":1}]
[null,null,null,null,null,null,null,null,null,null,null,null,null,null,null,null,null,null,null,"g"]
[null,null,null,null,null,null,{"$f":"CONCATENATE($G$5,\" \",\"Team Results\")","v":"Senior Boys Team Results"},null,null,null,null,null,null,null,null,null,null,null,null,"h",null,null,null,null,{"$f":"G113","v":"Senior Boys Team Results"}]
[null,null,null,null,null,null,null,"Team Name",null,null,null,null,"1st","2nd","3rd","4th","5th","6th","Points","i",null,null,{"$f":"P5","v":0},null,null,1,2,3,4,5,6,"Pts"]
[null,null,null,null,null,null,1,{"$f":"IFERROR(VLOOKUP(G115,$X$115:$AF$119,2,0),\"\")","v":"North Yorkshire"},null,null,null,null,{"$f":"IFERROR(VLOOKUP(G115,$X$115:$AF$119,3,0),\"\")","v":4},{"$f":"IFERROR(VLOOKUP(G115,$X$115:$AF$119,4,0),\"\")","v":5},{"$f":"IFERROR(VLOOKUP(G115,$X$115:$AF$119,5,0),\"\")","v":7},{"$f":"IFERROR(VLOOKUP(G115,$X$115:$AF$119,6,0),\"\")","v":8},{"$f":"IFERROR(VLOOKUP(G115,$X$115:$AF$119,7,0),\"\")","v":9},{"$f":"IFERROR(VLOOKUP(G115,$X$115:$AF$119,8,0),\"\")","v":18},{"$f":"SUM(M115:R115)","v":51},{"$f":"IF(H115=\"\",0,1)","v":1},null,null,7,{"$f":"IF(OR(AJ115=\"\",AJ115=0),0,RANK(AJ115,AJ115:AJ120,1))","v":0},{"$f":"Home!F4","v":"Cleveland"},{"$f":"IFERROR(VLOOKUP(Z114,$A$7:$G$106,W115,0),0)","v":1},{"$f":"IFERROR(VLOOKUP(AA114,A$7:G$106,W115,0),0)","v":15},{"$f":"IFERROR(VLOOKUP(AB114,A$7:G$106,W115,0),0)","v":21},{"$f":"IF(W114=3,0,IFERROR(VLOOKUP(AC114,A$7:G$106,W115,0),0))","v":38},{"$f":"IF(W114=4,0,IFERROR(VLOOKUP(AD114,A$7:G$106,W115,0),0))","v":53},{"$f":"IF(OR(W114=4,W114=5),0,IFERROR(VLOOKUP(AE114,A$7:G$106,W115,0),0))","v":0},{"$f":"IF(AE115=0,0,SUM(Z115:AE115))","v":0},{"$f":"IF(OR(AF115=0,AF115=\"\"),0,RANK(AF115,AF115:AF120,1))","v":0},{"$f":"IF(OR(AG115=0,AG115=\"\"),\"\",IF(OR(AG115=AG116,AG115=AG117,AG115=AG118,AG115=AG119,AG115=AG120),\"=\",\"\"))","v":""},{"$f":"IF(AH115=\"=\",COUNTIF(AH115:AH115,\"<>A\")-COUNTIF(AH115:AH115,\"\"),0)","v":0},{"$f":"IF(AND(AG115=0,AI115=0),\"\",AG115+(AI115/10)+AL115/10)","v":""},{"$f":"X115","v":0},{"$f":"IF(OR(AF115=0,AF115=\"\"),0,RANK(Z115,Z115:Z120,1))","v":0}]
[null,null,null,null,null,null,2,{"$f":"IFERROR(VLOOKUP(G116,$X$115:$AF$119,2,0),\"\")","v":"Cumbria"},null,null,null,null,{"$f":"IFERROR(VLOOKUP(G116,$X$115:$AF$119,3,0),\"\")","v":2},{"$f":"IFERROR(VLOOKUP(G116,$X$115:$AF$119,4,0),\"\")","v":10},{"$f":"IFERROR(VLOOKUP(G116,$X$115:$AF$119,5,0),\"\")","v":12},{"$f":"IFERROR(VLOOKUP(G116,$X$115:$AF$119,6,0),\"\")","v":13},{"$f":"IFERROR(VLOOKUP(G116,$X$115:$AF$119,7,0),\"\")","v":19},{"$f":"IFERROR(VLOOKUP(G116,$X$115:$AF$119,8,0),\"\")","v":20},{"$f":"SUM(M116:R116)","v":76},1,null,null,6,{"$f":"IF(OR(AJ116=\"\",AJ116=0),0,RANK(AJ116,AJ115:AJ120,1))","v":2},{"$f":"Home!F5","v":"Cumbria"},{"$f":"IFERROR(VLOOKUP(Z114,$B$7:$G$106,W116,0),0)","v":2},{"$f":"IFERROR(VLOOKUP(AA114,B$7:G$106,W116,0),0)","v":10},{"$f":"IFERROR(VLOOKUP(AB114,B$7:G$106,W116,0),0)","v":12},{"$f":"IF(W114=3,0,IFERROR(VLOOKUP(AC114,B$7:G$106,W116,0),0))","v":13},{"$f":"IF(W114=4,0,IFERROR(VLOOKUP(AD114,B$7:G$106,W116,0),0))","v":19},{"$f":"IF(OR(W114=4,W114=5),0,IFERROR(VLOOKUP(AE114,B$7:G$106,W116,0),0))","v":20},{"$f":"IF(AE116=0,0,SUM(Z116:AE116))","v":76},{"$f":"IF(OR(AF116=0,AF116=\"\"),0,RANK(AF116,AF115:AF120,1))","v":4},{"$f":"IF(OR(AG116=0,AG116=\"\"),\"\",IF(OR(AG116=AG117,AG116=AG118,AG116=AG119,AG116=AG120,AG116=AG115),\"=\",\"\"))","v":""},{"$f":"IF(AH116=\"=\",COUNTIF(AH115:AH116,\"<>A\")-COUNTIF(AH115:AH116,\"\"),0)","v":0},{"$f":"IF(AND(AG116=0,AI116=0),\"\",AG116+(AI116/10)+AL116/10)","v":4.3},{"$f":"X116","v":2},{"$f":"IF(OR(AF116=0,AF116=\"\"),0,RANK(Z116,Z115:Z120,1))","v":3}]
[null,null,null,null,null,null,3,"Northumberland",null,null,null,null,3,6,14,24,29,31,107,1,null,null,5,{"$f":"IF(OR(AJ117=\"\",AJ117=0),0,RANK(AJ117,AJ115:AJ120,1))","v":4},{"$f":"Home!F6","v":"Durham"},{"$f":"IFERROR(VLOOKUP(Z114,$C$7:$G$106,W117,0),0)","v":11},{"$f":"IFERROR(VLOOKUP(AA114,C$7:G$106,W117,0),0)","v":16},{"$f":"IFERROR(VLOOKUP(AB114,C$7:G$106,W117,0),0)","v":17},{"$f":"IF(W114=3,0,IFERROR(VLOOKUP(AC114,C$7:G$106,W117,0),0))","v":22},{"$f":"IF(W114=4,0,IFERROR(VLOOKUP(AD114,C$7:G$106,W117,0),0))","v":26},{"$f":"IF(OR(W114=4,W114=5),0,IFERROR(VLOOKUP(AE114,C$7:G$106,W117,0),0))","v":33},125,{"$f":"IF(OR(AF117=0,AF117=\"\"),0,RANK(AF117,AF115:AF120,1))","v":6},{"$f":"IF(OR(AG117=0,AG117=\"\"),\"\",IF(OR(AG117=AG118,AG117=AG119,AG117=AG120,AG117=AG115,AG117=AG116),\"=\",\"\"))","v":""},{"$f":"IF(AH117=\"=\",COUNTIF(AH115:AH117,\"<>A\")-COUNTIF(AH115:AH117,\"\"),0)","v":0},6.6,4,{"$f":"IF(OR(AF117=0,AF117=\"\"),0,RANK(Z117,Z115:Z120,1))","v":6}]
[null,null,null,null,null,null,4,"Durham",null,null,null,null,11,16,17,22,26,33,125,1,null,null,4,{"$f":"IF(OR(AJ118=\"\",AJ118=0),0,RANK(AJ118,AJ115:AJ120,1))","v":3},{"$f":"Home!F7","v":"Northumberland"},{"$f":"IFERROR(VLOOKUP(Z114,$D$7:$G$106,W118,0),0)","v":3},{"$f":"IFERROR(VLOOKUP(AA114,D$7:G$106,W118,0),0)","v":6},{"$f":"IFERROR(VLOOKUP(AB114,D$7:G$106,W118,0),0)","v":14},{"$f":"IF(W114=3,0,IFERROR(VLOOKUP(AC114,D$7:G$106,W118,0),0))","v":24},{"$f":"IF(W114=4,0,IFERROR(VLOOKUP(AD114,D$7:G$106,W118,0),0))","v":29},{"$f":"IF(OR(W114=4,W114=5),0,IFERROR(VLOOKUP(AE114,D$7:G$106,W118,0),0))","v":31},107,{"$f":"IF(OR(AF118=0,AF118=\"\"),0,RANK(AF118,AF115:AF120,1))","v":5},{"$f":"IF(OR(AG118=0,AG118=\"\"),\"\",IF(OR(AG118=AG119,AG118=AG120,AG118=AG115,AG118=AG116,AG118=AG117),\"=\",\"\"))","v":""},{"$f":"IF(AH118=\"=\",COUNTIF(AH115:AH118,\"<>A\")-COUNTIF(AH115:AH118,\"\"),0)","v":0},5.4,3,{"$f":"IF(OR(AF118=0,AF118=\"\"),0,RANK(Z118,Z115:Z120,1))","v":4}]
[null,null,null,null,null,null,5,"",null,null,null,null,"","","","","","",0,0,null,null,3,{"$f":"IF(OR(AJ119=\"\",AJ119=0),0,RANK(AJ119,AJ115:AJ120,1))","v":1},{"$f":"Home!F8","v":"North Yorkshire"},{"$f":"IFERROR(VLOOKUP(Z114,$E$7:$G$106,W119,0),0)","v":4},{"$f":"IFERROR(VLOOKUP(AA114,E$7:G$106,W119,0),0)","v":5},{"$f":"IFERROR(VLOOKUP(AB114,E$7:G$106,W119,0),0)","v":7},{"$f":"IF(W114=3,0,IFERROR(VLOOKUP(AC114,E$7:G$106,W119,0),0))","v":8},{"$f":"IF(W114=4,0,IFERROR(VLOOKUP(AD114,E$7:G$106,W119,0),0))","v":9},{"$f":"IF(OR(W114=4,W114=5),0,IFERROR(VLOOKUP(AE114,E$7:G$106,W119,0),0))","v":18},51,{"$f":"IF(OR(AF119=0,AF119=\"\"),0,RANK(AF119,AF115:AF120,1))","v":3},{"$f":"IF(OR(AG119=0,AG119=\"\"),\"\",IF(OR(AG119=AG120,AG119=AG115,AG119=AG116,AG119=AG117,AG119=AG118),\"=\",\"\"))","v":""},{"$f":"IF(AH119=\"=\",COUNTIF(AH115:AH119,\"<>A\")-COUNTIF(AH115:AH119,\"\"),0)","v":0},3.5,1,{"$f":"IF(OR(AF119=0,AF119=\"\"),0,RANK(Z119,Z115:Z120,1))","v":5}]
[null,null,null,null,null,null,null,null,null,null,null,null,null,null,null,null,null,null,null,null,null,null,2,{"$f":"IF(OR(AJ120=\"\",AJ120=0),0,RANK(AJ120,AJ115:AJ120,1))","v":0},{"$f":"Home!F9","v":0},{"$f":"IFERROR(VLOOKUP(Z114,F7:G106,W120,0),0)","v":0},{"$f":"IFERROR(VLOOKUP(AA114,F7:G106,W120,0),0)","v":0},{"$f":"IFERROR(VLOOKUP(AB114,F7:G106,W120,0),0)","v":0},{"$f":"IF(W114=3,0,IFERROR(VLOOKUP(AC114,F7:G106,W120,0),0))","v":0},{"$f":"IF(W114=4,0,IFERROR(VLOOKUP(AD114,F7:G106,W120,0),0))","v":0},{"$f":"IF(OR(W114=4,W114=5),0,IFERROR(VLOOKUP(AE114,F7:G106,W120,0),0))","v":0},{"$f":"IF(AE120=0,0,SUM(Z120:AE120))","v":0},{"$f":"IF(OR(AF120=0,AF120=\"\"),0,RANK(AF120,AF115:AF120,1))","v":0},{"$f":"IF(OR(AG120=0,AG120=\"\"),\"\",IF(OR(AG120=AG115,AG120=AG116,AG120=AG117,AG120=AG118,AG120=AG119),\"=\",\"\"))","v":""},{"$f":"IF(AH120=\"=\",COUNTIF(AH115:AH120,\"<>A\")-COUNTIF(AH115:AH120,\"\"),0)","v":0},"",0,{"$f":"IF(OR(AF120=0,AF120=\"\"),0,RANK(Z120,Z115:Z120,1))","v":0}]

{"sheet":"Boys Declarations","index":5,"n_rows":102,"n_cols":15,"rows_kept":102,"cut":false,"hidden":false,"merged":[[0,0,0,2],[0,4,0,6],[0,8,0,10],[0,12,0,14]]}
["Minor Boys (Year 7)",null,null,null,"Junior Boys (Year 8/9)",null,null,null,"Intermediate Boys (Year 10/11)",null,null,null,"Senior Boys (Year 12/13)"]
["Num","Name","County",null,"Num","Name","County",null,"Num","Name","County",null,"Num","Name","County"]
[1,"Noah Payne","Cleveland",null,1,"Max Creasey","Cleveland",null,1,"Archie Lowe","Cleveland",null,1,"Josh Cowpertwaite","Cleveland"]
[2,"Jack Farrell","Cleveland",null,2,"James Hughes","Cleveland",null,2,"Daniel Currie","Cleveland",null,2,"BenPalmer","Cleveland"]
[3,"Riley Middleton","Cleveland",null,3,"Rohan Teasdale","Cleveland",null,3,"Dan Payne","Cleveland",null,3,"Luke Petit","Cleveland"]
[4,"Oliver Samuel","Cleveland",null,4,"Ben Johnson","Cleveland",null,4,"Patrick Haycock","Cleveland",null,4,"Cameron Spence","Cleveland"]
[5,"Tom Graham","Cleveland",null,5,"Liam Cooper","Cleveland",null,5,"Jake Creasey","Cleveland",null,5,"Scott Mann","Cleveland"]
[6,"John Bolam","Cleveland",null,6,"Will Simpson","Cleveland",null,6,"Daniel Gunn","Cleveland",null,6,null,"Cleveland"]
[7,"Max Peverall","Cleveland",null,7,"Harvey Kaid","Cleveland",null,7,"Henry Mitson","Cleveland",null,7,null,"Cleveland"]
[8,"Liam Woods-Ruddick","Cleveland",null,8,"James Skull","Cleveland",null,8,"Harry Dunmure","Cleveland",null,8,null,"Cleveland"]
[9,"","Cleveland",null,9,"Matthew Walters","Cleveland",null,9,"Dominic Shipman","Cleveland",null,9,null,"Cleveland"]
[10,"","Cleveland",null,10,"Scott Temple","Cleveland",null,10,"Ben Grounds","Cleveland",null,10,null,"Cleveland"]
[11,"","Cleveland",null,11,"Ben Hodgson","Cleveland",null,11,"Bradley Povey","Cleveland",null,11,null,"Cleveland"]
[12,"","Cleveland",null,12,"Alex Lake","Cleveland",null,12,"Sadiquilah Safi","Cleveland",null,12,null,"Cleveland"]
[13,"","Cleveland",null,13,"Frankie Angloy","Cleveland",null,13,"Luke Hutchinson","Cleveland",null,13,null,"Cleveland"]
[14,"","Cleveland",null,14,"Lochlain Lacy","Cleveland",null,14,"Joe Micklewright","Cleveland",null,14,null,"Cleveland"]
[15,null,"Cleveland",null,15,"Brad Jolly","Cleveland",null,15,"Kai Seed","Cleveland",null,15,null,"Cleveland"]
[16,null,"Cleveland",null,16,"Ollie Cairney","Cleveland",null,16,"Arib Dad","Cleveland",null,16,null,"Cleveland"]
[17,null,"Cleveland",null,17,null,"Cleveland",null,17,null,"Cleveland",null,17,null,"Cleveland"]
[18,null,"Cleveland",null,18,null,"Cleveland",null,18,null,"Cleveland",null,18,null,"Cleveland"]
[19,null,"Cleveland",null,19,null,"Cleveland",null,19,null,"Cleveland",null,19,null,"Cleveland"]
[20,null,"Cleveland",null,20,null,"Cleveland",null,20,null,"Cleveland",null,20,null,"Cleveland"]
[21,"Thomas Renwick","Cumbria",null,21,"Fraser Sproul","Cumbria",null,21,"Sol Johl","Cumbria",null,21,"Joe Dugdale","Cumbria"]
[22,"Hector Westmorland-Nicholson","Cumbria",null,22,"Daniel Sanderson","Cumbria",null,22,"Robin Regan","Cumbria",null,22,"Scott Evans","Cumbria"]
[23,"Mason McAnaney","Cumbria",null,23,"James Bowen","Cumbria",null,23,"Charlie Harding","Cumbria",null,23,"Ben Van Djik","Cumbria"]
[24,"Charlie Barry","Cumbria",null,24,"Oliie Sanders","Cumbria",null,24,"Mitchell Liddle","Cumbria",null,24,"Harry Greenbank","Cumbria"]
[25,"Harry Ewbank","Cumbria",null,25,"John Egner","Cumbria",null,25,"Toby Umpleby","Cumbria",null,25,"Reuben Copley","Cumbria"]
[26,"Oliver Smith","Cumbria",null,26,"Ben O'Dowd","Cumbria",null,26,"Max Parry","Cumbria",null,26,"Jamie McMillan","Cumbria"]
[27,"Joseph Rigby","Cumbria",null,27,"James Young","Cumbria",null,27,"Lewis Bowness","Cumbria",null,27,"Joshua Liddle","Cumbria"]
[28,"Fin Logue","Cumbria",null,28,"James Dixon","Cumbria",null,28,"Archie Irving","Cumbria",null,28,"George Rigal","Cumbria"]
[29,"Greg Barnard McKenzie","Cumbria",null,29,"Ben Smith","Cumbria",null,29,"Ben Edmondson","Cumbria",null,29,"Kieran Reynolds","Cumbria"]
[30,"Daniel Knott","Cumbria",null,30,"George Sidaway","Cumbria",null,30,"Jacob Smith","Cumbria",null,30,"Edward Taylor","Cumbria"]
[31,"Ed Sargent","Cumbria",null,31,"Dylan Edwards","Cumbria",null,31,"Felix Kirsten","Cumbria",null,31,"Luke Bowen","Cumbria"]
[32,"Kia Hatcher","Cumbria",null,32,"Lucas Messenger Jones","Cumbria",null,32,"Sam Almond","Cumbria",null,32,"Ben Granger","Cumbria"]
[33,"Isaac Barber","Cumbria",null,33,"Finn Harrison","Cumbria",null,33,"Toby Winnard","Cumbria",null,33,"Harry Bolton","Cumbria"]
[34,"Sam Hetherington","Cumbria",null,34,"Felix Bower","Cumbria",null,34,"Elliott Judge","Cumbria",null,34,"Spencer Bird","Cumbria"]
[35,"Zane Alderson","Cumbria",null,35,"Harry Bowen","Cumbria",null,35,"Alex Beddoes","Cumbria",null,35,"Jacob Aubrey","Cumbria"]
[36,"Aaron Fitzpatrick","Cumbria",null,36,"Finlay Corkill","Cumbria",null,36,"Harry Sidaway","Cumbria",null,36,"James Mattinson","Cumbria"]
[37,"Finn Walker","Cumbria",null,37,"Freddie Hill","Cumbria",null,37,"Craig Bottomley","Cumbria",null,37,"Billy Robinson","Cumbria"]
[38,"Ewan Wright","Cumbria",null,38,"Charlie Renney","Cumbria",null,38,"Seamus Edwards","Cumbria",null,38,"Struan Freeborn","Cumbria"]
[39,"Caius Pennington","Cumbria",null,39,"Jacob Nelson","Cumbria",null,39,"Sam McSherry","Cumbria",null,39,"Harris Strickland","Cumbria"]
[40,"Warren Dance","Cumbria",null,40,"Olly Saxon","Cumbria",null,40,"Leo Peres","Cumbria",null,40,"Jake shuttleworth","Cumbria"]
[41,"Daniel Richardson","Durham",null,41,"David Race","Durham",null,41,"Henry Johnson","Durham",null,41,"Cameron Allan","Durham"]
[42,"Dylan Wilson","Durham",null,42,"Christopher Perkins","Durham",null,42,"Sam Gibson","Durham",null,42,"Max Harris","Durham"]
[43,"Angus Milne","Durham",null,43,"Adam Russell","Durham",null,43,"Cameron Thomas","Durham",null,43,"Jack Brown","Durham"]
[44,"George Wilkinson","Durham",null,44,"Peter Cook","Durham",null,44,"Daniel Joyce","Durham",null,44,"Sean Mackie","Durham"]
[45,"George Beevers","Durham",null,45,"John Russell","Durham",null,45,"Daniel Boyer","Durham",null,45,"Matthew Phillips","Durham"]
[46,"Jordy Armstrong","Durham",null,46,"Duncan Hughes","Durham",null,46,"Jamie Barnshaw","Durham",null,46,"Ryan Watson","Durham"]
[47,"Benjamin Giles","Durham",null,47,"Chris Coulson","Durham",null,47,"James Roberts","Durham",null,47,"Jonny Langley","Durham"]
[48,"Luke Bell","Durham",null,48,"Ben Dowsett","Durham",null,48,"Izaak Robinson Taylor","Durham",null,48,"Joe Ponfret","Durham"]
[49,"Sam Terry","Durham",null,49,"Dillon Revell","Durham",null,49,"Joshua Maner","Durham",null,49,"Ben Horsfield","Durham"]
[50,"William Henderson","Durham",null,50,"Joshua Wraith","Durham",null,50,"Alfie Phillips","Durham",null,50,"James Martin","Durham"]
[51,"Zach Twaddle","Durham",null,51,"Thomas Wraith","Durham",null,51,"Matthew Appleby","Durham",null,51,"Jacob Stephenson","Durham"]
[52,"Noah Glanville","Durham",null,52,"Ryan Stewart","Durham",null,52,"Joshua Dan","Durham",null,52,"Joshua Erlebach","Durham"]
[53,null,"Durham",null,53,"Freddie Langton","Durham",null,53,"Liam Brittle","Durham",null,53,"Adam Middleton","Durham"]
[54,null,"Durham",null,54,"Oliver McKenna","Durham",null,54,"Will Lindsey","Durham",null,54,"Conal Tufnell","Durham"]
[55,null,"Durham",null,55,"Ben Underwood","Durham",null,55,"Charles McIntosh","Durham",null,55,"Jack Prowse","Durham"]
[56,null,"Durham",null,56,"Theo Barrow","Durham",null,56,"Ollie Barrett","Durham",null,56,"Mitch Marshall","Durham"]
[57,null,"Durham",null,57,"Liam Eastaugh","Durham",null,57,"Will Bellamy","Durham",null,57,"Luke Pickering","Durham"]
[58,null,"Durham",null,58,"Harry Wilson","Durham",null,58,"Adam Wilson","Durham",null,58,"Michael Wade","Durham"]
[59,null,"Durham",null,59,"Nathan Mawer","Durham",null,59,"Joshua Duarte","Durham",null,59,null,"Durham"]
[60,null,"Durham",null,60,null,"Durham",null,60,null,"Durham",null,60,null,"Durham"]
[61,"Tom Slane","Northumberland",null,61,"Ethan McGlen","Northumberland",null,61,"Sam Charlton","Northumberland",null,61,"Kieran Hedley","Northumberland"]
[62,"Max Murray-John","Northumberland",null,62,"Euan Duffin","Northumberland",null,62,"Ross Charlton","Northumberland",null,62,"Taylor Glover","Northumberland"]
[63,"Ethan Bond","Northumberland",null,63,"William Collinson","Northumberland",null,63,"Daniel Melling","Northumberland",null,63,"Patrick Donald","Northumberland"]
[64,"Noah Curran","Northumberland",null,64,"Dylan Davies","Northumberland",null,64,"Daniel Dixon","Northumberland",null,64,"Max Pearson","Northumberland"]
[65,"Cameron Simpson","Northumberland",null,65,"Kieron Mutch","Northumberland",null,65,"Josh Fiddaman","Northumberland",null,65,"James Morris","Northumberland"]
[66,"Charlie Whittaker","Northumberland",null,66,"Ralph Robinson","Northumberland",null,66,"Thomas Susham","Northumberland",null,66,"William Dixon","Northumberland"]
[67,"Bertie  Marr","Northumberland",null,67,"Samuel Tate","Northumberland",null,67,"Oscar Onley","Northumberland",null,67,"Jack Boaden","Northumberland"]
[68,"Angus Cummings","Northumberland",null,68,"Oliver Douglass","Northumberland",null,68,"Tom Balsdon","Northumberland",null,68,"Cameron Grey","Northumberland"]
[69,"Joseph Hudspith","Northumberland",null,69,"Luis White","Northumberland",null,69,"Roean Bennett","Northumberland",null,69,"Matthew Briggs","Northumberland"]
[70,"Ryan Davies","Northumberland",null,70,"Wesley Croom","Northumberland",null,70,"Jake Dorman","Northumberland",null,70,"Alex Cunningham","Northumberland"]
[71,"Nathaniel Henderson","Northumberland",null,71,"Zak Old","Northumberland",null,71,"Daniel Buffham","Northumberland",null,71,"Robbie Langford","Northumberland"]
[72,"Lewis Henry","Northumberland",null,72,"Dylan Gooding","Northumberland",null,72,"Jamie Styles","Northumberland",null,72,"Leodhais MacPherson","Northumberland"]
[73,"Oliver Dixon","Northumberland",null,73,"Ben Waterfield","Northumberland",null,73,"Ben Murray-John","Northumberland",null,73,null,"Northumberland"]
[74,"Harry  Twinn","Northumberland",null,74,"Charlie Daley","Northumberland",null,74,"Brad Brown","Northumberland",null,74,null,"Northumberland"]
[75,"Daniel Lamb","Northumberland",null,75,null,"Northumberland",null,75,"Luke Shears","Northumberland",null,75,null,"Northumberland"]
[76,"Adam Howliston","Northumberland",null,76,null,"Northumberland",null,76,"Charlie McMillan","Northumberland",null,76,null,"Northumberland"]
[77,"Ben Asquith","Northumberland",null,77,null,"Northumberland",null,77,"Harry Morris","Northumberland",null,77,null,"Northumberland"]
[78,null,"Northumberland",null,78,null,"Northumberland",null,78,null,"Northumberland",null,78,null,"Northumberland"]
[79,null,"Northumberland",null,79,null,"Northumberland",null,79,null,"Northumberland",null,79,null,"Northumberland"]
[80,null,"Northumberland",null,80,null,"Northumberland",null,80,null,"Northumberland",null,80,null,"Northumberland"]
[81,"Campbell Darcy","North Yorkshire",null,81,"Kyle Rabjohn","North Yorkshire",null,81,"Finnian Hutchinson","North Yorkshire",null,81,"Joe Hudson","North Yorkshire"]
[82,"Archie Gray","North Yorkshire",null,82,"Charlie Stephenson","North Yorkshire",null,82,"Sebastian Segger-Staveley","North Yorkshire",null,82,"Matthew Merrick","North Yorkshire"]
[83,"Archie Bordewich","North Yorkshire",null,83,"Will Hugill","North Yorkshire",null,83,"Herbert Antcliff","North Yorkshire",null,83,"Ben Bergstrand","North Yorkshire"]
[84,"Joshua Hammett","North Yorkshire",null,84,"Daniel Francis","North Yorkshire",null,84,"Kyle McLeay","North Yorkshire",null,84,"Jack Brennan","North Yorkshire"]
[85,"Will Partner","North Yorkshire",null,85,"Alex Thompson","North Yorkshire",null,85,"Archie Lawson","North Yorkshire",null,85,"Tom Barrett","North Yorkshire"]
[86,"Louis How","North Yorkshire",null,86,"Jath Lee","North Yorkshire",null,86,"Toby Antcliff","North Yorkshire",null,86,"Sam Jackson","North Yorkshire"]
[87,"Isaac Henson","North Yorkshire",null,87,"Ben Rees","North Yorkshire",null,87,"Matthew Somers","North Yorkshire",null,87,"Jake Stephenson","North Yorkshire"]
[88,"Sam Pratt","North Yorkshire",null,88,"Xavier Martin","North Yorkshire",null,88,"Tom Hayes","North Yorkshire",null,88,"Harry Robson","North Yorkshire"]
[89,"Finlay Tulip","North Yorkshire",null,89,"Joe O'brien","North Yorkshire",null,89,"Joe Crannley","North Yorkshire",null,89,"Josh Fothergill","North Yorkshire"]
[90,"Freddie Marsh","North Yorkshire",null,90,"Jack Mudd-Bowes","North Yorkshire",null,90,"Arthur Peel","North Yorkshire",null,90,"Jasper Johnson ","North Yorkshire"]
[91,"Cian Winter","North Yorkshire",null,91,"Edward Hanley","North Yorkshire",null,91,"Will Thompson","North Yorkshire",null,91,null,"North Yorkshire"]
[92,null,"North Yorkshire",null,92,"Will Atkinson","North Yorkshire",null,92,"Matthew Lambert","North Yorkshire",null,92,null,"North Yorkshire"]
[93,null,"North Yorkshire",null,93,"Theo Walton","North Yorkshire",null,93,null,"North Yorkshire",null,93,null,"North Yorkshire"]
[94,null,"North Yorkshire",null,94,"Charlie Wright","North Yorkshire",null,94,null,"North Yorkshire",null,94,null,"North Yorkshire"]
[95,null,"North Yorkshire",null,95,"Sam Headley ","North Yorkshire",null,95,null,"North Yorkshire",null,95,null,"North Yorkshire"]
[96,null,"North Yorkshire",null,96,null,"North Yorkshire",null,96,null,"North Yorkshire",null,96,null,"North Yorkshire"]
[97,null,"North Yorkshire",null,97,null,"North Yorkshire",null,97,null,"North Yorkshire",null,97,null,"North Yorkshire"]
[98,null,"North Yorkshire",null,98,null,"North Yorkshire",null,98,null,"North Yorkshire",null,98,null,"North Yorkshire"]
[99,null,"North Yorkshire",null,99,null,"North Yorkshire",null,99,null,"North Yorkshire",null,99,null,"North Yorkshire"]
[100,null,"North Yorkshire",null,100,null,"North Yorkshire",null,100,null,"North Yorkshire",null,100,null,"North Yorkshire"]

{"sheet":"Minor_Girls","index":6,"n_rows":120,"n_cols":39,"rows_kept":120,"cut":false,"hidden":false,"merged":[[0,6,0,18],[0,26,0,29],[1,6,1,18],[1,26,1,29],[2,6,2,18],[5,8,5,13],[12,8,12,13],[13,8,13,13],[14,8,14,13],[15,8,15,13],[16,8,16,13],[17,8,17,13],[6,8,6,13],[7,8,7,13],[8,8,8,13],[9,8,9,13],[10,8,10,13],[11,8,11,13],[24,8,24,13],[25,8,25,13],[26,8,26,13],[27,8,27,13],[28,8,28,13],[29,8,29,13],[18,8,18,13],[19,8,19,13],[20,8,20,13],[21,8,21,13],[22,8,22,13],[23,8,23,13],[36,8,36,13],[37,8,37,13],[38,8,38,13],[39,8,39,13],[40,8,40,13],[41,8,41,13],[30,8,30,13],[31,8,31,13],[32,8,32,13],[33,8,33,13],[34,8,34,13],[35,8,35,13],[48,8,48,13],[49,8,49,13],[50,8,50,13],[51,8,51,13],[52,8,52,13],[53,8,53,13],[42,8,42,13],[43,8,43,13],[44,8,44,13],[45,8,45,13],[46,8,46,13],[47,8,47,13],[60,8,60,13],[61,8,61,13],[62,8,62,13],[63,8,63,13],[64,8,64,13],[65,8,65,13],[54,8,54,13],[55,8,55,13],[56,8,56,13],[57,8,57,13],[58,8,58,13],[59,8,59,13],[72,8,72,13],[73,8,73,13],[74,8,74,13],[75,8,75,13],[76,8,76,13],[77,8,77,13],[66,8,66,13],[67,8,67,13],[68,8,68,13],[69,8,69,13],[70,8,70,13],[71,8,71,13],[84,8,84,13],[85,8,85,13],[86,8,86,13],[87,8,87,13],[88,8,88,13],[89,8,89,13],[78,8,78,13],[79,8,79,13],[80,8,80,13],[81,8,81,13],[82,8,82,13],[83,8,83,13],[96,8,96,13],[97,8,97,13],[98,8,98,13],[99,8,99,13],[100,8,100,13],[101,8,101,13],[90,8,90,13],[91,8,91,13],[92,8,92,13],[93,8,93,13],[94,8,94,13],[95,8,95,13],[108,8,108,13],[109,8,109,13],[110,8,110,13],[112,6,112,18],[102,8,102,13],[103,8,103,13],[104,8,104,13],[105,8,105,13],[106,6,106,18],[107,8,107,13]]}
[null,null,null,null,null,null,{"$f":"Home!$B$1","v":"Northern Schools' Inter-County Cross Country Championships"},null,null,null,null,null,null,null,null,null,null,null,null,"a",null,{"$f":"CONCATENATE(W1,X1)","v":"Home!$B5"},"Home!$B",{"$f":"IF(Y1=\"Minor_Boys\",4,IF(Y1=\"Junior_Boys\",6,IF(Y1=\"Intermediate_Boys\",8,IF(Y1=\"Senior_Boys\",10,IF(Y1=\"Minor_Girls\",5,IF(Y1=\"Junior_Girls\",7,IF(Y1=\"Intermediate_Girls\",9,IF(Y1=\"Senior_Girls\",11,\"\"))))))))","v":5},{"$f":"MID(CELL(\"Filename\",A1),SEARCH(\"]\",CELL(\"Filename\",A1),1)+1,32)","v":"Minor_Girls"},null,{"$f":"Y1","v":"Minor_Girls"},null,null,null,{"$f":"CONCATENATE(Y1,\" \",Z1)","v":"Minor_Girls "}]
[null,null,null,null,null,null,{"$f":"Home!$B$2","v":"Barnard Castle School"},null,null,null,null,null,null,null,null,null,null,null,null,"b",null,{"$f":"CONCATENATE(W2,X2)","v":"Home!$D5"},"Home!$D",{"$f":"X1","v":5}]
[null,null,null,null,null,null,{"$f":"Home!$G$3","v":"Saturday 3rd February 2018"},null,null,null,null,null,null,null,null,null,null,null,null,"c"]
[null,null,null,null,null,null,null,null,null,null,null,null,null,null,null,null,null,null,null,"c"]
[null,null,null,null,null,null,{"$f":"INDIRECT(V1)","v":"Minor Girls"},null,null,null,null,null,null,{"$f":"CONCATENATE(\"Team Results\",\" \",INDIRECT(V2),\" \",\"to Score\")","v":"Team Results 6 to Score"},null,null,null,null,null,"d"]
[{"$f":"Home!F4","v":"Cleveland"},{"$f":"Home!F5","v":"Cumbria"},{"$f":"Home!F6","v":"Durham"},{"$f":"Home!F7","v":"Northumberland"},{"$f":"Home!F8","v":"North Yorkshire"},{"$f":"Home!F9","v":0},"Pos","Num","Name",null,null,null,null,null,"County",null,null,null,"Time","e"]
[{"$f":"IF(O7=A6,COUNTIF(O7:O7,A6),\"\")","v":""},{"$f":"IF(O7=B6,COUNTIF(O7:O7,B6),\"\")","v":1},{"$f":"IF(O7=C6,COUNTIF(O7:O7,C6),\"\")","v":""},{"$f":"IF(O7=D6,COUNTIF(O7:O7,D6),\"\")","v":""},{"$f":"IF(O7=E6,COUNTIF(O7:O7,E6),\"\")","v":""},{"$f":"IF(O7=F6,COUNTIF(O7:O7,F6),\"\")","v":""},{"$f":"IF(LEFT(S7,1)=\"D\",0,AM7)","v":1},21,{"$f":"IFERROR(VLOOKUP(H7,INDIRECT($AA$1),2,0),\"\")","v":"Sarah Smith"},null,null,null,null,null,{"$f":"IFERROR(VLOOKUP(H7,INDIRECT($AA$1),3,0),\"\")","v":"Cumbria"},null,null,null,9.42,{"$f":"IF(H7=0,0,1)","v":1},null,null,null,null,null,null,null,null,null,null,null,null,null,null,null,null,null,null,1]
[{"$f":"IF(O8=A6,COUNTIF(O7:O8,A6),\"\")","v":""},{"$f":"IF(O8=B6,COUNTIF(O7:O8,B6),\"\")","v":""},{"$f":"IF(O8=C6,COUNTIF(O7:O8,C6),\"\")","v":""},{"$f":"IF(O8=D6,COUNTIF(O7:O8,D6),\"\")","v":""},{"$f":"IF(O8=E6,COUNTIF(O7:O8,E6),\"\")","v":1},{"$f":"IF(O8=F6,COUNTIF(O7:O8,F6),\"\")","v":""},2,81,"Zoe Hill",null,null,null,null,null,"North Yorkshire",null,null,null,9.44,1,null,null,null,null,null,null,null,null,null,null,null,null,null,null,null,null,null,null,2]
[{"$f":"IF(O9=A6,COUNTIF(O7:O9,A6),\"\")","v":1},{"$f":"IF(O9=B6,COUNTIF(O7:O9,B6),\"\")","v":""},{"$f":"IF(O9=C6,COUNTIF(O7:O9,C6),\"\")","v":""},{"$f":"IF(O9=D6,COUNTIF(O7:O9,D6),\"\")","v":""},{"$f":"IF(O9=E6,COUNTIF(O7:O9,E6),\"\")","v":""},{"$f":"IF(O9=F6,COUNTIF(O7:O9,F6),\"\")","v":""},3,2,"Gabby Hall",null,null,null,null,null,"Cleveland",null,null,null,9.49,1,null,null,null,null,null,null,null,null,null,null,null,null,null,null,null,null,null,null,3]
[{"$f":"IF(O10=A6,COUNTIF(O7:O10,A6),\"\")","v":""},{"$f":"IF(O10=B6,COUNTIF(O7:O10,B6),\"\")","v":2},{"$f":"IF(O10=C6,COUNTIF(O7:O10,C6),\"\")","v":""},{"$f":"IF(O10=D6,COUNTIF(O7:O10,D6),\"\")","v":""},{"$f":"IF(O10=E6,COUNTIF(O7:O10,E6),\"\")","v":""},{"$f":"IF(O10=F6,COUNTIF(O7:O10,F6),\"\")","v":""},4,22,"Sophie Rylance",null,null,null,null,null,"Cumbria",null,null,null,9.5299999999999994,1,null,null,null,null,null,null,null,null,null,null,null,null,null,null,null,null,null,null,4]
[{"$f":"IF(O11=A6,COUNTIF(O7:O11,A6),\"\")","v":""},{"$f":"IF(O11=B6,COUNTIF(O7:O11,B6),\"\")","v":""},{"$f":"IF(O11=C6,COUNTIF(O7:O11,C6),\"\")","v":""},{"$f":"IF(O11=D6,COUNTIF(O7:O11,D6),\"\")","v":""},{"$f":"IF(O11=E6,COUNTIF(O7:O11,E6),\"\")","v":2},{"$f":"IF(O11=F6,COUNTIF(O7:O11,F6),\"\")","v":""},5,83,"Mollie Reynolds-Jones",null,null,null,null,null,"North Yorkshire",null,null,null,9.5399999999999991,1,null,null,null,null,null,null,null,null,null,null,null,null,null,null,null,null,null,null,5]
[{"$f":"IF(O12=A6,COUNTIF(O7:O12,A6),\"\")","v":2},{"$f":"IF(O12=B6,COUNTIF(O7:O12,B6),\"\")","v":""},{"$f":"IF(O12=C6,COUNTIF(O7:O12,C6),\"\")","v":""},{"$f":"IF(O12=D6,COUNTIF(O7:O12,D6),\"\")","v":""},{"$f":"IF(O12=E6,COUNTIF(O7:O12,E6),\"\")","v":""},{"$f":"IF(O12=F6,COUNTIF(O7:O12,F6),\"\")","v":""},6,1,"Emma Mcneil",null,null,null,null,null,"Cleveland",null,null,null,10.02,1,null,null,null,null,null,null,null,null,null,null,null,null,null,null,null,null,null,null,6]
[{"$f":"IF(O13=A6,COUNTIF(O7:O13,A6),\"\")","v":""},{"$f":"IF(O13=B6,COUNTIF(O7:O13,B6),\"\")","v":3},{"$f":"IF(O13=C6,COUNTIF(O7:O13,C6),\"\")","v":""},{"$f":"IF(O13=D6,COUNTIF(O7:O13,D6),\"\")","v":""},{"$f":"IF(O13=E6,COUNTIF(O7:O13,E6),\"\")","v":""},{"$f":"IF(O13=F6,COUNTIF(O7:O13,F6),\"\")","v":""},7,24,"Maddie Hutton",null,null,null,null,null,"Cumbria",null,null,null,10.09,1,null,null,null,null,null,null,null,null,null,null,null,null,null,null,null,null,null,null,7]
[{"$f":"IF(O14=A6,COUNTIF(O7:O14,A6),\"\")","v":""},{"$f":"IF(O14=B6,COUNTIF(O7:O14,B6),\"\")","v":4},{"$f":"IF(O14=C6,COUNTIF(O7:O14,C6),\"\")","v":""},{"$f":"IF(O14=D6,COUNTIF(O7:O14,D6),\"\")","v":""},{"$f":"IF(O14=E6,COUNTIF(O7:O14,E6),\"\")","v":""},{"$f":"IF(O14=F6,COUNTIF(O7:O14,F6),\"\")","v":""},8,25,"Elodie Malcolm",null,null,null,null,null,"Cumbria",null,null,null,10.1,1,null,null,null,null,null,null,null,null,null,null,null,null,null,null,null,null,null,null,8]
[{"$f":"IF(O15=A6,COUNTIF(O7:O15,A6),\"\")","v":""},{"$f":"IF(O15=B6,COUNTIF(O7:O15,B6),\"\")","v":""},{"$f":"IF(O15=C6,COUNTIF(O7:O15,C6),\"\")","v":1},{"$f":"IF(O15=D6,COUNTIF(O7:O15,D6),\"\")","v":""},{"$f":"IF(O15=E6,COUNTIF(O7:O15,E6),\"\")","v":""},{"$f":"IF(O15=F6,COUNTIF(O7:O15,F6),\"\")","v":""},9,44,"Hannah Bowyer",null,null,null,null,null,"Durham",null,null,null,10.14,1,null,null,null,null,null,null,null,null,null,null,null,null,null,null,null,null,null,null,9]
[{"$f":"IF(O16=A6,COUNTIF(O7:O16,A6),\"\")","v":""},{"$f":"IF(O16=B6,COUNTIF(O7:O16,B6),\"\")","v":""},{"$f":"IF(O16=C6,COUNTIF(O7:O16,C6),\"\")","v":2},{"$f":"IF(O16=D6,COUNTIF(O7:O16,D6),\"\")","v":""},{"$f":"IF(O16=E6,COUNTIF(O7:O16,E6),\"\")","v":""},{"$f":"IF(O16=F6,COUNTIF(O7:O16,F6),\"\")","v":""},10,45,"Tilly Abbott",null,null,null,null,null,"Durham",null,null,null,10.16,1,null,null,null,null,null,null,null,null,null,null,null,null,null,null,null,null,null,null,10]
[{"$f":"IF(O17=A6,COUNTIF(O7:O17,A6),\"\")","v":""},{"$f":"IF(O17=B6,COUNTIF(O7:O17,B6),\"\")","v":""},{"$f":"IF(O17=C6,COUNTIF(O7:O17,C6),\"\")","v":""},{"$f":"IF(O17=D6,COUNTIF(O7:O17,D6),\"\")","v":""},{"$f":"IF(O17=E6,COUNTIF(O7:O17,E6),\"\")","v":3},{"$f":"IF(O17=F6,COUNTIF(O7:O17,F6),\"\")","v":""},11,87,"Willow Baker",null,null,null,null,null,"North Yorkshire",null,null,null,10.16,1,null,null,null,null,null,null,null,null,null,null,null,null,null,null,null,null,null,null,11]
[{"$f":"IF(O18=A6,COUNTIF(O7:O18,A6),\"\")","v":""},{"$f":"IF(O18=B6,COUNTIF(O7:O18,B6),\"\")","v":""},{"$f":"IF(O18=C6,COUNTIF(O7:O18,C6),\"\")","v":""},{"$f":"IF(O18=D6,COUNTIF(O7:O18,D6),\"\")","v":""},{"$f":"IF(O18=E6,COUNTIF(O7:O18,E6),\"\")","v":4},{"$f":"IF(O18=F6,COUNTIF(O7:O18,F6),\"\")","v":""},12,86,"Holly McCowie",null,null,null,null,null,"North Yorkshire",null,null,null,10.18,1,null,null,null,null,null,null,null,null,null,null,null,null,null,null,null,null,null,null,12]
[{"$f":"IF(O19=A6,COUNTIF(O7:O19,A6),\"\")","v":""},{"$f":"IF(O19=B6,COUNTIF(O7:O19,B6),\"\")","v":""},{"$f":"IF(O19=C6,COUNTIF(O7:O19,C6),\"\")","v":""},{"$f":"IF(O19=D6,COUNTIF(O7:O19,D6),\"\")","v":""},{"$f":"IF(O19=E6,COUNTIF(O7:O19,E6),\"\")","v":5},{"$f":"IF(O19=F6,COUNTIF(O7:O19,F6),\"\")","v":""},13,84,"Frances Hogg",null,null,null,null,null,"North Yorkshire",null,null,null,10.18,1,null,null,null,null,null,null,null,null,null,null,null,null,null,null,null,null,null,null,13]
[{"$f":"IF(O20=A6,COUNTIF(O7:O20,A6),\"\")","v":""},{"$f":"IF(O20=B6,COUNTIF(O7:O20,B6),\"\")","v":""},{"$f":"IF(O20=C6,COUNTIF(O7:O20,C6),\"\")","v":""},{"$f":"IF(O20=D6,COUNTIF(O7:O20,D6),\"\")","v":1},{"$f":"IF(O20=E6,COUNTIF(O7:O20,E6),\"\")","v":""},{"$f":"IF(O20=F6,COUNTIF(O7:O20,F6),\"\")","v":""},14,61,"Katie Joslyn",null,null,null,null,null,"Northumberland",null,null,null,10.199999999999999,1,null,null,null,null,null,null,null,null,null,null,null,null,null,null,null,null,null,null,14]
[{"$f":"IF(O21=A6,COUNTIF(O7:O21,A6),\"\")","v":""},{"$f":"IF(O21=B6,COUNTIF(O7:O21,B6),\"\")","v":""},{"$f":"IF(O21=C6,COUNTIF(O7:O21,C6),\"\")","v":3},{"$f":"IF(O21=D6,COUNTIF(O7:O21,D6),\"\")","v":""},{"$f":"IF(O21=E6,COUNTIF(O7:O21,E6),\"\")","v":""},{"$f":"IF(O21=F6,COUNTIF(O7:O21,F6),\"\")","v":""},15,46,"Anya Crowder",null,null,null,null,null,"Durham",null,null,null,10.23,1,null,null,null,null,null,null,null,null,null,null,null,null,null,null,null,null,null,null,15]
[{"$f":"IF(O22=A6,COUNTIF(O7:O22,A6),\"\")","v":""},{"$f":"IF(O22=B6,COUNTIF(O7:O22,B6),\"\")","v":""},{"$f":"IF(O22=C6,COUNTIF(O7:O22,C6),\"\")","v":""},{"$f":"IF(O22=D6,COUNTIF(O7:O22,D6),\"\")","v":""},{"$f":"IF(O22=E6,COUNTIF(O7:O22,E6),\"\")","v":6},{"$f":"IF(O22=F6,COUNTIF(O7:O22,F6),\"\")","v":""},16,85,"Shannon Robinson",null,null,null,null,null,"North Yorkshire",null,null,null,10.24,1,null,null,null,null,null,null,null,null,null,null,null,null,null,null,null,null,null,null,16]
[{"$f":"IF(O23=A6,COUNTIF(O7:O23,A6),\"\")","v":""},{"$f":"IF(O23=B6,COUNTIF(O7:O23,B6),\"\")","v":""},{"$f":"IF(O23=C6,COUNTIF(O7:O23,C6),\"\")","v":""},{"$f":"IF(O23=D6,COUNTIF(O7:O23,D6),\"\")","v":""},{"$f":"IF(O23=E6,COUNTIF(O7:O23,E6),\"\")","v":7},{"$f":"IF(O23=F6,COUNTIF(O7:O23,F6),\"\")","v":""},17,82,"Amelie Aylesbury",null,null,null,null,null,"North Yorkshire",null,null,null,10.26,1,null,null,null,null,null,null,null,null,null,null,null,null,null,null,null,null,null,null,17]
[{"$f":"IF(O24=A6,COUNTIF(O7:O24,A6),\"\")","v":""},{"$f":"IF(O24=B6,COUNTIF(O7:O24,B6),\"\")","v":""},{"$f":"IF(O24=C6,COUNTIF(O7:O24,C6),\"\")","v":4},{"$f":"IF(O24=D6,COUNTIF(O7:O24,D6),\"\")","v":""},{"$f":"IF(O24=E6,COUNTIF(O7:O24,E6),\"\")","v":""},{"$f":"IF(O24=F6,COUNTIF(O7:O24,F6),\"\")","v":""},18,41,"Freya Clarkson",null,null,null,null,null,"Durham",null,null,null,10.28,1,null,null,null,null,null,null,null,null,null,null,null,null,null,null,null,null,null,null,18]
[{"$f":"IF(O25=A6,COUNTIF(O7:O25,A6),\"\")","v":""},{"$f":"IF(O25=B6,COUNTIF(O7:O25,B6),\"\")","v":""},{"$f":"IF(O25=C6,COUNTIF(O7:O25,C6),\"\")","v":5},{"$f":"IF(O25=D6,COUNTIF(O7:O25,D6),\"\")","v":""},{"$f":"IF(O25=E6,COUNTIF(O7:O25,E6),\"\")","v":""},{"$f":"IF(O25=F6,COUNTIF(O7:O25,F6),\"\")","v":""},19,47,"Rachel Maclenwey",null,null,null,null,null,"Durham",null,null,null,10.29,1,null,null,null,null,null,null,null,null,null,null,null,null,null,null,null,null,null,null,19]
[{"$f":"IF(O26=A6,COUNTIF(O7:O26,A6),\"\")","v":""},{"$f":"IF(O26=B6,COUNTIF(O7:O26,B6),\"\")","v":""},{"$f":"IF(O26=C6,COUNTIF(O7:O26,C6),\"\")","v":""},{"$f":"IF(O26=D6,COUNTIF(O7:O26,D6),\"\")","v":2},{"$f":"IF(O26=E6,COUNTIF(O7:O26,E6),\"\")","v":""},{"$f":"IF(O26=F6,COUNTIF(O7:O26,F6),\"\")","v":""},20,63,"Zara Naughton",null,null,null,null,null,"Northumberland",null,null,null,10.34,1,null,null,null,null,null,null,null,null,null,null,null,null,null,null,null,null,null,null,20]
[{"$f":"IF(O27=A6,COUNTIF(O7:O27,A6),\"\")","v":""},{"$f":"IF(O27=B6,COUNTIF(O7:O27,B6),\"\")","v":""},{"$f":"IF(O27=C6,COUNTIF(O7:O27,C6),\"\")","v":""},{"$f":"IF(O27=D6,COUNTIF(O7:O27,D6),\"\")","v":3},{"$f":"IF(O27=E6,COUNTIF(O7:O27,E6),\"\")","v":""},{"$f":"IF(O27=F6,COUNTIF(O7:O27,F6),\"\")","v":""},21,65,"Laura Cottee",null,null,null,null,null,"Northumberland",null,null,null,10.34,1,null,null,null,null,null,null,null,null,null,null,null,null,null,null,null,null,null,null,21]
[{"$f":"IF(O28=A6,COUNTIF(O7:O28,A6),\"\")","v":""},{"$f":"IF(O28=B6,COUNTIF(O7:O28,B6),\"\")","v":5},{"$f":"IF(O28=C6,COUNTIF(O7:O28,C6),\"\")","v":""},{"$f":"IF(O28=D6,COUNTIF(O7:O28,D6),\"\")","v":""},{"$f":"IF(O28=E6,COUNTIF(O7:O28,E6),\"\")","v":""},{"$f":"IF(O28=F6,COUNTIF(O7:O28,F6),\"\")","v":""},22,35,"Mia Brayshaw",null,null,null,null,null,"Cumbria",null,null,null,10.34,1,null,null,null,null,null,null,null,null,null,null,null,null,null,null,null,null,null,null,22]
[{"$f":"IF(O29=A6,COUNTIF(O7:O29,A6),\"\")","v":""},{"$f":"IF(O29=B6,COUNTIF(O7:O29,B6),\"\")","v":""},{"$f":"IF(O29=C6,COUNTIF(O7:O29,C6),\"\")","v":6},{"$f":"IF(O29=D6,COUNTIF(O7:O29,D6),\"\")","v":""},{"$f":"IF(O29=E6,COUNTIF(O7:O29,E6),\"\")","v":""},{"$f":"IF(O29=F6,COUNTIF(O7:O29,F6),\"\")","v":""},23,42,"Jessica Peart",null,null,null,null,null,"Durham",null,null,null,10.34,1,null,null,null,null,null,null,null,null,null,null,null,null,null,null,null,null,null,null,23]
[{"$f":"IF(O30=A6,COUNTIF(O7:O30,A6),\"\")","v":""},{"$f":"IF(O30=B6,COUNTIF(O7:O30,B6),\"\")","v":""},{"$f":"IF(O30=C6,COUNTIF(O7:O30,C6),\"\")","v":7},{"$f":"IF(O30=D6,COUNTIF(O7:O30,D6),\"\")","v":""},{"$f":"IF(O30=E6,COUNTIF(O7:O30,E6),\"\")","v":""},{"$f":"IF(O30=F6,COUNTIF(O7:O30,F6),\"\")","v":""},24,43,"Ava Local",null,null,null,null,null,"Durham",null,null,null,10.34,1,null,null,null,null,null,null,null,null,null,null,null,null,null,null,null,null,null,null,24]
[{"$f":"IF(O31=A6,COUNTIF(O7:O31,A6),\"\")","v":""},{"$f":"IF(O31=B6,COUNTIF(O7:O31,B6),\"\")","v":6},{"$f":"IF(O31=C6,COUNTIF(O7:O31,C6),\"\")","v":""},{"$f":"IF(O31=D6,COUNTIF(O7:O31,D6),\"\")","v":""},{"$f":"IF(O31=E6,COUNTIF(O7:O31,E6),\"\")","v":""},{"$f":"IF(O31=F6,COUNTIF(O7:O31,F6),\"\")","v":""},25,33,"Fayth Bowness",null,null,null,null,null,"Cumbria",null,null,null,10.34,1,null,null,null,null,null,null,null,null,null,null,null,null,null,null,null,null,null,null,25]
[{"$f":"IF(O32=A6,COUNTIF(O7:O32,A6),\"\")","v":""},{"$f":"IF(O32=B6,COUNTIF(O7:O32,B6),\"\")","v":""},{"$f":"IF(O32=C6,COUNTIF(O7:O32,C6),\"\")","v":""},{"$f":"IF(O32=D6,COUNTIF(O7:O32,D6),\"\")","v":4},{"$f":"IF(O32=E6,COUNTIF(O7:O32,E6),\"\")","v":""},{"$f":"IF(O32=F6,COUNTIF(O7:O32,F6),\"\")","v":""},26,62,"Faye Landless",null,null,null,null,null,"Northumberland",null,null,null,10.34,1,null,null,null,null,null,null,null,null,null,null,null,null,null,null,null,null,null,null,26]
[{"$f":"IF(O33=A6,COUNTIF(O7:O33,A6),\"\")","v":""},{"$f":"IF(O33=B6,COUNTIF(O7:O33,B6),\"\")","v":7},{"$f":"IF(O33=C6,COUNTIF(O7:O33,C6),\"\")","v":""},{"$f":"IF(O33=D6,COUNTIF(O7:O33,D6),\"\")","v":""},{"$f":"IF(O33=E6,COUNTIF(O7:O33,E6),\"\")","v":""},{"$f":"IF(O33=F6,COUNTIF(O7:O33,F6),\"\")","v":""},27,37,"Ebony Blackwell",null,null,null,null,null,"Cumbria",null,null,null,10.34,1,null,null,null,null,null,null,null,null,null,null,null,null,null,null,null,null,null,null,27]
[{"$f":"IF(O34=A6,COUNTIF(O7:O34,A6),\"\")","v":3},{"$f":"IF(O34=B6,COUNTIF(O7:O34,B6),\"\")","v":""},{"$f":"IF(O34=C6,COUNTIF(O7:O34,C6),\"\")","v":""},{"$f":"IF(O34=D6,COUNTIF(O7:O34,D6),\"\")","v":""},{"$f":"IF(O34=E6,COUNTIF(O7:O34,E6),\"\")","v":""},{"$f":"IF(O34=F6,COUNTIF(O7:O34,F6),\"\")","v":""},28,4,"Isabelle Troop",null,null,null,null,null,"Cleveland",null,null,null,10.37,1,null,null,null,null,null,null,null,null,null,null,null,null,null,null,null,null,null,null,28]
[{"$f":"IF(O35=A6,COUNTIF(O7:O35,A6),\"\")","v":""},{"$f":"IF(O35=B6,COUNTIF(O7:O35,B6),\"\")","v":""},{"$f":"IF(O35=C6,COUNTIF(O7:O35,C6),\"\")","v":""},{"$f":"IF(O35=D6,COUNTIF(O7:O35,D6),\"\")","v":5},{"$f":"IF(O35=E6,COUNTIF(O7:O35,E6),\"\")","v":""},{"$f":"IF(O35=F6,COUNTIF(O7:O35,F6),\"\")","v":""},29,64,"Charlotte Payton",null,null,null,null,null,"Northumberland",null,null,null,10.38,1,null,null,null,null,null,null,null,null,null,null,null,null,null,null,null,null,null,null,29]
[{"$f":"IF(O36=A6,COUNTIF(O7:O36,A6),\"\")","v":""},{"$f":"IF(O36=B6,COUNTIF(O7:O36,B6),\"\")","v":""},{"$f":"IF(O36=C6,COUNTIF(O7:O36,C6),\"\")","v":""},{"$f":"IF(O36=D6,COUNTIF(O7:O36,D6),\"\")","v":6},{"$f":"IF(O36=E6,COUNTIF(O7:O36,E6),\"\")","v":""},{"$f":"IF(O36=F6,COUNTIF(O7:O36,F6),\"\")","v":""},30,66,"Caitlin Flanagan",null,null,null,null,null,"Northumberland",null,null,null,10.4,1,null,null,null,null,null,null,null,null,null,null,null,null,null,null,null,null,null,null,30]
[{"$f":"IF(O37=A6,COUNTIF(O7:O37,A6),\"\")","v":""},{"$f":"IF(O37=B6,COUNTIF(O7:O37,B6),\"\")","v":8},{"$f":"IF(O37=C6,COUNTIF(O7:O37,C6),\"\")","v":""},{"$f":"IF(O37=D6,COUNTIF(O7:O37,D6),\"\")","v":""},{"$f":"IF(O37=E6,COUNTIF(O7:O37,E6),\"\")","v":""},{"$f":"IF(O37=F6,COUNTIF(O7:O37,F6),\"\")","v":""},31,26,"Jessica Bailey",null,null,null,null,null,"Cumbria",null,null,null,10.42,1,null,null,null,null,null,null,null,null,null,null,null,null,null,null,null,null,null,null,31]
[{"$f":"IF(O38=A6,COUNTIF(O7:O38,A6),\"\")","v":""},{"$f":"IF(O38=B6,COUNTIF(O7:O38,B6),\"\")","v":""},{"$f":"IF(O38=C6,COUNTIF(O7:O38,C6),\"\")","v":""},{"$f":"IF(O38=D6,COUNTIF(O7:O38,D6),\"\")","v":""},{"$f":"IF(O38=E6,COUNTIF(O7:O38,E6),\"\")","v":8},{"$f":"IF(O38=F6,COUNTIF(O7:O38,F6),\"\")","v":""},32,88,"Anya Potter-Firth",null,null,null,null,null,"North Yorkshire",null,null,null,10.51,1,null,null,null,null,null,null,null,null,null,null,null,null,null,null,null,null,null,null,32]
[{"$f":"IF(O39=A6,COUNTIF(O7:O39,A6),\"\")","v":""},{"$f":"IF(O39=B6,COUNTIF(O7:O39,B6),\"\")","v":9},{"$f":"IF(O39=C6,COUNTIF(O7:O39,C6),\"\")","v":""},{"$f":"IF(O39=D6,COUNTIF(O7:O39,D6),\"\")","v":""},{"$f":"IF(O39=E6,COUNTIF(O7:O39,E6),\"\")","v":""},{"$f":"IF(O39=F6,COUNTIF(O7:O39,F6),\"\")","v":""},33,28,"Grace Monkhouse",null,null,null,null,null,"Cumbria",null,null,null,10.53,1,null,null,null,null,null,null,null,null,null,null,null,null,null,null,null,null,null,null,33]
[{"$f":"IF(O40=A6,COUNTIF(O7:O40,A6),\"\")","v":4},{"$f":"IF(O40=B6,COUNTIF(O7:O40,B6),\"\")","v":""},{"$f":"IF(O40=C6,COUNTIF(O7:O40,C6),\"\")","v":""},{"$f":"IF(O40=D6,COUNTIF(O7:O40,D6),\"\")","v":""},{"$f":"IF(O40=E6,COUNTIF(O7:O40,E6),\"\")","v":""},{"$f":"IF(O40=F6,COUNTIF(O7:O40,F6),\"\")","v":""},34,8,"Fern Shelton",null,null,null,null,null,"Cleveland",null,null,null,10.55,1,null,null,null,null,null,null,null,null,null,null,null,null,null,null,null,null,null,null,34]
[{"$f":"IF(O41=A6,COUNTIF(O7:O41,A6),\"\")","v":""},{"$f":"IF(O41=B6,COUNTIF(O7:O41,B6),\"\")","v":""},{"$f":"IF(O41=C6,COUNTIF(O7:O41,C6),\"\")","v":""},{"$f":"IF(O41=D6,COUNTIF(O7:O41,D6),\"\")","v":7},{"$f":"IF(O41=E6,COUNTIF(O7:O41,E6),\"\")","v":""},{"$f":"IF(O41=F6,COUNTIF(O7:O41,F6),\"\")","v":""},35,68,"Nikola Grinberga",null,null,null,null,null,"Northumberland",null,null,null,10.57,1,null,null,null,null,null,null,null,null,null,null,null,null,null,null,null,null,null,null,35]
[{"$f":"IF(O42=A6,COUNTIF(O7:O42,A6),\"\")","v":""},{"$f":"IF(O42=B6,COUNTIF(O7:O42,B6),\"\")","v":""},{"$f":"IF(O42=C6,COUNTIF(O7:O42,C6),\"\")","v":""},{"$f":"IF(O42=D6,COUNTIF(O7:O42,D6),\"\")","v":8},{"$f":"IF(O42=E6,COUNTIF(O7:O42,E6),\"\")","v":""},{"$f":"IF(O42=F6,COUNTIF(O7:O42,F6),\"\")","v":""},36,71,"Georgina Mabbott",null,null,null,null,null,"Northumberland",null,null,null,10.58,1,null,null,null,null,null,null,null,null,null,null,null,null,null,null,null,null,null,null,36]
[{"$f":"IF(O43=A6,COUNTIF(O7:O43,A6),\"\")","v":""},{"$f":"IF(O43=B6,COUNTIF(O7:O43,B6),\"\")","v":""},{"$f":"IF(O43=C6,COUNTIF(O7:O43,C6),\"\")","v":""},{"$f":"IF(O43=D6,COUNTIF(O7:O43,D6),\"\")","v":9},{"$f":"IF(O43=E6,COUNTIF(O7:O43,E6),\"\")","v":""},{"$f":"IF(O43=F6,COUNTIF(O7:O43,F6),\"\")","v":""},37,67,"Imogen Bungay",null,null,null,null,null,"Northumberland",null,null,null,10.59,1,null,null,null,null,null,null,null,null,null,null,null,null,null,null,null,null,null,null,37]
[{"$f":"IF(O44=A6,COUNTIF(O7:O44,A6),\"\")","v":""},{"$f":"IF(O44=B6,COUNTIF(O7:O44,B6),\"\")","v":""},{"$f":"IF(O44=C6,COUNTIF(O7:O44,C6),\"\")","v":8},{"$f":"IF(O44=D6,COUNTIF(O7:O44,D6),\"\")","v":""},{"$f":"IF(O44=E6,COUNTIF(O7:O44,E6),\"\")","v":""},{"$f":"IF(O44=F6,COUNTIF(O7:O44,F6),\"\")","v":""},38,50,"Heather Robinson",null,null,null,null,null,"Durham",null,null,null,11,1,null,null,null,null,null,null,null,null,null,null,null,null,null,null,null,null,null,null,38]
[{"$f":"IF(O45=A6,COUNTIF(O7:O45,A6),\"\")","v":""},{"$f":"IF(O45=B6,COUNTIF(O7:O45,B6),\"\")","v":10},{"$f":"IF(O45=C6,COUNTIF(O7:O45,C6),\"\")","v":""},{"$f":"IF(O45=D6,COUNTIF(O7:O45,D6),\"\")","v":""},{"$f":"IF(O45=E6,COUNTIF(O7:O45,E6),\"\")","v":""},{"$f":"IF(O45=F6,COUNTIF(O7:O45,F6),\"\")","v":""},39,30,"Bethan Saunders",null,null,null,null,null,"Cumbria",null,null,null,11.04,1,null,null,null,null,null,null,null,null,null,null,null,null,null,null,null,null,null,null,39]
[{"$f":"IF(O46=A6,COUNTIF(O7:O46,A6),\"\")","v":""},{"$f":"IF(O46=B6,COUNTIF(O7:O46,B6),\"\")","v":""},{"$f":"IF(O46=C6,COUNTIF(O7:O46,C6),\"\")","v":""},{"$f":"IF(O46=D6,COUNTIF(O7:O46,D6),\"\")","v":""},{"$f":"IF(O46=E6,COUNTIF(O7:O46,E6),\"\")","v":9},{"$f":"IF(O46=F6,COUNTIF(O7:O46,F6),\"\")","v":""},40,87,"Willow Baker",null,null,null,null,null,"North Yorkshire",null,null,null,11.07,1,null,null,null,null,null,null,null,null,null,null,null,null,null,null,null,null,null,null,40]
[{"$f":"IF(O47=A6,COUNTIF(O7:O47,A6),\"\")","v":""},{"$f":"IF(O47=B6,COUNTIF(O7:O47,B6),\"\")","v":11},{"$f":"IF(O47=C6,COUNTIF(O7:O47,C6),\"\")","v":""},{"$f":"IF(O47=D6,COUNTIF(O7:O47,D6),\"\")","v":""},{"$f":"IF(O47=E6,COUNTIF(O7:O47,E6),\"\")","v":""},{"$f":"IF(O47=F6,COUNTIF(O7:O47,F6),\"\")","v":""},41,32,"Ella Parr",null,null,null,null,null,"Cumbria",null,null,null,11.09,1,null,null,null,null,null,null,null,null,null,null,null,null,null,null,null,null,null,null,41]
[{"$f":"IF(O48=A6,COUNTIF(O7:O48,A6),\"\")","v":""},{"$f":"IF(O48=B6,COUNTIF(O7:O48,B6),\"\")","v":""},{"$f":"IF(O48=C6,COUNTIF(O7:O48,C6),\"\")","v":""},{"$f":"IF(O48=D6,COUNTIF(O7:O48,D6),\"\")","v":10},{"$f":"IF(O48=E6,COUNTIF(O7:O48,E6),\"\")","v":""},{"$f":"IF(O48=F6,COUNTIF(O7:O48,F6),\"\")","v":""},42,73,"Eve Rudd",null,null,null,null,null,"Northumberland",null,null,null,11.09,1,null,null,null,null,null,null,null,null,null,null,null,null,null,null,null,null,null,null,42]
[{"$f":"IF(O49=A6,COUNTIF(O7:O49,A6),\"\")","v":""},{"$f":"IF(O49=B6,COUNTIF(O7:O49,B6),\"\")","v":""},{"$f":"IF(O49=C6,COUNTIF(O7:O49,C6),\"\")","v":""},{"$f":"IF(O49=D6,COUNTIF(O7:O49,D6),\"\")","v":11},{"$f":"IF(O49=E6,COUNTIF(O7:O49,E6),\"\")","v":""},{"$f":"IF(O49=F6,COUNTIF(O7:O49,F6),\"\")","v":""},43,69,"Matilda Anderson",null,null,null,null,null,"Northumberland",null,null,null,11.1,1,null,null,null,null,null,null,null,null,null,null,null,null,null,null,null,null,null,null,43]
[{"$f":"IF(O50=A6,COUNTIF(O7:O50,A6),\"\")","v":""},{"$f":"IF(O50=B6,COUNTIF(O7:O50,B6),\"\")","v":""},{"$f":"IF(O50=C6,COUNTIF(O7:O50,C6),\"\")","v":9},{"$f":"IF(O50=D6,COUNTIF(O7:O50,D6),\"\")","v":""},{"$f":"IF(O50=E6,COUNTIF(O7:O50,E6),\"\")","v":""},{"$f":"IF(O50=F6,COUNTIF(O7:O50,F6),\"\")","v":""},44,48,"Freya Gibson",null,null,null,null,null,"Durham",null,null,null,11.13,1,null,null,null,null,null,null,null,null,null,null,null,null,null,null,null,null,null,null,44]
[{"$f":"IF(O51=A6,COUNTIF(O7:O51,A6),\"\")","v":""},{"$f":"IF(O51=B6,COUNTIF(O7:O51,B6),\"\")","v":12},{"$f":"IF(O51=C6,COUNTIF(O7:O51,C6),\"\")","v":""},{"$f":"IF(O51=D6,COUNTIF(O7:O51,D6),\"\")","v":""},{"$f":"IF(O51=E6,COUNTIF(O7:O51,E6),\"\")","v":""},{"$f":"IF(O51=F6,COUNTIF(O7:O51,F6),\"\")","v":""},{"$f":"IF(LEFT(S52,1)=\"D\",0,AM51)","v":45},34,"Bethany Saunders",null,null,null,null,null,"Cumbria",null,null,null,11.15,1,null,null,null,null,null,null,null,null,null,null,null,null,null,null,null,null,null,null,45]
[{"$f":"IF(O52=A6,COUNTIF(O7:O52,A6),\"\")","v":""},{"$f":"IF(O52=B6,COUNTIF(O7:O52,B6),\"\")","v":13},{"$f":"IF(O52=C6,COUNTIF(O7:O52,C6),\"\")","v":""},{"$f":"IF(O52=D6,COUNTIF(O7:O52,D6),\"\")","v":""},{"$f":"IF(O52=E6,COUNTIF(O7:O52,E6),\"\")","v":""},{"$f":"IF(O52=F6,COUNTIF(O7:O52,F6),\"\")","v":""},{"$f":"IF(LEFT(#REF!,1)=\"D\",0,AM52)","v":{"$error":"#REF!"}},36,"Holly Brown",null,null,null,null,null,"Cumbria",null,null,null,11.15,1,null,null,null,null,null,null,null,null,null,null,null,null,null,null,null,null,null,null,46]
[{"$f":"IF(O53=A6,COUNTIF(O7:O53,A6),\"\")","v":""},{"$f":"IF(O53=B6,COUNTIF(O7:O53,B6),\"\")","v":""},{"$f":"IF(O53=C6,COUNTIF(O7:O53,C6),\"\")","v":""},{"$f":"IF(O53=D6,COUNTIF(O7:O53,D6),\"\")","v":12},{"$f":"IF(O53=E6,COUNTIF(O7:O53,E6),\"\")","v":""},{"$f":"IF(O53=F6,COUNTIF(O7:O53,F6),\"\")","v":""},47,70,"Daisy McClintock",null,null,null,null,null,"Northumberland",null,null,null,11.29,1,null,null,null,null,null,null,null,null,null,null,null,null,null,null,null,null,null,null,47]
[{"$f":"IF(O54=A6,COUNTIF(O7:O54,A6),\"\")","v":""},{"$f":"IF(O54=B6,COUNTIF(O7:O54,B6),\"\")","v":""},{"$f":"IF(O54=C6,COUNTIF(O7:O54,C6),\"\")","v":""},{"$f":"IF(O54=D6,COUNTIF(O7:O54,D6),\"\")","v":""},{"$f":"IF(O54=E6,COUNTIF(O7:O54,E6),\"\")","v":10},{"$f":"IF(O54=F6,COUNTIF(O7:O54,F6),\"\")","v":""},48,91,"Emily Simpson",null,null,null,null,null,"North Yorkshire",null,null,null,11.33,1,null,null,null,null,null,null,null,null,null,null,null,null,null,null,null,null,null,null,48]
[{"$f":"IF(O55=A6,COUNTIF(O7:O55,A6),\"\")","v":""},{"$f":"IF(O55=B6,COUNTIF(O7:O55,B6),\"\")","v":""},{"$f":"IF(O55=C6,COUNTIF(O7:O55,C6),\"\")","v":""},{"$f":"IF(O55=D6,COUNTIF(O7:O55,D6),\"\")","v":13},{"$f":"IF(O55=E6,COUNTIF(O7:O55,E6),\"\")","v":""},{"$f":"IF(O55=F6,COUNTIF(O7:O55,F6),\"\")","v":""},49,72,"Elizabeth Carragher",null,null,null,null,null,"Northumberland",null,null,null,11.34,1,null,null,null,null,null,null,null,null,null,null,null,null,null,null,null,null,null,null,49]
[{"$f":"IF(O56=A6,COUNTIF(O7:O56,A6),\"\")","v":""},{"$f":"IF(O56=B6,COUNTIF(O7:O56,B6),\"\")","v":14},{"$f":"IF(O56=C6,COUNTIF(O7:O56,C6),\"\")","v":""},{"$f":"IF(O56=D6,COUNTIF(O7:O56,D6),\"\")","v":""},{"$f":"IF(O56=E6,COUNTIF(O7:O56,E6),\"\")","v":""},{"$f":"IF(O56=F6,COUNTIF(O7:O56,F6),\"\")","v":""},50,23,"Clara Samson",null,null,null,null,null,"Cumbria",null,null,null,11.46,1,null,null,null,null,null,null,null,null,null,null,null,null,null,null,null,null,null,null,50]
[{"$f":"IF(O57=A6,COUNTIF(O7:O57,A6),\"\")","v":5},{"$f":"IF(O57=B6,COUNTIF(O7:O57,B6),\"\")","v":""},{"$f":"IF(O57=C6,COUNTIF(O7:O57,C6),\"\")","v":""},{"$f":"IF(O57=D6,COUNTIF(O7:O57,D6),\"\")","v":""},{"$f":"IF(O57=E6,COUNTIF(O7:O57,E6),\"\")","v":""},{"$f":"IF(O57=F6,COUNTIF(O7:O57,F6),\"\")","v":""},51,5,"Molly Thrower",null,null,null,null,null,"Cleveland",null,null,null,11.51,1,null,null,null,null,null,null,null,null,null,null,null,null,null,null,null,null,null,null,51]
[{"$f":"IF(O58=A6,COUNTIF(O7:O58,A6),\"\")","v":""},{"$f":"IF(O58=B6,COUNTIF(O7:O58,B6),\"\")","v":""},{"$f":"IF(O58=C6,COUNTIF(O7:O58,C6),\"\")","v":""},{"$f":"IF(O58=D6,COUNTIF(O7:O58,D6),\"\")","v":14},{"$f":"IF(O58=E6,COUNTIF(O7:O58,E6),\"\")","v":""},{"$f":"IF(O58=F6,COUNTIF(O7:O58,F6),\"\")","v":""},52,75,"Sophia Cunningham",null,null,null,null,null,"Northumberland",null,null,null,12.15,1,null,null,null,null,null,null,null,null,null,null,null,null,null,null,null,null,null,null,52]
[{"$f":"IF(O59=A6,COUNTIF(O7:O59,A6),\"\")","v":""},{"$f":"IF(O59=B6,COUNTIF(O7:O59,B6),\"\")","v":""},{"$f":"IF(O59=C6,COUNTIF(O7:O59,C6),\"\")","v":""},{"$f":"IF(O59=D6,COUNTIF(O7:O59,D6),\"\")","v":""},{"$f":"IF(O59=E6,COUNTIF(O7:O59,E6),\"\")","v":""},{"$f":"IF(O59=F6,COUNTIF(O7:O59,F6),\"\")","v":""},53,null,"",null,null,null,null,null,"",null,null,null,null,0,null,null,null,null,null,null,null,null,null,null,null,null,null,null,null,null,null,null,53]
[{"$f":"IF(O60=A6,COUNTIF(O7:O60,A6),\"\")","v":""},{"$f":"IF(O60=B6,COUNTIF(O7:O60,B6),\"\")","v":""},{"$f":"IF(O60=C6,COUNTIF(O7:O60,C6),\"\")","v":""},{"$f":"IF(O60=D6,COUNTIF(O7:O60,D6),\"\")","v":""},{"$f":"IF(O60=E6,COUNTIF(O7:O60,E6),\"\")","v":""},{"$f":"IF(O60=F6,COUNTIF(O7:O60,F6),\"\")","v":""},54,null,"",null,null,null,null,null,"",null,null,null,null,0,null,null,null,null,null,null,null,null,null,null,null,null,null,null,null,null,null,null,54]
[{"$f":"IF(O61=A6,COUNTIF(O7:O61,A6),\"\")","v":""},{"$f":"IF(O61=B6,COUNTIF(O7:O61,B6),\"\")","v":""},{"$f":"IF(O61=C6,COUNTIF(O7:O61,C6),\"\")","v":""},{"$f":"IF(O61=D6,COUNTIF(O7:O61,D6),\"\")","v":""},{"$f":"IF(O61=E6,COUNTIF(O7:O61,E6),\"\")","v":""},{"$f":"IF(O61=F6,COUNTIF(O7:O61,F6),\"\")","v":""},55,null,"",null,null,null,null,null,"",null,null,null,null,0,null,null,null,null,null,null,null,null,null,null,null,null,null,null,null,null,null,null,55]
[{"$f":"IF(O62=A6,COUNTIF(O7:O62,A6),\"\")","v":""},{"$f":"IF(O62=B6,COUNTIF(O7:O62,B6),\"\")","v":""},{"$f":"IF(O62=C6,COUNTIF(O7:O62,C6),\"\")","v":""},{"$f":"IF(O62=D6,COUNTIF(O7:O62,D6),\"\")","v":""},{"$f":"IF(O62=E6,COUNTIF(O7:O62,E6),\"\")","v":""},{"$f":"IF(O62=F6,COUNTIF(O7:O62,F6),\"\")","v":""},56,null,"",null,null,null,null,null,"",null,null,null,null,0,null,null,null,null,null,null,null,null,null,null,null,null,null,null,null,null,null,null,56]
[{"$f":"IF(O63=A6,COUNTIF(O7:O63,A6),\"\")","v":""},{"$f":"IF(O63=B6,COUNTIF(O7:O63,B6),\"\")","v":""},{"$f":"IF(O63=C6,COUNTIF(O7:O63,C6),\"\")","v":""},{"$f":"IF(O63=D6,COUNTIF(O7:O63,D6),\"\")","v":""},{"$f":"IF(O63=E6,COUNTIF(O7:O63,E6),\"\")","v":""},{"$f":"IF(O63=F6,COUNTIF(O7:O63,F6),\"\")","v":""},57,null,"",null,null,null,null,null,"",null,null,null,null,0,null,null,null,null,null,null,null,null,null,null,null,null,null,null,null,null,null,null,57]
[{"$f":"IF(O64=A6,COUNTIF(O7:O64,A6),\"\")","v":""},{"$f":"IF(O64=B6,COUNTIF(O7:O64,B6),\"\")","v":""},{"$f":"IF(O64=C6,COUNTIF(O7:O64,C6),\"\")","v":""},{"$f":"IF(O64=D6,COUNTIF(O7:O64,D6),\"\")","v":""},{"$f":"IF(O64=E6,COUNTIF(O7:O64,E6),\"\")","v":""},{"$f":"IF(O64=F6,COUNTIF(O7:O64,F6),\"\")","v":""},58,null,"",null,null,null,null,null,"",null,null,null,null,0,null,null,null,null,null,null,null,null,null,null,null,null,null,null,null,null,null,null,58]
[{"$f":"IF(O65=A6,COUNTIF(O7:O65,A6),\"\")","v":""},{"$f":"IF(O65=B6,COUNTIF(O7:O65,B6),\"\")","v":""},{"$f":"IF(O65=C6,COUNTIF(O7:O65,C6),\"\")","v":""},{"$f":"IF(O65=D6,COUNTIF(O7:O65,D6),\"\")","v":""},{"$f":"IF(O65=E6,COUNTIF(O7:O65,E6),\"\")","v":""},{"$f":"IF(O65=F6,COUNTIF(O7:O65,F6),\"\")","v":""},59,null,"",null,null,null,null,null,"",null,null,null,null,0,null,null,null,null,null,null,null,null,null,null,null,null,null,null,null,null,null,null,59]
[{"$f":"IF(O66=A6,COUNTIF(O7:O66,A6),\"\")","v":""},{"$f":"IF(O66=B6,COUNTIF(O7:O66,B6),\"\")","v":""},{"$f":"IF(O66=C6,COUNTIF(O7:O66,C6),\"\")","v":""},{"$f":"IF(O66=D6,COUNTIF(O7:O66,D6),\"\")","v":""},{"$f":"IF(O66=E6,COUNTIF(O7:O66,E6),\"\")","v":""},{"$f":"IF(O66=F6,COUNTIF(O7:O66,F6),\"\")","v":""},60,null,"",null,null,null,null,null,"",null,null,null,null,0,null,null,null,null,null,null,null,null,null,null,null,null,null,null,null,null,null,null,60]
[{"$f":"IF(O67=A6,COUNTIF(O7:O67,A6),\"\")","v":""},{"$f":"IF(O67=B6,COUNTIF(O7:O67,B6),\"\")","v":""},{"$f":"IF(O67=C6,COUNTIF(O7:O67,C6),\"\")","v":""},{"$f":"IF(O67=D6,COUNTIF(O7:O67,D6),\"\")","v":""},{"$f":"IF(O67=E6,COUNTIF(O7:O67,E6),\"\")","v":""},{"$f":"IF(O67=F6,COUNTIF(O7:O67,F6),\"\")","v":""},61,null,"",null,null,null,null,null,"",null,null,null,null,0,null,null,null,null,null,null,null,null,null,null,null,null,null,null,null,null,null,null,61]
[{"$f":"IF(O68=A6,COUNTIF(O7:O68,A6),\"\")","v":""},{"$f":"IF(O68=B6,COUNTIF(O7:O68,B6),\"\")","v":""},{"$f":"IF(O68=C6,COUNTIF(O7:O68,C6),\"\")","v":""},{"$f":"IF(O68=D6,COUNTIF(O7:O68,D6),\"\")","v":""},{"$f":"IF(O68=E6,COUNTIF(O7:O68,E6),\"\")","v":""},{"$f":"IF(O68=F6,COUNTIF(O7:O68,F6),\"\")","v":""},62,null,"",null,null,null,null,null,"",null,null,null,null,0,null,null,null,null,null,null,null,null,null,null,null,null,null,null,null,null,null,null,62]
[{"$f":"IF(O69=A6,COUNTIF(O7:O69,A6),\"\")","v":""},{"$f":"IF(O69=B6,COUNTIF(O7:O69,B6),\"\")","v":""},{"$f":"IF(O69=C6,COUNTIF(O7:O69,C6),\"\")","v":""},{"$f":"IF(O69=D6,COUNTIF(O7:O69,D6),\"\")","v":""},{"$f":"IF(O69=E6,COUNTIF(O7:O69,E6),\"\")","v":""},{"$f":"IF(O69=F6,COUNTIF(O7:O69,F6),\"\")","v":""},63,null,"",null,null,null,null,null,"",null,null,null,null,0,null,null,null,null,null,null,null,null,null,null,null,null,null,null,null,null,null,null,63]
[{"$f":"IF(O70=A6,COUNTIF(O7:O70,A6),\"\")","v":""},{"$f":"IF(O70=B6,COUNTIF(O7:O70,B6),\"\")","v":""},{"$f":"IF(O70=C6,COUNTIF(O7:O70,C6),\"\")","v":""},{"$f":"IF(O70=D6,COUNTIF(O7:O70,D6),\"\")","v":""},{"$f":"IF(O70=E6,COUNTIF(O7:O70,E6),\"\")","v":""},{"$f":"IF(O70=F6,COUNTIF(O7:O70,F6),\"\")","v":""},64,null,"",null,null,null,null,null,"",null,null,null,null,0,null,null,null,null,null,null,null,null,null,null,null,null,null,null,null,null,null,null,64]
[{"$f":"IF(O71=A6,COUNTIF(O7:O71,A6),\"\")","v":""},{"$f":"IF(O71=B6,COUNTIF(O7:O71,B6),\"\")","v":""},{"$f":"IF(O71=C6,COUNTIF(O7:O71,C6),\"\")","v":""},{"$f":"IF(O71=D6,COUNTIF(O7:O71,D6),\"\")","v":""},{"$f":"IF(O71=E6,COUNTIF(O7:O71,E6),\"\")","v":""},{"$f":"IF(O71=F6,COUNTIF(O7:O71,F6),\"\")","v":""},{"$f":"IF(LEFT(S71,1)=\"D\",0,AM71)","v":65},null,{"$f":"IFERROR(VLOOKUP(H71,INDIRECT($AA$1),2,0),\"\")","v":""},null,null,null,null,null,{"$f":"IFERROR(VLOOKUP(H71,INDIRECT($AA$1),3,0),\"\")","v":""},null,null,null,null,{"$f":"IF(H71=0,0,1)","v":0},null,null,null,null,null,null,null,null,null,null,null,null,null,null,null,null,null,null,65]
[{"$f":"IF(O72=A6,COUNTIF(O7:O72,A6),\"\")","v":""},{"$f":"IF(O72=B6,COUNTIF(O7:O72,B6),\"\")","v":""},{"$f":"IF(O72=C6,COUNTIF(O7:O72,C6),\"\")","v":""},{"$f":"IF(O72=D6,COUNTIF(O7:O72,D6),\"\")","v":""},{"$f":"IF(O72=E6,COUNTIF(O7:O72,E6),\"\")","v":""},{"$f":"IF(O72=F6,COUNTIF(O7:O72,F6),\"\")","v":""},66,null,"",null,null,null,null,null,"",null,null,null,null,0,null,null,null,null,null,null,null,null,null,null,null,null,null,null,null,null,null,null,66]
[{"$f":"IF(O73=A6,COUNTIF(O7:O73,A6),\"\")","v":""},{"$f":"IF(O73=B6,COUNTIF(O7:O73,B6),\"\")","v":""},{"$f":"IF(O73=C6,COUNTIF(O7:O73,C6),\"\")","v":""},{"$f":"IF(O73=D6,COUNTIF(O7:O73,D6),\"\")","v":""},{"$f":"IF(O73=E6,COUNTIF(O7:O73,E6),\"\")","v":""},{"$f":"IF(O73=F6,COUNTIF(O7:O73,F6),\"\")","v":""},67,null,"",null,null,null,null,null,"",null,null,null,null,0,null,null,null,null,null,null,null,null,null,null,null,null,null,null,null,null,null,null,67]
[{"$f":"IF(O74=A6,COUNTIF(O7:O74,A6),\"\")","v":""},{"$f":"IF(O74=B6,COUNTIF(O7:O74,B6),\"\")","v":""},{"$f":"IF(O74=C6,COUNTIF(O7:O74,C6),\"\")","v":""},{"$f":"IF(O74=D6,COUNTIF(O7:O74,D6),\"\")","v":""},{"$f":"IF(O74=E6,COUNTIF(O7:O74,E6),\"\")","v":""},{"$f":"IF(O74=F6,COUNTIF(O7:O74,F6),\"\")","v":""},68,null,"",null,null,null,null,null,"",null,null,null,null,0,null,null,null,null,null,null,null,null,null,null,null,null,null,null,null,null,null,null,68]
[{"$f":"IF(O75=A6,COUNTIF(O7:O75,A6),\"\")","v":""},{"$f":"IF(O75=B6,COUNTIF(O7:O75,B6),\"\")","v":""},{"$f":"IF(O75=C6,COUNTIF(O7:O75,C6),\"\")","v":""},{"$f":"IF(O75=D6,COUNTIF(O7:O75,D6),\"\")","v":""},{"$f":"IF(O75=E6,COUNTIF(O7:O75,E6),\"\")","v":""},{"$f":"IF(O75=F6,COUNTIF(O7:O75,F6),\"\")","v":""},69,null,"",null,null,null,null,null,"",null,null,null,null,0,null,null,null,null,null,null,null,null,null,null,null,null,null,null,null,null,null,null,69]
[{"$f":"IF(O76=A6,COUNTIF(O7:O76,A6),\"\")","v":""},{"$f":"IF(O76=B6,COUNTIF(O7:O76,B6),\"\")","v":""},{"$f":"IF(O76=C6,COUNTIF(O7:O76,C6),\"\")","v":""},{"$f":"IF(O76=D6,COUNTIF(O7:O76,D6),\"\")","v":""},{"$f":"IF(O76=E6,COUNTIF(O7:O76,E6),\"\")","v":""},{"$f":"IF(O76=F6,COUNTIF(O7:O76,F6),\"\")","v":""},70,null,"",null,null,null,null,null,"",null,null,null,null,0,null,null,null,null,null,null,null,null,null,null,null,null,null,null,null,null,null,null,70]
[{"$f":"IF(O77=A6,COUNTIF(O7:O77,A6),\"\")","v":""},{"$f":"IF(O77=B6,COUNTIF(O7:O77,B6),\"\")","v":""},{"$f":"IF(O77=C6,COUNTIF(O7:O77,C6),\"\")","v":""},{"$f":"IF(O77=D6,COUNTIF(O7:O77,D6),\"\")","v":""},{"$f":"IF(O77=E6,COUNTIF(O7:O77,E6),\"\")","v":""},{"$f":"IF(O77=F6,COUNTIF(O7:O77,F6),\"\")","v":""},71,null,"",null,null,null,null,null,"",null,null,null,null,0,null,null,null,null,null,null,null,null,null,null,null,null,null,null,null,null,null,null,71]
[{"$f":"IF(O78=A6,COUNTIF(O7:O78,A6),\"\")","v":""},{"$f":"IF(O78=B6,COUNTIF(O7:O78,B6),\"\")","v":""},{"$f":"IF(O78=C6,COUNTIF(O7:O78,C6),\"\")","v":""},{"$f":"IF(O78=D6,COUNTIF(O7:O78,D6),\"\")","v":""},{"$f":"IF(O78=E6,COUNTIF(O7:O78,E6),\"\")","v":""},{"$f":"IF(O78=F6,COUNTIF(O7:O78,F6),\"\")","v":""},72,null,"",null,null,null,null,null,"",null,null,null,null,0,null,null,null,null,null,null,null,null,null,null,null,null,null,null,null,null,null,null,72]
[{"$f":"IF(O79=A6,COUNTIF(O7:O79,A6),\"\")","v":""},{"$f":"IF(O79=B6,COUNTIF(O7:O79,B6),\"\")","v":""},{"$f":"IF(O79=C6,COUNTIF(O7:O79,C6),\"\")","v":""},{"$f":"IF(O79=D6,COUNTIF(O7:O79,D6),\"\")","v":""},{"$f":"IF(O79=E6,COUNTIF(O7:O79,E6),\"\")","v":""},{"$f":"IF(O79=F6,COUNTIF(O7:O79,F6),\"\")","v":""},73,null,"",null,null,null,null,null,"",null,null,null,null,0,null,null,null,null,null,null,null,null,null,null,null,null,null,null,null,null,null,null,73]
[{"$f":"IF(O80=A6,COUNTIF(O7:O80,A6),\"\")","v":""},{"$f":"IF(O80=B6,COUNTIF(O7:O80,B6),\"\")","v":""},{"$f":"IF(O80=C6,COUNTIF(O7:O80,C6),\"\")","v":""},{"$f":"IF(O80=D6,COUNTIF(O7:O80,D6),\"\")","v":""},{"$f":"IF(O80=E6,COUNTIF(O7:O80,E6),\"\")","v":""},{"$f":"IF(O80=F6,COUNTIF(O7:O80,F6),\"\")","v":""},74,null,"",null,null,null,null,null,"",null,null,null,null,0,null,null,null,null,null,null,null,null,null,null,null,null,null,null,null,null,null,null,74]
[{"$f":"IF(O81=A6,COUNTIF(O7:O81,A6),\"\")","v":""},{"$f":"IF(O81=B6,COUNTIF(O7:O81,B6),\"\")","v":""},{"$f":"IF(O81=C6,COUNTIF(O7:O81,C6),\"\")","v":""},{"$f":"IF(O81=D6,COUNTIF(O7:O81,D6),\"\")","v":""},{"$f":"IF(O81=E6,COUNTIF(O7:O81,E6),\"\")","v":""},{"$f":"IF(O81=F6,COUNTIF(O7:O81,F6),\"\")","v":""},75,null,"",null,null,null,null,null,"",null,null,null,null,0,null,null,null,null,null,null,null,null,null,null,null,null,null,null,null,null,null,null,75]
[{"$f":"IF(O82=A6,COUNTIF(O7:O82,A6),\"\")","v":""},{"$f":"IF(O82=B6,COUNTIF(O7:O82,B6),\"\")","v":""},{"$f":"IF(O82=C6,COUNTIF(O7:O82,C6),\"\")","v":""},{"$f":"IF(O82=D6,COUNTIF(O7:O82,D6),\"\")","v":""},{"$f":"IF(O82=E6,COUNTIF(O7:O82,E6),\"\")","v":""},{"$f":"IF(O82=F6,COUNTIF(O7:O82,F6),\"\")","v":""},76,null,"",null,null,null,null,null,"",null,null,null,null,0,null,null,null,null,null,null,null,null,null,null,null,null,null,null,null,null,null,null,76]
[{"$f":"IF(O83=A6,COUNTIF(O7:O83,A6),\"\")","v":""},{"$f":"IF(O83=B6,COUNTIF(O7:O83,B6),\"\")","v":""},{"$f":"IF(O83=C6,COUNTIF(O7:O83,C6),\"\")","v":""},{"$f":"IF(O83=D6,COUNTIF(O7:O83,D6),\"\")","v":""},{"$f":"IF(O83=E6,COUNTIF(O7:O83,E6),\"\")","v":""},{"$f":"IF(O83=F6,COUNTIF(O7:O83,F6),\"\")","v":""},77,null,"",null,null,null,null,null,"",null,null,null,null,0,null,null,null,null,null,null,null,null,null,null,null,null,null,null,null,null,null,null,77]
[{"$f":"IF(O84=A6,COUNTIF(O7:O84,A6),\"\")","v":""},{"$f":"IF(O84=B6,COUNTIF(O7:O84,B6),\"\")","v":""},{"$f":"IF(O84=C6,COUNTIF(O7:O84,C6),\"\")","v":""},{"$f":"IF(O84=D6,COUNTIF(O7:O84,D6),\"\")","v":""},{"$f":"IF(O84=E6,COUNTIF(O7:O84,E6),\"\")","v":""},{"$f":"IF(O84=F6,COUNTIF(O7:O84,F6),\"\")","v":""},78,null,"",null,null,null,null,null,"",null,null,null,null,0,null,null,null,null,null,null,null,null,null,null,null,null,null,null,null,null,null,null,78]
[{"$f":"IF(O85=A6,COUNTIF(O7:O85,A6),\"\")","v":""},{"$f":"IF(O85=B6,COUNTIF(O7:O85,B6),\"\")","v":""},{"$f":"IF(O85=C6,COUNTIF(O7:O85,C6),\"\")","v":""},{"$f":"IF(O85=D6,COUNTIF(O7:O85,D6),\"\")","v":""},{"$f":"IF(O85=E6,COUNTIF(O7:O85,E6),\"\")","v":""},{"$f":"IF(O85=F6,COUNTIF(O7:O85,F6),\"\")","v":""},79,null,"",null,null,null,null,null,"",null,null,null,null,0,null,null,null,null,null,null,null,null,null,null,null,null,null,null,null,null,null,null,79]
[{"$f":"IF(O86=A6,COUNTIF(O7:O86,A6),\"\")","v":""},{"$f":"IF(O86=B6,COUNTIF(O7:O86,B6),\"\")","v":""},{"$f":"IF(O86=C6,COUNTIF(O7:O86,C6),\"\")","v":""},{"$f":"IF(O86=D6,COUNTIF(O7:O86,D6),\"\")","v":""},{"$f":"IF(O86=E6,COUNTIF(O7:O86,E6),\"\")","v":""},{"$f":"IF(O86=F6,COUNTIF(O7:O86,F6),\"\")","v":""},80,null,"",null,null,null,null,null,"",null,null,null,null,0,null,null,null,null,null,null,null,null,null,null,null,null,null,null,null,null,null,null,80]
[{"$f":"IF(O87=A6,COUNTIF(O7:O87,A6),\"\")","v":""},{"$f":"IF(O87=B6,COUNTIF(O7:O87,B6),\"\")","v":""},{"$f":"IF(O87=C6,COUNTIF(O7:O87,C6),\"\")","v":""},{"$f":"IF(O87=D6,COUNTIF(O7:O87,D6),\"\")","v":""},{"$f":"IF(O87=E6,COUNTIF(O7:O87,E6),\"\")","v":""},{"$f":"IF(O87=F6,COUNTIF(O7:O87,F6),\"\")","v":""},81,null,"",null,null,null,null,null,"",null,null,null,null,0,null,null,null,null,null,null,null,null,null,null,null,null,null,null,null,null,null,null,81]
[{"$f":"IF(O88=A6,COUNTIF(O7:O88,A6),\"\")","v":""},{"$f":"IF(O88=B6,COUNTIF(O7:O88,B6),\"\")","v":""},{"$f":"IF(O88=C6,COUNTIF(O7:O88,C6),\"\")","v":""},{"$f":"IF(O88=D6,COUNTIF(O7:O88,D6),\"\")","v":""},{"$f":"IF(O88=E6,COUNTIF(O7:O88,E6),\"\")","v":""},{"$f":"IF(O88=F6,COUNTIF(O7:O88,F6),\"\")","v":""},82,null,"",null,null,null,null,null,"",null,null,null,null,0,null,null,null,null,null,null,null,null,null,null,null,null,null,null,null,null,null,null,82]
[{"$f":"IF(O89=A6,COUNTIF(O7:O89,A6),\"\")","v":""},{"$f":"IF(O89=B6,COUNTIF(O7:O89,B6),\"\")","v":""},{"$f":"IF(O89=C6,COUNTIF(O7:O89,C6),\"\")","v":""},{"$f":"IF(O89=D6,COUNTIF(O7:O89,D6),\"\")","v":""},{"$f":"IF(O89=E6,COUNTIF(O7:O89,E6),\"\")","v":""},{"$f":"IF(O89=F6,COUNTIF(O7:O89,F6),\"\")","v":""},83,null,"",null,null,null,null,null,"",null,null,null,null,0,null,null,null,null,null,null,null,null,null,null,null,null,null,null,null,null,null,null,83]
[{"$f":"IF(O90=A6,COUNTIF(O7:O90,A6),\"\")","v":""},{"$f":"IF(O90=B6,COUNTIF(O7:O90,B6),\"\")","v":""},{"$f":"IF(O90=C6,COUNTIF(O7:O90,C6),\"\")","v":""},{"$f":"IF(O90=D6,COUNTIF(O7:O90,D6),\"\")","v":""},{"$f":"IF(O90=E6,COUNTIF(O7:O90,E6),\"\")","v":""},{"$f":"IF(O90=F6,COUNTIF(O7:O90,F6),\"\")","v":""},84,null,"",null,null,null,null,null,"",null,null,null,null,0,null,null,null,null,null,null,null,null,null,null,null,null,null,null,null,null,null,null,84]
[{"$f":"IF(O91=A6,COUNTIF(O7:O91,A6),\"\")","v":""},{"$f":"IF(O91=B6,COUNTIF(O7:O91,B6),\"\")","v":""},{"$f":"IF(O91=C6,COUNTIF(O7:O91,C6),\"\")","v":""},{"$f":"IF(O91=D6,COUNTIF(O7:O91,D6),\"\")","v":""},{"$f":"IF(O91=E6,COUNTIF(O7:O91,E6),\"\")","v":""},{"$f":"IF(O91=F6,COUNTIF(O7:O91,F6),\"\")","v":""},85,null,"",null,null,null,null,null,"",null,null,null,null,0,null,null,null,null,null,null,null,null,null,null,null,null,null,null,null,null,null,null,85]
[{"$f":"IF(O92=A6,COUNTIF(O7:O92,A6),\"\")","v":""},{"$f":"IF(O92=B6,COUNTIF(O7:O92,B6),\"\")","v":""},{"$f":"IF(O92=C6,COUNTIF(O7:O92,C6),\"\")","v":""},{"$f":"IF(O92=D6,COUNTIF(O7:O92,D6),\"\")","v":""},{"$f":"IF(O92=E6,COUNTIF(O7:O92,E6),\"\")","v":""},{"$f":"IF(O92=F6,COUNTIF(O7:O92,F6),\"\")","v":""},86,null,"",null,null,null,null,null,"",null,null,null,null,0,null,null,null,null,null,null,null,null,null,null,null,null,null,null,null,null,null,null,86]
[{"$f":"IF(O93=A6,COUNTIF(O7:O93,A6),\"\")","v":""},{"$f":"IF(O93=B6,COUNTIF(O7:O93,B6),\"\")","v":""},{"$f":"IF(O93=C6,COUNTIF(O7:O93,C6),\"\")","v":""},{"$f":"IF(O93=D6,COUNTIF(O7:O93,D6),\"\")","v":""},{"$f":"IF(O93=E6,COUNTIF(O7:O93,E6),\"\")","v":""},{"$f":"IF(O93=F6,COUNTIF(O7:O93,F6),\"\")","v":""},87,null,"",null,null,null,null,null,"",null,null,null,null,0,null,null,null,null,null,null,null,null,null,null,null,null,null,null,null,null,null,null,87]
[{"$f":"IF(O94=A6,COUNTIF(O7:O94,A6),\"\")","v":""},{"$f":"IF(O94=B6,COUNTIF(O7:O94,B6),\"\")","v":""},{"$f":"IF(O94=C6,COUNTIF(O7:O94,C6),\"\")","v":""},{"$f":"IF(O94=D6,COUNTIF(O7:O94,D6),\"\")","v":""},{"$f":"IF(O94=E6,COUNTIF(O7:O94,E6),\"\")","v":""},{"$f":"IF(O94=F6,COUNTIF(O7:O94,F6),\"\")","v":""},88,null,"",null,null,null,null,null,"",null,null,null,null,0,null,null,null,null,null,null,null,null,null,null,null,null,null,null,null,null,null,null,88]
[{"$f":"IF(O95=A6,COUNTIF(O7:O95,A6),\"\")","v":""},{"$f":"IF(O95=B6,COUNTIF(O7:O95,B6),\"\")","v":""},{"$f":"IF(O95=C6,COUNTIF(O7:O95,C6),\"\")","v":""},{"$f":"IF(O95=D6,COUNTIF(O7:O95,D6),\"\")","v":""},{"$f":"IF(O95=E6,COUNTIF(O7:O95,E6),\"\")","v":""},{"$f":"IF(O95=F6,COUNTIF(O7:O95,F6),\"\")","v":""},89,null,"",null,null,null,null,null,"",null,null,null,null,0,null,null,null,null,null,null,null,null,null,null,null,null,null,null,null,null,null,null,89]
[{"$f":"IF(O96=A6,COUNTIF(O7:O96,A6),\"\")","v":""},{"$f":"IF(O96=B6,COUNTIF(O7:O96,B6),\"\")","v":""},{"$f":"IF(O96=C6,COUNTIF(O7:O96,C6),\"\")","v":""},{"$f":"IF(O96=D6,COUNTIF(O7:O96,D6),\"\")","v":""},{"$f":"IF(O96=E6,COUNTIF(O7:O96,E6),\"\")","v":""},{"$f":"IF(O96=F6,COUNTIF(O7:O96,F6),\"\")","v":""},90,null,"",null,null,null,null,null,"",null,null,null,null,0,null,null,null,null,null,null,null,null,null,null,null,null,null,null,null,null,null,null,90]
[{"$f":"IF(O97=A6,COUNTIF(O7:O97,A6),\"\")","v":""},{"$f":"IF(O97=B6,COUNTIF(O7:O97,B6),\"\")","v":""},{"$f":"IF(O97=C6,COUNTIF(O7:O97,C6),\"\")","v":""},{"$f":"IF(O97=D6,COUNTIF(O7:O97,D6),\"\")","v":""},{"$f":"IF(O97=E6,COUNTIF(O7:O97,E6),\"\")","v":""},{"$f":"IF(O97=F6,COUNTIF(O7:O97,F6),\"\")","v":""},91,null,"",null,null,null,null,null,"",null,null,null,null,0,null,null,null,null,null,null,null,null,null,null,null,null,null,null,null,null,null,null,91]
[{"$f":"IF(O98=A6,COUNTIF(O7:O98,A6),\"\")","v":""},{"$f":"IF(O98=B6,COUNTIF(O7:O98,B6),\"\")","v":""},{"$f":"IF(O98=C6,COUNTIF(O7:O98,C6),\"\")","v":""},{"$f":"IF(O98=D6,COUNTIF(O7:O98,D6),\"\")","v":""},{"$f":"IF(O98=E6,COUNTIF(O7:O98,E6),\"\")","v":""},{"$f":"IF(O98=F6,COUNTIF(O7:O98,F6),\"\")","v":""},92,null,"",null,null,null,null,null,"",null,null,null,null,0,null,null,null,null,null,null,null,null,null,null,null,null,null,null,null,null,null,null,92]
[{"$f":"IF(O99=A6,COUNTIF(O7:O99,A6),\"\")","v":""},{"$f":"IF(O99=B6,COUNTIF(O7:O99,B6),\"\")","v":""},{"$f":"IF(O99=C6,COUNTIF(O7:O99,C6),\"\")","v":""},{"$f":"IF(O99=D6,COUNTIF(O7:O99,D6),\"\")","v":""},{"$f":"IF(O99=E6,COUNTIF(O7:O99,E6),\"\")","v":""},{"$f":"IF(O99=F6,COUNTIF(O7:O99,F6),\"\")","v":""},93,null,"",null,null,null,null,null,"",null,null,null,null,0,null,null,null,null,null,null,null,null,null,null,null,null,null,null,null,null,null,null,93]
[{"$f":"IF(O100=A6,COUNTIF(O7:O100,A6),\"\")","v":""},{"$f":"IF(O100=B6,COUNTIF(O7:O100,B6),\"\")","v":""},{"$f":"IF(O100=C6,COUNTIF(O7:O100,C6),\"\")","v":""},{"$f":"IF(O100=D6,COUNTIF(O7:O100,D6),\"\")","v":""},{"$f":"IF(O100=E6,COUNTIF(O7:O100,E6),\"\")","v":""},{"$f":"IF(O100=F6,COUNTIF(O7:O100,F6),\"\")","v":""},94,null,"",null,null,null,null,null,"",null,null,null,null,0,null,null,null,null,null,null,null,null,null,null,null,null,null,null,null,null,null,null,94]
[{"$f":"IF(O101=A6,COUNTIF(O7:O101,A6),\"\")","v":""},{"$f":"IF(O101=B6,COUNTIF(O7:O101,B6),\"\")","v":""},{"$f":"IF(O101=C6,COUNTIF(O7:O101,C6),\"\")","v":""},{"$f":"IF(O101=D6,COUNTIF(O7:O101,D6),\"\")","v":""},{"$f":"IF(O101=E6,COUNTIF(O7:O101,E6),\"\")","v":""},{"$f":"IF(O101=F6,COUNTIF(O7:O101,F6),\"\")","v":""},95,null,"",null,null,null,null,null,"",null,null,null,null,0,null,null,null,null,null,null,null,null,null,null,null,null,null,null,null,null,null,null,95]
[{"$f":"IF(O102=A6,COUNTIF(O7:O102,A6),\"\")","v":""},{"$f":"IF(O102=B6,COUNTIF(O7:O102,B6),\"\")","v":""},{"$f":"IF(O102=C6,COUNTIF(O7:O102,C6),\"\")","v":""},{"$f":"IF(O102=D6,COUNTIF(O7:O102,D6),\"\")","v":""},{"$f":"IF(O102=E6,COUNTIF(O7:O102,E6),\"\")","v":""},{"$f":"IF(O102=F6,COUNTIF(O7:O102,F6),\"\")","v":""},96,null,"",null,null,null,null,null,"",null,null,null,null,0,null,null,null,null,null,null,null,null,null,null,null,null,null,null,null,null,null,null,96]
[{"$f":"IF(O103=A6,COUNTIF(O7:O103,A6),\"\")","v":""},{"$f":"IF(O103=B6,COUNTIF(O7:O103,B6),\"\")","v":""},{"$f":"IF(O103=C6,COUNTIF(O7:O103,C6),\"\")","v":""},{"$f":"IF(O103=D6,COUNTIF(O7:O103,D6),\"\")","v":""},{"$f":"IF(O103=E6,COUNTIF(O7:O103,E6),\"\")","v":""},{"$f":"IF(O103=F6,COUNTIF(O7:O103,F6),\"\")","v":""},97,null,"",null,null,null,null,null,"",null,null,null,null,0,null,null,null,null,null,null,null,null,null,null,null,null,null,null,null,null,null,null,97]
[{"$f":"IF(O104=A6,COUNTIF(O7:O104,A6),\"\")","v":""},{"$f":"IF(O104=B6,COUNTIF(O7:O104,B6),\"\")","v":""},{"$f":"IF(O104=C6,COUNTIF(O7:O104,C6),\"\")","v":""},{"$f":"IF(O104=D6,COUNTIF(O7:O104,D6),\"\")","v":""},{"$f":"IF(O104=E6,COUNTIF(O7:O104,E6),\"\")","v":""},{"$f":"IF(O104=F6,COUNTIF(O7:O104,F6),\"\")","v":""},98,null,"",null,null,null,null,null,"",null,null,null,null,0,null,null,null,null,null,null,null,null,null,null,null,null,null,null,null,null,null,null,98]
[{"$f":"IF(O105=A6,COUNTIF(O7:O105,A6),\"\")","v":""},{"$f":"IF(O105=B6,COUNTIF(O7:O105,B6),\"\")","v":""},{"$f":"IF(O105=C6,COUNTIF(O7:O105,C6),\"\")","v":""},{"$f":"IF(O105=D6,COUNTIF(O7:O105,D6),\"\")","v":""},{"$f":"IF(O105=E6,COUNTIF(O7:O105,E6),\"\")","v":""},{"$f":"IF(O105=F6,COUNTIF(O7:O105,F6),\"\")","v":""},99,null,"",null,null,null,null,null,"",null,null,null,null,0,null,null,null,null,null,null,null,null,null,null,null,null,null,null,null,null,null,null,99]
[{"$f":"IF(O106=A6,COUNTIF(O7:O106,A6),\"\")","v":""},{"$f":"IF(O106=B6,COUNTIF(O7:O106,B6),\"\")","v":""},{"$f":"IF(O106=C6,COUNTIF(O7:O106,C6),\"\")","v":""},{"$f":"IF(O106=D6,COUNTIF(O7:O106,D6),\"\")","v":""},{"$f":"IF(O106=E6,COUNTIF(O7:O106,E6),\"\")","v":""},{"$f":"IF(O106=F6,COUNTIF(O7:O106,F6),\"\")","v":""},100,null,"",null,null,null,null,null,"",null,null,null,null,0,null,null,null,null,null,null,null,null,null,null,null,null,null,null,null,null,null,null,100]
[null,null,null,null,null,null,{"$f":"CONCATENATE($G$5,\" \",\"Individual Medal Winners\")","v":"Minor Girls Individual Medal Winners"},null,null,null,null,null,null,null,null,null,null,null,null,"f"]
[null,null,null,null,null,null,"Pos","Num","Name",null,null,null,null,null,"County",null,null,null,"Time"]
[null,null,null,null,null,null,1,{"$f":"IF(H7=0,\"\",H7)","v":21},"Sarah Smith","","","","","","Cumbria",null,null,null,{"$f":"IF(S7=0,\"\",S7)","v":9.42},{"$f":"IF(H109=\"\",0,1)","v":1}]
[null,null,null,null,null,null,2,81,"Zoe Hill","","","","","","North Yorkshire",null,null,null,{"$f":"IF(S8=0,\"\",S8)","v":9.44},{"$f":"IF(H110=\"\",0,1)","v":1}]
[null,null,null,null,null,null,3,2,"Gabby Hall","","","","","","Cleveland",null,null,null,{"$f":"IF(S9=0,\"\",S9)","v":9.49},{"$f":"IF(H111=\"\",0,1)","v":1}]
[null,null,null,null,null,null,null,null,null,null,null,null,null,null,null,null,null,null,null,"g"]
[null,null,null,null,null,null,{"$f":"CONCATENATE($G$5,\" \",\"Team Results\")","v":"Minor Girls Team Results"},null,null,null,null,null,null,null,null,null,null,null,null,"h",null,null,null,null,{"$f":"G113","v":"Minor Girls Team Results"}]
[null,null,null,null,null,null,null,"Team Name",null,null,null,null,"1st","2nd","3rd","4th","5th","6th","Points","i",null,null,{"$f":"P5","v":0},null,null,1,2,3,4,5,6,"Pts"]
[null,null,null,null,null,null,1,{"$f":"IFERROR(VLOOKUP(G115,$X$115:$AF$119,2,0),\"\")","v":"North Yorkshire"},null,null,null,null,{"$f":"IFERROR(VLOOKUP(G115,$X$115:$AF$119,3,0),\"\")","v":2},{"$f":"IFERROR(VLOOKUP(G115,$X$115:$AF$119,4,0),\"\")","v":5},{"$f":"IFERROR(VLOOKUP(G115,$X$115:$AF$119,5,0),\"\")","v":11},{"$f":"IFERROR(VLOOKUP(G115,$X$115:$AF$119,6,0),\"\")","v":12},{"$f":"IFERROR(VLOOKUP(G115,$X$115:$AF$119,7,0),\"\")","v":13},{"$f":"IFERROR(VLOOKUP(G115,$X$115:$AF$119,8,0),\"\")","v":16},{"$f":"SUM(M115:R115)","v":59},{"$f":"IF(H115=\"\",0,1)","v":1},null,null,7,{"$f":"IF(OR(AJ115=\"\",AJ115=0),0,RANK(AJ115,AJ115:AJ120,1))","v":0},{"$f":"Home!F4","v":"Cleveland"},{"$f":"IFERROR(VLOOKUP(Z114,$A$7:$G$106,W115,0),0)","v":3},{"$f":"IFERROR(VLOOKUP(AA114,A$7:G$106,W115,0),0)","v":6},{"$f":"IFERROR(VLOOKUP(AB114,A$7:G$106,W115,0),0)","v":28},{"$f":"IF(W114=3,0,IFERROR(VLOOKUP(AC114,A$7:G$106,W115,0),0))","v":34},{"$f":"IF(W114=4,0,IFERROR(VLOOKUP(AD114,A$7:G$106,W115,0),0))","v":51},{"$f":"IF(OR(W114=4,W114=5),0,IFERROR(VLOOKUP(AE114,A$7:G$106,W115,0),0))","v":0},{"$f":"IF(AE115=0,0,SUM(Z115:AE115))","v":0},{"$f":"IF(OR(AF115=0,AF115=\"\"),0,RANK(AF115,AF115:AF120,1))","v":0},{"$f":"IF(OR(AG115=0,AG115=\"\"),\"\",IF(OR(AG115=AG116,AG115=AG117,AG115=AG118,AG115=AG119,AG115=AG120),\"=\",\"\"))","v":""},{"$f":"IF(AH115=\"=\",COUNTIF(AH115:AH115,\"<>A\")-COUNTIF(AH115:AH115,\"\"),0)","v":0},{"$f":"IF(AND(AG115=0,AI115=0),\"\",AG115+(AI115/10)+AL115/10)","v":""},{"$f":"X115","v":0},{"$f":"IF(OR(AF115=0,AF115=\"\"),0,RANK(Z115,Z115:Z120,1))","v":0}]
[null,null,null,null,null,null,2,{"$f":"IFERROR(VLOOKUP(G116,$X$115:$AF$119,2,0),\"\")","v":"Cumbria"},null,null,null,null,{"$f":"IFERROR(VLOOKUP(G116,$X$115:$AF$119,3,0),\"\")","v":1},{"$f":"IFERROR(VLOOKUP(G116,$X$115:$AF$119,4,0),\"\")","v":4},{"$f":"IFERROR(VLOOKUP(G116,$X$115:$AF$119,5,0),\"\")","v":7},{"$f":"IFERROR(VLOOKUP(G116,$X$115:$AF$119,6,0),\"\")","v":8},{"$f":"IFERROR(VLOOKUP(G116,$X$115:$AF$119,7,0),\"\")","v":22},{"$f":"IFERROR(VLOOKUP(G116,$X$115:$AF$119,8,0),\"\")","v":25},{"$f":"SUM(M116:R116)","v":67},1,null,null,6,{"$f":"IF(OR(AJ116=\"\",AJ116=0),0,RANK(AJ116,AJ115:AJ120,1))","v":2},{"$f":"Home!F5","v":"Cumbria"},{"$f":"IFERROR(VLOOKUP(Z114,$B$7:$G$106,W116,0),0)","v":1},{"$f":"IFERROR(VLOOKUP(AA114,B$7:G$106,W116,0),0)","v":4},{"$f":"IFERROR(VLOOKUP(AB114,B$7:G$106,W116,0),0)","v":7},{"$f":"IF(W114=3,0,IFERROR(VLOOKUP(AC114,B$7:G$106,W116,0),0))","v":8},{"$f":"IF(W114=4,0,IFERROR(VLOOKUP(AD114,B$7:G$106,W116,0),0))","v":22},{"$f":"IF(OR(W114=4,W114=5),0,IFERROR(VLOOKUP(AE114,B$7:G$106,W116,0),0))","v":25},{"$f":"IF(AE116=0,0,SUM(Z116:AE116))","v":67},{"$f":"IF(OR(AF116=0,AF116=\"\"),0,RANK(AF116,AF115:AF120,1))","v":4},{"$f":"IF(OR(AG116=0,AG116=\"\"),\"\",IF(OR(AG116=AG117,AG116=AG118,AG116=AG119,AG116=AG120,AG116=AG115),\"=\",\"\"))","v":""},{"$f":"IF(AH116=\"=\",COUNTIF(AH115:AH116,\"<>A\")-COUNTIF(AH115:AH116,\"\"),0)","v":0},{"$f":"IF(AND(AG116=0,AI116=0),\"\",AG116+(AI116/10)+AL116/10)","v":4.2},{"$f":"X116","v":2},{"$f":"IF(OR(AF116=0,AF116=\"\"),0,RANK(Z116,Z115:Z120,1))","v":2}]
[null,null,null,null,null,null,3,"Durham",null,null,null,null,9,10,15,18,19,23,94,1,null,null,5,{"$f":"IF(OR(AJ117=\"\",AJ117=0),0,RANK(AJ117,AJ115:AJ120,1))","v":3},{"$f":"Home!F6","v":"Durham"},{"$f":"IFERROR(VLOOKUP(Z114,$C$7:$G$106,W117,0),0)","v":9},{"$f":"IFERROR(VLOOKUP(AA114,C$7:G$106,W117,0),0)","v":10},{"$f":"IFERROR(VLOOKUP(AB114,C$7:G$106,W117,0),0)","v":15},{"$f":"IF(W114=3,0,IFERROR(VLOOKUP(AC114,C$7:G$106,W117,0),0))","v":18},{"$f":"IF(W114=4,0,IFERROR(VLOOKUP(AD114,C$7:G$106,W117,0),0))","v":19},{"$f":"IF(OR(W114=4,W114=5),0,IFERROR(VLOOKUP(AE114,C$7:G$106,W117,0),0))","v":23},94,{"$f":"IF(OR(AF117=0,AF117=\"\"),0,RANK(AF117,AF115:AF120,1))","v":5},{"$f":"IF(OR(AG117=0,AG117=\"\"),\"\",IF(OR(AG117=AG118,AG117=AG119,AG117=AG120,AG117=AG115,AG117=AG116),\"=\",\"\"))","v":""},{"$f":"IF(AH117=\"=\",COUNTIF(AH115:AH117,\"<>A\")-COUNTIF(AH115:AH117,\"\"),0)","v":0},5.5,3,{"$f":"IF(OR(AF117=0,AF117=\"\"),0,RANK(Z117,Z115:Z120,1))","v":5}]
[null,null,null,null,null,null,4,"Northumberland",null,null,null,null,14,20,21,26,29,30,140,1,null,null,4,{"$f":"IF(OR(AJ118=\"\",AJ118=0),0,RANK(AJ118,AJ115:AJ120,1))","v":4},{"$f":"Home!F7","v":"Northumberland"},{"$f":"IFERROR(VLOOKUP(Z114,$D$7:$G$106,W118,0),0)","v":14},{"$f":"IFERROR(VLOOKUP(AA114,D$7:G$106,W118,0),0)","v":20},{"$f":"IFERROR(VLOOKUP(AB114,D$7:G$106,W118,0),0)","v":21},{"$f":"IF(W114=3,0,IFERROR(VLOOKUP(AC114,D$7:G$106,W118,0),0))","v":26},{"$f":"IF(W114=4,0,IFERROR(VLOOKUP(AD114,D$7:G$106,W118,0),0))","v":29},{"$f":"IF(OR(W114=4,W114=5),0,IFERROR(VLOOKUP(AE114,D$7:G$106,W118,0),0))","v":30},140,{"$f":"IF(OR(AF118=0,AF118=\"\"),0,RANK(AF118,AF115:AF120,1))","v":6},{"$f":"IF(OR(AG118=0,AG118=\"\"),\"\",IF(OR(AG118=AG119,AG118=AG120,AG118=AG115,AG118=AG116,AG118=AG117),\"=\",\"\"))","v":""},{"$f":"IF(AH118=\"=\",COUNTIF(AH115:AH118,\"<>A\")-COUNTIF(AH115:AH118,\"\"),0)","v":0},6.6,4,{"$f":"IF(OR(AF118=0,AF118=\"\"),0,RANK(Z118,Z115:Z120,1))","v":6}]
[null,null,null,null,null,null,5,"",null,null,null,null,"","","","","","",0,0,null,null,3,{"$f":"IF(OR(AJ119=\"\",AJ119=0),0,RANK(AJ119,AJ115:AJ120,1))","v":1},{"$f":"Home!F8","v":"North Yorkshire"},{"$f":"IFERROR(VLOOKUP(Z114,$E$7:$G$106,W119,0),0)","v":2},{"$f":"IFERROR(VLOOKUP(AA114,E$7:G$106,W119,0),0)","v":5},{"$f":"IFERROR(VLOOKUP(AB114,E$7:G$106,W119,0),0)","v":11},{"$f":"IF(W114=3,0,IFERROR(VLOOKUP(AC114,E$7:G$106,W119,0),0))","v":12},{"$f":"IF(W114=4,0,IFERROR(VLOOKUP(AD114,E$7:G$106,W119,0),0))","v":13},{"$f":"IF(OR(W114=4,W114=5),0,IFERROR(VLOOKUP(AE114,E$7:G$106,W119,0),0))","v":16},59,{"$f":"IF(OR(AF119=0,AF119=\"\"),0,RANK(AF119,AF115:AF120,1))","v":3},{"$f":"IF(OR(AG119=0,AG119=\"\"),\"\",IF(OR(AG119=AG120,AG119=AG115,AG119=AG116,AG119=AG117,AG119=AG118),\"=\",\"\"))","v":""},{"$f":"IF(AH119=\"=\",COUNTIF(AH115:AH119,\"<>A\")-COUNTIF(AH115:AH119,\"\"),0)","v":0},3.3,1,{"$f":"IF(OR(AF119=0,AF119=\"\"),0,RANK(Z119,Z115:Z120,1))","v":3}]
[null,null,null,null,null,null,null,null,null,null,null,null,null,null,null,null,null,null,null,null,null,null,2,{"$f":"IF(OR(AJ120=\"\",AJ120=0),0,RANK(AJ120,AJ115:AJ120,1))","v":0},{"$f":"Home!F9","v":0},{"$f":"IFERROR(VLOOKUP(Z114,F7:G106,W120,0),0)","v":0},{"$f":"IFERROR(VLOOKUP(AA114,F7:G106,W120,0),0)","v":0},{"$f":"IFERROR(VLOOKUP(AB114,F7:G106,W120,0),0)","v":0},{"$f":"IF(W114=3,0,IFERROR(VLOOKUP(AC114,F7:G106,W120,0),0))","v":0},{"$f":"IF(W114=4,0,IFERROR(VLOOKUP(AD114,F7:G106,W120,0),0))","v":0},{"$f":"IF(OR(W114=4,W114=5),0,IFERROR(VLOOKUP(AE114,F7:G106,W120,0),0))","v":0},{"$f":"IF(AE120=0,0,SUM(Z120:AE120))","v":0},{"$f":"IF(OR(AF120=0,AF120=\"\"),0,RANK(AF120,AF115:AF120,1))","v":0},{"$f":"IF(OR(AG120=0,AG120=\"\"),\"\",IF(OR(AG120=AG115,AG120=AG116,AG120=AG117,AG120=AG118,AG120=AG119),\"=\",\"\"))","v":""},{"$f":"IF(AH120=\"=\",COUNTIF(AH115:AH120,\"<>A\")-COUNTIF(AH115:AH120,\"\"),0)","v":0},"",0,{"$f":"IF(OR(AF120=0,AF120=\"\"),0,RANK(Z120,Z115:Z120,1))","v":0}]

{"sheet":"Junior_Girls","index":7,"n_rows":120,"n_cols":39,"rows_kept":120,"cut":false,"hidden":false,"merged":[[0,6,0,18],[0,26,0,29],[1,6,1,18],[1,26,1,29],[2,6,2,18],[5,8,5,13],[12,8,12,13],[13,8,13,13],[14,8,14,13],[15,8,15,13],[16,8,16,13],[17,8,17,13],[6,8,6,13],[7,8,7,13],[8,8,8,13],[9,8,9,13],[10,8,10,13],[11,8,11,13],[24,8,24,13],[25,8,25,13],[26,8,26,13],[27,8,27,13],[28,8,28,13],[29,8,29,13],[18,8,18,13],[19,8,19,13],[20,8,20,13],[21,8,21,13],[22,8,22,13],[23,8,23,13],[36,8,36,13],[37,8,37,13],[38,8,38,13],[39,8,39,13],[40,8,40,13],[41,8,41,13],[30,8,30,13],[31,8,31,13],[32,8,32,13],[33,8,33,13],[34,8,34,13],[35,8,35,13],[48,8,48,13],[49,8,49,13],[50,8,50,13],[51,8,51,13],[52,8,52,13],[53,8,53,13],[42,8,42,13],[43,8,43,13],[44,8,44,13],[45,8,45,13],[46,8,46,13],[47,8,47,13],[60,8,60,13],[61,8,61,13],[62,8,62,13],[63,8,63,13],[64,8,64,13],[65,8,65,13],[54,8,54,13],[55,8,55,13],[56,8,56,13],[57,8,57,13],[58,8,58,13],[59,8,59,13],[72,8,72,13],[73,8,73,13],[74,8,74,13],[75,8,75,13],[76,8,76,13],[77,8,77,13],[66,8,66,13],[67,8,67,13],[68,8,68,13],[69,8,69,13],[70,8,70,13],[71,8,71,13],[84,8,84,13],[85,8,85,13],[86,8,86,13],[87,8,87,13],[88,8,88,13],[89,8,89,13],[78,8,78,13],[79,8,79,13],[80,8,80,13],[81,8,81,13],[82,8,82,13],[83,8,83,13],[96,8,96,13],[97,8,97,13],[98,8,98,13],[99,8,99,13],[100,8,100,13],[101,8,101,13],[90,8,90,13],[91,8,91,13],[92,8,92,13],[93,8,93,13],[94,8,94,13],[95,8,95,13],[108,8,108,13],[109,8,109,13],[110,8,110,13],[112,6,112,18],[102,8,102,13],[103,8,103,13],[104,8,104,13],[105,8,105,13],[106,6,106,18],[107,8,107,13]]}
[null,null,null,null,null,null,{"$f":"Home!$B$1","v":"Northern Schools' Inter-County Cross Country Championships"},null,null,null,null,null,null,null,null,null,null,null,null,"a",null,{"$f":"CONCATENATE(W1,X1)","v":"Home!$B7"},"Home!$B",{"$f":"IF(Y1=\"Minor_Boys\",4,IF(Y1=\"Junior_Boys\",6,IF(Y1=\"Intermediate_Boys\",8,IF(Y1=\"Senior_Boys\",10,IF(Y1=\"Minor_Girls\",5,IF(Y1=\"Junior_Girls\",7,IF(Y1=\"Intermediate_Girls\",9,IF(Y1=\"Senior_Girls\",11,\"\"))))))))","v":7},{"$f":"MID(CELL(\"Filename\",A1),SEARCH(\"]\",CELL(\"Filename\",A1),1)+1,32)","v":"Junior_Girls"},null,{"$f":"Y1","v":"Junior_Girls"},null,null,null,{"$f":"CONCATENATE(Y1,\" \",Z1)","v":"Junior_Girls "}]
[null,null,null,null,null,null,{"$f":"Home!$B$2","v":"Barnard Castle School"},null,null,null,null,null,null,null,null,null,null,null,null,"b",null,{"$f":"CONCATENATE(W2,X2)","v":"Home!$D7"},"Home!$D",{"$f":"X1","v":7}]
[null,null,null,null,null,null,{"$f":"Home!$G$3","v":"Saturday 3rd February 2018"},null,null,null,null,null,null,null,null,null,null,null,null,"c"]
[null,null,null,null,null,null,null,null,null,null,null,null,null,null,null,null,null,null,null,"c"]
[null,null,null,null,null,null,{"$f":"INDIRECT(V1)","v":"Junior Girls"},null,null,null,null,null,null,{"$f":"CONCATENATE(\"Team Results\",\" \",INDIRECT(V2),\" \",\"to Score\")","v":"Team Results 6 to Score"},null,null,null,null,null,"d"]
[{"$f":"Home!F4","v":"Cleveland"},{"$f":"Home!F5","v":"Cumbria"},{"$f":"Home!F6","v":"Durham"},{"$f":"Home!F7","v":"Northumberland"},{"$f":"Home!F8","v":"North Yorkshire"},{"$f":"Home!F9","v":0},"Pos","Num","Name",null,null,null,null,null,"County",null,null,null,"Time","e"]
[{"$f":"IF(O7=A6,COUNTIF(O7:O7,A6),\"\")","v":""},{"$f":"IF(O7=B6,COUNTIF(O7:O7,B6),\"\")","v":1},{"$f":"IF(O7=C6,COUNTIF(O7:O7,C6),\"\")","v":""},{"$f":"IF(O7=D6,COUNTIF(O7:O7,D6),\"\")","v":""},{"$f":"IF(O7=E6,COUNTIF(O7:O7,E6),\"\")","v":""},{"$f":"IF(O7=F6,COUNTIF(O7:O7,F6),\"\")","v":""},{"$f":"IF(LEFT(S7,1)=\"D\",0,AM7)","v":1},21,{"$f":"IFERROR(VLOOKUP(H7,INDIRECT($AA$1),2,0),\"\")","v":"Anna Mason"},null,null,null,null,null,{"$f":"IFERROR(VLOOKUP(H7,INDIRECT($AA$1),3,0),\"\")","v":"Cumbria"},null,null,null,12.2,{"$f":"IF(H7=0,0,1)","v":1},null,null,null,null,null,null,null,null,null,null,null,null,null,null,null,null,null,null,1]
[{"$f":"IF(O8=A6,COUNTIF(O7:O8,A6),\"\")","v":""},{"$f":"IF(O8=B6,COUNTIF(O7:O8,B6),\"\")","v":2},{"$f":"IF(O8=C6,COUNTIF(O7:O8,C6),\"\")","v":""},{"$f":"IF(O8=D6,COUNTIF(O7:O8,D6),\"\")","v":""},{"$f":"IF(O8=E6,COUNTIF(O7:O8,E6),\"\")","v":""},{"$f":"IF(O8=F6,COUNTIF(O7:O8,F6),\"\")","v":""},2,22,"Olesia Winder",null,null,null,null,null,"Cumbria",null,null,null,12.28,1,null,null,null,null,null,null,null,null,null,null,null,null,null,null,null,null,null,null,2]
[{"$f":"IF(O9=A6,COUNTIF(O7:O9,A6),\"\")","v":""},{"$f":"IF(O9=B6,COUNTIF(O7:O9,B6),\"\")","v":""},{"$f":"IF(O9=C6,COUNTIF(O7:O9,C6),\"\")","v":""},{"$f":"IF(O9=D6,COUNTIF(O7:O9,D6),\"\")","v":1},{"$f":"IF(O9=E6,COUNTIF(O7:O9,E6),\"\")","v":""},{"$f":"IF(O9=F6,COUNTIF(O7:O9,F6),\"\")","v":""},3,61,"Ines Curran",null,null,null,null,null,"Northumberland",null,null,null,12.35,1,null,null,null,null,null,null,null,null,null,null,null,null,null,null,null,null,null,null,3]
[{"$f":"IF(O10=A6,COUNTIF(O7:O10,A6),\"\")","v":""},{"$f":"IF(O10=B6,COUNTIF(O7:O10,B6),\"\")","v":""},{"$f":"IF(O10=C6,COUNTIF(O7:O10,C6),\"\")","v":""},{"$f":"IF(O10=D6,COUNTIF(O7:O10,D6),\"\")","v":""},{"$f":"IF(O10=E6,COUNTIF(O7:O10,E6),\"\")","v":1},{"$f":"IF(O10=F6,COUNTIF(O7:O10,F6),\"\")","v":""},4,81,"Alice Jones",null,null,null,null,null,"North Yorkshire",null,null,null,12.36,1,null,null,null,null,null,null,null,null,null,null,null,null,null,null,null,null,null,null,4]
[{"$f":"IF(O11=A6,COUNTIF(O7:O11,A6),\"\")","v":""},{"$f":"IF(O11=B6,COUNTIF(O7:O11,B6),\"\")","v":""},{"$f":"IF(O11=C6,COUNTIF(O7:O11,C6),\"\")","v":""},{"$f":"IF(O11=D6,COUNTIF(O7:O11,D6),\"\")","v":""},{"$f":"IF(O11=E6,COUNTIF(O7:O11,E6),\"\")","v":2},{"$f":"IF(O11=F6,COUNTIF(O7:O11,F6),\"\")","v":""},5,83,"Issy Nicholls",null,null,null,null,null,"North Yorkshire",null,null,null,12.38,1,null,null,null,null,null,null,null,null,null,null,null,null,null,null,null,null,null,null,5]
[{"$f":"IF(O12=A6,COUNTIF(O7:O12,A6),\"\")","v":""},{"$f":"IF(O12=B6,COUNTIF(O7:O12,B6),\"\")","v":""},{"$f":"IF(O12=C6,COUNTIF(O7:O12,C6),\"\")","v":1},{"$f":"IF(O12=D6,COUNTIF(O7:O12,D6),\"\")","v":""},{"$f":"IF(O12=E6,COUNTIF(O7:O12,E6),\"\")","v":""},{"$f":"IF(O12=F6,COUNTIF(O7:O12,F6),\"\")","v":""},6,46,"Katie Francis",null,null,null,null,null,"Durham",null,null,null,12.42,1,null,null,null,null,null,null,null,null,null,null,null,null,null,null,null,null,null,null,6]
[{"$f":"IF(O13=A6,COUNTIF(O7:O13,A6),\"\")","v":""},{"$f":"IF(O13=B6,COUNTIF(O7:O13,B6),\"\")","v":""},{"$f":"IF(O13=C6,COUNTIF(O7:O13,C6),\"\")","v":2},{"$f":"IF(O13=D6,COUNTIF(O7:O13,D6),\"\")","v":""},{"$f":"IF(O13=E6,COUNTIF(O7:O13,E6),\"\")","v":""},{"$f":"IF(O13=F6,COUNTIF(O7:O13,F6),\"\")","v":""},7,47,"Lucy Scothern",null,null,null,null,null,"Durham",null,null,null,12.53,1,null,null,null,null,null,null,null,null,null,null,null,null,null,null,null,null,null,null,7]
[{"$f":"IF(O14=A6,COUNTIF(O7:O14,A6),\"\")","v":""},{"$f":"IF(O14=B6,COUNTIF(O7:O14,B6),\"\")","v":""},{"$f":"IF(O14=C6,COUNTIF(O7:O14,C6),\"\")","v":""},{"$f":"IF(O14=D6,COUNTIF(O7:O14,D6),\"\")","v":""},{"$f":"IF(O14=E6,COUNTIF(O7:O14,E6),\"\")","v":3},{"$f":"IF(O14=F6,COUNTIF(O7:O14,F6),\"\")","v":""},8,82,"Eve Whitaker",null,null,null,null,null,"North Yorkshire",null,null,null,12.54,1,null,null,null,null,null,null,null,null,null,null,null,null,null,null,null,null,null,null,8]
[{"$f":"IF(O15=A6,COUNTIF(O7:O15,A6),\"\")","v":""},{"$f":"IF(O15=B6,COUNTIF(O7:O15,B6),\"\")","v":""},{"$f":"IF(O15=C6,COUNTIF(O7:O15,C6),\"\")","v":""},{"$f":"IF(O15=D6,COUNTIF(O7:O15,D6),\"\")","v":2},{"$f":"IF(O15=E6,COUNTIF(O7:O15,E6),\"\")","v":""},{"$f":"IF(O15=F6,COUNTIF(O7:O15,F6),\"\")","v":""},9,62,"Lauren Brown",null,null,null,null,null,"Northumberland",null,null,null,12.56,1,null,null,null,null,null,null,null,null,null,null,null,null,null,null,null,null,null,null,9]
[{"$f":"IF(O16=A6,COUNTIF(O7:O16,A6),\"\")","v":""},{"$f":"IF(O16=B6,COUNTIF(O7:O16,B6),\"\")","v":""},{"$f":"IF(O16=C6,COUNTIF(O7:O16,C6),\"\")","v":3},{"$f":"IF(O16=D6,COUNTIF(O7:O16,D6),\"\")","v":""},{"$f":"IF(O16=E6,COUNTIF(O7:O16,E6),\"\")","v":""},{"$f":"IF(O16=F6,COUNTIF(O7:O16,F6),\"\")","v":""},10,43,"Tess Graham",null,null,null,null,null,"Durham",null,null,null,12.58,1,null,null,null,null,null,null,null,null,null,null,null,null,null,null,null,null,null,null,10]
[{"$f":"IF(O17=A6,COUNTIF(O7:O17,A6),\"\")","v":""},{"$f":"IF(O17=B6,COUNTIF(O7:O17,B6),\"\")","v":""},{"$f":"IF(O17=C6,COUNTIF(O7:O17,C6),\"\")","v":4},{"$f":"IF(O17=D6,COUNTIF(O7:O17,D6),\"\")","v":""},{"$f":"IF(O17=E6,COUNTIF(O7:O17,E6),\"\")","v":""},{"$f":"IF(O17=F6,COUNTIF(O7:O17,F6),\"\")","v":""},11,41,"Emily Chong",null,null,null,null,null,"Durham",null,null,null,13.02,1,null,null,null,null,null,null,null,null,null,null,null,null,null,null,null,null,null,null,11]
[{"$f":"IF(O18=A6,COUNTIF(O7:O18,A6),\"\")","v":""},{"$f":"IF(O18=B6,COUNTIF(O7:O18,B6),\"\")","v":""},{"$f":"IF(O18=C6,COUNTIF(O7:O18,C6),\"\")","v":5},{"$f":"IF(O18=D6,COUNTIF(O7:O18,D6),\"\")","v":""},{"$f":"IF(O18=E6,COUNTIF(O7:O18,E6),\"\")","v":""},{"$f":"IF(O18=F6,COUNTIF(O7:O18,F6),\"\")","v":""},12,42,"Amy Leonard",null,null,null,null,null,"Durham",null,null,null,13.03,1,null,null,null,null,null,null,null,null,null,null,null,null,null,null,null,null,null,null,12]
[{"$f":"IF(O19=A6,COUNTIF(O7:O19,A6),\"\")","v":""},{"$f":"IF(O19=B6,COUNTIF(O7:O19,B6),\"\")","v":""},{"$f":"IF(O19=C6,COUNTIF(O7:O19,C6),\"\")","v":6},{"$f":"IF(O19=D6,COUNTIF(O7:O19,D6),\"\")","v":""},{"$f":"IF(O19=E6,COUNTIF(O7:O19,E6),\"\")","v":""},{"$f":"IF(O19=F6,COUNTIF(O7:O19,F6),\"\")","v":""},13,44,"Erin Keeler-Clarke",null,null,null,null,null,"Durham",null,null,null,13.05,1,null,null,null,null,null,null,null,null,null,null,null,null,null,null,null,null,null,null,13]
[{"$f":"IF(O20=A6,COUNTIF(O7:O20,A6),\"\")","v":""},{"$f":"IF(O20=B6,COUNTIF(O7:O20,B6),\"\")","v":""},{"$f":"IF(O20=C6,COUNTIF(O7:O20,C6),\"\")","v":""},{"$f":"IF(O20=D6,COUNTIF(O7:O20,D6),\"\")","v":""},{"$f":"IF(O20=E6,COUNTIF(O7:O20,E6),\"\")","v":4},{"$f":"IF(O20=F6,COUNTIF(O7:O20,F6),\"\")","v":""},14,87,"Lexi Whitaker",null,null,null,null,null,"North Yorkshire",null,null,null,13.1,1,null,null,null,null,null,null,null,null,null,null,null,null,null,null,null,null,null,null,14]
[{"$f":"IF(O21=A6,COUNTIF(O7:O21,A6),\"\")","v":""},{"$f":"IF(O21=B6,COUNTIF(O7:O21,B6),\"\")","v":""},{"$f":"IF(O21=C6,COUNTIF(O7:O21,C6),\"\")","v":""},{"$f":"IF(O21=D6,COUNTIF(O7:O21,D6),\"\")","v":""},{"$f":"IF(O21=E6,COUNTIF(O7:O21,E6),\"\")","v":5},{"$f":"IF(O21=F6,COUNTIF(O7:O21,F6),\"\")","v":""},15,90,"Inez Khaddi",null,null,null,null,null,"North Yorkshire",null,null,null,13.1,1,null,null,null,null,null,null,null,null,null,null,null,null,null,null,null,null,null,null,15]
[{"$f":"IF(O22=A6,COUNTIF(O7:O22,A6),\"\")","v":""},{"$f":"IF(O22=B6,COUNTIF(O7:O22,B6),\"\")","v":""},{"$f":"IF(O22=C6,COUNTIF(O7:O22,C6),\"\")","v":""},{"$f":"IF(O22=D6,COUNTIF(O7:O22,D6),\"\")","v":3},{"$f":"IF(O22=E6,COUNTIF(O7:O22,E6),\"\")","v":""},{"$f":"IF(O22=F6,COUNTIF(O7:O22,F6),\"\")","v":""},16,63,"Kate Salthouse",null,null,null,null,null,"Northumberland",null,null,null,13.1,1,null,null,null,null,null,null,null,null,null,null,null,null,null,null,null,null,null,null,16]
[{"$f":"IF(O23=A6,COUNTIF(O7:O23,A6),\"\")","v":""},{"$f":"IF(O23=B6,COUNTIF(O7:O23,B6),\"\")","v":3},{"$f":"IF(O23=C6,COUNTIF(O7:O23,C6),\"\")","v":""},{"$f":"IF(O23=D6,COUNTIF(O7:O23,D6),\"\")","v":""},{"$f":"IF(O23=E6,COUNTIF(O7:O23,E6),\"\")","v":""},{"$f":"IF(O23=F6,COUNTIF(O7:O23,F6),\"\")","v":""},17,26,"Lizzy Pawson",null,null,null,null,null,"Cumbria",null,null,null,13.12,1,null,null,null,null,null,null,null,null,null,null,null,null,null,null,null,null,null,null,17]
[{"$f":"IF(O24=A6,COUNTIF(O7:O24,A6),\"\")","v":""},{"$f":"IF(O24=B6,COUNTIF(O7:O24,B6),\"\")","v":""},{"$f":"IF(O24=C6,COUNTIF(O7:O24,C6),\"\")","v":7},{"$f":"IF(O24=D6,COUNTIF(O7:O24,D6),\"\")","v":""},{"$f":"IF(O24=E6,COUNTIF(O7:O24,E6),\"\")","v":""},{"$f":"IF(O24=F6,COUNTIF(O7:O24,F6),\"\")","v":""},18,49,"Scarlett Newby",null,null,null,null,null,"Durham",null,null,null,13.13,1,null,null,null,null,null,null,null,null,null,null,null,null,null,null,null,null,null,null,18]
[{"$f":"IF(O25=A6,COUNTIF(O7:O25,A6),\"\")","v":""},{"$f":"IF(O25=B6,COUNTIF(O7:O25,B6),\"\")","v":4},{"$f":"IF(O25=C6,COUNTIF(O7:O25,C6),\"\")","v":""},{"$f":"IF(O25=D6,COUNTIF(O7:O25,D6),\"\")","v":""},{"$f":"IF(O25=E6,COUNTIF(O7:O25,E6),\"\")","v":""},{"$f":"IF(O25=F6,COUNTIF(O7:O25,F6),\"\")","v":""},19,30,"Emily Swarbrick",null,null,null,null,null,"Cumbria",null,null,null,13.15,1,null,null,null,null,null,null,null,null,null,null,null,null,null,null,null,null,null,null,19]
[{"$f":"IF(O26=A6,COUNTIF(O7:O26,A6),\"\")","v":""},{"$f":"IF(O26=B6,COUNTIF(O7:O26,B6),\"\")","v":5},{"$f":"IF(O26=C6,COUNTIF(O7:O26,C6),\"\")","v":""},{"$f":"IF(O26=D6,COUNTIF(O7:O26,D6),\"\")","v":""},{"$f":"IF(O26=E6,COUNTIF(O7:O26,E6),\"\")","v":""},{"$f":"IF(O26=F6,COUNTIF(O7:O26,F6),\"\")","v":""},20,31,"Melissa Mcintosh",null,null,null,null,null,"Cumbria",null,null,null,13.16,1,null,null,null,null,null,null,null,null,null,null,null,null,null,null,null,null,null,null,20]
[{"$f":"IF(O27=A6,COUNTIF(O7:O27,A6),\"\")","v":""},{"$f":"IF(O27=B6,COUNTIF(O7:O27,B6),\"\")","v":6},{"$f":"IF(O27=C6,COUNTIF(O7:O27,C6),\"\")","v":""},{"$f":"IF(O27=D6,COUNTIF(O7:O27,D6),\"\")","v":""},{"$f":"IF(O27=E6,COUNTIF(O7:O27,E6),\"\")","v":""},{"$f":"IF(O27=F6,COUNTIF(O7:O27,F6),\"\")","v":""},21,23,"Millie  Bell",null,null,null,null,null,"Cumbria",null,null,null,13.18,1,null,null,null,null,null,null,null,null,null,null,null,null,null,null,null,null,null,null,21]
[{"$f":"IF(O28=A6,COUNTIF(O7:O28,A6),\"\")","v":""},{"$f":"IF(O28=B6,COUNTIF(O7:O28,B6),\"\")","v":""},{"$f":"IF(O28=C6,COUNTIF(O7:O28,C6),\"\")","v":8},{"$f":"IF(O28=D6,COUNTIF(O7:O28,D6),\"\")","v":""},{"$f":"IF(O28=E6,COUNTIF(O7:O28,E6),\"\")","v":""},{"$f":"IF(O28=F6,COUNTIF(O7:O28,F6),\"\")","v":""},22,45,"Cecilia Reid",null,null,null,null,null,"Durham",null,null,null,13.19,1,null,null,null,null,null,null,null,null,null,null,null,null,null,null,null,null,null,null,22]
[{"$f":"IF(O29=A6,COUNTIF(O7:O29,A6),\"\")","v":""},{"$f":"IF(O29=B6,COUNTIF(O7:O29,B6),\"\")","v":""},{"$f":"IF(O29=C6,COUNTIF(O7:O29,C6),\"\")","v":9},{"$f":"IF(O29=D6,COUNTIF(O7:O29,D6),\"\")","v":""},{"$f":"IF(O29=E6,COUNTIF(O7:O29,E6),\"\")","v":""},{"$f":"IF(O29=F6,COUNTIF(O7:O29,F6),\"\")","v":""},23,52,"Ciara Thornley",null,null,null,null,null,"Durham",null,null,null,13.2,1,null,null,null,null,null,null,null,null,null,null,null,null,null,null,null,null,null,null,23]
[{"$f":"IF(O30=A6,COUNTIF(O7:O30,A6),\"\")","v":""},{"$f":"IF(O30=B6,COUNTIF(O7:O30,B6),\"\")","v":""},{"$f":"IF(O30=C6,COUNTIF(O7:O30,C6),\"\")","v":""},{"$f":"IF(O30=D6,COUNTIF(O7:O30,D6),\"\")","v":4},{"$f":"IF(O30=E6,COUNTIF(O7:O30,E6),\"\")","v":""},{"$f":"IF(O30=F6,COUNTIF(O7:O30,F6),\"\")","v":""},24,67,"Lily Robson",null,null,null,null,null,"Northumberland",null,null,null,13.22,1,null,null,null,null,null,null,null,null,null,null,null,null,null,null,null,null,null,null,24]
[{"$f":"IF(O31=A6,COUNTIF(O7:O31,A6),\"\")","v":""},{"$f":"IF(O31=B6,COUNTIF(O7:O31,B6),\"\")","v":""},{"$f":"IF(O31=C6,COUNTIF(O7:O31,C6),\"\")","v":""},{"$f":"IF(O31=D6,COUNTIF(O7:O31,D6),\"\")","v":""},{"$f":"IF(O31=E6,COUNTIF(O7:O31,E6),\"\")","v":6},{"$f":"IF(O31=F6,COUNTIF(O7:O31,F6),\"\")","v":""},25,85,"Marnie Scatchard",null,null,null,null,null,"North Yorkshire",null,null,null,13.24,1,null,null,null,null,null,null,null,null,null,null,null,null,null,null,null,null,null,null,25]
[{"$f":"IF(O32=A6,COUNTIF(O7:O32,A6),\"\")","v":""},{"$f":"IF(O32=B6,COUNTIF(O7:O32,B6),\"\")","v":""},{"$f":"IF(O32=C6,COUNTIF(O7:O32,C6),\"\")","v":""},{"$f":"IF(O32=D6,COUNTIF(O7:O32,D6),\"\")","v":""},{"$f":"IF(O32=E6,COUNTIF(O7:O32,E6),\"\")","v":7},{"$f":"IF(O32=F6,COUNTIF(O7:O32,F6),\"\")","v":""},26,91,"Molly Acton",null,null,null,null,null,"North Yorkshire",null,null,null,13.24,1,null,null,null,null,null,null,null,null,null,null,null,null,null,null,null,null,null,null,26]
[{"$f":"IF(O33=A6,COUNTIF(O7:O33,A6),\"\")","v":""},{"$f":"IF(O33=B6,COUNTIF(O7:O33,B6),\"\")","v":""},{"$f":"IF(O33=C6,COUNTIF(O7:O33,C6),\"\")","v":""},{"$f":"IF(O33=D6,COUNTIF(O7:O33,D6),\"\")","v":5},{"$f":"IF(O33=E6,COUNTIF(O7:O33,E6),\"\")","v":""},{"$f":"IF(O33=F6,COUNTIF(O7:O33,F6),\"\")","v":""},27,66,"Rosie Hughes",null,null,null,null,null,"Northumberland",null,null,null,13.24,1,null,null,null,null,null,null,null,null,null,null,null,null,null,null,null,null,null,null,27]
[{"$f":"IF(O34=A6,COUNTIF(O7:O34,A6),\"\")","v":""},{"$f":"IF(O34=B6,COUNTIF(O7:O34,B6),\"\")","v":""},{"$f":"IF(O34=C6,COUNTIF(O7:O34,C6),\"\")","v":""},{"$f":"IF(O34=D6,COUNTIF(O7:O34,D6),\"\")","v":6},{"$f":"IF(O34=E6,COUNTIF(O7:O34,E6),\"\")","v":""},{"$f":"IF(O34=F6,COUNTIF(O7:O34,F6),\"\")","v":""},28,65,"Amy Ellis",null,null,null,null,null,"Northumberland",null,null,null,13.25,1,null,null,null,null,null,null,null,null,null,null,null,null,null,null,null,null,null,null,28]
[{"$f":"IF(O35=A6,COUNTIF(O7:O35,A6),\"\")","v":""},{"$f":"IF(O35=B6,COUNTIF(O7:O35,B6),\"\")","v":""},{"$f":"IF(O35=C6,COUNTIF(O7:O35,C6),\"\")","v":""},{"$f":"IF(O35=D6,COUNTIF(O7:O35,D6),\"\")","v":7},{"$f":"IF(O35=E6,COUNTIF(O7:O35,E6),\"\")","v":""},{"$f":"IF(O35=F6,COUNTIF(O7:O35,F6),\"\")","v":""},29,64,"Millicent Breese",null,null,null,null,null,"Northumberland",null,null,null,13.26,1,null,null,null,null,null,null,null,null,null,null,null,null,null,null,null,null,null,null,29]
[{"$f":"IF(O36=A6,COUNTIF(O7:O36,A6),\"\")","v":""},{"$f":"IF(O36=B6,COUNTIF(O7:O36,B6),\"\")","v":""},{"$f":"IF(O36=C6,COUNTIF(O7:O36,C6),\"\")","v":""},{"$f":"IF(O36=D6,COUNTIF(O7:O36,D6),\"\")","v":8},{"$f":"IF(O36=E6,COUNTIF(O7:O36,E6),\"\")","v":""},{"$f":"IF(O36=F6,COUNTIF(O7:O36,F6),\"\")","v":""},30,69,"Abigail Leiper",null,null,null,null,null,"Northumberland",null,null,null,13.27,1,null,null,null,null,null,null,null,null,null,null,null,null,null,null,null,null,null,null,30]
[{"$f":"IF(O37=A6,COUNTIF(O7:O37,A6),\"\")","v":1},{"$f":"IF(O37=B6,COUNTIF(O7:O37,B6),\"\")","v":""},{"$f":"IF(O37=C6,COUNTIF(O7:O37,C6),\"\")","v":""},{"$f":"IF(O37=D6,COUNTIF(O7:O37,D6),\"\")","v":""},{"$f":"IF(O37=E6,COUNTIF(O7:O37,E6),\"\")","v":""},{"$f":"IF(O37=F6,COUNTIF(O7:O37,F6),\"\")","v":""},31,2,"Katie Lowe",null,null,null,null,null,"Cleveland",null,null,null,13.29,1,null,null,null,null,null,null,null,null,null,null,null,null,null,null,null,null,null,null,31]
[{"$f":"IF(O38=A6,COUNTIF(O7:O38,A6),\"\")","v":2},{"$f":"IF(O38=B6,COUNTIF(O7:O38,B6),\"\")","v":""},{"$f":"IF(O38=C6,COUNTIF(O7:O38,C6),\"\")","v":""},{"$f":"IF(O38=D6,COUNTIF(O7:O38,D6),\"\")","v":""},{"$f":"IF(O38=E6,COUNTIF(O7:O38,E6),\"\")","v":""},{"$f":"IF(O38=F6,COUNTIF(O7:O38,F6),\"\")","v":""},32,1,"Lois Creasey",null,null,null,null,null,"Cleveland",null,null,null,13.31,1,null,null,null,null,null,null,null,null,null,null,null,null,null,null,null,null,null,null,32]
[{"$f":"IF(O39=A6,COUNTIF(O7:O39,A6),\"\")","v":""},{"$f":"IF(O39=B6,COUNTIF(O7:O39,B6),\"\")","v":7},{"$f":"IF(O39=C6,COUNTIF(O7:O39,C6),\"\")","v":""},{"$f":"IF(O39=D6,COUNTIF(O7:O39,D6),\"\")","v":""},{"$f":"IF(O39=E6,COUNTIF(O7:O39,E6),\"\")","v":""},{"$f":"IF(O39=F6,COUNTIF(O7:O39,F6),\"\")","v":""},33,29,"Gemma O'Dowd",null,null,null,null,null,"Cumbria",null,null,null,13.32,1,null,null,null,null,null,null,null,null,null,null,null,null,null,null,null,null,null,null,33]
[{"$f":"IF(O40=A6,COUNTIF(O7:O40,A6),\"\")","v":""},{"$f":"IF(O40=B6,COUNTIF(O7:O40,B6),\"\")","v":""},{"$f":"IF(O40=C6,COUNTIF(O7:O40,C6),\"\")","v":""},{"$f":"IF(O40=D6,COUNTIF(O7:O40,D6),\"\")","v":""},{"$f":"IF(O40=E6,COUNTIF(O7:O40,E6),\"\")","v":8},{"$f":"IF(O40=F6,COUNTIF(O7:O40,F6),\"\")","v":""},34,86,"Ella Colbourn",null,null,null,null,null,"North Yorkshire",null,null,null,13.36,1,null,null,null,null,null,null,null,null,null,null,null,null,null,null,null,null,null,null,34]
[{"$f":"IF(O41=A6,COUNTIF(O7:O41,A6),\"\")","v":""},{"$f":"IF(O41=B6,COUNTIF(O7:O41,B6),\"\")","v":""},{"$f":"IF(O41=C6,COUNTIF(O7:O41,C6),\"\")","v":""},{"$f":"IF(O41=D6,COUNTIF(O7:O41,D6),\"\")","v":9},{"$f":"IF(O41=E6,COUNTIF(O7:O41,E6),\"\")","v":""},{"$f":"IF(O41=F6,COUNTIF(O7:O41,F6),\"\")","v":""},35,70,"Willow Morris",null,null,null,null,null,"Northumberland",null,null,null,13.39,1,null,null,null,null,null,null,null,null,null,null,null,null,null,null,null,null,null,null,35]
[{"$f":"IF(O42=A6,COUNTIF(O7:O42,A6),\"\")","v":""},{"$f":"IF(O42=B6,COUNTIF(O7:O42,B6),\"\")","v":""},{"$f":"IF(O42=C6,COUNTIF(O7:O42,C6),\"\")","v":""},{"$f":"IF(O42=D6,COUNTIF(O7:O42,D6),\"\")","v":""},{"$f":"IF(O42=E6,COUNTIF(O7:O42,E6),\"\")","v":9},{"$f":"IF(O42=F6,COUNTIF(O7:O42,F6),\"\")","v":""},36,88,"Emma Peel",null,null,null,null,null,"North Yorkshire",null,null,null,13.44,1,null,null,null,null,null,null,null,null,null,null,null,null,null,null,null,null,null,null,36]
[{"$f":"IF(O43=A6,COUNTIF(O7:O43,A6),\"\")","v":3},{"$f":"IF(O43=B6,COUNTIF(O7:O43,B6),\"\")","v":""},{"$f":"IF(O43=C6,COUNTIF(O7:O43,C6),\"\")","v":""},{"$f":"IF(O43=D6,COUNTIF(O7:O43,D6),\"\")","v":""},{"$f":"IF(O43=E6,COUNTIF(O7:O43,E6),\"\")","v":""},{"$f":"IF(O43=F6,COUNTIF(O7:O43,F6),\"\")","v":""},37,6,"Imogen Lillie",null,null,null,null,null,"Cleveland",null,null,null,13.44,1,null,null,null,null,null,null,null,null,null,null,null,null,null,null,null,null,null,null,37]
[{"$f":"IF(O44=A6,COUNTIF(O7:O44,A6),\"\")","v":""},{"$f":"IF(O44=B6,COUNTIF(O7:O44,B6),\"\")","v":8},{"$f":"IF(O44=C6,COUNTIF(O7:O44,C6),\"\")","v":""},{"$f":"IF(O44=D6,COUNTIF(O7:O44,D6),\"\")","v":""},{"$f":"IF(O44=E6,COUNTIF(O7:O44,E6),\"\")","v":""},{"$f":"IF(O44=F6,COUNTIF(O7:O44,F6),\"\")","v":""},38,36,"Ava Taperell",null,null,null,null,null,"Cumbria",null,null,null,13,1,null,null,null,null,null,null,null,null,null,null,null,null,null,null,null,null,null,null,38]
[{"$f":"IF(O45=A6,COUNTIF(O7:O45,A6),\"\")","v":""},{"$f":"IF(O45=B6,COUNTIF(O7:O45,B6),\"\")","v":""},{"$f":"IF(O45=C6,COUNTIF(O7:O45,C6),\"\")","v":10},{"$f":"IF(O45=D6,COUNTIF(O7:O45,D6),\"\")","v":""},{"$f":"IF(O45=E6,COUNTIF(O7:O45,E6),\"\")","v":""},{"$f":"IF(O45=F6,COUNTIF(O7:O45,F6),\"\")","v":""},39,50,"Abigail Thwaites",null,null,null,null,null,"Durham",null,null,null,13.44,1,null,null,null,null,null,null,null,null,null,null,null,null,null,null,null,null,null,null,39]
[{"$f":"IF(O46=A6,COUNTIF(O7:O46,A6),\"\")","v":""},{"$f":"IF(O46=B6,COUNTIF(O7:O46,B6),\"\")","v":9},{"$f":"IF(O46=C6,COUNTIF(O7:O46,C6),\"\")","v":""},{"$f":"IF(O46=D6,COUNTIF(O7:O46,D6),\"\")","v":""},{"$f":"IF(O46=E6,COUNTIF(O7:O46,E6),\"\")","v":""},{"$f":"IF(O46=F6,COUNTIF(O7:O46,F6),\"\")","v":""},40,25,"Alicia Newing",null,null,null,null,null,"Cumbria",null,null,null,13.48,1,null,null,null,null,null,null,null,null,null,null,null,null,null,null,null,null,null,null,40]
[{"$f":"IF(O47=A6,COUNTIF(O7:O47,A6),\"\")","v":""},{"$f":"IF(O47=B6,COUNTIF(O7:O47,B6),\"\")","v":10},{"$f":"IF(O47=C6,COUNTIF(O7:O47,C6),\"\")","v":""},{"$f":"IF(O47=D6,COUNTIF(O7:O47,D6),\"\")","v":""},{"$f":"IF(O47=E6,COUNTIF(O7:O47,E6),\"\")","v":""},{"$f":"IF(O47=F6,COUNTIF(O7:O47,F6),\"\")","v":""},41,27,"Amelie Marshall",null,null,null,null,null,"Cumbria",null,null,null,13.56,1,null,null,null,null,null,null,null,null,null,null,null,null,null,null,null,null,null,null,41]
[{"$f":"IF(O48=A6,COUNTIF(O7:O48,A6),\"\")","v":""},{"$f":"IF(O48=B6,COUNTIF(O7:O48,B6),\"\")","v":""},{"$f":"IF(O48=C6,COUNTIF(O7:O48,C6),\"\")","v":""},{"$f":"IF(O48=D6,COUNTIF(O7:O48,D6),\"\")","v":""},{"$f":"IF(O48=E6,COUNTIF(O7:O48,E6),\"\")","v":10},{"$f":"IF(O48=F6,COUNTIF(O7:O48,F6),\"\")","v":""},42,89,"Alana Teasdale",null,null,null,null,null,"North Yorkshire",null,null,null,14,1,null,null,null,null,null,null,null,null,null,null,null,null,null,null,null,null,null,null,42]
[{"$f":"IF(O49=A6,COUNTIF(O7:O49,A6),\"\")","v":""},{"$f":"IF(O49=B6,COUNTIF(O7:O49,B6),\"\")","v":""},{"$f":"IF(O49=C6,COUNTIF(O7:O49,C6),\"\")","v":""},{"$f":"IF(O49=D6,COUNTIF(O7:O49,D6),\"\")","v":10},{"$f":"IF(O49=E6,COUNTIF(O7:O49,E6),\"\")","v":""},{"$f":"IF(O49=F6,COUNTIF(O7:O49,F6),\"\")","v":""},43,72,"Holly Waugh",null,null,null,null,null,"Northumberland",null,null,null,14,1,null,null,null,null,null,null,null,null,null,null,null,null,null,null,null,null,null,null,43]
[{"$f":"IF(O50=A6,COUNTIF(O7:O50,A6),\"\")","v":""},{"$f":"IF(O50=B6,COUNTIF(O7:O50,B6),\"\")","v":""},{"$f":"IF(O50=C6,COUNTIF(O7:O50,C6),\"\")","v":11},{"$f":"IF(O50=D6,COUNTIF(O7:O50,D6),\"\")","v":""},{"$f":"IF(O50=E6,COUNTIF(O7:O50,E6),\"\")","v":""},{"$f":"IF(O50=F6,COUNTIF(O7:O50,F6),\"\")","v":""},44,48,"Nicole Phillips",null,null,null,null,null,"Durham",null,null,null,14,1,null,null,null,null,null,null,null,null,null,null,null,null,null,null,null,null,null,null,44]
[{"$f":"IF(O51=A6,COUNTIF(O7:O51,A6),\"\")","v":""},{"$f":"IF(O51=B6,COUNTIF(O7:O51,B6),\"\")","v":11},{"$f":"IF(O51=C6,COUNTIF(O7:O51,C6),\"\")","v":""},{"$f":"IF(O51=D6,COUNTIF(O7:O51,D6),\"\")","v":""},{"$f":"IF(O51=E6,COUNTIF(O7:O51,E6),\"\")","v":""},{"$f":"IF(O51=F6,COUNTIF(O7:O51,F6),\"\")","v":""},45,32,"Anna Taylor",null,null,null,null,null,"Cumbria",null,null,null,14.02,1,null,null,null,null,null,null,null,null,null,null,null,null,null,null,null,null,null,null,45]
[{"$f":"IF(O52=A6,COUNTIF(O7:O52,A6),\"\")","v":4},{"$f":"IF(O52=B6,COUNTIF(O7:O52,B6),\"\")","v":""},{"$f":"IF(O52=C6,COUNTIF(O7:O52,C6),\"\")","v":""},{"$f":"IF(O52=D6,COUNTIF(O7:O52,D6),\"\")","v":""},{"$f":"IF(O52=E6,COUNTIF(O7:O52,E6),\"\")","v":""},{"$f":"IF(O52=F6,COUNTIF(O7:O52,F6),\"\")","v":""},46,15,"Jess Hall",null,null,null,null,null,"Cleveland",null,null,null,14.06,1,null,null,null,null,null,null,null,null,null,null,null,null,null,null,null,null,null,null,46]
[{"$f":"IF(O53=A6,COUNTIF(O7:O53,A6),\"\")","v":5},{"$f":"IF(O53=B6,COUNTIF(O7:O53,B6),\"\")","v":""},{"$f":"IF(O53=C6,COUNTIF(O7:O53,C6),\"\")","v":""},{"$f":"IF(O53=D6,COUNTIF(O7:O53,D6),\"\")","v":""},{"$f":"IF(O53=E6,COUNTIF(O7:O53,E6),\"\")","v":""},{"$f":"IF(O53=F6,COUNTIF(O7:O53,F6),\"\")","v":""},47,17,0,null,null,null,null,null,"Cleveland",null,null,null,14.07,1,null,null,null,null,null,null,null,null,null,null,null,null,null,null,null,null,null,null,47]
[{"$f":"IF(O54=A6,COUNTIF(O7:O54,A6),\"\")","v":6},{"$f":"IF(O54=B6,COUNTIF(O7:O54,B6),\"\")","v":""},{"$f":"IF(O54=C6,COUNTIF(O7:O54,C6),\"\")","v":""},{"$f":"IF(O54=D6,COUNTIF(O7:O54,D6),\"\")","v":""},{"$f":"IF(O54=E6,COUNTIF(O7:O54,E6),\"\")","v":""},{"$f":"IF(O54=F6,COUNTIF(O7:O54,F6),\"\")","v":""},48,4,"Anna Reeves",null,null,null,null,null,"Cleveland",null,null,null,14.07,1,null,null,null,null,null,null,null,null,null,null,null,null,null,null,null,null,null,null,48]
[{"$f":"IF(O55=A6,COUNTIF(O7:O55,A6),\"\")","v":""},{"$f":"IF(O55=B6,COUNTIF(O7:O55,B6),\"\")","v":12},{"$f":"IF(O55=C6,COUNTIF(O7:O55,C6),\"\")","v":""},{"$f":"IF(O55=D6,COUNTIF(O7:O55,D6),\"\")","v":""},{"$f":"IF(O55=E6,COUNTIF(O7:O55,E6),\"\")","v":""},{"$f":"IF(O55=F6,COUNTIF(O7:O55,F6),\"\")","v":""},49,33,"Martha Richards",null,null,null,null,null,"Cumbria",null,null,null,14.08,1,null,null,null,null,null,null,null,null,null,null,null,null,null,null,null,null,null,null,49]
[{"$f":"IF(O56=A6,COUNTIF(O7:O56,A6),\"\")","v":""},{"$f":"IF(O56=B6,COUNTIF(O7:O56,B6),\"\")","v":""},{"$f":"IF(O56=C6,COUNTIF(O7:O56,C6),\"\")","v":12},{"$f":"IF(O56=D6,COUNTIF(O7:O56,D6),\"\")","v":""},{"$f":"IF(O56=E6,COUNTIF(O7:O56,E6),\"\")","v":""},{"$f":"IF(O56=F6,COUNTIF(O7:O56,F6),\"\")","v":""},50,53,"Beth Wilson",null,null,null,null,null,"Durham",null,null,null,14.09,1,null,null,null,null,null,null,null,null,null,null,null,null,null,null,null,null,null,null,50]
[{"$f":"IF(O57=A6,COUNTIF(O7:O57,A6),\"\")","v":""},{"$f":"IF(O57=B6,COUNTIF(O7:O57,B6),\"\")","v":""},{"$f":"IF(O57=C6,COUNTIF(O7:O57,C6),\"\")","v":""},{"$f":"IF(O57=D6,COUNTIF(O7:O57,D6),\"\")","v":11},{"$f":"IF(O57=E6,COUNTIF(O7:O57,E6),\"\")","v":""},{"$f":"IF(O57=F6,COUNTIF(O7:O57,F6),\"\")","v":""},51,68,"Ellie Van Der Merwe",null,null,null,null,null,"Northumberland",null,null,null,14.12,1,null,null,null,null,null,null,null,null,null,null,null,null,null,null,null,null,null,null,51]
[{"$f":"IF(O58=A6,COUNTIF(O7:O58,A6),\"\")","v":7},{"$f":"IF(O58=B6,COUNTIF(O7:O58,B6),\"\")","v":""},{"$f":"IF(O58=C6,COUNTIF(O7:O58,C6),\"\")","v":""},{"$f":"IF(O58=D6,COUNTIF(O7:O58,D6),\"\")","v":""},{"$f":"IF(O58=E6,COUNTIF(O7:O58,E6),\"\")","v":""},{"$f":"IF(O58=F6,COUNTIF(O7:O58,F6),\"\")","v":""},52,5,"Sophie Briming",null,null,null,null,null,"Cleveland",null,null,null,14.13,1,null,null,null,null,null,null,null,null,null,null,null,null,null,null,null,null,null,null,52]
[{"$f":"IF(O59=A6,COUNTIF(O7:O59,A6),\"\")","v":""},{"$f":"IF(O59=B6,COUNTIF(O7:O59,B6),\"\")","v":""},{"$f":"IF(O59=C6,COUNTIF(O7:O59,C6),\"\")","v":""},{"$f":"IF(O59=D6,COUNTIF(O7:O59,D6),\"\")","v":12},{"$f":"IF(O59=E6,COUNTIF(O7:O59,E6),\"\")","v":""},{"$f":"IF(O59=F6,COUNTIF(O7:O59,F6),\"\")","v":""},53,71,"Rhiannon Hedley",null,null,null,null,null,"Northumberland",null,null,null,14.13,1,null,null,null,null,null,null,null,null,null,null,null,null,null,null,null,null,null,null,53]
[{"$f":"IF(O60=A6,COUNTIF(O7:O60,A6),\"\")","v":""},{"$f":"IF(O60=B6,COUNTIF(O7:O60,B6),\"\")","v":""},{"$f":"IF(O60=C6,COUNTIF(O7:O60,C6),\"\")","v":13},{"$f":"IF(O60=D6,COUNTIF(O7:O60,D6),\"\")","v":""},{"$f":"IF(O60=E6,COUNTIF(O7:O60,E6),\"\")","v":""},{"$f":"IF(O60=F6,COUNTIF(O7:O60,F6),\"\")","v":""},54,57,"Kathyrn Lee",null,null,null,null,null,"Durham",null,null,null,14.13,1,null,null,null,null,null,null,null,null,null,null,null,null,null,null,null,null,null,null,54]
[{"$f":"IF(O61=A6,COUNTIF(O7:O61,A6),\"\")","v":8},{"$f":"IF(O61=B6,COUNTIF(O7:O61,B6),\"\")","v":""},{"$f":"IF(O61=C6,COUNTIF(O7:O61,C6),\"\")","v":""},{"$f":"IF(O61=D6,COUNTIF(O7:O61,D6),\"\")","v":""},{"$f":"IF(O61=E6,COUNTIF(O7:O61,E6),\"\")","v":""},{"$f":"IF(O61=F6,COUNTIF(O7:O61,F6),\"\")","v":""},55,3,"Peta Collins",null,null,null,null,null,"Cleveland",null,null,null,14.16,1,null,null,null,null,null,null,null,null,null,null,null,null,null,null,null,null,null,null,55]
[{"$f":"IF(O62=A6,COUNTIF(O7:O62,A6),\"\")","v":""},{"$f":"IF(O62=B6,COUNTIF(O7:O62,B6),\"\")","v":13},{"$f":"IF(O62=C6,COUNTIF(O7:O62,C6),\"\")","v":""},{"$f":"IF(O62=D6,COUNTIF(O7:O62,D6),\"\")","v":""},{"$f":"IF(O62=E6,COUNTIF(O7:O62,E6),\"\")","v":""},{"$f":"IF(O62=F6,COUNTIF(O7:O62,F6),\"\")","v":""},56,28,"Laura Brown",null,null,null,null,null,"Cumbria",null,null,null,14.18,1,null,null,null,null,null,null,null,null,null,null,null,null,null,null,null,null,null,null,56]
[{"$f":"IF(O63=A6,COUNTIF(O7:O63,A6),\"\")","v":9},{"$f":"IF(O63=B6,COUNTIF(O7:O63,B6),\"\")","v":""},{"$f":"IF(O63=C6,COUNTIF(O7:O63,C6),\"\")","v":""},{"$f":"IF(O63=D6,COUNTIF(O7:O63,D6),\"\")","v":""},{"$f":"IF(O63=E6,COUNTIF(O7:O63,E6),\"\")","v":""},{"$f":"IF(O63=F6,COUNTIF(O7:O63,F6),\"\")","v":""},57,8,"Essie Croce",null,null,null,null,null,"Cleveland",null,null,null,14.25,1,null,null,null,null,null,null,null,null,null,null,null,null,null,null,null,null,null,null,57]
[{"$f":"IF(O64=A6,COUNTIF(O7:O64,A6),\"\")","v":""},{"$f":"IF(O64=B6,COUNTIF(O7:O64,B6),\"\")","v":""},{"$f":"IF(O64=C6,COUNTIF(O7:O64,C6),\"\")","v":""},{"$f":"IF(O64=D6,COUNTIF(O7:O64,D6),\"\")","v":13},{"$f":"IF(O64=E6,COUNTIF(O7:O64,E6),\"\")","v":""},{"$f":"IF(O64=F6,COUNTIF(O7:O64,F6),\"\")","v":""},58,73,"Grace Larsen",null,null,null,null,null,"Northumberland",null,null,null,14.31,1,null,null,null,null,null,null,null,null,null,null,null,null,null,null,null,null,null,null,58]
[{"$f":"IF(O65=A6,COUNTIF(O7:O65,A6),\"\")","v":""},{"$f":"IF(O65=B6,COUNTIF(O7:O65,B6),\"\")","v":""},{"$f":"IF(O65=C6,COUNTIF(O7:O65,C6),\"\")","v":14},{"$f":"IF(O65=D6,COUNTIF(O7:O65,D6),\"\")","v":""},{"$f":"IF(O65=E6,COUNTIF(O7:O65,E6),\"\")","v":""},{"$f":"IF(O65=F6,COUNTIF(O7:O65,F6),\"\")","v":""},59,56,"Florence Archer",null,null,null,null,null,"Durham",null,null,null,14.43,1,null,null,null,null,null,null,null,null,null,null,null,null,null,null,null,null,null,null,59]
[{"$f":"IF(O66=A6,COUNTIF(O7:O66,A6),\"\")","v":""},{"$f":"IF(O66=B6,COUNTIF(O7:O66,B6),\"\")","v":""},{"$f":"IF(O66=C6,COUNTIF(O7:O66,C6),\"\")","v":""},{"$f":"IF(O66=D6,COUNTIF(O7:O66,D6),\"\")","v":""},{"$f":"IF(O66=E6,COUNTIF(O7:O66,E6),\"\")","v":11},{"$f":"IF(O66=F6,COUNTIF(O7:O66,F6),\"\")","v":""},60,92,"Mia Petrucci",null,null,null,null,null,"North Yorkshire",null,null,null,14.49,1,null,null,null,null,null,null,null,null,null,null,null,null,null,null,null,null,null,null,60]
[{"$f":"IF(O67=A6,COUNTIF(O7:O67,A6),\"\")","v":""},{"$f":"IF(O67=B6,COUNTIF(O7:O67,B6),\"\")","v":""},{"$f":"IF(O67=C6,COUNTIF(O7:O67,C6),\"\")","v":15},{"$f":"IF(O67=D6,COUNTIF(O7:O67,D6),\"\")","v":""},{"$f":"IF(O67=E6,COUNTIF(O7:O67,E6),\"\")","v":""},{"$f":"IF(O67=F6,COUNTIF(O7:O67,F6),\"\")","v":""},61,54,"Bethaney Iveson",null,null,null,null,null,"Durham",null,null,null,14.57,1,null,null,null,null,null,null,null,null,null,null,null,null,null,null,null,null,null,null,61]
[{"$f":"IF(O68=A6,COUNTIF(O7:O68,A6),\"\")","v":10},{"$f":"IF(O68=B6,COUNTIF(O7:O68,B6),\"\")","v":""},{"$f":"IF(O68=C6,COUNTIF(O7:O68,C6),\"\")","v":""},{"$f":"IF(O68=D6,COUNTIF(O7:O68,D6),\"\")","v":""},{"$f":"IF(O68=E6,COUNTIF(O7:O68,E6),\"\")","v":""},{"$f":"IF(O68=F6,COUNTIF(O7:O68,F6),\"\")","v":""},62,12,"Izzy Blackburn",null,null,null,null,null,"Cleveland",null,null,null,15,1,null,null,null,null,null,null,null,null,null,null,null,null,null,null,null,null,null,null,62]
[{"$f":"IF(O69=A6,COUNTIF(O7:O69,A6),\"\")","v":11},{"$f":"IF(O69=B6,COUNTIF(O7:O69,B6),\"\")","v":""},{"$f":"IF(O69=C6,COUNTIF(O7:O69,C6),\"\")","v":""},{"$f":"IF(O69=D6,COUNTIF(O7:O69,D6),\"\")","v":""},{"$f":"IF(O69=E6,COUNTIF(O7:O69,E6),\"\")","v":""},{"$f":"IF(O69=F6,COUNTIF(O7:O69,F6),\"\")","v":""},63,9,"Maddy Cox",null,null,null,null,null,"Cleveland",null,null,null,15.02,1,null,null,null,null,null,null,null,null,null,null,null,null,null,null,null,null,null,null,63]
[{"$f":"IF(O70=A6,COUNTIF(O7:O70,A6),\"\")","v":""},{"$f":"IF(O70=B6,COUNTIF(O7:O70,B6),\"\")","v":14},{"$f":"IF(O70=C6,COUNTIF(O7:O70,C6),\"\")","v":""},{"$f":"IF(O70=D6,COUNTIF(O7:O70,D6),\"\")","v":""},{"$f":"IF(O70=E6,COUNTIF(O7:O70,E6),\"\")","v":""},{"$f":"IF(O70=F6,COUNTIF(O7:O70,F6),\"\")","v":""},64,37,"Holly Dobson",null,null,null,null,null,"Cumbria",null,null,null,15.06,1,null,null,null,null,null,null,null,null,null,null,null,null,null,null,null,null,null,null,64]
[{"$f":"IF(O71=A6,COUNTIF(O7:O71,A6),\"\")","v":12},{"$f":"IF(O71=B6,COUNTIF(O7:O71,B6),\"\")","v":""},{"$f":"IF(O71=C6,COUNTIF(O7:O71,C6),\"\")","v":""},{"$f":"IF(O71=D6,COUNTIF(O7:O71,D6),\"\")","v":""},{"$f":"IF(O71=E6,COUNTIF(O7:O71,E6),\"\")","v":""},{"$f":"IF(O71=F6,COUNTIF(O7:O71,F6),\"\")","v":""},{"$f":"IF(LEFT(S71,1)=\"D\",0,AM71)","v":65},13,{"$f":"IFERROR(VLOOKUP(H71,INDIRECT($AA$1),2,0),\"\")","v":"Lucy Mcgouran"},null,null,null,null,null,{"$f":"IFERROR(VLOOKUP(H71,INDIRECT($AA$1),3,0),\"\")","v":"Cleveland"},null,null,null,15.45,{"$f":"IF(H71=0,0,1)","v":1},null,null,null,null,null,null,null,null,null,null,null,null,null,null,null,null,null,null,65]
[{"$f":"IF(O72=A6,COUNTIF(O7:O72,A6),\"\")","v":13},{"$f":"IF(O72=B6,COUNTIF(O7:O72,B6),\"\")","v":""},{"$f":"IF(O72=C6,COUNTIF(O7:O72,C6),\"\")","v":""},{"$f":"IF(O72=D6,COUNTIF(O7:O72,D6),\"\")","v":""},{"$f":"IF(O72=E6,COUNTIF(O7:O72,E6),\"\")","v":""},{"$f":"IF(O72=F6,COUNTIF(O7:O72,F6),\"\")","v":""},66,11,"Heba Nane",null,null,null,null,null,"Cleveland",null,null,null,16.02,1,null,null,null,null,null,null,null,null,null,null,null,null,null,null,null,null,null,null,66]
[{"$f":"IF(O73=A6,COUNTIF(O7:O73,A6),\"\")","v":""},{"$f":"IF(O73=B6,COUNTIF(O7:O73,B6),\"\")","v":""},{"$f":"IF(O73=C6,COUNTIF(O7:O73,C6),\"\")","v":""},{"$f":"IF(O73=D6,COUNTIF(O7:O73,D6),\"\")","v":""},{"$f":"IF(O73=E6,COUNTIF(O7:O73,E6),\"\")","v":""},{"$f":"IF(O73=F6,COUNTIF(O7:O73,F6),\"\")","v":""},67,null,"",null,null,null,null,null,"",null,null,null,null,0,null,null,null,null,null,null,null,null,null,null,null,null,null,null,null,null,null,null,67]
[{"$f":"IF(O74=A6,COUNTIF(O7:O74,A6),\"\")","v":""},{"$f":"IF(O74=B6,COUNTIF(O7:O74,B6),\"\")","v":""},{"$f":"IF(O74=C6,COUNTIF(O7:O74,C6),\"\")","v":""},{"$f":"IF(O74=D6,COUNTIF(O7:O74,D6),\"\")","v":""},{"$f":"IF(O74=E6,COUNTIF(O7:O74,E6),\"\")","v":""},{"$f":"IF(O74=F6,COUNTIF(O7:O74,F6),\"\")","v":""},68,null,"",null,null,null,null,null,"",null,null,null,null,0,null,null,null,null,null,null,null,null,null,null,null,null,null,null,null,null,null,null,68]
[{"$f":"IF(O75=A6,COUNTIF(O7:O75,A6),\"\")","v":""},{"$f":"IF(O75=B6,COUNTIF(O7:O75,B6),\"\")","v":""},{"$f":"IF(O75=C6,COUNTIF(O7:O75,C6),\"\")","v":""},{"$f":"IF(O75=D6,COUNTIF(O7:O75,D6),\"\")","v":""},{"$f":"IF(O75=E6,COUNTIF(O7:O75,E6),\"\")","v":""},{"$f":"IF(O75=F6,COUNTIF(O7:O75,F6),\"\")","v":""},69,null,"",null,null,null,null,null,"",null,null,null,null,0,null,null,null,null,null,null,null,null,null,null,null,null,null,null,null,null,null,null,69]
[{"$f":"IF(O76=A6,COUNTIF(O7:O76,A6),\"\")","v":""},{"$f":"IF(O76=B6,COUNTIF(O7:O76,B6),\"\")","v":""},{"$f":"IF(O76=C6,COUNTIF(O7:O76,C6),\"\")","v":""},{"$f":"IF(O76=D6,COUNTIF(O7:O76,D6),\"\")","v":""},{"$f":"IF(O76=E6,COUNTIF(O7:O76,E6),\"\")","v":""},{"$f":"IF(O76=F6,COUNTIF(O7:O76,F6),\"\")","v":""},70,null,"",null,null,null,null,null,"",null,null,null,null,0,null,null,null,null,null,null,null,null,null,null,null,null,null,null,null,null,null,null,70]
[{"$f":"IF(O77=A6,COUNTIF(O7:O77,A6),\"\")","v":""},{"$f":"IF(O77=B6,COUNTIF(O7:O77,B6),\"\")","v":""},{"$f":"IF(O77=C6,COUNTIF(O7:O77,C6),\"\")","v":""},{"$f":"IF(O77=D6,COUNTIF(O7:O77,D6),\"\")","v":""},{"$f":"IF(O77=E6,COUNTIF(O7:O77,E6),\"\")","v":""},{"$f":"IF(O77=F6,COUNTIF(O7:O77,F6),\"\")","v":""},71,null,"",null,null,null,null,null,"",null,null,null,null,0,null,null,null,null,null,null,null,null,null,null,null,null,null,null,null,null,null,null,71]
[{"$f":"IF(O78=A6,COUNTIF(O7:O78,A6),\"\")","v":""},{"$f":"IF(O78=B6,COUNTIF(O7:O78,B6),\"\")","v":""},{"$f":"IF(O78=C6,COUNTIF(O7:O78,C6),\"\")","v":""},{"$f":"IF(O78=D6,COUNTIF(O7:O78,D6),\"\")","v":""},{"$f":"IF(O78=E6,COUNTIF(O7:O78,E6),\"\")","v":""},{"$f":"IF(O78=F6,COUNTIF(O7:O78,F6),\"\")","v":""},72,null,"",null,null,null,null,null,"",null,null,null,null,0,null,null,null,null,null,null,null,null,null,null,null,null,null,null,null,null,null,null,72]
[{"$f":"IF(O79=A6,COUNTIF(O7:O79,A6),\"\")","v":""},{"$f":"IF(O79=B6,COUNTIF(O7:O79,B6),\"\")","v":""},{"$f":"IF(O79=C6,COUNTIF(O7:O79,C6),\"\")","v":""},{"$f":"IF(O79=D6,COUNTIF(O7:O79,D6),\"\")","v":""},{"$f":"IF(O79=E6,COUNTIF(O7:O79,E6),\"\")","v":""},{"$f":"IF(O79=F6,COUNTIF(O7:O79,F6),\"\")","v":""},73,null,"",null,null,null,null,null,"",null,null,null,null,0,null,null,null,null,null,null,null,null,null,null,null,null,null,null,null,null,null,null,73]
[{"$f":"IF(O80=A6,COUNTIF(O7:O80,A6),\"\")","v":""},{"$f":"IF(O80=B6,COUNTIF(O7:O80,B6),\"\")","v":""},{"$f":"IF(O80=C6,COUNTIF(O7:O80,C6),\"\")","v":""},{"$f":"IF(O80=D6,COUNTIF(O7:O80,D6),\"\")","v":""},{"$f":"IF(O80=E6,COUNTIF(O7:O80,E6),\"\")","v":""},{"$f":"IF(O80=F6,COUNTIF(O7:O80,F6),\"\")","v":""},74,null,"",null,null,null,null,null,"",null,null,null,null,0,null,null,null,null,null,null,null,null,null,null,null,null,null,null,null,null,null,null,74]
[{"$f":"IF(O81=A6,COUNTIF(O7:O81,A6),\"\")","v":""},{"$f":"IF(O81=B6,COUNTIF(O7:O81,B6),\"\")","v":""},{"$f":"IF(O81=C6,COUNTIF(O7:O81,C6),\"\")","v":""},{"$f":"IF(O81=D6,COUNTIF(O7:O81,D6),\"\")","v":""},{"$f":"IF(O81=E6,COUNTIF(O7:O81,E6),\"\")","v":""},{"$f":"IF(O81=F6,COUNTIF(O7:O81,F6),\"\")","v":""},75,null,"",null,null,null,null,null,"",null,null,null,null,0,null,null,null,null,null,null,null,null,null,null,null,null,null,null,null,null,null,null,75]
[{"$f":"IF(O82=A6,COUNTIF(O7:O82,A6),\"\")","v":""},{"$f":"IF(O82=B6,COUNTIF(O7:O82,B6),\"\")","v":""},{"$f":"IF(O82=C6,COUNTIF(O7:O82,C6),\"\")","v":""},{"$f":"IF(O82=D6,COUNTIF(O7:O82,D6),\"\")","v":""},{"$f":"IF(O82=E6,COUNTIF(O7:O82,E6),\"\")","v":""},{"$f":"IF(O82=F6,COUNTIF(O7:O82,F6),\"\")","v":""},76,null,"",null,null,null,null,null,"",null,null,null,null,0,null,null,null,null,null,null,null,null,null,null,null,null,null,null,null,null,null,null,76]
[{"$f":"IF(O83=A6,COUNTIF(O7:O83,A6),\"\")","v":""},{"$f":"IF(O83=B6,COUNTIF(O7:O83,B6),\"\")","v":""},{"$f":"IF(O83=C6,COUNTIF(O7:O83,C6),\"\")","v":""},{"$f":"IF(O83=D6,COUNTIF(O7:O83,D6),\"\")","v":""},{"$f":"IF(O83=E6,COUNTIF(O7:O83,E6),\"\")","v":""},{"$f":"IF(O83=F6,COUNTIF(O7:O83,F6),\"\")","v":""},77,null,"",null,null,null,null,null,"",null,null,null,null,0,null,null,null,null,null,null,null,null,null,null,null,null,null,null,null,null,null,null,77]
[{"$f":"IF(O84=A6,COUNTIF(O7:O84,A6),\"\")","v":""},{"$f":"IF(O84=B6,COUNTIF(O7:O84,B6),\"\")","v":""},{"$f":"IF(O84=C6,COUNTIF(O7:O84,C6),\"\")","v":""},{"$f":"IF(O84=D6,COUNTIF(O7:O84,D6),\"\")","v":""},{"$f":"IF(O84=E6,COUNTIF(O7:O84,E6),\"\")","v":""},{"$f":"IF(O84=F6,COUNTIF(O7:O84,F6),\"\")","v":""},78,null,"",null,null,null,null,null,"",null,null,null,null,0,null,null,null,null,null,null,null,null,null,null,null,null,null,null,null,null,null,null,78]
[{"$f":"IF(O85=A6,COUNTIF(O7:O85,A6),\"\")","v":""},{"$f":"IF(O85=B6,COUNTIF(O7:O85,B6),\"\")","v":""},{"$f":"IF(O85=C6,COUNTIF(O7:O85,C6),\"\")","v":""},{"$f":"IF(O85=D6,COUNTIF(O7:O85,D6),\"\")","v":""},{"$f":"IF(O85=E6,COUNTIF(O7:O85,E6),\"\")","v":""},{"$f":"IF(O85=F6,COUNTIF(O7:O85,F6),\"\")","v":""},79,null,"",null,null,null,null,null,"",null,null,null,null,0,null,null,null,null,null,null,null,null,null,null,null,null,null,null,null,null,null,null,79]
[{"$f":"IF(O86=A6,COUNTIF(O7:O86,A6),\"\")","v":""},{"$f":"IF(O86=B6,COUNTIF(O7:O86,B6),\"\")","v":""},{"$f":"IF(O86=C6,COUNTIF(O7:O86,C6),\"\")","v":""},{"$f":"IF(O86=D6,COUNTIF(O7:O86,D6),\"\")","v":""},{"$f":"IF(O86=E6,COUNTIF(O7:O86,E6),\"\")","v":""},{"$f":"IF(O86=F6,COUNTIF(O7:O86,F6),\"\")","v":""},80,null,"",null,null,null,null,null,"",null,null,null,null,0,null,null,null,null,null,null,null,null,null,null,null,null,null,null,null,null,null,null,80]
[{"$f":"IF(O87=A6,COUNTIF(O7:O87,A6),\"\")","v":""},{"$f":"IF(O87=B6,COUNTIF(O7:O87,B6),\"\")","v":""},{"$f":"IF(O87=C6,COUNTIF(O7:O87,C6),\"\")","v":""},{"$f":"IF(O87=D6,COUNTIF(O7:O87,D6),\"\")","v":""},{"$f":"IF(O87=E6,COUNTIF(O7:O87,E6),\"\")","v":""},{"$f":"IF(O87=F6,COUNTIF(O7:O87,F6),\"\")","v":""},81,null,"",null,null,null,null,null,"",null,null,null,null,0,null,null,null,null,null,null,null,null,null,null,null,null,null,null,null,null,null,null,81]
[{"$f":"IF(O88=A6,COUNTIF(O7:O88,A6),\"\")","v":""},{"$f":"IF(O88=B6,COUNTIF(O7:O88,B6),\"\")","v":""},{"$f":"IF(O88=C6,COUNTIF(O7:O88,C6),\"\")","v":""},{"$f":"IF(O88=D6,COUNTIF(O7:O88,D6),\"\")","v":""},{"$f":"IF(O88=E6,COUNTIF(O7:O88,E6),\"\")","v":""},{"$f":"IF(O88=F6,COUNTIF(O7:O88,F6),\"\")","v":""},82,null,"",null,null,null,null,null,"",null,null,null,null,0,null,null,null,null,null,null,null,null,null,null,null,null,null,null,null,null,null,null,82]
[{"$f":"IF(O89=A6,COUNTIF(O7:O89,A6),\"\")","v":""},{"$f":"IF(O89=B6,COUNTIF(O7:O89,B6),\"\")","v":""},{"$f":"IF(O89=C6,COUNTIF(O7:O89,C6),\"\")","v":""},{"$f":"IF(O89=D6,COUNTIF(O7:O89,D6),\"\")","v":""},{"$f":"IF(O89=E6,COUNTIF(O7:O89,E6),\"\")","v":""},{"$f":"IF(O89=F6,COUNTIF(O7:O89,F6),\"\")","v":""},83,null,"",null,null,null,null,null,"",null,null,null,null,0,null,null,null,null,null,null,null,null,null,null,null,null,null,null,null,null,null,null,83]
[{"$f":"IF(O90=A6,COUNTIF(O7:O90,A6),\"\")","v":""},{"$f":"IF(O90=B6,COUNTIF(O7:O90,B6),\"\")","v":""},{"$f":"IF(O90=C6,COUNTIF(O7:O90,C6),\"\")","v":""},{"$f":"IF(O90=D6,COUNTIF(O7:O90,D6),\"\")","v":""},{"$f":"IF(O90=E6,COUNTIF(O7:O90,E6),\"\")","v":""},{"$f":"IF(O90=F6,COUNTIF(O7:O90,F6),\"\")","v":""},84,null,"",null,null,null,null,null,"",null,null,null,null,0,null,null,null,null,null,null,null,null,null,null,null,null,null,null,null,null,null,null,84]
[{"$f":"IF(O91=A6,COUNTIF(O7:O91,A6),\"\")","v":""},{"$f":"IF(O91=B6,COUNTIF(O7:O91,B6),\"\")","v":""},{"$f":"IF(O91=C6,COUNTIF(O7:O91,C6),\"\")","v":""},{"$f":"IF(O91=D6,COUNTIF(O7:O91,D6),\"\")","v":""},{"$f":"IF(O91=E6,COUNTIF(O7:O91,E6),\"\")","v":""},{"$f":"IF(O91=F6,COUNTIF(O7:O91,F6),\"\")","v":""},85,null,"",null,null,null,null,null,"",null,null,null,null,0,null,null,null,null,null,null,null,null,null,null,null,null,null,null,null,null,null,null,85]
[{"$f":"IF(O92=A6,COUNTIF(O7:O92,A6),\"\")","v":""},{"$f":"IF(O92=B6,COUNTIF(O7:O92,B6),\"\")","v":""},{"$f":"IF(O92=C6,COUNTIF(O7:O92,C6),\"\")","v":""},{"$f":"IF(O92=D6,COUNTIF(O7:O92,D6),\"\")","v":""},{"$f":"IF(O92=E6,COUNTIF(O7:O92,E6),\"\")","v":""},{"$f":"IF(O92=F6,COUNTIF(O7:O92,F6),\"\")","v":""},86,null,"",null,null,null,null,null,"",null,null,null,null,0,null,null,null,null,null,null,null,null,null,null,null,null,null,null,null,null,null,null,86]
[{"$f":"IF(O93=A6,COUNTIF(O7:O93,A6),\"\")","v":""},{"$f":"IF(O93=B6,COUNTIF(O7:O93,B6),\"\")","v":""},{"$f":"IF(O93=C6,COUNTIF(O7:O93,C6),\"\")","v":""},{"$f":"IF(O93=D6,COUNTIF(O7:O93,D6),\"\")","v":""},{"$f":"IF(O93=E6,COUNTIF(O7:O93,E6),\"\")","v":""},{"$f":"IF(O93=F6,COUNTIF(O7:O93,F6),\"\")","v":""},87,null,"",null,null,null,null,null,"",null,null,null,null,0,null,null,null,null,null,null,null,null,null,null,null,null,null,null,null,null,null,null,87]
[{"$f":"IF(O94=A6,COUNTIF(O7:O94,A6),\"\")","v":""},{"$f":"IF(O94=B6,COUNTIF(O7:O94,B6),\"\")","v":""},{"$f":"IF(O94=C6,COUNTIF(O7:O94,C6),\"\")","v":""},{"$f":"IF(O94=D6,COUNTIF(O7:O94,D6),\"\")","v":""},{"$f":"IF(O94=E6,COUNTIF(O7:O94,E6),\"\")","v":""},{"$f":"IF(O94=F6,COUNTIF(O7:O94,F6),\"\")","v":""},88,null,"",null,null,null,null,null,"",null,null,null,null,0,null,null,null,null,null,null,null,null,null,null,null,null,null,null,null,null,null,null,88]
[{"$f":"IF(O95=A6,COUNTIF(O7:O95,A6),\"\")","v":""},{"$f":"IF(O95=B6,COUNTIF(O7:O95,B6),\"\")","v":""},{"$f":"IF(O95=C6,COUNTIF(O7:O95,C6),\"\")","v":""},{"$f":"IF(O95=D6,COUNTIF(O7:O95,D6),\"\")","v":""},{"$f":"IF(O95=E6,COUNTIF(O7:O95,E6),\"\")","v":""},{"$f":"IF(O95=F6,COUNTIF(O7:O95,F6),\"\")","v":""},89,null,"",null,null,null,null,null,"",null,null,null,null,0,null,null,null,null,null,null,null,null,null,null,null,null,null,null,null,null,null,null,89]
[{"$f":"IF(O96=A6,COUNTIF(O7:O96,A6),\"\")","v":""},{"$f":"IF(O96=B6,COUNTIF(O7:O96,B6),\"\")","v":""},{"$f":"IF(O96=C6,COUNTIF(O7:O96,C6),\"\")","v":""},{"$f":"IF(O96=D6,COUNTIF(O7:O96,D6),\"\")","v":""},{"$f":"IF(O96=E6,COUNTIF(O7:O96,E6),\"\")","v":""},{"$f":"IF(O96=F6,COUNTIF(O7:O96,F6),\"\")","v":""},90,null,"",null,null,null,null,null,"",null,null,null,null,0,null,null,null,null,null,null,null,null,null,null,null,null,null,null,null,null,null,null,90]
[{"$f":"IF(O97=A6,COUNTIF(O7:O97,A6),\"\")","v":""},{"$f":"IF(O97=B6,COUNTIF(O7:O97,B6),\"\")","v":""},{"$f":"IF(O97=C6,COUNTIF(O7:O97,C6),\"\")","v":""},{"$f":"IF(O97=D6,COUNTIF(O7:O97,D6),\"\")","v":""},{"$f":"IF(O97=E6,COUNTIF(O7:O97,E6),\"\")","v":""},{"$f":"IF(O97=F6,COUNTIF(O7:O97,F6),\"\")","v":""},91,null,"",null,null,null,null,null,"",null,null,null,null,0,null,null,null,null,null,null,null,null,null,null,null,null,null,null,null,null,null,null,91]
[{"$f":"IF(O98=A6,COUNTIF(O7:O98,A6),\"\")","v":""},{"$f":"IF(O98=B6,COUNTIF(O7:O98,B6),\"\")","v":""},{"$f":"IF(O98=C6,COUNTIF(O7:O98,C6),\"\")","v":""},{"$f":"IF(O98=D6,COUNTIF(O7:O98,D6),\"\")","v":""},{"$f":"IF(O98=E6,COUNTIF(O7:O98,E6),\"\")","v":""},{"$f":"IF(O98=F6,COUNTIF(O7:O98,F6),\"\")","v":""},92,null,"",null,null,null,null,null,"",null,null,null,null,0,null,null,null,null,null,null,null,null,null,null,null,null,null,null,null,null,null,null,92]
[{"$f":"IF(O99=A6,COUNTIF(O7:O99,A6),\"\")","v":""},{"$f":"IF(O99=B6,COUNTIF(O7:O99,B6),\"\")","v":""},{"$f":"IF(O99=C6,COUNTIF(O7:O99,C6),\"\")","v":""},{"$f":"IF(O99=D6,COUNTIF(O7:O99,D6),\"\")","v":""},{"$f":"IF(O99=E6,COUNTIF(O7:O99,E6),\"\")","v":""},{"$f":"IF(O99=F6,COUNTIF(O7:O99,F6),\"\")","v":""},93,null,"",null,null,null,null,null,"",null,null,null,null,0,null,null,null,null,null,null,null,null,null,null,null,null,null,null,null,null,null,null,93]
[{"$f":"IF(O100=A6,COUNTIF(O7:O100,A6),\"\")","v":""},{"$f":"IF(O100=B6,COUNTIF(O7:O100,B6),\"\")","v":""},{"$f":"IF(O100=C6,COUNTIF(O7:O100,C6),\"\")","v":""},{"$f":"IF(O100=D6,COUNTIF(O7:O100,D6),\"\")","v":""},{"$f":"IF(O100=E6,COUNTIF(O7:O100,E6),\"\")","v":""},{"$f":"IF(O100=F6,COUNTIF(O7:O100,F6),\"\")","v":""},94,null,"",null,null,null,null,null,"",null,null,null,null,0,null,null,null,null,null,null,null,null,null,null,null,null,null,null,null,null,null,null,94]
[{"$f":"IF(O101=A6,COUNTIF(O7:O101,A6),\"\")","v":""},{"$f":"IF(O101=B6,COUNTIF(O7:O101,B6),\"\")","v":""},{"$f":"IF(O101=C6,COUNTIF(O7:O101,C6),\"\")","v":""},{"$f":"IF(O101=D6,COUNTIF(O7:O101,D6),\"\")","v":""},{"$f":"IF(O101=E6,COUNTIF(O7:O101,E6),\"\")","v":""},{"$f":"IF(O101=F6,COUNTIF(O7:O101,F6),\"\")","v":""},95,null,"",null,null,null,null,null,"",null,null,null,null,0,null,null,null,null,null,null,null,null,null,null,null,null,null,null,null,null,null,null,95]
[{"$f":"IF(O102=A6,COUNTIF(O7:O102,A6),\"\")","v":""},{"$f":"IF(O102=B6,COUNTIF(O7:O102,B6),\"\")","v":""},{"$f":"IF(O102=C6,COUNTIF(O7:O102,C6),\"\")","v":""},{"$f":"IF(O102=D6,COUNTIF(O7:O102,D6),\"\")","v":""},{"$f":"IF(O102=E6,COUNTIF(O7:O102,E6),\"\")","v":""},{"$f":"IF(O102=F6,COUNTIF(O7:O102,F6),\"\")","v":""},96,null,"",null,null,null,null,null,"",null,null,null,null,0,null,null,null,null,null,null,null,null,null,null,null,null,null,null,null,null,null,null,96]
[{"$f":"IF(O103=A6,COUNTIF(O7:O103,A6),\"\")","v":""},{"$f":"IF(O103=B6,COUNTIF(O7:O103,B6),\"\")","v":""},{"$f":"IF(O103=C6,COUNTIF(O7:O103,C6),\"\")","v":""},{"$f":"IF(O103=D6,COUNTIF(O7:O103,D6),\"\")","v":""},{"$f":"IF(O103=E6,COUNTIF(O7:O103,E6),\"\")","v":""},{"$f":"IF(O103=F6,COUNTIF(O7:O103,F6),\"\")","v":""},97,null,"",null,null,null,null,null,"",null,null,null,null,0,null,null,null,null,null,null,null,null,null,null,null,null,null,null,null,null,null,null,97]
[{"$f":"IF(O104=A6,COUNTIF(O7:O104,A6),\"\")","v":""},{"$f":"IF(O104=B6,COUNTIF(O7:O104,B6),\"\")","v":""},{"$f":"IF(O104=C6,COUNTIF(O7:O104,C6),\"\")","v":""},{"$f":"IF(O104=D6,COUNTIF(O7:O104,D6),\"\")","v":""},{"$f":"IF(O104=E6,COUNTIF(O7:O104,E6),\"\")","v":""},{"$f":"IF(O104=F6,COUNTIF(O7:O104,F6),\"\")","v":""},98,null,"",null,null,null,null,null,"",null,null,null,null,0,null,null,null,null,null,null,null,null,null,null,null,null,null,null,null,null,null,null,98]
[{"$f":"IF(O105=A6,COUNTIF(O7:O105,A6),\"\")","v":""},{"$f":"IF(O105=B6,COUNTIF(O7:O105,B6),\"\")","v":""},{"$f":"IF(O105=C6,COUNTIF(O7:O105,C6),\"\")","v":""},{"$f":"IF(O105=D6,COUNTIF(O7:O105,D6),\"\")","v":""},{"$f":"IF(O105=E6,COUNTIF(O7:O105,E6),\"\")","v":""},{"$f":"IF(O105=F6,COUNTIF(O7:O105,F6),\"\")","v":""},99,null,"",null,null,null,null,null,"",null,null,null,null,0,null,null,null,null,null,null,null,null,null,null,null,null,null,null,null,null,null,null,99]
[{"$f":"IF(O106=A6,COUNTIF(O7:O106,A6),\"\")","v":""},{"$f":"IF(O106=B6,COUNTIF(O7:O106,B6),\"\")","v":""},{"$f":"IF(O106=C6,COUNTIF(O7:O106,C6),\"\")","v":""},{"$f":"IF(O106=D6,COUNTIF(O7:O106,D6),\"\")","v":""},{"$f":"IF(O106=E6,COUNTIF(O7:O106,E6),\"\")","v":""},{"$f":"IF(O106=F6,COUNTIF(O7:O106,F6),\"\")","v":""},100,null,"",null,null,null,null,null,"",null,null,null,null,0,null,null,null,null,null,null,null,null,null,null,null,null,null,null,null,null,null,null,100]
[null,null,null,null,null,null,{"$f":"CONCATENATE($G$5,\" \",\"Individual Medal Winners\")","v":"Junior Girls Individual Medal Winners"},null,null,null,null,null,null,null,null,null,null,null,null,"f"]
[null,null,null,null,null,null,"Pos","Num","Name",null,null,null,null,null,"County",null,null,null,"Time"]
[null,null,null,null,null,null,1,{"$f":"IF(H7=0,\"\",H7)","v":21},"Anna Mason","","","","","","Cumbria",null,null,null,{"$f":"IF(S7=0,\"\",S7)","v":12.2},{"$f":"IF(H109=\"\",0,1)","v":1}]
[null,null,null,null,null,null,2,22,"Olesia Winder","","","","","","Cumbria",null,null,null,{"$f":"IF(S8=0,\"\",S8)","v":12.28},{"$f":"IF(H110=\"\",0,1)","v":1}]
[null,null,null,null,null,null,3,61,"Ines Curran","","","","","","Northumberland",null,null,null,{"$f":"IF(S9=0,\"\",S9)","v":12.35},{"$f":"IF(H111=\"\",0,1)","v":1}]
[null,null,null,null,null,null,null,null,null,null,null,null,null,null,null,null,null,null,null,"g"]
[null,null,null,null,null,null,{"$f":"CONCATENATE($G$5,\" \",\"Team Results\")","v":"Junior Girls Team Results"},null,null,null,null,null,null,null,null,null,null,null,null,"h",null,null,null,null,{"$f":"G113","v":"Junior Girls Team Results"}]
[null,null,null,null,null,null,null,"Team Name",null,null,null,null,"1st","2nd","3rd","4th","5th","6th","Points","i",null,null,{"$f":"P5","v":0},null,null,1,2,3,4,5,6,"Pts"]
[null,null,null,null,null,null,1,{"$f":"IFERROR(VLOOKUP(G115,$X$115:$AF$119,2,0),\"\")","v":"Durham"},null,null,null,null,{"$f":"IFERROR(VLOOKUP(G115,$X$115:$AF$119,3,0),\"\")","v":6},{"$f":"IFERROR(VLOOKUP(G115,$X$115:$AF$119,4,0),\"\")","v":7},{"$f":"IFERROR(VLOOKUP(G115,$X$115:$AF$119,5,0),\"\")","v":10},{"$f":"IFERROR(VLOOKUP(G115,$X$115:$AF$119,6,0),\"\")","v":11},{"$f":"IFERROR(VLOOKUP(G115,$X$115:$AF$119,7,0),\"\")","v":12},{"$f":"IFERROR(VLOOKUP(G115,$X$115:$AF$119,8,0),\"\")","v":13},{"$f":"SUM(M115:R115)","v":59},{"$f":"IF(H115=\"\",0,1)","v":1},null,null,7,{"$f":"IF(OR(AJ115=\"\",AJ115=0),0,RANK(AJ115,AJ115:AJ120,1))","v":5},{"$f":"Home!F4","v":"Cleveland"},{"$f":"IFERROR(VLOOKUP(Z114,$A$7:$G$106,W115,0),0)","v":31},{"$f":"IFERROR(VLOOKUP(AA114,A$7:G$106,W115,0),0)","v":32},{"$f":"IFERROR(VLOOKUP(AB114,A$7:G$106,W115,0),0)","v":37},{"$f":"IF(W114=3,0,IFERROR(VLOOKUP(AC114,A$7:G$106,W115,0),0))","v":46},{"$f":"IF(W114=4,0,IFERROR(VLOOKUP(AD114,A$7:G$106,W115,0),0))","v":47},{"$f":"IF(OR(W114=4,W114=5),0,IFERROR(VLOOKUP(AE114,A$7:G$106,W115,0),0))","v":48},{"$f":"IF(AE115=0,0,SUM(Z115:AE115))","v":241},{"$f":"IF(OR(AF115=0,AF115=\"\"),0,RANK(AF115,AF115:AF120,1))","v":6},{"$f":"IF(OR(AG115=0,AG115=\"\"),\"\",IF(OR(AG115=AG116,AG115=AG117,AG115=AG118,AG115=AG119,AG115=AG120),\"=\",\"\"))","v":""},{"$f":"IF(AH115=\"=\",COUNTIF(AH115:AH115,\"<>A\")-COUNTIF(AH115:AH115,\"\"),0)","v":0},{"$f":"IF(AND(AG115=0,AI115=0),\"\",AG115+(AI115/10)+AL115/10)","v":6.6},{"$f":"X115","v":5},{"$f":"IF(OR(AF115=0,AF115=\"\"),0,RANK(Z115,Z115:Z120,1))","v":6}]
[null,null,null,null,null,null,2,{"$f":"IFERROR(VLOOKUP(G116,$X$115:$AF$119,2,0),\"\")","v":"North Yorkshire"},null,null,null,null,{"$f":"IFERROR(VLOOKUP(G116,$X$115:$AF$119,3,0),\"\")","v":4},{"$f":"IFERROR(VLOOKUP(G116,$X$115:$AF$119,4,0),\"\")","v":5},{"$f":"IFERROR(VLOOKUP(G116,$X$115:$AF$119,5,0),\"\")","v":8},{"$f":"IFERROR(VLOOKUP(G116,$X$115:$AF$119,6,0),\"\")","v":14},{"$f":"IFERROR(VLOOKUP(G116,$X$115:$AF$119,7,0),\"\")","v":15},{"$f":"IFERROR(VLOOKUP(G116,$X$115:$AF$119,8,0),\"\")","v":25},{"$f":"SUM(M116:R116)","v":71},1,null,null,6,{"$f":"IF(OR(AJ116=\"\",AJ116=0),0,RANK(AJ116,AJ115:AJ120,1))","v":3},{"$f":"Home!F5","v":"Cumbria"},{"$f":"IFERROR(VLOOKUP(Z114,$B$7:$G$106,W116,0),0)","v":1},{"$f":"IFERROR(VLOOKUP(AA114,B$7:G$106,W116,0),0)","v":2},{"$f":"IFERROR(VLOOKUP(AB114,B$7:G$106,W116,0),0)","v":17},{"$f":"IF(W114=3,0,IFERROR(VLOOKUP(AC114,B$7:G$106,W116,0),0))","v":19},{"$f":"IF(W114=4,0,IFERROR(VLOOKUP(AD114,B$7:G$106,W116,0),0))","v":20},{"$f":"IF(OR(W114=4,W114=5),0,IFERROR(VLOOKUP(AE114,B$7:G$106,W116,0),0))","v":21},{"$f":"IF(AE116=0,0,SUM(Z116:AE116))","v":80},{"$f":"IF(OR(AF116=0,AF116=\"\"),0,RANK(AF116,AF115:AF120,1))","v":4},{"$f":"IF(OR(AG116=0,AG116=\"\"),\"\",IF(OR(AG116=AG117,AG116=AG118,AG116=AG119,AG116=AG120,AG116=AG115),\"=\",\"\"))","v":""},{"$f":"IF(AH116=\"=\",COUNTIF(AH115:AH116,\"<>A\")-COUNTIF(AH115:AH116,\"\"),0)","v":0},{"$f":"IF(AND(AG116=0,AI116=0),\"\",AG116+(AI116/10)+AL116/10)","v":4.2},{"$f":"X116","v":3},{"$f":"IF(OR(AF116=0,AF116=\"\"),0,RANK(Z116,Z115:Z120,1))","v":2}]
[null,null,null,null,null,null,3,"Cumbria",null,null,null,null,1,2,17,19,20,21,80,1,null,null,5,{"$f":"IF(OR(AJ117=\"\",AJ117=0),0,RANK(AJ117,AJ115:AJ120,1))","v":1},{"$f":"Home!F6","v":"Durham"},{"$f":"IFERROR(VLOOKUP(Z114,$C$7:$G$106,W117,0),0)","v":6},{"$f":"IFERROR(VLOOKUP(AA114,C$7:G$106,W117,0),0)","v":7},{"$f":"IFERROR(VLOOKUP(AB114,C$7:G$106,W117,0),0)","v":10},{"$f":"IF(W114=3,0,IFERROR(VLOOKUP(AC114,C$7:G$106,W117,0),0))","v":11},{"$f":"IF(W114=4,0,IFERROR(VLOOKUP(AD114,C$7:G$106,W117,0),0))","v":12},{"$f":"IF(OR(W114=4,W114=5),0,IFERROR(VLOOKUP(AE114,C$7:G$106,W117,0),0))","v":13},59,{"$f":"IF(OR(AF117=0,AF117=\"\"),0,RANK(AF117,AF115:AF120,1))","v":2},{"$f":"IF(OR(AG117=0,AG117=\"\"),\"\",IF(OR(AG117=AG118,AG117=AG119,AG117=AG120,AG117=AG115,AG117=AG116),\"=\",\"\"))","v":""},{"$f":"IF(AH117=\"=\",COUNTIF(AH115:AH117,\"<>A\")-COUNTIF(AH115:AH117,\"\"),0)","v":0},2.5,1,{"$f":"IF(OR(AF117=0,AF117=\"\"),0,RANK(Z117,Z115:Z120,1))","v":5}]
[null,null,null,null,null,null,4,"Northumberland",null,null,null,null,3,9,16,24,27,28,107,1,null,null,4,{"$f":"IF(OR(AJ118=\"\",AJ118=0),0,RANK(AJ118,AJ115:AJ120,1))","v":4},{"$f":"Home!F7","v":"Northumberland"},{"$f":"IFERROR(VLOOKUP(Z114,$D$7:$G$106,W118,0),0)","v":3},{"$f":"IFERROR(VLOOKUP(AA114,D$7:G$106,W118,0),0)","v":9},{"$f":"IFERROR(VLOOKUP(AB114,D$7:G$106,W118,0),0)","v":16},{"$f":"IF(W114=3,0,IFERROR(VLOOKUP(AC114,D$7:G$106,W118,0),0))","v":24},{"$f":"IF(W114=4,0,IFERROR(VLOOKUP(AD114,D$7:G$106,W118,0),0))","v":27},{"$f":"IF(OR(W114=4,W114=5),0,IFERROR(VLOOKUP(AE114,D$7:G$106,W118,0),0))","v":28},107,{"$f":"IF(OR(AF118=0,AF118=\"\"),0,RANK(AF118,AF115:AF120,1))","v":5},{"$f":"IF(OR(AG118=0,AG118=\"\"),\"\",IF(OR(AG118=AG119,AG118=AG120,AG118=AG115,AG118=AG116,AG118=AG117),\"=\",\"\"))","v":""},{"$f":"IF(AH118=\"=\",COUNTIF(AH115:AH118,\"<>A\")-COUNTIF(AH115:AH118,\"\"),0)","v":0},5.3,4,{"$f":"IF(OR(AF118=0,AF118=\"\"),0,RANK(Z118,Z115:Z120,1))","v":3}]
[null,null,null,null,null,null,5,"Cleveland",null,null,null,null,31,32,37,46,47,48,241,1,null,null,3,{"$f":"IF(OR(AJ119=\"\",AJ119=0),0,RANK(AJ119,AJ115:AJ120,1))","v":2},{"$f":"Home!F8","v":"North Yorkshire"},{"$f":"IFERROR(VLOOKUP(Z114,$E$7:$G$106,W119,0),0)","v":4},{"$f":"IFERROR(VLOOKUP(AA114,E$7:G$106,W119,0),0)","v":5},{"$f":"IFERROR(VLOOKUP(AB114,E$7:G$106,W119,0),0)","v":8},{"$f":"IF(W114=3,0,IFERROR(VLOOKUP(AC114,E$7:G$106,W119,0),0))","v":14},{"$f":"IF(W114=4,0,IFERROR(VLOOKUP(AD114,E$7:G$106,W119,0),0))","v":15},{"$f":"IF(OR(W114=4,W114=5),0,IFERROR(VLOOKUP(AE114,E$7:G$106,W119,0),0))","v":25},71,{"$f":"IF(OR(AF119=0,AF119=\"\"),0,RANK(AF119,AF115:AF120,1))","v":3},{"$f":"IF(OR(AG119=0,AG119=\"\"),\"\",IF(OR(AG119=AG120,AG119=AG115,AG119=AG116,AG119=AG117,AG119=AG118),\"=\",\"\"))","v":""},{"$f":"IF(AH119=\"=\",COUNTIF(AH115:AH119,\"<>A\")-COUNTIF(AH115:AH119,\"\"),0)","v":0},3.4,2,{"$f":"IF(OR(AF119=0,AF119=\"\"),0,RANK(Z119,Z115:Z120,1))","v":4}]
[null,null,null,null,null,null,null,null,null,null,null,null,null,null,null,null,null,null,null,null,null,null,2,{"$f":"IF(OR(AJ120=\"\",AJ120=0),0,RANK(AJ120,AJ115:AJ120,1))","v":0},{"$f":"Home!F9","v":0},{"$f":"IFERROR(VLOOKUP(Z114,F7:G106,W120,0),0)","v":0},{"$f":"IFERROR(VLOOKUP(AA114,F7:G106,W120,0),0)","v":0},{"$f":"IFERROR(VLOOKUP(AB114,F7:G106,W120,0),0)","v":0},{"$f":"IF(W114=3,0,IFERROR(VLOOKUP(AC114,F7:G106,W120,0),0))","v":0},{"$f":"IF(W114=4,0,IFERROR(VLOOKUP(AD114,F7:G106,W120,0),0))","v":0},{"$f":"IF(OR(W114=4,W114=5),0,IFERROR(VLOOKUP(AE114,F7:G106,W120,0),0))","v":0},{"$f":"IF(AE120=0,0,SUM(Z120:AE120))","v":0},{"$f":"IF(OR(AF120=0,AF120=\"\"),0,RANK(AF120,AF115:AF120,1))","v":0},{"$f":"IF(OR(AG120=0,AG120=\"\"),\"\",IF(OR(AG120=AG115,AG120=AG116,AG120=AG117,AG120=AG118,AG120=AG119),\"=\",\"\"))","v":""},{"$f":"IF(AH120=\"=\",COUNTIF(AH115:AH120,\"<>A\")-COUNTIF(AH115:AH120,\"\"),0)","v":0},"",0,{"$f":"IF(OR(AF120=0,AF120=\"\"),0,RANK(Z120,Z115:Z120,1))","v":0}]

{"sheet":"Intermediate_Girls","index":8,"n_rows":120,"n_cols":39,"rows_kept":120,"cut":false,"hidden":false,"merged":[[0,6,0,18],[0,26,0,29],[1,6,1,18],[1,26,1,29],[2,6,2,18],[5,8,5,13],[12,8,12,13],[13,8,13,13],[14,8,14,13],[15,8,15,13],[16,8,16,13],[17,8,17,13],[6,8,6,13],[7,8,7,13],[8,8,8,13],[9,8,9,13],[10,8,10,13],[11,8,11,13],[24,8,24,13],[25,8,25,13],[26,8,26,13],[27,8,27,13],[28,8,28,13],[29,8,29,13],[18,8,18,13],[19,8,19,13],[20,8,20,13],[21,8,21,13],[22,8,22,13],[23,8,23,13],[36,8,36,13],[37,8,37,13],[38,8,38,13],[39,8,39,13],[40,8,40,13],[41,8,41,13],[30,8,30,13],[31,8,31,13],[32,8,32,13],[33,8,33,13],[34,8,34,13],[35,8,35,13],[48,8,48,13],[49,8,49,13],[50,8,50,13],[51,8,51,13],[52,8,52,13],[53,8,53,13],[42,8,42,13],[43,8,43,13],[44,8,44,13],[45,8,45,13],[46,8,46,13],[47,8,47,13],[60,8,60,13],[61,8,61,13],[62,8,62,13],[63,8,63,13],[64,8,64,13],[65,8,65,13],[54,8,54,13],[55,8,55,13],[56,8,56,13],[57,8,57,13],[58,8,58,13],[59,8,59,13],[72,8,72,13],[73,8,73,13],[74,8,74,13],[75,8,75,13],[76,8,76,13],[77,8,77,13],[66,8,66,13],[67,8,67,13],[68,8,68,13],[69,8,69,13],[70,8,70,13],[71,8,71,13],[84,8,84,13],[85,8,85,13],[86,8,86,13],[87,8,87,13],[88,8,88,13],[89,8,89,13],[78,8,78,13],[79,8,79,13],[80,8,80,13],[81,8,81,13],[82,8,82,13],[83,8,83,13],[96,8,96,13],[97,8,97,13],[98,8,98,13],[99,8,99,13],[100,8,100,13],[101,8,101,13],[90,8,90,13],[91,8,91,13],[92,8,92,13],[93,8,93,13],[94,8,94,13],[95,8,95,13],[108,8,108,13],[109,8,109,13],[110,8,110,13],[112,6,112,18],[102,8,102,13],[103,8,103,13],[104,8,104,13],[105,8,105,13],[106,6,106,18],[107,8,107,13]]}
[null,null,null,null,null,null,{"$f":"Home!$B$1","v":"Northern Schools' Inter-County Cross Country Championships"},null,null,null,null,null,null,null,null,null,null,null,null,"a",null,{"$f":"CONCATENATE(W1,X1)","v":"Home!$B9"},"Home!$B",{"$f":"IF(Y1=\"Minor_Boys\",4,IF(Y1=\"Junior_Boys\",6,IF(Y1=\"Intermediate_Boys\",8,IF(Y1=\"Senior_Boys\",10,IF(Y1=\"Minor_Girls\",5,IF(Y1=\"Junior_Girls\",7,IF(Y1=\"Intermediate_Girls\",9,IF(Y1=\"Senior_Girls\",11,\"\"))))))))","v":9},{"$f":"MID(CELL(\"Filename\",A1),SEARCH(\"]\",CELL(\"Filename\",A1),1)+1,32)","v":"Intermediate_Girls"},null,{"$f":"Y1","v":"Intermediate_Girls"},null,null,null,{"$f":"CONCATENATE(Y1,\" \",Z1)","v":"Intermediate_Girls "}]
[null,null,null,null,null,null,{"$f":"Home!$B$2","v":"Barnard Castle School"},null,null,null,null,null,null,null,null,null,null,null,null,"b",null,{"$f":"CONCATENATE(W2,X2)","v":"Home!$D9"},"Home!$D",{"$f":"X1","v":9}]
[null,null,null,null,null,null,{"$f":"Home!$G$3","v":"Saturday 3rd February 2018"},null,null,null,null,null,null,null,null,null,null,null,null,"c"]
[null,null,null,null,null,null,null,null,null,null,null,null,null,null,null,null,null,null,null,"c"]
[null,null,null,null,null,null,{"$f":"INDIRECT(V1)","v":"Intermediate Girls"},null,null,null,null,null,null,{"$f":"CONCATENATE(\"Team Results\",\" \",INDIRECT(V2),\" \",\"to Score\")","v":"Team Results 6 to Score"},null,null,null,null,null,"d"]
[{"$f":"Home!F4","v":"Cleveland"},{"$f":"Home!F5","v":"Cumbria"},{"$f":"Home!F6","v":"Durham"},{"$f":"Home!F7","v":"Northumberland"},{"$f":"Home!F8","v":"North Yorkshire"},{"$f":"Home!F9","v":0},"Pos","Num","Name",null,null,null,null,null,"County",null,null,null,"Time","e"]
[{"$f":"IF(O7=A6,COUNTIF(O7:O7,A6),\"\")","v":""},{"$f":"IF(O7=B6,COUNTIF(O7:O7,B6),\"\")","v":1},{"$f":"IF(O7=C6,COUNTIF(O7:O7,C6),\"\")","v":""},{"$f":"IF(O7=D6,COUNTIF(O7:O7,D6),\"\")","v":""},{"$f":"IF(O7=E6,COUNTIF(O7:O7,E6),\"\")","v":""},{"$f":"IF(O7=F6,COUNTIF(O7:O7,F6),\"\")","v":""},{"$f":"IF(LEFT(S7,1)=\"D\",0,AM7)","v":1},33,{"$f":"IFERROR(VLOOKUP(H7,INDIRECT($AA$1),2,0),\"\")","v":"Olivia Mason"},null,null,null,null,null,{"$f":"IFERROR(VLOOKUP(H7,INDIRECT($AA$1),3,0),\"\")","v":"Cumbria"},null,null,null,15.52,{"$f":"IF(H7=0,0,1)","v":1},null,null,null,null,null,null,null,null,null,null,null,null,null,null,null,null,null,null,1]
[{"$f":"IF(O8=A6,COUNTIF(O7:O8,A6),\"\")","v":""},{"$f":"IF(O8=B6,COUNTIF(O7:O8,B6),\"\")","v":2},{"$f":"IF(O8=C6,COUNTIF(O7:O8,C6),\"\")","v":""},{"$f":"IF(O8=D6,COUNTIF(O7:O8,D6),\"\")","v":""},{"$f":"IF(O8=E6,COUNTIF(O7:O8,E6),\"\")","v":""},{"$f":"IF(O8=F6,COUNTIF(O7:O8,F6),\"\")","v":""},2,21,"Rosie Woodhams",null,null,null,null,null,"Cumbria",null,null,null,16,1,null,null,null,null,null,null,null,null,null,null,null,null,null,null,null,null,null,null,2]
[{"$f":"IF(O9=A6,COUNTIF(O7:O9,A6),\"\")","v":""},{"$f":"IF(O9=B6,COUNTIF(O7:O9,B6),\"\")","v":3},{"$f":"IF(O9=C6,COUNTIF(O7:O9,C6),\"\")","v":""},{"$f":"IF(O9=D6,COUNTIF(O7:O9,D6),\"\")","v":""},{"$f":"IF(O9=E6,COUNTIF(O7:O9,E6),\"\")","v":""},{"$f":"IF(O9=F6,COUNTIF(O7:O9,F6),\"\")","v":""},3,22,"Chloe Rylance",null,null,null,null,null,"Cumbria",null,null,null,16.09,1,null,null,null,null,null,null,null,null,null,null,null,null,null,null,null,null,null,null,3]
[{"$f":"IF(O10=A6,COUNTIF(O7:O10,A6),\"\")","v":""},{"$f":"IF(O10=B6,COUNTIF(O7:O10,B6),\"\")","v":""},{"$f":"IF(O10=C6,COUNTIF(O7:O10,C6),\"\")","v":1},{"$f":"IF(O10=D6,COUNTIF(O7:O10,D6),\"\")","v":""},{"$f":"IF(O10=E6,COUNTIF(O7:O10,E6),\"\")","v":""},{"$f":"IF(O10=F6,COUNTIF(O7:O10,F6),\"\")","v":""},4,42,"Catherine Roberts",null,null,null,null,null,"Durham",null,null,null,16.21,1,null,null,null,null,null,null,null,null,null,null,null,null,null,null,null,null,null,null,4]
[{"$f":"IF(O11=A6,COUNTIF(O7:O11,A6),\"\")","v":""},{"$f":"IF(O11=B6,COUNTIF(O7:O11,B6),\"\")","v":""},{"$f":"IF(O11=C6,COUNTIF(O7:O11,C6),\"\")","v":2},{"$f":"IF(O11=D6,COUNTIF(O7:O11,D6),\"\")","v":""},{"$f":"IF(O11=E6,COUNTIF(O7:O11,E6),\"\")","v":""},{"$f":"IF(O11=F6,COUNTIF(O7:O11,F6),\"\")","v":""},5,43,"Lydia James",null,null,null,null,null,"Durham",null,null,null,16.22,1,null,null,null,null,null,null,null,null,null,null,null,null,null,null,null,null,null,null,5]
[{"$f":"IF(O12=A6,COUNTIF(O7:O12,A6),\"\")","v":""},{"$f":"IF(O12=B6,COUNTIF(O7:O12,B6),\"\")","v":""},{"$f":"IF(O12=C6,COUNTIF(O7:O12,C6),\"\")","v":""},{"$f":"IF(O12=D6,COUNTIF(O7:O12,D6),\"\")","v":1},{"$f":"IF(O12=E6,COUNTIF(O7:O12,E6),\"\")","v":""},{"$f":"IF(O12=F6,COUNTIF(O7:O12,F6),\"\")","v":""},6,61,"Holly Peck",null,null,null,null,null,"Northumberland",null,null,null,16.399999999999999,1,null,null,null,null,null,null,null,null,null,null,null,null,null,null,null,null,null,null,6]
[{"$f":"IF(O13=A6,COUNTIF(O7:O13,A6),\"\")","v":""},{"$f":"IF(O13=B6,COUNTIF(O7:O13,B6),\"\")","v":""},{"$f":"IF(O13=C6,COUNTIF(O7:O13,C6),\"\")","v":3},{"$f":"IF(O13=D6,COUNTIF(O7:O13,D6),\"\")","v":""},{"$f":"IF(O13=E6,COUNTIF(O7:O13,E6),\"\")","v":""},{"$f":"IF(O13=F6,COUNTIF(O7:O13,F6),\"\")","v":""},7,47,"Rebecca Wren",null,null,null,null,null,"Durham",null,null,null,16.57,1,null,null,null,null,null,null,null,null,null,null,null,null,null,null,null,null,null,null,7]
[{"$f":"IF(O14=A6,COUNTIF(O7:O14,A6),\"\")","v":""},{"$f":"IF(O14=B6,COUNTIF(O7:O14,B6),\"\")","v":4},{"$f":"IF(O14=C6,COUNTIF(O7:O14,C6),\"\")","v":""},{"$f":"IF(O14=D6,COUNTIF(O7:O14,D6),\"\")","v":""},{"$f":"IF(O14=E6,COUNTIF(O7:O14,E6),\"\")","v":""},{"$f":"IF(O14=F6,COUNTIF(O7:O14,F6),\"\")","v":""},8,23,"Molly Wren",null,null,null,null,null,"Cumbria",null,null,null,16.579999999999998,1,null,null,null,null,null,null,null,null,null,null,null,null,null,null,null,null,null,null,8]
[{"$f":"IF(O15=A6,COUNTIF(O7:O15,A6),\"\")","v":""},{"$f":"IF(O15=B6,COUNTIF(O7:O15,B6),\"\")","v":""},{"$f":"IF(O15=C6,COUNTIF(O7:O15,C6),\"\")","v":""},{"$f":"IF(O15=D6,COUNTIF(O7:O15,D6),\"\")","v":""},{"$f":"IF(O15=E6,COUNTIF(O7:O15,E6),\"\")","v":1},{"$f":"IF(O15=F6,COUNTIF(O7:O15,F6),\"\")","v":""},9,81,"Bethany Bergstrand",null,null,null,null,null,"North Yorkshire",null,null,null,17.03,1,null,null,null,null,null,null,null,null,null,null,null,null,null,null,null,null,null,null,9]
[{"$f":"IF(O16=A6,COUNTIF(O7:O16,A6),\"\")","v":""},{"$f":"IF(O16=B6,COUNTIF(O7:O16,B6),\"\")","v":""},{"$f":"IF(O16=C6,COUNTIF(O7:O16,C6),\"\")","v":4},{"$f":"IF(O16=D6,COUNTIF(O7:O16,D6),\"\")","v":""},{"$f":"IF(O16=E6,COUNTIF(O7:O16,E6),\"\")","v":""},{"$f":"IF(O16=F6,COUNTIF(O7:O16,F6),\"\")","v":""},10,44,"Anna Pigford",null,null,null,null,null,"Durham",null,null,null,17.09,1,null,null,null,null,null,null,null,null,null,null,null,null,null,null,null,null,null,null,10]
[{"$f":"IF(O17=A6,COUNTIF(O7:O17,A6),\"\")","v":""},{"$f":"IF(O17=B6,COUNTIF(O7:O17,B6),\"\")","v":""},{"$f":"IF(O17=C6,COUNTIF(O7:O17,C6),\"\")","v":""},{"$f":"IF(O17=D6,COUNTIF(O7:O17,D6),\"\")","v":""},{"$f":"IF(O17=E6,COUNTIF(O7:O17,E6),\"\")","v":2},{"$f":"IF(O17=F6,COUNTIF(O7:O17,F6),\"\")","v":""},11,83,"Emma Hart",null,null,null,null,null,"North Yorkshire",null,null,null,17.149999999999999,1,null,null,null,null,null,null,null,null,null,null,null,null,null,null,null,null,null,null,11]
[{"$f":"IF(O18=A6,COUNTIF(O7:O18,A6),\"\")","v":""},{"$f":"IF(O18=B6,COUNTIF(O7:O18,B6),\"\")","v":5},{"$f":"IF(O18=C6,COUNTIF(O7:O18,C6),\"\")","v":""},{"$f":"IF(O18=D6,COUNTIF(O7:O18,D6),\"\")","v":""},{"$f":"IF(O18=E6,COUNTIF(O7:O18,E6),\"\")","v":""},{"$f":"IF(O18=F6,COUNTIF(O7:O18,F6),\"\")","v":""},12,25,"Mia Easthope",null,null,null,null,null,"Cumbria",null,null,null,17.18,1,null,null,null,null,null,null,null,null,null,null,null,null,null,null,null,null,null,null,12]
[{"$f":"IF(O19=A6,COUNTIF(O7:O19,A6),\"\")","v":""},{"$f":"IF(O19=B6,COUNTIF(O7:O19,B6),\"\")","v":""},{"$f":"IF(O19=C6,COUNTIF(O7:O19,C6),\"\")","v":""},{"$f":"IF(O19=D6,COUNTIF(O7:O19,D6),\"\")","v":""},{"$f":"IF(O19=E6,COUNTIF(O7:O19,E6),\"\")","v":3},{"$f":"IF(O19=F6,COUNTIF(O7:O19,F6),\"\")","v":""},13,82,"Emily Jones",null,null,null,null,null,"North Yorkshire",null,null,null,17.239999999999998,1,null,null,null,null,null,null,null,null,null,null,null,null,null,null,null,null,null,null,13]
[{"$f":"IF(O20=A6,COUNTIF(O7:O20,A6),\"\")","v":""},{"$f":"IF(O20=B6,COUNTIF(O7:O20,B6),\"\")","v":""},{"$f":"IF(O20=C6,COUNTIF(O7:O20,C6),\"\")","v":""},{"$f":"IF(O20=D6,COUNTIF(O7:O20,D6),\"\")","v":""},{"$f":"IF(O20=E6,COUNTIF(O7:O20,E6),\"\")","v":4},{"$f":"IF(O20=F6,COUNTIF(O7:O20,F6),\"\")","v":""},14,84,"Holly Moss",null,null,null,null,null,"North Yorkshire",null,null,null,17.25,1,null,null,null,null,null,null,null,null,null,null,null,null,null,null,null,null,null,null,14]
[{"$f":"IF(O21=A6,COUNTIF(O7:O21,A6),\"\")","v":""},{"$f":"IF(O21=B6,COUNTIF(O7:O21,B6),\"\")","v":""},{"$f":"IF(O21=C6,COUNTIF(O7:O21,C6),\"\")","v":""},{"$f":"IF(O21=D6,COUNTIF(O7:O21,D6),\"\")","v":""},{"$f":"IF(O21=E6,COUNTIF(O7:O21,E6),\"\")","v":5},{"$f":"IF(O21=F6,COUNTIF(O7:O21,F6),\"\")","v":""},15,90,"Anika Schwarze-Chintapatla",null,null,null,null,null,"North Yorkshire",null,null,null,17.329999999999998,1,null,null,null,null,null,null,null,null,null,null,null,null,null,null,null,null,null,null,15]
[{"$f":"IF(O22=A6,COUNTIF(O7:O22,A6),\"\")","v":""},{"$f":"IF(O22=B6,COUNTIF(O7:O22,B6),\"\")","v":""},{"$f":"IF(O22=C6,COUNTIF(O7:O22,C6),\"\")","v":5},{"$f":"IF(O22=D6,COUNTIF(O7:O22,D6),\"\")","v":""},{"$f":"IF(O22=E6,COUNTIF(O7:O22,E6),\"\")","v":""},{"$f":"IF(O22=F6,COUNTIF(O7:O22,F6),\"\")","v":""},16,46,"Ellie Phillips",null,null,null,null,null,"Durham",null,null,null,17.350000000000001,1,null,null,null,null,null,null,null,null,null,null,null,null,null,null,null,null,null,null,16]
[{"$f":"IF(O23=A6,COUNTIF(O7:O23,A6),\"\")","v":""},{"$f":"IF(O23=B6,COUNTIF(O7:O23,B6),\"\")","v":""},{"$f":"IF(O23=C6,COUNTIF(O7:O23,C6),\"\")","v":6},{"$f":"IF(O23=D6,COUNTIF(O7:O23,D6),\"\")","v":""},{"$f":"IF(O23=E6,COUNTIF(O7:O23,E6),\"\")","v":""},{"$f":"IF(O23=F6,COUNTIF(O7:O23,F6),\"\")","v":""},17,45,"Eva Hardie",null,null,null,null,null,"Durham",null,null,null,17.420000000000002,1,null,null,null,null,null,null,null,null,null,null,null,null,null,null,null,null,null,null,17]
[{"$f":"IF(O24=A6,COUNTIF(O7:O24,A6),\"\")","v":""},{"$f":"IF(O24=B6,COUNTIF(O7:O24,B6),\"\")","v":6},{"$f":"IF(O24=C6,COUNTIF(O7:O24,C6),\"\")","v":""},{"$f":"IF(O24=D6,COUNTIF(O7:O24,D6),\"\")","v":""},{"$f":"IF(O24=E6,COUNTIF(O7:O24,E6),\"\")","v":""},{"$f":"IF(O24=F6,COUNTIF(O7:O24,F6),\"\")","v":""},18,30,"Mia Doherty",null,null,null,null,null,"Cumbria",null,null,null,17.57,1,null,null,null,null,null,null,null,null,null,null,null,null,null,null,null,null,null,null,18]
[{"$f":"IF(O25=A6,COUNTIF(O7:O25,A6),\"\")","v":""},{"$f":"IF(O25=B6,COUNTIF(O7:O25,B6),\"\")","v":7},{"$f":"IF(O25=C6,COUNTIF(O7:O25,C6),\"\")","v":""},{"$f":"IF(O25=D6,COUNTIF(O7:O25,D6),\"\")","v":""},{"$f":"IF(O25=E6,COUNTIF(O7:O25,E6),\"\")","v":""},{"$f":"IF(O25=F6,COUNTIF(O7:O25,F6),\"\")","v":""},19,27,"Clara Davies",null,null,null,null,null,"Cumbria",null,null,null,17.579999999999998,1,null,null,null,null,null,null,null,null,null,null,null,null,null,null,null,null,null,null,19]
[{"$f":"IF(O26=A6,COUNTIF(O7:O26,A6),\"\")","v":""},{"$f":"IF(O26=B6,COUNTIF(O7:O26,B6),\"\")","v":8},{"$f":"IF(O26=C6,COUNTIF(O7:O26,C6),\"\")","v":""},{"$f":"IF(O26=D6,COUNTIF(O7:O26,D6),\"\")","v":""},{"$f":"IF(O26=E6,COUNTIF(O7:O26,E6),\"\")","v":""},{"$f":"IF(O26=F6,COUNTIF(O7:O26,F6),\"\")","v":""},20,26,"Alex Duckitt",null,null,null,null,null,"Cumbria",null,null,null,17.579999999999998,1,null,null,null,null,null,null,null,null,null,null,null,null,null,null,null,null,null,null,20]
[{"$f":"IF(O27=A6,COUNTIF(O7:O27,A6),\"\")","v":""},{"$f":"IF(O27=B6,COUNTIF(O7:O27,B6),\"\")","v":""},{"$f":"IF(O27=C6,COUNTIF(O7:O27,C6),\"\")","v":""},{"$f":"IF(O27=D6,COUNTIF(O7:O27,D6),\"\")","v":2},{"$f":"IF(O27=E6,COUNTIF(O7:O27,E6),\"\")","v":""},{"$f":"IF(O27=F6,COUNTIF(O7:O27,F6),\"\")","v":""},21,62,"Suzannah Fielding",null,null,null,null,null,"Northumberland",null,null,null,17.579999999999998,1,null,null,null,null,null,null,null,null,null,null,null,null,null,null,null,null,null,null,21]
[{"$f":"IF(O28=A6,COUNTIF(O7:O28,A6),\"\")","v":""},{"$f":"IF(O28=B6,COUNTIF(O7:O28,B6),\"\")","v":""},{"$f":"IF(O28=C6,COUNTIF(O7:O28,C6),\"\")","v":""},{"$f":"IF(O28=D6,COUNTIF(O7:O28,D6),\"\")","v":3},{"$f":"IF(O28=E6,COUNTIF(O7:O28,E6),\"\")","v":""},{"$f":"IF(O28=F6,COUNTIF(O7:O28,F6),\"\")","v":""},22,76,"Hannah Tumia",null,null,null,null,null,"Northumberland",null,null,null,17.579999999999998,1,null,null,null,null,null,null,null,null,null,null,null,null,null,null,null,null,null,null,22]
[{"$f":"IF(O29=A6,COUNTIF(O7:O29,A6),\"\")","v":""},{"$f":"IF(O29=B6,COUNTIF(O7:O29,B6),\"\")","v":""},{"$f":"IF(O29=C6,COUNTIF(O7:O29,C6),\"\")","v":""},{"$f":"IF(O29=D6,COUNTIF(O7:O29,D6),\"\")","v":""},{"$f":"IF(O29=E6,COUNTIF(O7:O29,E6),\"\")","v":6},{"$f":"IF(O29=F6,COUNTIF(O7:O29,F6),\"\")","v":""},23,88,"Georgia Neary",null,null,null,null,null,"North Yorkshire",null,null,null,18.02,1,null,null,null,null,null,null,null,null,null,null,null,null,null,null,null,null,null,null,23]
[{"$f":"IF(O30=A6,COUNTIF(O7:O30,A6),\"\")","v":""},{"$f":"IF(O30=B6,COUNTIF(O7:O30,B6),\"\")","v":""},{"$f":"IF(O30=C6,COUNTIF(O7:O30,C6),\"\")","v":""},{"$f":"IF(O30=D6,COUNTIF(O7:O30,D6),\"\")","v":4},{"$f":"IF(O30=E6,COUNTIF(O7:O30,E6),\"\")","v":""},{"$f":"IF(O30=F6,COUNTIF(O7:O30,F6),\"\")","v":""},24,65,"Grace Varley",null,null,null,null,null,"Northumberland",null,null,null,18.07,1,null,null,null,null,null,null,null,null,null,null,null,null,null,null,null,null,null,null,24]
[{"$f":"IF(O31=A6,COUNTIF(O7:O31,A6),\"\")","v":""},{"$f":"IF(O31=B6,COUNTIF(O7:O31,B6),\"\")","v":""},{"$f":"IF(O31=C6,COUNTIF(O7:O31,C6),\"\")","v":7},{"$f":"IF(O31=D6,COUNTIF(O7:O31,D6),\"\")","v":""},{"$f":"IF(O31=E6,COUNTIF(O7:O31,E6),\"\")","v":""},{"$f":"IF(O31=F6,COUNTIF(O7:O31,F6),\"\")","v":""},25,48,"Sophie Robson",null,null,null,null,null,"Durham",null,null,null,18.09,1,null,null,null,null,null,null,null,null,null,null,null,null,null,null,null,null,null,null,25]
[{"$f":"IF(O32=A6,COUNTIF(O7:O32,A6),\"\")","v":""},{"$f":"IF(O32=B6,COUNTIF(O7:O32,B6),\"\")","v":""},{"$f":"IF(O32=C6,COUNTIF(O7:O32,C6),\"\")","v":""},{"$f":"IF(O32=D6,COUNTIF(O7:O32,D6),\"\")","v":""},{"$f":"IF(O32=E6,COUNTIF(O7:O32,E6),\"\")","v":7},{"$f":"IF(O32=F6,COUNTIF(O7:O32,F6),\"\")","v":""},26,89,"Phoebe Hall",null,null,null,null,null,"North Yorkshire",null,null,null,18.100000000000001,1,null,null,null,null,null,null,null,null,null,null,null,null,null,null,null,null,null,null,26]
[{"$f":"IF(O33=A6,COUNTIF(O7:O33,A6),\"\")","v":""},{"$f":"IF(O33=B6,COUNTIF(O7:O33,B6),\"\")","v":9},{"$f":"IF(O33=C6,COUNTIF(O7:O33,C6),\"\")","v":""},{"$f":"IF(O33=D6,COUNTIF(O7:O33,D6),\"\")","v":""},{"$f":"IF(O33=E6,COUNTIF(O7:O33,E6),\"\")","v":""},{"$f":"IF(O33=F6,COUNTIF(O7:O33,F6),\"\")","v":""},27,34,"Nicole Mattinson",null,null,null,null,null,"Cumbria",null,null,null,18.2,1,null,null,null,null,null,null,null,null,null,null,null,null,null,null,null,null,null,null,27]
[{"$f":"IF(O34=A6,COUNTIF(O7:O34,A6),\"\")","v":""},{"$f":"IF(O34=B6,COUNTIF(O7:O34,B6),\"\")","v":""},{"$f":"IF(O34=C6,COUNTIF(O7:O34,C6),\"\")","v":8},{"$f":"IF(O34=D6,COUNTIF(O7:O34,D6),\"\")","v":""},{"$f":"IF(O34=E6,COUNTIF(O7:O34,E6),\"\")","v":""},{"$f":"IF(O34=F6,COUNTIF(O7:O34,F6),\"\")","v":""},28,50,"Chloe Fairclough",null,null,null,null,null,"Durham",null,null,null,18.239999999999998,1,null,null,null,null,null,null,null,null,null,null,null,null,null,null,null,null,null,null,28]
[{"$f":"IF(O35=A6,COUNTIF(O7:O35,A6),\"\")","v":""},{"$f":"IF(O35=B6,COUNTIF(O7:O35,B6),\"\")","v":""},{"$f":"IF(O35=C6,COUNTIF(O7:O35,C6),\"\")","v":""},{"$f":"IF(O35=D6,COUNTIF(O7:O35,D6),\"\")","v":""},{"$f":"IF(O35=E6,COUNTIF(O7:O35,E6),\"\")","v":8},{"$f":"IF(O35=F6,COUNTIF(O7:O35,F6),\"\")","v":""},29,87,"Freddie Moore",null,null,null,null,null,"North Yorkshire",null,null,null,18.25,1,null,null,null,null,null,null,null,null,null,null,null,null,null,null,null,null,null,null,29]
[{"$f":"IF(O36=A6,COUNTIF(O7:O36,A6),\"\")","v":""},{"$f":"IF(O36=B6,COUNTIF(O7:O36,B6),\"\")","v":10},{"$f":"IF(O36=C6,COUNTIF(O7:O36,C6),\"\")","v":""},{"$f":"IF(O36=D6,COUNTIF(O7:O36,D6),\"\")","v":""},{"$f":"IF(O36=E6,COUNTIF(O7:O36,E6),\"\")","v":""},{"$f":"IF(O36=F6,COUNTIF(O7:O36,F6),\"\")","v":""},30,24,"Natasha Cookson",null,null,null,null,null,"Cumbria",null,null,null,18.27,1,null,null,null,null,null,null,null,null,null,null,null,null,null,null,null,null,null,null,30]
[{"$f":"IF(O37=A6,COUNTIF(O7:O37,A6),\"\")","v":""},{"$f":"IF(O37=B6,COUNTIF(O7:O37,B6),\"\")","v":""},{"$f":"IF(O37=C6,COUNTIF(O7:O37,C6),\"\")","v":9},{"$f":"IF(O37=D6,COUNTIF(O7:O37,D6),\"\")","v":""},{"$f":"IF(O37=E6,COUNTIF(O7:O37,E6),\"\")","v":""},{"$f":"IF(O37=F6,COUNTIF(O7:O37,F6),\"\")","v":""},31,49,"Megan Noble",null,null,null,null,null,"Durham",null,null,null,18.329999999999998,1,null,null,null,null,null,null,null,null,null,null,null,null,null,null,null,null,null,null,31]
[{"$f":"IF(O38=A6,COUNTIF(O7:O38,A6),\"\")","v":""},{"$f":"IF(O38=B6,COUNTIF(O7:O38,B6),\"\")","v":""},{"$f":"IF(O38=C6,COUNTIF(O7:O38,C6),\"\")","v":10},{"$f":"IF(O38=D6,COUNTIF(O7:O38,D6),\"\")","v":""},{"$f":"IF(O38=E6,COUNTIF(O7:O38,E6),\"\")","v":""},{"$f":"IF(O38=F6,COUNTIF(O7:O38,F6),\"\")","v":""},32,55,"Lara Greggs",null,null,null,null,null,"Durham",null,null,null,18.350000000000001,1,null,null,null,null,null,null,null,null,null,null,null,null,null,null,null,null,null,null,32]
[{"$f":"IF(O39=A6,COUNTIF(O7:O39,A6),\"\")","v":""},{"$f":"IF(O39=B6,COUNTIF(O7:O39,B6),\"\")","v":""},{"$f":"IF(O39=C6,COUNTIF(O7:O39,C6),\"\")","v":""},{"$f":"IF(O39=D6,COUNTIF(O7:O39,D6),\"\")","v":5},{"$f":"IF(O39=E6,COUNTIF(O7:O39,E6),\"\")","v":""},{"$f":"IF(O39=F6,COUNTIF(O7:O39,F6),\"\")","v":""},33,64,"Lily Heaton",null,null,null,null,null,"Northumberland",null,null,null,18.39,1,null,null,null,null,null,null,null,null,null,null,null,null,null,null,null,null,null,null,33]
[{"$f":"IF(O40=A6,COUNTIF(O7:O40,A6),\"\")","v":""},{"$f":"IF(O40=B6,COUNTIF(O7:O40,B6),\"\")","v":11},{"$f":"IF(O40=C6,COUNTIF(O7:O40,C6),\"\")","v":""},{"$f":"IF(O40=D6,COUNTIF(O7:O40,D6),\"\")","v":""},{"$f":"IF(O40=E6,COUNTIF(O7:O40,E6),\"\")","v":""},{"$f":"IF(O40=F6,COUNTIF(O7:O40,F6),\"\")","v":""},34,28,"Olivia Graham",null,null,null,null,null,"Cumbria",null,null,null,18.399999999999999,1,null,null,null,null,null,null,null,null,null,null,null,null,null,null,null,null,null,null,34]
[{"$f":"IF(O41=A6,COUNTIF(O7:O41,A6),\"\")","v":""},{"$f":"IF(O41=B6,COUNTIF(O7:O41,B6),\"\")","v":12},{"$f":"IF(O41=C6,COUNTIF(O7:O41,C6),\"\")","v":""},{"$f":"IF(O41=D6,COUNTIF(O7:O41,D6),\"\")","v":""},{"$f":"IF(O41=E6,COUNTIF(O7:O41,E6),\"\")","v":""},{"$f":"IF(O41=F6,COUNTIF(O7:O41,F6),\"\")","v":""},35,29,"Ruby Frankland",null,null,null,null,null,"Cumbria",null,null,null,18.43,1,null,null,null,null,null,null,null,null,null,null,null,null,null,null,null,null,null,null,35]
[{"$f":"IF(O42=A6,COUNTIF(O7:O42,A6),\"\")","v":""},{"$f":"IF(O42=B6,COUNTIF(O7:O42,B6),\"\")","v":""},{"$f":"IF(O42=C6,COUNTIF(O7:O42,C6),\"\")","v":""},{"$f":"IF(O42=D6,COUNTIF(O7:O42,D6),\"\")","v":6},{"$f":"IF(O42=E6,COUNTIF(O7:O42,E6),\"\")","v":""},{"$f":"IF(O42=F6,COUNTIF(O7:O42,F6),\"\")","v":""},36,70,"Lily Shaw",null,null,null,null,null,"Northumberland",null,null,null,18.48,1,null,null,null,null,null,null,null,null,null,null,null,null,null,null,null,null,null,null,36]
[{"$f":"IF(O43=A6,COUNTIF(O7:O43,A6),\"\")","v":""},{"$f":"IF(O43=B6,COUNTIF(O7:O43,B6),\"\")","v":13},{"$f":"IF(O43=C6,COUNTIF(O7:O43,C6),\"\")","v":""},{"$f":"IF(O43=D6,COUNTIF(O7:O43,D6),\"\")","v":""},{"$f":"IF(O43=E6,COUNTIF(O7:O43,E6),\"\")","v":""},{"$f":"IF(O43=F6,COUNTIF(O7:O43,F6),\"\")","v":""},37,35,"Bella Matarewicz",null,null,null,null,null,"Cumbria",null,null,null,18.489999999999998,1,null,null,null,null,null,null,null,null,null,null,null,null,null,null,null,null,null,null,37]
[{"$f":"IF(O44=A6,COUNTIF(O7:O44,A6),\"\")","v":""},{"$f":"IF(O44=B6,COUNTIF(O7:O44,B6),\"\")","v":14},{"$f":"IF(O44=C6,COUNTIF(O7:O44,C6),\"\")","v":""},{"$f":"IF(O44=D6,COUNTIF(O7:O44,D6),\"\")","v":""},{"$f":"IF(O44=E6,COUNTIF(O7:O44,E6),\"\")","v":""},{"$f":"IF(O44=F6,COUNTIF(O7:O44,F6),\"\")","v":""},38,32,"Nicole Clegg",null,null,null,null,null,"Cumbria",null,null,null,18.53,1,null,null,null,null,null,null,null,null,null,null,null,null,null,null,null,null,null,null,38]
[{"$f":"IF(O45=A6,COUNTIF(O7:O45,A6),\"\")","v":1},{"$f":"IF(O45=B6,COUNTIF(O7:O45,B6),\"\")","v":""},{"$f":"IF(O45=C6,COUNTIF(O7:O45,C6),\"\")","v":""},{"$f":"IF(O45=D6,COUNTIF(O7:O45,D6),\"\")","v":""},{"$f":"IF(O45=E6,COUNTIF(O7:O45,E6),\"\")","v":""},{"$f":"IF(O45=F6,COUNTIF(O7:O45,F6),\"\")","v":""},39,7,"Ruby Whitney",null,null,null,null,null,"Cleveland",null,null,null,18.57,1,null,null,null,null,null,null,null,null,null,null,null,null,null,null,null,null,null,null,39]
[{"$f":"IF(O46=A6,COUNTIF(O7:O46,A6),\"\")","v":""},{"$f":"IF(O46=B6,COUNTIF(O7:O46,B6),\"\")","v":""},{"$f":"IF(O46=C6,COUNTIF(O7:O46,C6),\"\")","v":""},{"$f":"IF(O46=D6,COUNTIF(O7:O46,D6),\"\")","v":""},{"$f":"IF(O46=E6,COUNTIF(O7:O46,E6),\"\")","v":9},{"$f":"IF(O46=F6,COUNTIF(O7:O46,F6),\"\")","v":""},40,92,"Abi Robinson",null,null,null,null,null,"North Yorkshire",null,null,null,18.57,1,null,null,null,null,null,null,null,null,null,null,null,null,null,null,null,null,null,null,40]
[{"$f":"IF(O47=A6,COUNTIF(O7:O47,A6),\"\")","v":""},{"$f":"IF(O47=B6,COUNTIF(O7:O47,B6),\"\")","v":""},{"$f":"IF(O47=C6,COUNTIF(O7:O47,C6),\"\")","v":""},{"$f":"IF(O47=D6,COUNTIF(O7:O47,D6),\"\")","v":7},{"$f":"IF(O47=E6,COUNTIF(O7:O47,E6),\"\")","v":""},{"$f":"IF(O47=F6,COUNTIF(O7:O47,F6),\"\")","v":""},41,74,"Ella Duffield",null,null,null,null,null,"Northumberland",null,null,null,19.02,1,null,null,null,null,null,null,null,null,null,null,null,null,null,null,null,null,null,null,41]
[{"$f":"IF(O48=A6,COUNTIF(O7:O48,A6),\"\")","v":""},{"$f":"IF(O48=B6,COUNTIF(O7:O48,B6),\"\")","v":""},{"$f":"IF(O48=C6,COUNTIF(O7:O48,C6),\"\")","v":""},{"$f":"IF(O48=D6,COUNTIF(O7:O48,D6),\"\")","v":""},{"$f":"IF(O48=E6,COUNTIF(O7:O48,E6),\"\")","v":10},{"$f":"IF(O48=F6,COUNTIF(O7:O48,F6),\"\")","v":""},42,91,"Jess Head",null,null,null,null,null,"North Yorkshire",null,null,null,19.03,1,null,null,null,null,null,null,null,null,null,null,null,null,null,null,null,null,null,null,42]
[{"$f":"IF(O49=A6,COUNTIF(O7:O49,A6),\"\")","v":2},{"$f":"IF(O49=B6,COUNTIF(O7:O49,B6),\"\")","v":""},{"$f":"IF(O49=C6,COUNTIF(O7:O49,C6),\"\")","v":""},{"$f":"IF(O49=D6,COUNTIF(O7:O49,D6),\"\")","v":""},{"$f":"IF(O49=E6,COUNTIF(O7:O49,E6),\"\")","v":""},{"$f":"IF(O49=F6,COUNTIF(O7:O49,F6),\"\")","v":""},43,4,"Rebecca Tilley",null,null,null,null,null,"Cleveland",null,null,null,19.04,1,null,null,null,null,null,null,null,null,null,null,null,null,null,null,null,null,null,null,43]
[{"$f":"IF(O50=A6,COUNTIF(O7:O50,A6),\"\")","v":""},{"$f":"IF(O50=B6,COUNTIF(O7:O50,B6),\"\")","v":""},{"$f":"IF(O50=C6,COUNTIF(O7:O50,C6),\"\")","v":""},{"$f":"IF(O50=D6,COUNTIF(O7:O50,D6),\"\")","v":8},{"$f":"IF(O50=E6,COUNTIF(O7:O50,E6),\"\")","v":""},{"$f":"IF(O50=F6,COUNTIF(O7:O50,F6),\"\")","v":""},44,72,"Kirsty Duffin",null,null,null,null,null,"Northumberland",null,null,null,19.07,1,null,null,null,null,null,null,null,null,null,null,null,null,null,null,null,null,null,null,44]
[{"$f":"IF(O51=A6,COUNTIF(O7:O51,A6),\"\")","v":3},{"$f":"IF(O51=B6,COUNTIF(O7:O51,B6),\"\")","v":""},{"$f":"IF(O51=C6,COUNTIF(O7:O51,C6),\"\")","v":""},{"$f":"IF(O51=D6,COUNTIF(O7:O51,D6),\"\")","v":""},{"$f":"IF(O51=E6,COUNTIF(O7:O51,E6),\"\")","v":""},{"$f":"IF(O51=F6,COUNTIF(O7:O51,F6),\"\")","v":""},45,2,"Charlotte Bennett",null,null,null,null,null,"Cleveland",null,null,null,19.079999999999998,1,null,null,null,null,null,null,null,null,null,null,null,null,null,null,null,null,null,null,45]
[{"$f":"IF(O52=A6,COUNTIF(O7:O52,A6),\"\")","v":4},{"$f":"IF(O52=B6,COUNTIF(O7:O52,B6),\"\")","v":""},{"$f":"IF(O52=C6,COUNTIF(O7:O52,C6),\"\")","v":""},{"$f":"IF(O52=D6,COUNTIF(O7:O52,D6),\"\")","v":""},{"$f":"IF(O52=E6,COUNTIF(O7:O52,E6),\"\")","v":""},{"$f":"IF(O52=F6,COUNTIF(O7:O52,F6),\"\")","v":""},46,8,"Megan Tipper",null,null,null,null,null,"Cleveland",null,null,null,19.09,1,null,null,null,null,null,null,null,null,null,null,null,null,null,null,null,null,null,null,46]
[{"$f":"IF(O53=A6,COUNTIF(O7:O53,A6),\"\")","v":""},{"$f":"IF(O53=B6,COUNTIF(O7:O53,B6),\"\")","v":""},{"$f":"IF(O53=C6,COUNTIF(O7:O53,C6),\"\")","v":11},{"$f":"IF(O53=D6,COUNTIF(O7:O53,D6),\"\")","v":""},{"$f":"IF(O53=E6,COUNTIF(O7:O53,E6),\"\")","v":""},{"$f":"IF(O53=F6,COUNTIF(O7:O53,F6),\"\")","v":""},47,52,"Hannah Holman",null,null,null,null,null,"Durham",null,null,null,19.100000000000001,1,null,null,null,null,null,null,null,null,null,null,null,null,null,null,null,null,null,null,47]
[{"$f":"IF(O54=A6,COUNTIF(O7:O54,A6),\"\")","v":""},{"$f":"IF(O54=B6,COUNTIF(O7:O54,B6),\"\")","v":""},{"$f":"IF(O54=C6,COUNTIF(O7:O54,C6),\"\")","v":12},{"$f":"IF(O54=D6,COUNTIF(O7:O54,D6),\"\")","v":""},{"$f":"IF(O54=E6,COUNTIF(O7:O54,E6),\"\")","v":""},{"$f":"IF(O54=F6,COUNTIF(O7:O54,F6),\"\")","v":""},48,54,"Jessica Levy",null,null,null,null,null,"Durham",null,null,null,19.100000000000001,1,null,null,null,null,null,null,null,null,null,null,null,null,null,null,null,null,null,null,48]
[{"$f":"IF(O55=A6,COUNTIF(O7:O55,A6),\"\")","v":""},{"$f":"IF(O55=B6,COUNTIF(O7:O55,B6),\"\")","v":""},{"$f":"IF(O55=C6,COUNTIF(O7:O55,C6),\"\")","v":13},{"$f":"IF(O55=D6,COUNTIF(O7:O55,D6),\"\")","v":""},{"$f":"IF(O55=E6,COUNTIF(O7:O55,E6),\"\")","v":""},{"$f":"IF(O55=F6,COUNTIF(O7:O55,F6),\"\")","v":""},49,51,"Jessica Holman",null,null,null,null,null,"Durham",null,null,null,19.14,1,null,null,null,null,null,null,null,null,null,null,null,null,null,null,null,null,null,null,49]
[{"$f":"IF(O56=A6,COUNTIF(O7:O56,A6),\"\")","v":""},{"$f":"IF(O56=B6,COUNTIF(O7:O56,B6),\"\")","v":15},{"$f":"IF(O56=C6,COUNTIF(O7:O56,C6),\"\")","v":""},{"$f":"IF(O56=D6,COUNTIF(O7:O56,D6),\"\")","v":""},{"$f":"IF(O56=E6,COUNTIF(O7:O56,E6),\"\")","v":""},{"$f":"IF(O56=F6,COUNTIF(O7:O56,F6),\"\")","v":""},50,38,"Anna Herr",null,null,null,null,null,"Cumbria",null,null,null,19.149999999999999,1,null,null,null,null,null,null,null,null,null,null,null,null,null,null,null,null,null,null,50]
[{"$f":"IF(O57=A6,COUNTIF(O7:O57,A6),\"\")","v":5},{"$f":"IF(O57=B6,COUNTIF(O7:O57,B6),\"\")","v":""},{"$f":"IF(O57=C6,COUNTIF(O7:O57,C6),\"\")","v":""},{"$f":"IF(O57=D6,COUNTIF(O7:O57,D6),\"\")","v":""},{"$f":"IF(O57=E6,COUNTIF(O7:O57,E6),\"\")","v":""},{"$f":"IF(O57=F6,COUNTIF(O7:O57,F6),\"\")","v":""},51,3,"Jordan Thrower",null,null,null,null,null,"Cleveland",null,null,null,19.16,1,null,null,null,null,null,null,null,null,null,null,null,null,null,null,null,null,null,null,51]
[{"$f":"IF(O58=A6,COUNTIF(O7:O58,A6),\"\")","v":""},{"$f":"IF(O58=B6,COUNTIF(O7:O58,B6),\"\")","v":""},{"$f":"IF(O58=C6,COUNTIF(O7:O58,C6),\"\")","v":""},{"$f":"IF(O58=D6,COUNTIF(O7:O58,D6),\"\")","v":9},{"$f":"IF(O58=E6,COUNTIF(O7:O58,E6),\"\")","v":""},{"$f":"IF(O58=F6,COUNTIF(O7:O58,F6),\"\")","v":""},52,68,"Megan Cottee",null,null,null,null,null,"Northumberland",null,null,null,19.2,1,null,null,null,null,null,null,null,null,null,null,null,null,null,null,null,null,null,null,52]
[{"$f":"IF(O59=A6,COUNTIF(O7:O59,A6),\"\")","v":""},{"$f":"IF(O59=B6,COUNTIF(O7:O59,B6),\"\")","v":""},{"$f":"IF(O59=C6,COUNTIF(O7:O59,C6),\"\")","v":""},{"$f":"IF(O59=D6,COUNTIF(O7:O59,D6),\"\")","v":10},{"$f":"IF(O59=E6,COUNTIF(O7:O59,E6),\"\")","v":""},{"$f":"IF(O59=F6,COUNTIF(O7:O59,F6),\"\")","v":""},53,66,"Chloe Wellings",null,null,null,null,null,"Northumberland",null,null,null,19.239999999999998,1,null,null,null,null,null,null,null,null,null,null,null,null,null,null,null,null,null,null,53]
[{"$f":"IF(O60=A6,COUNTIF(O7:O60,A6),\"\")","v":""},{"$f":"IF(O60=B6,COUNTIF(O7:O60,B6),\"\")","v":""},{"$f":"IF(O60=C6,COUNTIF(O7:O60,C6),\"\")","v":""},{"$f":"IF(O60=D6,COUNTIF(O7:O60,D6),\"\")","v":11},{"$f":"IF(O60=E6,COUNTIF(O7:O60,E6),\"\")","v":""},{"$f":"IF(O60=F6,COUNTIF(O7:O60,F6),\"\")","v":""},54,75,"Abigail Bedford",null,null,null,null,null,"Northumberland",null,null,null,19.25,1,null,null,null,null,null,null,null,null,null,null,null,null,null,null,null,null,null,null,54]
[{"$f":"IF(O61=A6,COUNTIF(O7:O61,A6),\"\")","v":""},{"$f":"IF(O61=B6,COUNTIF(O7:O61,B6),\"\")","v":16},{"$f":"IF(O61=C6,COUNTIF(O7:O61,C6),\"\")","v":""},{"$f":"IF(O61=D6,COUNTIF(O7:O61,D6),\"\")","v":""},{"$f":"IF(O61=E6,COUNTIF(O7:O61,E6),\"\")","v":""},{"$f":"IF(O61=F6,COUNTIF(O7:O61,F6),\"\")","v":""},55,36,"Maisie Gough",null,null,null,null,null,"Cumbria",null,null,null,19.329999999999998,1,null,null,null,null,null,null,null,null,null,null,null,null,null,null,null,null,null,null,55]
[{"$f":"IF(O62=A6,COUNTIF(O7:O62,A6),\"\")","v":""},{"$f":"IF(O62=B6,COUNTIF(O7:O62,B6),\"\")","v":17},{"$f":"IF(O62=C6,COUNTIF(O7:O62,C6),\"\")","v":""},{"$f":"IF(O62=D6,COUNTIF(O7:O62,D6),\"\")","v":""},{"$f":"IF(O62=E6,COUNTIF(O7:O62,E6),\"\")","v":""},{"$f":"IF(O62=F6,COUNTIF(O7:O62,F6),\"\")","v":""},56,37,"Molly Barrett",null,null,null,null,null,"Cumbria",null,null,null,19.350000000000001,1,null,null,null,null,null,null,null,null,null,null,null,null,null,null,null,null,null,null,56]
[{"$f":"IF(O63=A6,COUNTIF(O7:O63,A6),\"\")","v":""},{"$f":"IF(O63=B6,COUNTIF(O7:O63,B6),\"\")","v":""},{"$f":"IF(O63=C6,COUNTIF(O7:O63,C6),\"\")","v":14},{"$f":"IF(O63=D6,COUNTIF(O7:O63,D6),\"\")","v":""},{"$f":"IF(O63=E6,COUNTIF(O7:O63,E6),\"\")","v":""},{"$f":"IF(O63=F6,COUNTIF(O7:O63,F6),\"\")","v":""},57,56,"Bethany Chapman",null,null,null,null,null,"Durham",null,null,null,19.5,1,null,null,null,null,null,null,null,null,null,null,null,null,null,null,null,null,null,null,57]
[{"$f":"IF(O64=A6,COUNTIF(O7:O64,A6),\"\")","v":6},{"$f":"IF(O64=B6,COUNTIF(O7:O64,B6),\"\")","v":""},{"$f":"IF(O64=C6,COUNTIF(O7:O64,C6),\"\")","v":""},{"$f":"IF(O64=D6,COUNTIF(O7:O64,D6),\"\")","v":""},{"$f":"IF(O64=E6,COUNTIF(O7:O64,E6),\"\")","v":""},{"$f":"IF(O64=F6,COUNTIF(O7:O64,F6),\"\")","v":""},58,14,"Harriet Thompson",null,null,null,null,null,"Cleveland",null,null,null,19.52,1,null,null,null,null,null,null,null,null,null,null,null,null,null,null,null,null,null,null,58]
[{"$f":"IF(O65=A6,COUNTIF(O7:O65,A6),\"\")","v":""},{"$f":"IF(O65=B6,COUNTIF(O7:O65,B6),\"\")","v":""},{"$f":"IF(O65=C6,COUNTIF(O7:O65,C6),\"\")","v":""},{"$f":"IF(O65=D6,COUNTIF(O7:O65,D6),\"\")","v":12},{"$f":"IF(O65=E6,COUNTIF(O7:O65,E6),\"\")","v":""},{"$f":"IF(O65=F6,COUNTIF(O7:O65,F6),\"\")","v":""},59,73,"Amelie Brook",null,null,null,null,null,"Northumberland",null,null,null,20.02,1,null,null,null,null,null,null,null,null,null,null,null,null,null,null,null,null,null,null,59]
[{"$f":"IF(O66=A6,COUNTIF(O7:O66,A6),\"\")","v":7},{"$f":"IF(O66=B6,COUNTIF(O7:O66,B6),\"\")","v":""},{"$f":"IF(O66=C6,COUNTIF(O7:O66,C6),\"\")","v":""},{"$f":"IF(O66=D6,COUNTIF(O7:O66,D6),\"\")","v":""},{"$f":"IF(O66=E6,COUNTIF(O7:O66,E6),\"\")","v":""},{"$f":"IF(O66=F6,COUNTIF(O7:O66,F6),\"\")","v":""},60,15,"Sophie Vickers",null,null,null,null,null,"Cleveland",null,null,null,20.04,1,null,null,null,null,null,null,null,null,null,null,null,null,null,null,null,null,null,null,60]
[{"$f":"IF(O67=A6,COUNTIF(O7:O67,A6),\"\")","v":8},{"$f":"IF(O67=B6,COUNTIF(O7:O67,B6),\"\")","v":""},{"$f":"IF(O67=C6,COUNTIF(O7:O67,C6),\"\")","v":""},{"$f":"IF(O67=D6,COUNTIF(O7:O67,D6),\"\")","v":""},{"$f":"IF(O67=E6,COUNTIF(O7:O67,E6),\"\")","v":""},{"$f":"IF(O67=F6,COUNTIF(O7:O67,F6),\"\")","v":""},61,6,"F Roger",null,null,null,null,null,"Cleveland",null,null,null,20.059999999999999,1,null,null,null,null,null,null,null,null,null,null,null,null,null,null,null,null,null,null,61]
[{"$f":"IF(O68=A6,COUNTIF(O7:O68,A6),\"\")","v":""},{"$f":"IF(O68=B6,COUNTIF(O7:O68,B6),\"\")","v":""},{"$f":"IF(O68=C6,COUNTIF(O7:O68,C6),\"\")","v":15},{"$f":"IF(O68=D6,COUNTIF(O7:O68,D6),\"\")","v":""},{"$f":"IF(O68=E6,COUNTIF(O7:O68,E6),\"\")","v":""},{"$f":"IF(O68=F6,COUNTIF(O7:O68,F6),\"\")","v":""},62,53,"Ishbel Speirs",null,null,null,null,null,"Durham",null,null,null,20.18,1,null,null,null,null,null,null,null,null,null,null,null,null,null,null,null,null,null,null,62]
[{"$f":"IF(O69=A6,COUNTIF(O7:O69,A6),\"\")","v":""},{"$f":"IF(O69=B6,COUNTIF(O7:O69,B6),\"\")","v":""},{"$f":"IF(O69=C6,COUNTIF(O7:O69,C6),\"\")","v":16},{"$f":"IF(O69=D6,COUNTIF(O7:O69,D6),\"\")","v":""},{"$f":"IF(O69=E6,COUNTIF(O7:O69,E6),\"\")","v":""},{"$f":"IF(O69=F6,COUNTIF(O7:O69,F6),\"\")","v":""},63,57,"Jasmine Crang",null,null,null,null,null,"Durham",null,null,null,20.21,1,null,null,null,null,null,null,null,null,null,null,null,null,null,null,null,null,null,null,63]
[{"$f":"IF(O70=A6,COUNTIF(O7:O70,A6),\"\")","v":9},{"$f":"IF(O70=B6,COUNTIF(O7:O70,B6),\"\")","v":""},{"$f":"IF(O70=C6,COUNTIF(O7:O70,C6),\"\")","v":""},{"$f":"IF(O70=D6,COUNTIF(O7:O70,D6),\"\")","v":""},{"$f":"IF(O70=E6,COUNTIF(O7:O70,E6),\"\")","v":""},{"$f":"IF(O70=F6,COUNTIF(O7:O70,F6),\"\")","v":""},64,13,"Estelle Matthews",null,null,null,null,null,"Cleveland",null,null,null,20.29,1,null,null,null,null,null,null,null,null,null,null,null,null,null,null,null,null,null,null,64]
[{"$f":"IF(O71=A6,COUNTIF(O7:O71,A6),\"\")","v":""},{"$f":"IF(O71=B6,COUNTIF(O7:O71,B6),\"\")","v":""},{"$f":"IF(O71=C6,COUNTIF(O7:O71,C6),\"\")","v":""},{"$f":"IF(O71=D6,COUNTIF(O7:O71,D6),\"\")","v":13},{"$f":"IF(O71=E6,COUNTIF(O7:O71,E6),\"\")","v":""},{"$f":"IF(O71=F6,COUNTIF(O7:O71,F6),\"\")","v":""},{"$f":"IF(LEFT(S71,1)=\"D\",0,AM71)","v":65},69,{"$f":"IFERROR(VLOOKUP(H71,INDIRECT($AA$1),2,0),\"\")","v":"Elena Walker"},null,null,null,null,null,{"$f":"IFERROR(VLOOKUP(H71,INDIRECT($AA$1),3,0),\"\")","v":"Northumberland"},null,null,null,20.32,{"$f":"IF(H71=0,0,1)","v":1},null,null,null,null,null,null,null,null,null,null,null,null,null,null,null,null,null,null,65]
[{"$f":"IF(O72=A6,COUNTIF(O7:O72,A6),\"\")","v":10},{"$f":"IF(O72=B6,COUNTIF(O7:O72,B6),\"\")","v":""},{"$f":"IF(O72=C6,COUNTIF(O7:O72,C6),\"\")","v":""},{"$f":"IF(O72=D6,COUNTIF(O7:O72,D6),\"\")","v":""},{"$f":"IF(O72=E6,COUNTIF(O7:O72,E6),\"\")","v":""},{"$f":"IF(O72=F6,COUNTIF(O7:O72,F6),\"\")","v":""},66,12,"Mia Templeton",null,null,null,null,null,"Cleveland",null,null,null,20.36,1,null,null,null,null,null,null,null,null,null,null,null,null,null,null,null,null,null,null,66]
[{"$f":"IF(O73=A6,COUNTIF(O7:O73,A6),\"\")","v":""},{"$f":"IF(O73=B6,COUNTIF(O7:O73,B6),\"\")","v":""},{"$f":"IF(O73=C6,COUNTIF(O7:O73,C6),\"\")","v":""},{"$f":"IF(O73=D6,COUNTIF(O7:O73,D6),\"\")","v":14},{"$f":"IF(O73=E6,COUNTIF(O7:O73,E6),\"\")","v":""},{"$f":"IF(O73=F6,COUNTIF(O7:O73,F6),\"\")","v":""},67,67,"Anna Styles",null,null,null,null,null,"Northumberland",null,null,null,20.41,1,null,null,null,null,null,null,null,null,null,null,null,null,null,null,null,null,null,null,67]
[{"$f":"IF(O74=A6,COUNTIF(O7:O74,A6),\"\")","v":11},{"$f":"IF(O74=B6,COUNTIF(O7:O74,B6),\"\")","v":""},{"$f":"IF(O74=C6,COUNTIF(O7:O74,C6),\"\")","v":""},{"$f":"IF(O74=D6,COUNTIF(O7:O74,D6),\"\")","v":""},{"$f":"IF(O74=E6,COUNTIF(O7:O74,E6),\"\")","v":""},{"$f":"IF(O74=F6,COUNTIF(O7:O74,F6),\"\")","v":""},68,11,"Hannah Skull",null,null,null,null,null,"Cleveland",null,null,null,20.46,1,null,null,null,null,null,null,null,null,null,null,null,null,null,null,null,null,null,null,68]
[{"$f":"IF(O75=A6,COUNTIF(O7:O75,A6),\"\")","v":12},{"$f":"IF(O75=B6,COUNTIF(O7:O75,B6),\"\")","v":""},{"$f":"IF(O75=C6,COUNTIF(O7:O75,C6),\"\")","v":""},{"$f":"IF(O75=D6,COUNTIF(O7:O75,D6),\"\")","v":""},{"$f":"IF(O75=E6,COUNTIF(O7:O75,E6),\"\")","v":""},{"$f":"IF(O75=F6,COUNTIF(O7:O75,F6),\"\")","v":""},69,10,"Amelia O'Neill",null,null,null,null,null,"Cleveland",null,null,null,20.49,1,null,null,null,null,null,null,null,null,null,null,null,null,null,null,null,null,null,null,69]
[{"$f":"IF(O76=A6,COUNTIF(O7:O76,A6),\"\")","v":13},{"$f":"IF(O76=B6,COUNTIF(O7:O76,B6),\"\")","v":""},{"$f":"IF(O76=C6,COUNTIF(O7:O76,C6),\"\")","v":""},{"$f":"IF(O76=D6,COUNTIF(O7:O76,D6),\"\")","v":""},{"$f":"IF(O76=E6,COUNTIF(O7:O76,E6),\"\")","v":""},{"$f":"IF(O76=F6,COUNTIF(O7:O76,F6),\"\")","v":""},70,9,"Victoria Lynn",null,null,null,null,null,"Cleveland",null,null,null,21.07,1,null,null,null,null,null,null,null,null,null,null,null,null,null,null,null,null,null,null,70]
[{"$f":"IF(O77=A6,COUNTIF(O7:O77,A6),\"\")","v":""},{"$f":"IF(O77=B6,COUNTIF(O7:O77,B6),\"\")","v":""},{"$f":"IF(O77=C6,COUNTIF(O7:O77,C6),\"\")","v":""},{"$f":"IF(O77=D6,COUNTIF(O7:O77,D6),\"\")","v":""},{"$f":"IF(O77=E6,COUNTIF(O7:O77,E6),\"\")","v":""},{"$f":"IF(O77=F6,COUNTIF(O7:O77,F6),\"\")","v":""},71,null,"",null,null,null,null,null,"",null,null,null,null,0,null,null,null,null,null,null,null,null,null,null,null,null,null,null,null,null,null,null,71]
[{"$f":"IF(O78=A6,COUNTIF(O7:O78,A6),\"\")","v":""},{"$f":"IF(O78=B6,COUNTIF(O7:O78,B6),\"\")","v":""},{"$f":"IF(O78=C6,COUNTIF(O7:O78,C6),\"\")","v":""},{"$f":"IF(O78=D6,COUNTIF(O7:O78,D6),\"\")","v":""},{"$f":"IF(O78=E6,COUNTIF(O7:O78,E6),\"\")","v":""},{"$f":"IF(O78=F6,COUNTIF(O7:O78,F6),\"\")","v":""},72,null,"",null,null,null,null,null,"",null,null,null,null,0,null,null,null,null,null,null,null,null,null,null,null,null,null,null,null,null,null,null,72]
[{"$f":"IF(O79=A6,COUNTIF(O7:O79,A6),\"\")","v":""},{"$f":"IF(O79=B6,COUNTIF(O7:O79,B6),\"\")","v":""},{"$f":"IF(O79=C6,COUNTIF(O7:O79,C6),\"\")","v":""},{"$f":"IF(O79=D6,COUNTIF(O7:O79,D6),\"\")","v":""},{"$f":"IF(O79=E6,COUNTIF(O7:O79,E6),\"\")","v":""},{"$f":"IF(O79=F6,COUNTIF(O7:O79,F6),\"\")","v":""},73,null,"",null,null,null,null,null,"",null,null,null,null,0,null,null,null,null,null,null,null,null,null,null,null,null,null,null,null,null,null,null,73]
[{"$f":"IF(O80=A6,COUNTIF(O7:O80,A6),\"\")","v":""},{"$f":"IF(O80=B6,COUNTIF(O7:O80,B6),\"\")","v":""},{"$f":"IF(O80=C6,COUNTIF(O7:O80,C6),\"\")","v":""},{"$f":"IF(O80=D6,COUNTIF(O7:O80,D6),\"\")","v":""},{"$f":"IF(O80=E6,COUNTIF(O7:O80,E6),\"\")","v":""},{"$f":"IF(O80=F6,COUNTIF(O7:O80,F6),\"\")","v":""},74,null,"",null,null,null,null,null,"",null,null,null,null,0,null,null,null,null,null,null,null,null,null,null,null,null,null,null,null,null,null,null,74]
[{"$f":"IF(O81=A6,COUNTIF(O7:O81,A6),\"\")","v":""},{"$f":"IF(O81=B6,COUNTIF(O7:O81,B6),\"\")","v":""},{"$f":"IF(O81=C6,COUNTIF(O7:O81,C6),\"\")","v":""},{"$f":"IF(O81=D6,COUNTIF(O7:O81,D6),\"\")","v":""},{"$f":"IF(O81=E6,COUNTIF(O7:O81,E6),\"\")","v":""},{"$f":"IF(O81=F6,COUNTIF(O7:O81,F6),\"\")","v":""},75,null,"",null,null,null,null,null,"",null,null,null,null,0,null,null,null,null,null,null,null,null,null,null,null,null,null,null,null,null,null,null,75]
[{"$f":"IF(O82=A6,COUNTIF(O7:O82,A6),\"\")","v":""},{"$f":"IF(O82=B6,COUNTIF(O7:O82,B6),\"\")","v":""},{"$f":"IF(O82=C6,COUNTIF(O7:O82,C6),\"\")","v":""},{"$f":"IF(O82=D6,COUNTIF(O7:O82,D6),\"\")","v":""},{"$f":"IF(O82=E6,COUNTIF(O7:O82,E6),\"\")","v":""},{"$f":"IF(O82=F6,COUNTIF(O7:O82,F6),\"\")","v":""},76,null,"",null,null,null,null,null,"",null,null,null,null,0,null,null,null,null,null,null,null,null,null,null,null,null,null,null,null,null,null,null,76]
[{"$f":"IF(O83=A6,COUNTIF(O7:O83,A6),\"\")","v":""},{"$f":"IF(O83=B6,COUNTIF(O7:O83,B6),\"\")","v":""},{"$f":"IF(O83=C6,COUNTIF(O7:O83,C6),\"\")","v":""},{"$f":"IF(O83=D6,COUNTIF(O7:O83,D6),\"\")","v":""},{"$f":"IF(O83=E6,COUNTIF(O7:O83,E6),\"\")","v":""},{"$f":"IF(O83=F6,COUNTIF(O7:O83,F6),\"\")","v":""},77,null,"",null,null,null,null,null,"",null,null,null,null,0,null,null,null,null,null,null,null,null,null,null,null,null,null,null,null,null,null,null,77]
[{"$f":"IF(O84=A6,COUNTIF(O7:O84,A6),\"\")","v":""},{"$f":"IF(O84=B6,COUNTIF(O7:O84,B6),\"\")","v":""},{"$f":"IF(O84=C6,COUNTIF(O7:O84,C6),\"\")","v":""},{"$f":"IF(O84=D6,COUNTIF(O7:O84,D6),\"\")","v":""},{"$f":"IF(O84=E6,COUNTIF(O7:O84,E6),\"\")","v":""},{"$f":"IF(O84=F6,COUNTIF(O7:O84,F6),\"\")","v":""},78,null,"",null,null,null,null,null,"",null,null,null,null,0,null,null,null,null,null,null,null,null,null,null,null,null,null,null,null,null,null,null,78]
[{"$f":"IF(O85=A6,COUNTIF(O7:O85,A6),\"\")","v":""},{"$f":"IF(O85=B6,COUNTIF(O7:O85,B6),\"\")","v":""},{"$f":"IF(O85=C6,COUNTIF(O7:O85,C6),\"\")","v":""},{"$f":"IF(O85=D6,COUNTIF(O7:O85,D6),\"\")","v":""},{"$f":"IF(O85=E6,COUNTIF(O7:O85,E6),\"\")","v":""},{"$f":"IF(O85=F6,COUNTIF(O7:O85,F6),\"\")","v":""},79,null,"",null,null,null,null,null,"",null,null,null,null,0,null,null,null,null,null,null,null,null,null,null,null,null,null,null,null,null,null,null,79]
[{"$f":"IF(O86=A6,COUNTIF(O7:O86,A6),\"\")","v":""},{"$f":"IF(O86=B6,COUNTIF(O7:O86,B6),\"\")","v":""},{"$f":"IF(O86=C6,COUNTIF(O7:O86,C6),\"\")","v":""},{"$f":"IF(O86=D6,COUNTIF(O7:O86,D6),\"\")","v":""},{"$f":"IF(O86=E6,COUNTIF(O7:O86,E6),\"\")","v":""},{"$f":"IF(O86=F6,COUNTIF(O7:O86,F6),\"\")","v":""},80,null,"",null,null,null,null,null,"",null,null,null,null,0,null,null,null,null,null,null,null,null,null,null,null,null,null,null,null,null,null,null,80]
[{"$f":"IF(O87=A6,COUNTIF(O7:O87,A6),\"\")","v":""},{"$f":"IF(O87=B6,COUNTIF(O7:O87,B6),\"\")","v":""},{"$f":"IF(O87=C6,COUNTIF(O7:O87,C6),\"\")","v":""},{"$f":"IF(O87=D6,COUNTIF(O7:O87,D6),\"\")","v":""},{"$f":"IF(O87=E6,COUNTIF(O7:O87,E6),\"\")","v":""},{"$f":"IF(O87=F6,COUNTIF(O7:O87,F6),\"\")","v":""},81,null,"",null,null,null,null,null,"",null,null,null,null,0,null,null,null,null,null,null,null,null,null,null,null,null,null,null,null,null,null,null,81]
[{"$f":"IF(O88=A6,COUNTIF(O7:O88,A6),\"\")","v":""},{"$f":"IF(O88=B6,COUNTIF(O7:O88,B6),\"\")","v":""},{"$f":"IF(O88=C6,COUNTIF(O7:O88,C6),\"\")","v":""},{"$f":"IF(O88=D6,COUNTIF(O7:O88,D6),\"\")","v":""},{"$f":"IF(O88=E6,COUNTIF(O7:O88,E6),\"\")","v":""},{"$f":"IF(O88=F6,COUNTIF(O7:O88,F6),\"\")","v":""},82,null,"",null,null,null,null,null,"",null,null,null,null,0,null,null,null,null,null,null,null,null,null,null,null,null,null,null,null,null,null,null,82]
[{"$f":"IF(O89=A6,COUNTIF(O7:O89,A6),\"\")","v":""},{"$f":"IF(O89=B6,COUNTIF(O7:O89,B6),\"\")","v":""},{"$f":"IF(O89=C6,COUNTIF(O7:O89,C6),\"\")","v":""},{"$f":"IF(O89=D6,COUNTIF(O7:O89,D6),\"\")","v":""},{"$f":"IF(O89=E6,COUNTIF(O7:O89,E6),\"\")","v":""},{"$f":"IF(O89=F6,COUNTIF(O7:O89,F6),\"\")","v":""},83,null,"",null,null,null,null,null,"",null,null,null,null,0,null,null,null,null,null,null,null,null,null,null,null,null,null,null,null,null,null,null,83]
[{"$f":"IF(O90=A6,COUNTIF(O7:O90,A6),\"\")","v":""},{"$f":"IF(O90=B6,COUNTIF(O7:O90,B6),\"\")","v":""},{"$f":"IF(O90=C6,COUNTIF(O7:O90,C6),\"\")","v":""},{"$f":"IF(O90=D6,COUNTIF(O7:O90,D6),\"\")","v":""},{"$f":"IF(O90=E6,COUNTIF(O7:O90,E6),\"\")","v":""},{"$f":"IF(O90=F6,COUNTIF(O7:O90,F6),\"\")","v":""},84,null,"",null,null,null,null,null,"",null,null,null,null,0,null,null,null,null,null,null,null,null,null,null,null,null,null,null,null,null,null,null,84]
[{"$f":"IF(O91=A6,COUNTIF(O7:O91,A6),\"\")","v":""},{"$f":"IF(O91=B6,COUNTIF(O7:O91,B6),\"\")","v":""},{"$f":"IF(O91=C6,COUNTIF(O7:O91,C6),\"\")","v":""},{"$f":"IF(O91=D6,COUNTIF(O7:O91,D6),\"\")","v":""},{"$f":"IF(O91=E6,COUNTIF(O7:O91,E6),\"\")","v":""},{"$f":"IF(O91=F6,COUNTIF(O7:O91,F6),\"\")","v":""},85,null,"",null,null,null,null,null,"",null,null,null,null,0,null,null,null,null,null,null,null,null,null,null,null,null,null,null,null,null,null,null,85]
[{"$f":"IF(O92=A6,COUNTIF(O7:O92,A6),\"\")","v":""},{"$f":"IF(O92=B6,COUNTIF(O7:O92,B6),\"\")","v":""},{"$f":"IF(O92=C6,COUNTIF(O7:O92,C6),\"\")","v":""},{"$f":"IF(O92=D6,COUNTIF(O7:O92,D6),\"\")","v":""},{"$f":"IF(O92=E6,COUNTIF(O7:O92,E6),\"\")","v":""},{"$f":"IF(O92=F6,COUNTIF(O7:O92,F6),\"\")","v":""},86,null,"",null,null,null,null,null,"",null,null,null,null,0,null,null,null,null,null,null,null,null,null,null,null,null,null,null,null,null,null,null,86]
[{"$f":"IF(O93=A6,COUNTIF(O7:O93,A6),\"\")","v":""},{"$f":"IF(O93=B6,COUNTIF(O7:O93,B6),\"\")","v":""},{"$f":"IF(O93=C6,COUNTIF(O7:O93,C6),\"\")","v":""},{"$f":"IF(O93=D6,COUNTIF(O7:O93,D6),\"\")","v":""},{"$f":"IF(O93=E6,COUNTIF(O7:O93,E6),\"\")","v":""},{"$f":"IF(O93=F6,COUNTIF(O7:O93,F6),\"\")","v":""},87,null,"",null,null,null,null,null,"",null,null,null,null,0,null,null,null,null,null,null,null,null,null,null,null,null,null,null,null,null,null,null,87]
[{"$f":"IF(O94=A6,COUNTIF(O7:O94,A6),\"\")","v":""},{"$f":"IF(O94=B6,COUNTIF(O7:O94,B6),\"\")","v":""},{"$f":"IF(O94=C6,COUNTIF(O7:O94,C6),\"\")","v":""},{"$f":"IF(O94=D6,COUNTIF(O7:O94,D6),\"\")","v":""},{"$f":"IF(O94=E6,COUNTIF(O7:O94,E6),\"\")","v":""},{"$f":"IF(O94=F6,COUNTIF(O7:O94,F6),\"\")","v":""},88,null,"",null,null,null,null,null,"",null,null,null,null,0,null,null,null,null,null,null,null,null,null,null,null,null,null,null,null,null,null,null,88]
[{"$f":"IF(O95=A6,COUNTIF(O7:O95,A6),\"\")","v":""},{"$f":"IF(O95=B6,COUNTIF(O7:O95,B6),\"\")","v":""},{"$f":"IF(O95=C6,COUNTIF(O7:O95,C6),\"\")","v":""},{"$f":"IF(O95=D6,COUNTIF(O7:O95,D6),\"\")","v":""},{"$f":"IF(O95=E6,COUNTIF(O7:O95,E6),\"\")","v":""},{"$f":"IF(O95=F6,COUNTIF(O7:O95,F6),\"\")","v":""},89,null,"",null,null,null,null,null,"",null,null,null,null,0,null,null,null,null,null,null,null,null,null,null,null,null,null,null,null,null,null,null,89]
[{"$f":"IF(O96=A6,COUNTIF(O7:O96,A6),\"\")","v":""},{"$f":"IF(O96=B6,COUNTIF(O7:O96,B6),\"\")","v":""},{"$f":"IF(O96=C6,COUNTIF(O7:O96,C6),\"\")","v":""},{"$f":"IF(O96=D6,COUNTIF(O7:O96,D6),\"\")","v":""},{"$f":"IF(O96=E6,COUNTIF(O7:O96,E6),\"\")","v":""},{"$f":"IF(O96=F6,COUNTIF(O7:O96,F6),\"\")","v":""},90,null,"",null,null,null,null,null,"",null,null,null,null,0,null,null,null,null,null,null,null,null,null,null,null,null,null,null,null,null,null,null,90]
[{"$f":"IF(O97=A6,COUNTIF(O7:O97,A6),\"\")","v":""},{"$f":"IF(O97=B6,COUNTIF(O7:O97,B6),\"\")","v":""},{"$f":"IF(O97=C6,COUNTIF(O7:O97,C6),\"\")","v":""},{"$f":"IF(O97=D6,COUNTIF(O7:O97,D6),\"\")","v":""},{"$f":"IF(O97=E6,COUNTIF(O7:O97,E6),\"\")","v":""},{"$f":"IF(O97=F6,COUNTIF(O7:O97,F6),\"\")","v":""},91,null,"",null,null,null,null,null,"",null,null,null,null,0,null,null,null,null,null,null,null,null,null,null,null,null,null,null,null,null,null,null,91]
[{"$f":"IF(O98=A6,COUNTIF(O7:O98,A6),\"\")","v":""},{"$f":"IF(O98=B6,COUNTIF(O7:O98,B6),\"\")","v":""},{"$f":"IF(O98=C6,COUNTIF(O7:O98,C6),\"\")","v":""},{"$f":"IF(O98=D6,COUNTIF(O7:O98,D6),\"\")","v":""},{"$f":"IF(O98=E6,COUNTIF(O7:O98,E6),\"\")","v":""},{"$f":"IF(O98=F6,COUNTIF(O7:O98,F6),\"\")","v":""},92,null,"",null,null,null,null,null,"",null,null,null,null,0,null,null,null,null,null,null,null,null,null,null,null,null,null,null,null,null,null,null,92]
[{"$f":"IF(O99=A6,COUNTIF(O7:O99,A6),\"\")","v":""},{"$f":"IF(O99=B6,COUNTIF(O7:O99,B6),\"\")","v":""},{"$f":"IF(O99=C6,COUNTIF(O7:O99,C6),\"\")","v":""},{"$f":"IF(O99=D6,COUNTIF(O7:O99,D6),\"\")","v":""},{"$f":"IF(O99=E6,COUNTIF(O7:O99,E6),\"\")","v":""},{"$f":"IF(O99=F6,COUNTIF(O7:O99,F6),\"\")","v":""},93,null,"",null,null,null,null,null,"",null,null,null,null,0,null,null,null,null,null,null,null,null,null,null,null,null,null,null,null,null,null,null,93]
[{"$f":"IF(O100=A6,COUNTIF(O7:O100,A6),\"\")","v":""},{"$f":"IF(O100=B6,COUNTIF(O7:O100,B6),\"\")","v":""},{"$f":"IF(O100=C6,COUNTIF(O7:O100,C6),\"\")","v":""},{"$f":"IF(O100=D6,COUNTIF(O7:O100,D6),\"\")","v":""},{"$f":"IF(O100=E6,COUNTIF(O7:O100,E6),\"\")","v":""},{"$f":"IF(O100=F6,COUNTIF(O7:O100,F6),\"\")","v":""},94,null,"",null,null,null,null,null,"",null,null,null,null,0,null,null,null,null,null,null,null,null,null,null,null,null,null,null,null,null,null,null,94]
[{"$f":"IF(O101=A6,COUNTIF(O7:O101,A6),\"\")","v":""},{"$f":"IF(O101=B6,COUNTIF(O7:O101,B6),\"\")","v":""},{"$f":"IF(O101=C6,COUNTIF(O7:O101,C6),\"\")","v":""},{"$f":"IF(O101=D6,COUNTIF(O7:O101,D6),\"\")","v":""},{"$f":"IF(O101=E6,COUNTIF(O7:O101,E6),\"\")","v":""},{"$f":"IF(O101=F6,COUNTIF(O7:O101,F6),\"\")","v":""},95,null,"",null,null,null,null,null,"",null,null,null,null,0,null,null,null,null,null,null,null,null,null,null,null,null,null,null,null,null,null,null,95]
[{"$f":"IF(O102=A6,COUNTIF(O7:O102,A6),\"\")","v":""},{"$f":"IF(O102=B6,COUNTIF(O7:O102,B6),\"\")","v":""},{"$f":"IF(O102=C6,COUNTIF(O7:O102,C6),\"\")","v":""},{"$f":"IF(O102=D6,COUNTIF(O7:O102,D6),\"\")","v":""},{"$f":"IF(O102=E6,COUNTIF(O7:O102,E6),\"\")","v":""},{"$f":"IF(O102=F6,COUNTIF(O7:O102,F6),\"\")","v":""},96,null,"",null,null,null,null,null,"",null,null,null,null,0,null,null,null,null,null,null,null,null,null,null,null,null,null,null,null,null,null,null,96]
[{"$f":"IF(O103=A6,COUNTIF(O7:O103,A6),\"\")","v":""},{"$f":"IF(O103=B6,COUNTIF(O7:O103,B6),\"\")","v":""},{"$f":"IF(O103=C6,COUNTIF(O7:O103,C6),\"\")","v":""},{"$f":"IF(O103=D6,COUNTIF(O7:O103,D6),\"\")","v":""},{"$f":"IF(O103=E6,COUNTIF(O7:O103,E6),\"\")","v":""},{"$f":"IF(O103=F6,COUNTIF(O7:O103,F6),\"\")","v":""},97,null,"",null,null,null,null,null,"",null,null,null,null,0,null,null,null,null,null,null,null,null,null,null,null,null,null,null,null,null,null,null,97]
[{"$f":"IF(O104=A6,COUNTIF(O7:O104,A6),\"\")","v":""},{"$f":"IF(O104=B6,COUNTIF(O7:O104,B6),\"\")","v":""},{"$f":"IF(O104=C6,COUNTIF(O7:O104,C6),\"\")","v":""},{"$f":"IF(O104=D6,COUNTIF(O7:O104,D6),\"\")","v":""},{"$f":"IF(O104=E6,COUNTIF(O7:O104,E6),\"\")","v":""},{"$f":"IF(O104=F6,COUNTIF(O7:O104,F6),\"\")","v":""},98,null,"",null,null,null,null,null,"",null,null,null,null,0,null,null,null,null,null,null,null,null,null,null,null,null,null,null,null,null,null,null,98]
[{"$f":"IF(O105=A6,COUNTIF(O7:O105,A6),\"\")","v":""},{"$f":"IF(O105=B6,COUNTIF(O7:O105,B6),\"\")","v":""},{"$f":"IF(O105=C6,COUNTIF(O7:O105,C6),\"\")","v":""},{"$f":"IF(O105=D6,COUNTIF(O7:O105,D6),\"\")","v":""},{"$f":"IF(O105=E6,COUNTIF(O7:O105,E6),\"\")","v":""},{"$f":"IF(O105=F6,COUNTIF(O7:O105,F6),\"\")","v":""},99,null,"",null,null,null,null,null,"",null,null,null,null,0,null,null,null,null,null,null,null,null,null,null,null,null,null,null,null,null,null,null,99]
[{"$f":"IF(O106=A6,COUNTIF(O7:O106,A6),\"\")","v":""},{"$f":"IF(O106=B6,COUNTIF(O7:O106,B6),\"\")","v":""},{"$f":"IF(O106=C6,COUNTIF(O7:O106,C6),\"\")","v":""},{"$f":"IF(O106=D6,COUNTIF(O7:O106,D6),\"\")","v":""},{"$f":"IF(O106=E6,COUNTIF(O7:O106,E6),\"\")","v":""},{"$f":"IF(O106=F6,COUNTIF(O7:O106,F6),\"\")","v":""},100,null,"",null,null,null,null,null,"",null,null,null,null,0,null,null,null,null,null,null,null,null,null,null,null,null,null,null,null,null,null,null,100]
[null,null,null,null,null,null,{"$f":"CONCATENATE($G$5,\" \",\"Individual Medal Winners\")","v":"Intermediate Girls Individual Medal Winners"},null,null,null,null,null,null,null,null,null,null,null,null,"f"]
[null,null,null,null,null,null,"Pos","Num","Name",null,null,null,null,null,"County",null,null,null,"Time"]
[null,null,null,null,null,null,1,{"$f":"IF(H7=0,\"\",H7)","v":33},"Olivia Mason","","","","","","Cumbria",null,null,null,{"$f":"IF(S7=0,\"\",S7)","v":15.52},{"$f":"IF(H109=\"\",0,1)","v":1}]
[null,null,null,null,null,null,2,21,"Rosie Woodhams","","","","","","Cumbria",null,null,null,{"$f":"IF(S8=0,\"\",S8)","v":16},{"$f":"IF(H110=\"\",0,1)","v":1}]
[null,null,null,null,null,null,3,22,"Chloe Rylance","","","","","","Cumbria",null,null,null,{"$f":"IF(S9=0,\"\",S9)","v":16.09},{"$f":"IF(H111=\"\",0,1)","v":1}]
[null,null,null,null,null,null,null,null,null,null,null,null,null,null,null,null,null,null,null,"g"]
[null,null,null,null,null,null,{"$f":"CONCATENATE($G$5,\" \",\"Team Results\")","v":"Intermediate Girls Team Results"},null,null,null,null,null,null,null,null,null,null,null,null,"h",null,null,null,null,{"$f":"G113","v":"Intermediate Girls Team Results"}]
[null,null,null,null,null,null,null,"Team Name",null,null,null,null,"1st","2nd","3rd","4th","5th","6th","Points","i",null,null,{"$f":"P5","v":0},null,null,1,2,3,4,5,6,"Pts"]
[null,null,null,null,null,null,1,{"$f":"IFERROR(VLOOKUP(G115,$X$115:$AF$119,2,0),\"\")","v":"Cumbria"},null,null,null,null,{"$f":"IFERROR(VLOOKUP(G115,$X$115:$AF$119,3,0),\"\")","v":1},{"$f":"IFERROR(VLOOKUP(G115,$X$115:$AF$119,4,0),\"\")","v":2},{"$f":"IFERROR(VLOOKUP(G115,$X$115:$AF$119,5,0),\"\")","v":3},{"$f":"IFERROR(VLOOKUP(G115,$X$115:$AF$119,6,0),\"\")","v":8},{"$f":"IFERROR(VLOOKUP(G115,$X$115:$AF$119,7,0),\"\")","v":12},{"$f":"IFERROR(VLOOKUP(G115,$X$115:$AF$119,8,0),\"\")","v":18},{"$f":"SUM(M115:R115)","v":44},{"$f":"IF(H115=\"\",0,1)","v":1},null,null,7,{"$f":"IF(OR(AJ115=\"\",AJ115=0),0,RANK(AJ115,AJ115:AJ120,1))","v":5},{"$f":"Home!F4","v":"Cleveland"},{"$f":"IFERROR(VLOOKUP(Z114,$A$7:$G$106,W115,0),0)","v":39},{"$f":"IFERROR(VLOOKUP(AA114,A$7:G$106,W115,0),0)","v":43},{"$f":"IFERROR(VLOOKUP(AB114,A$7:G$106,W115,0),0)","v":45},{"$f":"IF(W114=3,0,IFERROR(VLOOKUP(AC114,A$7:G$106,W115,0),0))","v":46},{"$f":"IF(W114=4,0,IFERROR(VLOOKUP(AD114,A$7:G$106,W115,0),0))","v":51},{"$f":"IF(OR(W114=4,W114=5),0,IFERROR(VLOOKUP(AE114,A$7:G$106,W115,0),0))","v":58},{"$f":"IF(AE115=0,0,SUM(Z115:AE115))","v":282},{"$f":"IF(OR(AF115=0,AF115=\"\"),0,RANK(AF115,AF115:AF120,1))","v":6},{"$f":"IF(OR(AG115=0,AG115=\"\"),\"\",IF(OR(AG115=AG116,AG115=AG117,AG115=AG118,AG115=AG119,AG115=AG120),\"=\",\"\"))","v":""},{"$f":"IF(AH115=\"=\",COUNTIF(AH115:AH115,\"<>A\")-COUNTIF(AH115:AH115,\"\"),0)","v":0},{"$f":"IF(AND(AG115=0,AI115=0),\"\",AG115+(AI115/10)+AL115/10)","v":6.6},{"$f":"X115","v":5},{"$f":"IF(OR(AF115=0,AF115=\"\"),0,RANK(Z115,Z115:Z120,1))","v":6}]
[null,null,null,null,null,null,2,{"$f":"IFERROR(VLOOKUP(G116,$X$115:$AF$119,2,0),\"\")","v":"Durham"},null,null,null,null,{"$f":"IFERROR(VLOOKUP(G116,$X$115:$AF$119,3,0),\"\")","v":4},{"$f":"IFERROR(VLOOKUP(G116,$X$115:$AF$119,4,0),\"\")","v":5},{"$f":"IFERROR(VLOOKUP(G116,$X$115:$AF$119,5,0),\"\")","v":7},{"$f":"IFERROR(VLOOKUP(G116,$X$115:$AF$119,6,0),\"\")","v":10},{"$f":"IFERROR(VLOOKUP(G116,$X$115:$AF$119,7,0),\"\")","v":16},{"$f":"IFERROR(VLOOKUP(G116,$X$115:$AF$119,8,0),\"\")","v":17},{"$f":"SUM(M116:R116)","v":59},1,null,null,6,{"$f":"IF(OR(AJ116=\"\",AJ116=0),0,RANK(AJ116,AJ115:AJ120,1))","v":1},{"$f":"Home!F5","v":"Cumbria"},{"$f":"IFERROR(VLOOKUP(Z114,$B$7:$G$106,W116,0),0)","v":1},{"$f":"IFERROR(VLOOKUP(AA114,B$7:G$106,W116,0),0)","v":2},{"$f":"IFERROR(VLOOKUP(AB114,B$7:G$106,W116,0),0)","v":3},{"$f":"IF(W114=3,0,IFERROR(VLOOKUP(AC114,B$7:G$106,W116,0),0))","v":8},{"$f":"IF(W114=4,0,IFERROR(VLOOKUP(AD114,B$7:G$106,W116,0),0))","v":12},{"$f":"IF(OR(W114=4,W114=5),0,IFERROR(VLOOKUP(AE114,B$7:G$106,W116,0),0))","v":18},{"$f":"IF(AE116=0,0,SUM(Z116:AE116))","v":44},{"$f":"IF(OR(AF116=0,AF116=\"\"),0,RANK(AF116,AF115:AF120,1))","v":2},{"$f":"IF(OR(AG116=0,AG116=\"\"),\"\",IF(OR(AG116=AG117,AG116=AG118,AG116=AG119,AG116=AG120,AG116=AG115),\"=\",\"\"))","v":""},{"$f":"IF(AH116=\"=\",COUNTIF(AH115:AH116,\"<>A\")-COUNTIF(AH115:AH116,\"\"),0)","v":0},{"$f":"IF(AND(AG116=0,AI116=0),\"\",AG116+(AI116/10)+AL116/10)","v":2.2000000000000002},{"$f":"X116","v":1},{"$f":"IF(OR(AF116=0,AF116=\"\"),0,RANK(Z116,Z115:Z120,1))","v":2}]
[null,null,null,null,null,null,3,"North Yorkshire",null,null,null,null,9,11,13,14,15,23,85,1,null,null,5,{"$f":"IF(OR(AJ117=\"\",AJ117=0),0,RANK(AJ117,AJ115:AJ120,1))","v":2},{"$f":"Home!F6","v":"Durham"},{"$f":"IFERROR(VLOOKUP(Z114,$C$7:$G$106,W117,0),0)","v":4},{"$f":"IFERROR(VLOOKUP(AA114,C$7:G$106,W117,0),0)","v":5},{"$f":"IFERROR(VLOOKUP(AB114,C$7:G$106,W117,0),0)","v":7},{"$f":"IF(W114=3,0,IFERROR(VLOOKUP(AC114,C$7:G$106,W117,0),0))","v":10},{"$f":"IF(W114=4,0,IFERROR(VLOOKUP(AD114,C$7:G$106,W117,0),0))","v":16},{"$f":"IF(OR(W114=4,W114=5),0,IFERROR(VLOOKUP(AE114,C$7:G$106,W117,0),0))","v":17},59,{"$f":"IF(OR(AF117=0,AF117=\"\"),0,RANK(AF117,AF115:AF120,1))","v":3},{"$f":"IF(OR(AG117=0,AG117=\"\"),\"\",IF(OR(AG117=AG118,AG117=AG119,AG117=AG120,AG117=AG115,AG117=AG116),\"=\",\"\"))","v":""},{"$f":"IF(AH117=\"=\",COUNTIF(AH115:AH117,\"<>A\")-COUNTIF(AH115:AH117,\"\"),0)","v":0},3.3,2,{"$f":"IF(OR(AF117=0,AF117=\"\"),0,RANK(Z117,Z115:Z120,1))","v":3}]
[null,null,null,null,null,null,4,"Northumberland",null,null,null,null,6,21,22,24,33,36,142,1,null,null,4,{"$f":"IF(OR(AJ118=\"\",AJ118=0),0,RANK(AJ118,AJ115:AJ120,1))","v":4},{"$f":"Home!F7","v":"Northumberland"},{"$f":"IFERROR(VLOOKUP(Z114,$D$7:$G$106,W118,0),0)","v":6},{"$f":"IFERROR(VLOOKUP(AA114,D$7:G$106,W118,0),0)","v":21},{"$f":"IFERROR(VLOOKUP(AB114,D$7:G$106,W118,0),0)","v":22},{"$f":"IF(W114=3,0,IFERROR(VLOOKUP(AC114,D$7:G$106,W118,0),0))","v":24},{"$f":"IF(W114=4,0,IFERROR(VLOOKUP(AD114,D$7:G$106,W118,0),0))","v":33},{"$f":"IF(OR(W114=4,W114=5),0,IFERROR(VLOOKUP(AE114,D$7:G$106,W118,0),0))","v":36},142,{"$f":"IF(OR(AF118=0,AF118=\"\"),0,RANK(AF118,AF115:AF120,1))","v":5},{"$f":"IF(OR(AG118=0,AG118=\"\"),\"\",IF(OR(AG118=AG119,AG118=AG120,AG118=AG115,AG118=AG116,AG118=AG117),\"=\",\"\"))","v":""},{"$f":"IF(AH118=\"=\",COUNTIF(AH115:AH118,\"<>A\")-COUNTIF(AH115:AH118,\"\"),0)","v":0},5.4,4,{"$f":"IF(OR(AF118=0,AF118=\"\"),0,RANK(Z118,Z115:Z120,1))","v":4}]
[null,null,null,null,null,null,5,"Cleveland",null,null,null,null,39,43,45,46,51,58,282,1,null,null,3,{"$f":"IF(OR(AJ119=\"\",AJ119=0),0,RANK(AJ119,AJ115:AJ120,1))","v":3},{"$f":"Home!F8","v":"North Yorkshire"},{"$f":"IFERROR(VLOOKUP(Z114,$E$7:$G$106,W119,0),0)","v":9},{"$f":"IFERROR(VLOOKUP(AA114,E$7:G$106,W119,0),0)","v":11},{"$f":"IFERROR(VLOOKUP(AB114,E$7:G$106,W119,0),0)","v":13},{"$f":"IF(W114=3,0,IFERROR(VLOOKUP(AC114,E$7:G$106,W119,0),0))","v":14},{"$f":"IF(W114=4,0,IFERROR(VLOOKUP(AD114,E$7:G$106,W119,0),0))","v":15},{"$f":"IF(OR(W114=4,W114=5),0,IFERROR(VLOOKUP(AE114,E$7:G$106,W119,0),0))","v":23},85,{"$f":"IF(OR(AF119=0,AF119=\"\"),0,RANK(AF119,AF115:AF120,1))","v":4},{"$f":"IF(OR(AG119=0,AG119=\"\"),\"\",IF(OR(AG119=AG120,AG119=AG115,AG119=AG116,AG119=AG117,AG119=AG118),\"=\",\"\"))","v":""},{"$f":"IF(AH119=\"=\",COUNTIF(AH115:AH119,\"<>A\")-COUNTIF(AH115:AH119,\"\"),0)","v":0},4.5,3,{"$f":"IF(OR(AF119=0,AF119=\"\"),0,RANK(Z119,Z115:Z120,1))","v":5}]
[null,null,null,null,null,null,null,null,null,null,null,null,null,null,null,null,null,null,null,null,null,null,2,{"$f":"IF(OR(AJ120=\"\",AJ120=0),0,RANK(AJ120,AJ115:AJ120,1))","v":0},{"$f":"Home!F9","v":0},{"$f":"IFERROR(VLOOKUP(Z114,F7:G106,W120,0),0)","v":0},{"$f":"IFERROR(VLOOKUP(AA114,F7:G106,W120,0),0)","v":0},{"$f":"IFERROR(VLOOKUP(AB114,F7:G106,W120,0),0)","v":0},{"$f":"IF(W114=3,0,IFERROR(VLOOKUP(AC114,F7:G106,W120,0),0))","v":0},{"$f":"IF(W114=4,0,IFERROR(VLOOKUP(AD114,F7:G106,W120,0),0))","v":0},{"$f":"IF(OR(W114=4,W114=5),0,IFERROR(VLOOKUP(AE114,F7:G106,W120,0),0))","v":0},{"$f":"IF(AE120=0,0,SUM(Z120:AE120))","v":0},{"$f":"IF(OR(AF120=0,AF120=\"\"),0,RANK(AF120,AF115:AF120,1))","v":0},{"$f":"IF(OR(AG120=0,AG120=\"\"),\"\",IF(OR(AG120=AG115,AG120=AG116,AG120=AG117,AG120=AG118,AG120=AG119),\"=\",\"\"))","v":""},{"$f":"IF(AH120=\"=\",COUNTIF(AH115:AH120,\"<>A\")-COUNTIF(AH115:AH120,\"\"),0)","v":0},"",0,{"$f":"IF(OR(AF120=0,AF120=\"\"),0,RANK(Z120,Z115:Z120,1))","v":0}]

{"sheet":"Senior_Girls","index":9,"n_rows":120,"n_cols":39,"rows_kept":120,"cut":false,"hidden":false,"merged":[[0,6,0,18],[0,26,0,29],[1,6,1,18],[1,26,1,29],[2,6,2,18],[5,8,5,13],[12,8,12,13],[13,8,13,13],[14,8,14,13],[15,8,15,13],[16,8,16,13],[17,8,17,13],[6,8,6,13],[7,8,7,13],[8,8,8,13],[9,8,9,13],[10,8,10,13],[11,8,11,13],[24,8,24,13],[25,8,25,13],[26,8,26,13],[27,8,27,13],[28,8,28,13],[29,8,29,13],[18,8,18,13],[19,8,19,13],[20,8,20,13],[21,8,21,13],[22,8,22,13],[23,8,23,13],[36,8,36,13],[37,8,37,13],[38,8,38,13],[39,8,39,13],[40,8,40,13],[41,8,41,13],[30,8,30,13],[31,8,31,13],[32,8,32,13],[33,8,33,13],[34,8,34,13],[35,8,35,13],[48,8,48,13],[49,8,49,13],[50,8,50,13],[51,8,51,13],[52,8,52,13],[53,8,53,13],[42,8,42,13],[43,8,43,13],[44,8,44,13],[45,8,45,13],[46,8,46,13],[47,8,47,13],[60,8,60,13],[61,8,61,13],[62,8,62,13],[63,8,63,13],[64,8,64,13],[65,8,65,13],[54,8,54,13],[55,8,55,13],[56,8,56,13],[57,8,57,13],[58,8,58,13],[59,8,59,13],[72,8,72,13],[73,8,73,13],[74,8,74,13],[75,8,75,13],[76,8,76,13],[77,8,77,13],[66,8,66,13],[67,8,67,13],[68,8,68,13],[69,8,69,13],[70,8,70,13],[71,8,71,13],[84,8,84,13],[85,8,85,13],[86,8,86,13],[87,8,87,13],[88,8,88,13],[89,8,89,13],[78,8,78,13],[79,8,79,13],[80,8,80,13],[81,8,81,13],[82,8,82,13],[83,8,83,13],[96,8,96,13],[97,8,97,13],[98,8,98,13],[99,8,99,13],[100,8,100,13],[101,8,101,13],[90,8,90,13],[91,8,91,13],[92,8,92,13],[93,8,93,13],[94,8,94,13],[95,8,95,13],[108,8,108,13],[109,8,109,13],[110,8,110,13],[112,6,112,18],[102,8,102,13],[103,8,103,13],[104,8,104,13],[105,8,105,13],[106,6,106,18],[107,8,107,13]]}
[null,null,null,null,null,null,{"$f":"Home!$B$1","v":"Northern Schools' Inter-County Cross Country Championships"},null,null,null,null,null,null,null,null,null,null,null,null,"a",null,{"$f":"CONCATENATE(W1,X1)","v":"Home!$B11"},"Home!$B",{"$f":"IF(Y1=\"Minor_Boys\",4,IF(Y1=\"Junior_Boys\",6,IF(Y1=\"Intermediate_Boys\",8,IF(Y1=\"Senior_Boys\",10,IF(Y1=\"Minor_Girls\",5,IF(Y1=\"Junior_Girls\",7,IF(Y1=\"Intermediate_Girls\",9,IF(Y1=\"Senior_Girls\",11,\"\"))))))))","v":11},{"$f":"MID(CELL(\"Filename\",A1),SEARCH(\"]\",CELL(\"Filename\",A1),1)+1,32)","v":"Senior_Girls"},null,{"$f":"Y1","v":"Senior_Girls"},null,null,null,{"$f":"CONCATENATE(Y1,\" \",Z1)","v":"Senior_Girls "}]
[null,null,null,null,null,null,{"$f":"Home!$B$2","v":"Barnard Castle School"},null,null,null,null,null,null,null,null,null,null,null,null,"b",null,{"$f":"CONCATENATE(W2,X2)","v":"Home!$D11"},"Home!$D",{"$f":"X1","v":11}]
[null,null,null,null,null,null,{"$f":"Home!$G$3","v":"Saturday 3rd February 2018"},null,null,null,null,null,null,null,null,null,null,null,null,"c"]
[null,null,null,null,null,null,null,null,null,null,null,null,null,null,null,null,null,null,null,"c"]
[null,null,null,null,null,null,{"$f":"INDIRECT(V1)","v":"Senior Girls"},null,null,null,null,null,null,{"$f":"CONCATENATE(\"Team Results\",\" \",INDIRECT(V2),\" \",\"to Score\")","v":"Team Results 6 to Score"},null,null,null,null,null,"d"]
[{"$f":"Home!F4","v":"Cleveland"},{"$f":"Home!F5","v":"Cumbria"},{"$f":"Home!F6","v":"Durham"},{"$f":"Home!F7","v":"Northumberland"},{"$f":"Home!F8","v":"North Yorkshire"},{"$f":"Home!F9","v":0},"Pos","Num","Name",null,null,null,null,null,"County",null,null,null,"Time","e"]
[{"$f":"IF(O7=A6,COUNTIF(O7:O7,A6),\"\")","v":""},{"$f":"IF(O7=B6,COUNTIF(O7:O7,B6),\"\")","v":1},{"$f":"IF(O7=C6,COUNTIF(O7:O7,C6),\"\")","v":""},{"$f":"IF(O7=D6,COUNTIF(O7:O7,D6),\"\")","v":""},{"$f":"IF(O7=E6,COUNTIF(O7:O7,E6),\"\")","v":""},{"$f":"IF(O7=F6,COUNTIF(O7:O7,F6),\"\")","v":""},{"$f":"IF(LEFT(S7,1)=\"D\",0,AM7)","v":1},36,{"$f":"IFERROR(VLOOKUP(H7,INDIRECT($AA$1),2,0),\"\")","v":"Imogen Burrow"},null,null,null,null,null,{"$f":"IFERROR(VLOOKUP(H7,INDIRECT($AA$1),3,0),\"\")","v":"Cumbria"},null,null,null,16.100000000000001,{"$f":"IF(H7=0,0,1)","v":1},null,null,null,null,null,null,null,null,null,null,null,null,null,null,null,null,null,null,1]
[{"$f":"IF(O8=A6,COUNTIF(O7:O8,A6),\"\")","v":1},{"$f":"IF(O8=B6,COUNTIF(O7:O8,B6),\"\")","v":""},{"$f":"IF(O8=C6,COUNTIF(O7:O8,C6),\"\")","v":""},{"$f":"IF(O8=D6,COUNTIF(O7:O8,D6),\"\")","v":""},{"$f":"IF(O8=E6,COUNTIF(O7:O8,E6),\"\")","v":""},{"$f":"IF(O8=F6,COUNTIF(O7:O8,F6),\"\")","v":""},2,1,"Eli Barnbrook",null,null,null,null,null,"Cleveland",null,null,null,16.2,1,null,null,null,null,null,null,null,null,null,null,null,null,null,null,null,null,null,null,2]
[{"$f":"IF(O9=A6,COUNTIF(O7:O9,A6),\"\")","v":""},{"$f":"IF(O9=B6,COUNTIF(O7:O9,B6),\"\")","v":""},{"$f":"IF(O9=C6,COUNTIF(O7:O9,C6),\"\")","v":""},{"$f":"IF(O9=D6,COUNTIF(O7:O9,D6),\"\")","v":1},{"$f":"IF(O9=E6,COUNTIF(O7:O9,E6),\"\")","v":""},{"$f":"IF(O9=F6,COUNTIF(O7:O9,F6),\"\")","v":""},3,76,"Rhian Purves",null,null,null,null,null,"Northumberland",null,null,null,16.25,1,null,null,null,null,null,null,null,null,null,null,null,null,null,null,null,null,null,null,3]
[{"$f":"IF(O10=A6,COUNTIF(O7:O10,A6),\"\")","v":""},{"$f":"IF(O10=B6,COUNTIF(O7:O10,B6),\"\")","v":""},{"$f":"IF(O10=C6,COUNTIF(O7:O10,C6),\"\")","v":""},{"$f":"IF(O10=D6,COUNTIF(O7:O10,D6),\"\")","v":2},{"$f":"IF(O10=E6,COUNTIF(O7:O10,E6),\"\")","v":""},{"$f":"IF(O10=F6,COUNTIF(O7:O10,F6),\"\")","v":""},4,61,"Robyn Bennett",null,null,null,null,null,"Northumberland",null,null,null,16.3,1,null,null,null,null,null,null,null,null,null,null,null,null,null,null,null,null,null,null,4]
[{"$f":"IF(O11=A6,COUNTIF(O7:O11,A6),\"\")","v":""},{"$f":"IF(O11=B6,COUNTIF(O7:O11,B6),\"\")","v":2},{"$f":"IF(O11=C6,COUNTIF(O7:O11,C6),\"\")","v":""},{"$f":"IF(O11=D6,COUNTIF(O7:O11,D6),\"\")","v":""},{"$f":"IF(O11=E6,COUNTIF(O7:O11,E6),\"\")","v":""},{"$f":"IF(O11=F6,COUNTIF(O7:O11,F6),\"\")","v":""},5,23,"Eve Pannone",null,null,null,null,null,"Cumbria",null,null,null,16.5,1,null,null,null,null,null,null,null,null,null,null,null,null,null,null,null,null,null,null,5]
[{"$f":"IF(O12=A6,COUNTIF(O7:O12,A6),\"\")","v":""},{"$f":"IF(O12=B6,COUNTIF(O7:O12,B6),\"\")","v":""},{"$f":"IF(O12=C6,COUNTIF(O7:O12,C6),\"\")","v":""},{"$f":"IF(O12=D6,COUNTIF(O7:O12,D6),\"\")","v":3},{"$f":"IF(O12=E6,COUNTIF(O7:O12,E6),\"\")","v":""},{"$f":"IF(O12=F6,COUNTIF(O7:O12,F6),\"\")","v":""},6,63,"Erin Prior",null,null,null,null,null,"Northumberland",null,null,null,16.53,1,null,null,null,null,null,null,null,null,null,null,null,null,null,null,null,null,null,null,6]
[{"$f":"IF(O13=A6,COUNTIF(O7:O13,A6),\"\")","v":""},{"$f":"IF(O13=B6,COUNTIF(O7:O13,B6),\"\")","v":""},{"$f":"IF(O13=C6,COUNTIF(O7:O13,C6),\"\")","v":""},{"$f":"IF(O13=D6,COUNTIF(O7:O13,D6),\"\")","v":4},{"$f":"IF(O13=E6,COUNTIF(O7:O13,E6),\"\")","v":""},{"$f":"IF(O13=F6,COUNTIF(O7:O13,F6),\"\")","v":""},7,65,"Isobel Robinson",null,null,null,null,null,"Northumberland",null,null,null,16.55,1,null,null,null,null,null,null,null,null,null,null,null,null,null,null,null,null,null,null,7]
[{"$f":"IF(O14=A6,COUNTIF(O7:O14,A6),\"\")","v":""},{"$f":"IF(O14=B6,COUNTIF(O7:O14,B6),\"\")","v":""},{"$f":"IF(O14=C6,COUNTIF(O7:O14,C6),\"\")","v":""},{"$f":"IF(O14=D6,COUNTIF(O7:O14,D6),\"\")","v":5},{"$f":"IF(O14=E6,COUNTIF(O7:O14,E6),\"\")","v":""},{"$f":"IF(O14=F6,COUNTIF(O7:O14,F6),\"\")","v":""},8,64,"Gracie Hufton",null,null,null,null,null,"Northumberland",null,null,null,16.57,1,null,null,null,null,null,null,null,null,null,null,null,null,null,null,null,null,null,null,8]
[{"$f":"IF(O15=A6,COUNTIF(O7:O15,A6),\"\")","v":""},{"$f":"IF(O15=B6,COUNTIF(O7:O15,B6),\"\")","v":3},{"$f":"IF(O15=C6,COUNTIF(O7:O15,C6),\"\")","v":""},{"$f":"IF(O15=D6,COUNTIF(O7:O15,D6),\"\")","v":""},{"$f":"IF(O15=E6,COUNTIF(O7:O15,E6),\"\")","v":""},{"$f":"IF(O15=F6,COUNTIF(O7:O15,F6),\"\")","v":""},9,25,"Georgina Boyd-Moss",null,null,null,null,null,"Cumbria",null,null,null,17,1,null,null,null,null,null,null,null,null,null,null,null,null,null,null,null,null,null,null,9]
[{"$f":"IF(O16=A6,COUNTIF(O7:O16,A6),\"\")","v":""},{"$f":"IF(O16=B6,COUNTIF(O7:O16,B6),\"\")","v":""},{"$f":"IF(O16=C6,COUNTIF(O7:O16,C6),\"\")","v":""},{"$f":"IF(O16=D6,COUNTIF(O7:O16,D6),\"\")","v":6},{"$f":"IF(O16=E6,COUNTIF(O7:O16,E6),\"\")","v":""},{"$f":"IF(O16=F6,COUNTIF(O7:O16,F6),\"\")","v":""},10,66,"Holly Matheson",null,null,null,null,null,"Northumberland",null,null,null,17,1,null,null,null,null,null,null,null,null,null,null,null,null,null,null,null,null,null,null,10]
[{"$f":"IF(O17=A6,COUNTIF(O7:O17,A6),\"\")","v":""},{"$f":"IF(O17=B6,COUNTIF(O7:O17,B6),\"\")","v":""},{"$f":"IF(O17=C6,COUNTIF(O7:O17,C6),\"\")","v":1},{"$f":"IF(O17=D6,COUNTIF(O7:O17,D6),\"\")","v":""},{"$f":"IF(O17=E6,COUNTIF(O7:O17,E6),\"\")","v":""},{"$f":"IF(O17=F6,COUNTIF(O7:O17,F6),\"\")","v":""},11,45,"Hannah Short",null,null,null,null,null,"Durham",null,null,null,17.010000000000002,1,null,null,null,null,null,null,null,null,null,null,null,null,null,null,null,null,null,null,11]
[{"$f":"IF(O18=A6,COUNTIF(O7:O18,A6),\"\")","v":""},{"$f":"IF(O18=B6,COUNTIF(O7:O18,B6),\"\")","v":4},{"$f":"IF(O18=C6,COUNTIF(O7:O18,C6),\"\")","v":""},{"$f":"IF(O18=D6,COUNTIF(O7:O18,D6),\"\")","v":""},{"$f":"IF(O18=E6,COUNTIF(O7:O18,E6),\"\")","v":""},{"$f":"IF(O18=F6,COUNTIF(O7:O18,F6),\"\")","v":""},12,24,"Hannah Durkin",null,null,null,null,null,"Cumbria",null,null,null,17.02,1,null,null,null,null,null,null,null,null,null,null,null,null,null,null,null,null,null,null,12]
[{"$f":"IF(O19=A6,COUNTIF(O7:O19,A6),\"\")","v":""},{"$f":"IF(O19=B6,COUNTIF(O7:O19,B6),\"\")","v":5},{"$f":"IF(O19=C6,COUNTIF(O7:O19,C6),\"\")","v":""},{"$f":"IF(O19=D6,COUNTIF(O7:O19,D6),\"\")","v":""},{"$f":"IF(O19=E6,COUNTIF(O7:O19,E6),\"\")","v":""},{"$f":"IF(O19=F6,COUNTIF(O7:O19,F6),\"\")","v":""},13,34,"Josie Coulthard",null,null,null,null,null,"Cumbria",null,null,null,17.05,1,null,null,null,null,null,null,null,null,null,null,null,null,null,null,null,null,null,null,13]
[{"$f":"IF(O20=A6,COUNTIF(O7:O20,A6),\"\")","v":""},{"$f":"IF(O20=B6,COUNTIF(O7:O20,B6),\"\")","v":""},{"$f":"IF(O20=C6,COUNTIF(O7:O20,C6),\"\")","v":2},{"$f":"IF(O20=D6,COUNTIF(O7:O20,D6),\"\")","v":""},{"$f":"IF(O20=E6,COUNTIF(O7:O20,E6),\"\")","v":""},{"$f":"IF(O20=F6,COUNTIF(O7:O20,F6),\"\")","v":""},14,42,"Sarah Knight",null,null,null,null,null,"Durham",null,null,null,17.07,1,null,null,null,null,null,null,null,null,null,null,null,null,null,null,null,null,null,null,14]
[{"$f":"IF(O21=A6,COUNTIF(O7:O21,A6),\"\")","v":""},{"$f":"IF(O21=B6,COUNTIF(O7:O21,B6),\"\")","v":""},{"$f":"IF(O21=C6,COUNTIF(O7:O21,C6),\"\")","v":""},{"$f":"IF(O21=D6,COUNTIF(O7:O21,D6),\"\")","v":7},{"$f":"IF(O21=E6,COUNTIF(O7:O21,E6),\"\")","v":""},{"$f":"IF(O21=F6,COUNTIF(O7:O21,F6),\"\")","v":""},15,67,"Elisha Tait",null,null,null,null,null,"Northumberland",null,null,null,17.12,1,null,null,null,null,null,null,null,null,null,null,null,null,null,null,null,null,null,null,15]
[{"$f":"IF(O22=A6,COUNTIF(O7:O22,A6),\"\")","v":""},{"$f":"IF(O22=B6,COUNTIF(O7:O22,B6),\"\")","v":""},{"$f":"IF(O22=C6,COUNTIF(O7:O22,C6),\"\")","v":3},{"$f":"IF(O22=D6,COUNTIF(O7:O22,D6),\"\")","v":""},{"$f":"IF(O22=E6,COUNTIF(O7:O22,E6),\"\")","v":""},{"$f":"IF(O22=F6,COUNTIF(O7:O22,F6),\"\")","v":""},16,43,"Evie Quinn",null,null,null,null,null,"Durham",null,null,null,17.170000000000002,1,null,null,null,null,null,null,null,null,null,null,null,null,null,null,null,null,null,null,16]
[{"$f":"IF(O23=A6,COUNTIF(O7:O23,A6),\"\")","v":""},{"$f":"IF(O23=B6,COUNTIF(O7:O23,B6),\"\")","v":""},{"$f":"IF(O23=C6,COUNTIF(O7:O23,C6),\"\")","v":""},{"$f":"IF(O23=D6,COUNTIF(O7:O23,D6),\"\")","v":""},{"$f":"IF(O23=E6,COUNTIF(O7:O23,E6),\"\")","v":1},{"$f":"IF(O23=F6,COUNTIF(O7:O23,F6),\"\")","v":""},17,89,"Tara Schwarze-Chintapatla",null,null,null,null,null,"North Yorkshire",null,null,null,17.37,1,null,null,null,null,null,null,null,null,null,null,null,null,null,null,null,null,null,null,17]
[{"$f":"IF(O24=A6,COUNTIF(O7:O24,A6),\"\")","v":""},{"$f":"IF(O24=B6,COUNTIF(O7:O24,B6),\"\")","v":""},{"$f":"IF(O24=C6,COUNTIF(O7:O24,C6),\"\")","v":""},{"$f":"IF(O24=D6,COUNTIF(O7:O24,D6),\"\")","v":""},{"$f":"IF(O24=E6,COUNTIF(O7:O24,E6),\"\")","v":2},{"$f":"IF(O24=F6,COUNTIF(O7:O24,F6),\"\")","v":""},18,90,"Chloe Dalton",null,null,null,null,null,"North Yorkshire",null,null,null,17.43,1,null,null,null,null,null,null,null,null,null,null,null,null,null,null,null,null,null,null,18]
[{"$f":"IF(O25=A6,COUNTIF(O7:O25,A6),\"\")","v":""},{"$f":"IF(O25=B6,COUNTIF(O7:O25,B6),\"\")","v":""},{"$f":"IF(O25=C6,COUNTIF(O7:O25,C6),\"\")","v":""},{"$f":"IF(O25=D6,COUNTIF(O7:O25,D6),\"\")","v":""},{"$f":"IF(O25=E6,COUNTIF(O7:O25,E6),\"\")","v":3},{"$f":"IF(O25=F6,COUNTIF(O7:O25,F6),\"\")","v":""},19,81,"Maddy Mastrolonardo",null,null,null,null,null,"North Yorkshire",null,null,null,17.489999999999998,1,null,null,null,null,null,null,null,null,null,null,null,null,null,null,null,null,null,null,19]
[{"$f":"IF(O26=A6,COUNTIF(O7:O26,A6),\"\")","v":""},{"$f":"IF(O26=B6,COUNTIF(O7:O26,B6),\"\")","v":""},{"$f":"IF(O26=C6,COUNTIF(O7:O26,C6),\"\")","v":4},{"$f":"IF(O26=D6,COUNTIF(O7:O26,D6),\"\")","v":""},{"$f":"IF(O26=E6,COUNTIF(O7:O26,E6),\"\")","v":""},{"$f":"IF(O26=F6,COUNTIF(O7:O26,F6),\"\")","v":""},20,44,"Stella Jones",null,null,null,null,null,"Durham",null,null,null,17.55,1,null,null,null,null,null,null,null,null,null,null,null,null,null,null,null,null,null,null,20]
[{"$f":"IF(O27=A6,COUNTIF(O7:O27,A6),\"\")","v":""},{"$f":"IF(O27=B6,COUNTIF(O7:O27,B6),\"\")","v":""},{"$f":"IF(O27=C6,COUNTIF(O7:O27,C6),\"\")","v":""},{"$f":"IF(O27=D6,COUNTIF(O7:O27,D6),\"\")","v":""},{"$f":"IF(O27=E6,COUNTIF(O7:O27,E6),\"\")","v":4},{"$f":"IF(O27=F6,COUNTIF(O7:O27,F6),\"\")","v":""},21,82,"Lily Naylor",null,null,null,null,null,"North Yorkshire",null,null,null,17.59,1,null,null,null,null,null,null,null,null,null,null,null,null,null,null,null,null,null,null,21]
[{"$f":"IF(O28=A6,COUNTIF(O7:O28,A6),\"\")","v":""},{"$f":"IF(O28=B6,COUNTIF(O7:O28,B6),\"\")","v":6},{"$f":"IF(O28=C6,COUNTIF(O7:O28,C6),\"\")","v":""},{"$f":"IF(O28=D6,COUNTIF(O7:O28,D6),\"\")","v":""},{"$f":"IF(O28=E6,COUNTIF(O7:O28,E6),\"\")","v":""},{"$f":"IF(O28=F6,COUNTIF(O7:O28,F6),\"\")","v":""},22,27,"Sally Bennett",null,null,null,null,null,"Cumbria",null,null,null,18.010000000000002,1,null,null,null,null,null,null,null,null,null,null,null,null,null,null,null,null,null,null,22]
[{"$f":"IF(O29=A6,COUNTIF(O7:O29,A6),\"\")","v":""},{"$f":"IF(O29=B6,COUNTIF(O7:O29,B6),\"\")","v":""},{"$f":"IF(O29=C6,COUNTIF(O7:O29,C6),\"\")","v":5},{"$f":"IF(O29=D6,COUNTIF(O7:O29,D6),\"\")","v":""},{"$f":"IF(O29=E6,COUNTIF(O7:O29,E6),\"\")","v":""},{"$f":"IF(O29=F6,COUNTIF(O7:O29,F6),\"\")","v":""},23,48,"Laura Kirkham",null,null,null,null,null,"Durham",null,null,null,18.04,1,null,null,null,null,null,null,null,null,null,null,null,null,null,null,null,null,null,null,23]
[{"$f":"IF(O30=A6,COUNTIF(O7:O30,A6),\"\")","v":""},{"$f":"IF(O30=B6,COUNTIF(O7:O30,B6),\"\")","v":""},{"$f":"IF(O30=C6,COUNTIF(O7:O30,C6),\"\")","v":6},{"$f":"IF(O30=D6,COUNTIF(O7:O30,D6),\"\")","v":""},{"$f":"IF(O30=E6,COUNTIF(O7:O30,E6),\"\")","v":""},{"$f":"IF(O30=F6,COUNTIF(O7:O30,F6),\"\")","v":""},24,50,"Lisa Thornley",null,null,null,null,null,"Durham",null,null,null,18.079999999999998,1,null,null,null,null,null,null,null,null,null,null,null,null,null,null,null,null,null,null,24]
[{"$f":"IF(O31=A6,COUNTIF(O7:O31,A6),\"\")","v":""},{"$f":"IF(O31=B6,COUNTIF(O7:O31,B6),\"\")","v":""},{"$f":"IF(O31=C6,COUNTIF(O7:O31,C6),\"\")","v":""},{"$f":"IF(O31=D6,COUNTIF(O7:O31,D6),\"\")","v":""},{"$f":"IF(O31=E6,COUNTIF(O7:O31,E6),\"\")","v":5},{"$f":"IF(O31=F6,COUNTIF(O7:O31,F6),\"\")","v":""},25,86,"Eve Hutchinson",null,null,null,null,null,"North Yorkshire",null,null,null,18.09,1,null,null,null,null,null,null,null,null,null,null,null,null,null,null,null,null,null,null,25]
[{"$f":"IF(O32=A6,COUNTIF(O7:O32,A6),\"\")","v":""},{"$f":"IF(O32=B6,COUNTIF(O7:O32,B6),\"\")","v":7},{"$f":"IF(O32=C6,COUNTIF(O7:O32,C6),\"\")","v":""},{"$f":"IF(O32=D6,COUNTIF(O7:O32,D6),\"\")","v":""},{"$f":"IF(O32=E6,COUNTIF(O7:O32,E6),\"\")","v":""},{"$f":"IF(O32=F6,COUNTIF(O7:O32,F6),\"\")","v":""},26,24,"Hannah Durkin",null,null,null,null,null,"Cumbria",null,null,null,18.12,1,null,null,null,null,null,null,null,null,null,null,null,null,null,null,null,null,null,null,26]
[{"$f":"IF(O33=A6,COUNTIF(O7:O33,A6),\"\")","v":2},{"$f":"IF(O33=B6,COUNTIF(O7:O33,B6),\"\")","v":""},{"$f":"IF(O33=C6,COUNTIF(O7:O33,C6),\"\")","v":""},{"$f":"IF(O33=D6,COUNTIF(O7:O33,D6),\"\")","v":""},{"$f":"IF(O33=E6,COUNTIF(O7:O33,E6),\"\")","v":""},{"$f":"IF(O33=F6,COUNTIF(O7:O33,F6),\"\")","v":""},27,5,"Rebeckah Higgins",null,null,null,null,null,"Cleveland",null,null,null,18.149999999999999,1,null,null,null,null,null,null,null,null,null,null,null,null,null,null,null,null,null,null,27]
[{"$f":"IF(O34=A6,COUNTIF(O7:O34,A6),\"\")","v":""},{"$f":"IF(O34=B6,COUNTIF(O7:O34,B6),\"\")","v":8},{"$f":"IF(O34=C6,COUNTIF(O7:O34,C6),\"\")","v":""},{"$f":"IF(O34=D6,COUNTIF(O7:O34,D6),\"\")","v":""},{"$f":"IF(O34=E6,COUNTIF(O7:O34,E6),\"\")","v":""},{"$f":"IF(O34=F6,COUNTIF(O7:O34,F6),\"\")","v":""},28,31,"Daisy Barnes",null,null,null,null,null,"Cumbria",null,null,null,18.170000000000002,1,null,null,null,null,null,null,null,null,null,null,null,null,null,null,null,null,null,null,28]
[{"$f":"IF(O35=A6,COUNTIF(O7:O35,A6),\"\")","v":""},{"$f":"IF(O35=B6,COUNTIF(O7:O35,B6),\"\")","v":""},{"$f":"IF(O35=C6,COUNTIF(O7:O35,C6),\"\")","v":7},{"$f":"IF(O35=D6,COUNTIF(O7:O35,D6),\"\")","v":""},{"$f":"IF(O35=E6,COUNTIF(O7:O35,E6),\"\")","v":""},{"$f":"IF(O35=F6,COUNTIF(O7:O35,F6),\"\")","v":""},29,46,"Molly Foggon",null,null,null,null,null,"Durham",null,null,null,18.22,1,null,null,null,null,null,null,null,null,null,null,null,null,null,null,null,null,null,null,29]
[{"$f":"IF(O36=A6,COUNTIF(O7:O36,A6),\"\")","v":""},{"$f":"IF(O36=B6,COUNTIF(O7:O36,B6),\"\")","v":""},{"$f":"IF(O36=C6,COUNTIF(O7:O36,C6),\"\")","v":""},{"$f":"IF(O36=D6,COUNTIF(O7:O36,D6),\"\")","v":""},{"$f":"IF(O36=E6,COUNTIF(O7:O36,E6),\"\")","v":6},{"$f":"IF(O36=F6,COUNTIF(O7:O36,F6),\"\")","v":""},30,83,"Lara Sterritt",null,null,null,null,null,"North Yorkshire",null,null,null,18.239999999999998,1,null,null,null,null,null,null,null,null,null,null,null,null,null,null,null,null,null,null,30]
[{"$f":"IF(O37=A6,COUNTIF(O7:O37,A6),\"\")","v":""},{"$f":"IF(O37=B6,COUNTIF(O7:O37,B6),\"\")","v":""},{"$f":"IF(O37=C6,COUNTIF(O7:O37,C6),\"\")","v":""},{"$f":"IF(O37=D6,COUNTIF(O7:O37,D6),\"\")","v":8},{"$f":"IF(O37=E6,COUNTIF(O7:O37,E6),\"\")","v":""},{"$f":"IF(O37=F6,COUNTIF(O7:O37,F6),\"\")","v":""},31,68,"Sophie Robinson",null,null,null,null,null,"Northumberland",null,null,null,18.3,1,null,null,null,null,null,null,null,null,null,null,null,null,null,null,null,null,null,null,31]
[{"$f":"IF(O38=A6,COUNTIF(O7:O38,A6),\"\")","v":""},{"$f":"IF(O38=B6,COUNTIF(O7:O38,B6),\"\")","v":""},{"$f":"IF(O38=C6,COUNTIF(O7:O38,C6),\"\")","v":""},{"$f":"IF(O38=D6,COUNTIF(O7:O38,D6),\"\")","v":""},{"$f":"IF(O38=E6,COUNTIF(O7:O38,E6),\"\")","v":7},{"$f":"IF(O38=F6,COUNTIF(O7:O38,F6),\"\")","v":""},32,85,"Libby Rickard",null,null,null,null,null,"North Yorkshire",null,null,null,18.37,1,null,null,null,null,null,null,null,null,null,null,null,null,null,null,null,null,null,null,32]
[{"$f":"IF(O39=A6,COUNTIF(O7:O39,A6),\"\")","v":""},{"$f":"IF(O39=B6,COUNTIF(O7:O39,B6),\"\")","v":""},{"$f":"IF(O39=C6,COUNTIF(O7:O39,C6),\"\")","v":8},{"$f":"IF(O39=D6,COUNTIF(O7:O39,D6),\"\")","v":""},{"$f":"IF(O39=E6,COUNTIF(O7:O39,E6),\"\")","v":""},{"$f":"IF(O39=F6,COUNTIF(O7:O39,F6),\"\")","v":""},33,49,"Amy Jack",null,null,null,null,null,"Durham",null,null,null,18.41,1,null,null,null,null,null,null,null,null,null,null,null,null,null,null,null,null,null,null,33]
[{"$f":"IF(O40=A6,COUNTIF(O7:O40,A6),\"\")","v":""},{"$f":"IF(O40=B6,COUNTIF(O7:O40,B6),\"\")","v":""},{"$f":"IF(O40=C6,COUNTIF(O7:O40,C6),\"\")","v":""},{"$f":"IF(O40=D6,COUNTIF(O7:O40,D6),\"\")","v":9},{"$f":"IF(O40=E6,COUNTIF(O7:O40,E6),\"\")","v":""},{"$f":"IF(O40=F6,COUNTIF(O7:O40,F6),\"\")","v":""},34,73,"Annabel Carroll",null,null,null,null,null,"Northumberland",null,null,null,18.440000000000001,1,null,null,null,null,null,null,null,null,null,null,null,null,null,null,null,null,null,null,34]
[{"$f":"IF(O41=A6,COUNTIF(O7:O41,A6),\"\")","v":3},{"$f":"IF(O41=B6,COUNTIF(O7:O41,B6),\"\")","v":""},{"$f":"IF(O41=C6,COUNTIF(O7:O41,C6),\"\")","v":""},{"$f":"IF(O41=D6,COUNTIF(O7:O41,D6),\"\")","v":""},{"$f":"IF(O41=E6,COUNTIF(O7:O41,E6),\"\")","v":""},{"$f":"IF(O41=F6,COUNTIF(O7:O41,F6),\"\")","v":""},35,7,"Laura Edwards",null,null,null,null,null,"Cleveland",null,null,null,18.5,1,null,null,null,null,null,null,null,null,null,null,null,null,null,null,null,null,null,null,35]
[{"$f":"IF(O42=A6,COUNTIF(O7:O42,A6),\"\")","v":""},{"$f":"IF(O42=B6,COUNTIF(O7:O42,B6),\"\")","v":""},{"$f":"IF(O42=C6,COUNTIF(O7:O42,C6),\"\")","v":""},{"$f":"IF(O42=D6,COUNTIF(O7:O42,D6),\"\")","v":10},{"$f":"IF(O42=E6,COUNTIF(O7:O42,E6),\"\")","v":""},{"$f":"IF(O42=F6,COUNTIF(O7:O42,F6),\"\")","v":""},36,70,"Eira Hegarty",null,null,null,null,null,"Northumberland",null,null,null,18.54,1,null,null,null,null,null,null,null,null,null,null,null,null,null,null,null,null,null,null,36]
[{"$f":"IF(O43=A6,COUNTIF(O7:O43,A6),\"\")","v":""},{"$f":"IF(O43=B6,COUNTIF(O7:O43,B6),\"\")","v":""},{"$f":"IF(O43=C6,COUNTIF(O7:O43,C6),\"\")","v":""},{"$f":"IF(O43=D6,COUNTIF(O7:O43,D6),\"\")","v":""},{"$f":"IF(O43=E6,COUNTIF(O7:O43,E6),\"\")","v":8},{"$f":"IF(O43=F6,COUNTIF(O7:O43,F6),\"\")","v":""},37,84,"Julia Candela-Martinez",null,null,null,null,null,"North Yorkshire",null,null,null,19.02,1,null,null,null,null,null,null,null,null,null,null,null,null,null,null,null,null,null,null,37]
[{"$f":"IF(O44=A6,COUNTIF(O7:O44,A6),\"\")","v":""},{"$f":"IF(O44=B6,COUNTIF(O7:O44,B6),\"\")","v":""},{"$f":"IF(O44=C6,COUNTIF(O7:O44,C6),\"\")","v":""},{"$f":"IF(O44=D6,COUNTIF(O7:O44,D6),\"\")","v":""},{"$f":"IF(O44=E6,COUNTIF(O7:O44,E6),\"\")","v":9},{"$f":"IF(O44=F6,COUNTIF(O7:O44,F6),\"\")","v":""},38,88,"Charlotte Morris",null,null,null,null,null,"North Yorkshire",null,null,null,19.09,1,null,null,null,null,null,null,null,null,null,null,null,null,null,null,null,null,null,null,38]
[{"$f":"IF(O45=A6,COUNTIF(O7:O45,A6),\"\")","v":""},{"$f":"IF(O45=B6,COUNTIF(O7:O45,B6),\"\")","v":""},{"$f":"IF(O45=C6,COUNTIF(O7:O45,C6),\"\")","v":""},{"$f":"IF(O45=D6,COUNTIF(O7:O45,D6),\"\")","v":11},{"$f":"IF(O45=E6,COUNTIF(O7:O45,E6),\"\")","v":""},{"$f":"IF(O45=F6,COUNTIF(O7:O45,F6),\"\")","v":""},39,71,"Kay Errington",null,null,null,null,null,"Northumberland",null,null,null,19.14,1,null,null,null,null,null,null,null,null,null,null,null,null,null,null,null,null,null,null,39]
[{"$f":"IF(O46=A6,COUNTIF(O7:O46,A6),\"\")","v":""},{"$f":"IF(O46=B6,COUNTIF(O7:O46,B6),\"\")","v":""},{"$f":"IF(O46=C6,COUNTIF(O7:O46,C6),\"\")","v":""},{"$f":"IF(O46=D6,COUNTIF(O7:O46,D6),\"\")","v":""},{"$f":"IF(O46=E6,COUNTIF(O7:O46,E6),\"\")","v":10},{"$f":"IF(O46=F6,COUNTIF(O7:O46,F6),\"\")","v":""},40,91,"Emily Dixon ",null,null,null,null,null,"North Yorkshire",null,null,null,19.18,1,null,null,null,null,null,null,null,null,null,null,null,null,null,null,null,null,null,null,40]
[{"$f":"IF(O47=A6,COUNTIF(O7:O47,A6),\"\")","v":4},{"$f":"IF(O47=B6,COUNTIF(O7:O47,B6),\"\")","v":""},{"$f":"IF(O47=C6,COUNTIF(O7:O47,C6),\"\")","v":""},{"$f":"IF(O47=D6,COUNTIF(O7:O47,D6),\"\")","v":""},{"$f":"IF(O47=E6,COUNTIF(O7:O47,E6),\"\")","v":""},{"$f":"IF(O47=F6,COUNTIF(O7:O47,F6),\"\")","v":""},41,3,"Willow Andrew",null,null,null,null,null,"Cleveland",null,null,null,19.260000000000002,1,null,null,null,null,null,null,null,null,null,null,null,null,null,null,null,null,null,null,41]
[{"$f":"IF(O48=A6,COUNTIF(O7:O48,A6),\"\")","v":""},{"$f":"IF(O48=B6,COUNTIF(O7:O48,B6),\"\")","v":""},{"$f":"IF(O48=C6,COUNTIF(O7:O48,C6),\"\")","v":9},{"$f":"IF(O48=D6,COUNTIF(O7:O48,D6),\"\")","v":""},{"$f":"IF(O48=E6,COUNTIF(O7:O48,E6),\"\")","v":""},{"$f":"IF(O48=F6,COUNTIF(O7:O48,F6),\"\")","v":""},42,51,"Bridget Bradshaw",null,null,null,null,null,"Durham",null,null,null,19.329999999999998,1,null,null,null,null,null,null,null,null,null,null,null,null,null,null,null,null,null,null,42]
[{"$f":"IF(O49=A6,COUNTIF(O7:O49,A6),\"\")","v":""},{"$f":"IF(O49=B6,COUNTIF(O7:O49,B6),\"\")","v":9},{"$f":"IF(O49=C6,COUNTIF(O7:O49,C6),\"\")","v":""},{"$f":"IF(O49=D6,COUNTIF(O7:O49,D6),\"\")","v":""},{"$f":"IF(O49=E6,COUNTIF(O7:O49,E6),\"\")","v":""},{"$f":"IF(O49=F6,COUNTIF(O7:O49,F6),\"\")","v":""},43,28,"Christina Peart",null,null,null,null,null,"Cumbria",null,null,null,19.37,1,null,null,null,null,null,null,null,null,null,null,null,null,null,null,null,null,null,null,43]
[{"$f":"IF(O50=A6,COUNTIF(O7:O50,A6),\"\")","v":""},{"$f":"IF(O50=B6,COUNTIF(O7:O50,B6),\"\")","v":""},{"$f":"IF(O50=C6,COUNTIF(O7:O50,C6),\"\")","v":""},{"$f":"IF(O50=D6,COUNTIF(O7:O50,D6),\"\")","v":12},{"$f":"IF(O50=E6,COUNTIF(O7:O50,E6),\"\")","v":""},{"$f":"IF(O50=F6,COUNTIF(O7:O50,F6),\"\")","v":""},44,69,"Emma Dixon",null,null,null,null,null,"Northumberland",null,null,null,19.37,1,null,null,null,null,null,null,null,null,null,null,null,null,null,null,null,null,null,null,44]
[{"$f":"IF(O51=A6,COUNTIF(O7:O51,A6),\"\")","v":""},{"$f":"IF(O51=B6,COUNTIF(O7:O51,B6),\"\")","v":""},{"$f":"IF(O51=C6,COUNTIF(O7:O51,C6),\"\")","v":""},{"$f":"IF(O51=D6,COUNTIF(O7:O51,D6),\"\")","v":13},{"$f":"IF(O51=E6,COUNTIF(O7:O51,E6),\"\")","v":""},{"$f":"IF(O51=F6,COUNTIF(O7:O51,F6),\"\")","v":""},45,72,"Beth Fraser",null,null,null,null,null,"Northumberland",null,null,null,19.38,1,null,null,null,null,null,null,null,null,null,null,null,null,null,null,null,null,null,null,45]
[{"$f":"IF(O52=A6,COUNTIF(O7:O52,A6),\"\")","v":""},{"$f":"IF(O52=B6,COUNTIF(O7:O52,B6),\"\")","v":""},{"$f":"IF(O52=C6,COUNTIF(O7:O52,C6),\"\")","v":10},{"$f":"IF(O52=D6,COUNTIF(O7:O52,D6),\"\")","v":""},{"$f":"IF(O52=E6,COUNTIF(O7:O52,E6),\"\")","v":""},{"$f":"IF(O52=F6,COUNTIF(O7:O52,F6),\"\")","v":""},46,52,"Grace Curtis",null,null,null,null,null,"Durham",null,null,null,19.559999999999999,1,null,null,null,null,null,null,null,null,null,null,null,null,null,null,null,null,null,null,46]
[{"$f":"IF(O53=A6,COUNTIF(O7:O53,A6),\"\")","v":""},{"$f":"IF(O53=B6,COUNTIF(O7:O53,B6),\"\")","v":10},{"$f":"IF(O53=C6,COUNTIF(O7:O53,C6),\"\")","v":""},{"$f":"IF(O53=D6,COUNTIF(O7:O53,D6),\"\")","v":""},{"$f":"IF(O53=E6,COUNTIF(O7:O53,E6),\"\")","v":""},{"$f":"IF(O53=F6,COUNTIF(O7:O53,F6),\"\")","v":""},47,30,"Honour Jeffrey",null,null,null,null,null,"Cumbria",null,null,null,20.04,1,null,null,null,null,null,null,null,null,null,null,null,null,null,null,null,null,null,null,47]
[{"$f":"IF(O54=A6,COUNTIF(O7:O54,A6),\"\")","v":""},{"$f":"IF(O54=B6,COUNTIF(O7:O54,B6),\"\")","v":11},{"$f":"IF(O54=C6,COUNTIF(O7:O54,C6),\"\")","v":""},{"$f":"IF(O54=D6,COUNTIF(O7:O54,D6),\"\")","v":""},{"$f":"IF(O54=E6,COUNTIF(O7:O54,E6),\"\")","v":""},{"$f":"IF(O54=F6,COUNTIF(O7:O54,F6),\"\")","v":""},48,29,"Ally Hoy",null,null,null,null,null,"Cumbria",null,null,null,20.059999999999999,1,null,null,null,null,null,null,null,null,null,null,null,null,null,null,null,null,null,null,48]
[{"$f":"IF(O55=A6,COUNTIF(O7:O55,A6),\"\")","v":""},{"$f":"IF(O55=B6,COUNTIF(O7:O55,B6),\"\")","v":12},{"$f":"IF(O55=C6,COUNTIF(O7:O55,C6),\"\")","v":""},{"$f":"IF(O55=D6,COUNTIF(O7:O55,D6),\"\")","v":""},{"$f":"IF(O55=E6,COUNTIF(O7:O55,E6),\"\")","v":""},{"$f":"IF(O55=F6,COUNTIF(O7:O55,F6),\"\")","v":""},49,32,"Amy Cooke",null,null,null,null,null,"Cumbria",null,null,null,20.18,1,null,null,null,null,null,null,null,null,null,null,null,null,null,null,null,null,null,null,49]
[{"$f":"IF(O56=A6,COUNTIF(O7:O56,A6),\"\")","v":""},{"$f":"IF(O56=B6,COUNTIF(O7:O56,B6),\"\")","v":""},{"$f":"IF(O56=C6,COUNTIF(O7:O56,C6),\"\")","v":""},{"$f":"IF(O56=D6,COUNTIF(O7:O56,D6),\"\")","v":""},{"$f":"IF(O56=E6,COUNTIF(O7:O56,E6),\"\")","v":11},{"$f":"IF(O56=F6,COUNTIF(O7:O56,F6),\"\")","v":""},50,87,"Vicki Merrick",null,null,null,null,null,"North Yorkshire",null,null,null,21,1,null,null,null,null,null,null,null,null,null,null,null,null,null,null,null,null,null,null,50]
[{"$f":"IF(O57=A6,COUNTIF(O7:O57,A6),\"\")","v":5},{"$f":"IF(O57=B6,COUNTIF(O7:O57,B6),\"\")","v":""},{"$f":"IF(O57=C6,COUNTIF(O7:O57,C6),\"\")","v":""},{"$f":"IF(O57=D6,COUNTIF(O7:O57,D6),\"\")","v":""},{"$f":"IF(O57=E6,COUNTIF(O7:O57,E6),\"\")","v":""},{"$f":"IF(O57=F6,COUNTIF(O7:O57,F6),\"\")","v":""},51,6,"Alice Knight",null,null,null,null,null,"Cleveland",null,null,null,21.19,1,null,null,null,null,null,null,null,null,null,null,null,null,null,null,null,null,null,null,51]
[{"$f":"IF(O58=A6,COUNTIF(O7:O58,A6),\"\")","v":6},{"$f":"IF(O58=B6,COUNTIF(O7:O58,B6),\"\")","v":""},{"$f":"IF(O58=C6,COUNTIF(O7:O58,C6),\"\")","v":""},{"$f":"IF(O58=D6,COUNTIF(O7:O58,D6),\"\")","v":""},{"$f":"IF(O58=E6,COUNTIF(O7:O58,E6),\"\")","v":""},{"$f":"IF(O58=F6,COUNTIF(O7:O58,F6),\"\")","v":""},52,4,"Amelia Farrow",null,null,null,null,null,"Cleveland",null,null,null,22.05,1,null,null,null,null,null,null,null,null,null,null,null,null,null,null,null,null,null,null,52]
[{"$f":"IF(O59=A6,COUNTIF(O7:O59,A6),\"\")","v":""},{"$f":"IF(O59=B6,COUNTIF(O7:O59,B6),\"\")","v":""},{"$f":"IF(O59=C6,COUNTIF(O7:O59,C6),\"\")","v":11},{"$f":"IF(O59=D6,COUNTIF(O7:O59,D6),\"\")","v":""},{"$f":"IF(O59=E6,COUNTIF(O7:O59,E6),\"\")","v":""},{"$f":"IF(O59=F6,COUNTIF(O7:O59,F6),\"\")","v":""},53,53,"Imogen Coxon",null,null,null,null,null,"Durham",null,null,null,23.32,1,null,null,null,null,null,null,null,null,null,null,null,null,null,null,null,null,null,null,53]
[{"$f":"IF(O60=A6,COUNTIF(O7:O60,A6),\"\")","v":""},{"$f":"IF(O60=B6,COUNTIF(O7:O60,B6),\"\")","v":""},{"$f":"IF(O60=C6,COUNTIF(O7:O60,C6),\"\")","v":12},{"$f":"IF(O60=D6,COUNTIF(O7:O60,D6),\"\")","v":""},{"$f":"IF(O60=E6,COUNTIF(O7:O60,E6),\"\")","v":""},{"$f":"IF(O60=F6,COUNTIF(O7:O60,F6),\"\")","v":""},54,55,"Bethany Fitzsimmons",null,null,null,null,null,"Durham",null,null,null,25.01,1,null,null,null,null,null,null,null,null,null,null,null,null,null,null,null,null,null,null,54]
[{"$f":"IF(O61=A6,COUNTIF(O7:O61,A6),\"\")","v":""},{"$f":"IF(O61=B6,COUNTIF(O7:O61,B6),\"\")","v":""},{"$f":"IF(O61=C6,COUNTIF(O7:O61,C6),\"\")","v":""},{"$f":"IF(O61=D6,COUNTIF(O7:O61,D6),\"\")","v":""},{"$f":"IF(O61=E6,COUNTIF(O7:O61,E6),\"\")","v":""},{"$f":"IF(O61=F6,COUNTIF(O7:O61,F6),\"\")","v":""},55,null,"",null,null,null,null,null,"",null,null,null,null,0,null,null,null,null,null,null,null,null,null,null,null,null,null,null,null,null,null,null,55]
[{"$f":"IF(O62=A6,COUNTIF(O7:O62,A6),\"\")","v":""},{"$f":"IF(O62=B6,COUNTIF(O7:O62,B6),\"\")","v":""},{"$f":"IF(O62=C6,COUNTIF(O7:O62,C6),\"\")","v":""},{"$f":"IF(O62=D6,COUNTIF(O7:O62,D6),\"\")","v":""},{"$f":"IF(O62=E6,COUNTIF(O7:O62,E6),\"\")","v":""},{"$f":"IF(O62=F6,COUNTIF(O7:O62,F6),\"\")","v":""},56,null,"",null,null,null,null,null,"",null,null,null,null,0,null,null,null,null,null,null,null,null,null,null,null,null,null,null,null,null,null,null,56]
[{"$f":"IF(O63=A6,COUNTIF(O7:O63,A6),\"\")","v":""},{"$f":"IF(O63=B6,COUNTIF(O7:O63,B6),\"\")","v":""},{"$f":"IF(O63=C6,COUNTIF(O7:O63,C6),\"\")","v":""},{"$f":"IF(O63=D6,COUNTIF(O7:O63,D6),\"\")","v":""},{"$f":"IF(O63=E6,COUNTIF(O7:O63,E6),\"\")","v":""},{"$f":"IF(O63=F6,COUNTIF(O7:O63,F6),\"\")","v":""},57,null,"",null,null,null,null,null,"",null,null,null,null,0,null,null,null,null,null,null,null,null,null,null,null,null,null,null,null,null,null,null,57]
[{"$f":"IF(O64=A6,COUNTIF(O7:O64,A6),\"\")","v":""},{"$f":"IF(O64=B6,COUNTIF(O7:O64,B6),\"\")","v":""},{"$f":"IF(O64=C6,COUNTIF(O7:O64,C6),\"\")","v":""},{"$f":"IF(O64=D6,COUNTIF(O7:O64,D6),\"\")","v":""},{"$f":"IF(O64=E6,COUNTIF(O7:O64,E6),\"\")","v":""},{"$f":"IF(O64=F6,COUNTIF(O7:O64,F6),\"\")","v":""},58,null,"",null,null,null,null,null,"",null,null,null,null,0,null,null,null,null,null,null,null,null,null,null,null,null,null,null,null,null,null,null,58]
[{"$f":"IF(O65=A6,COUNTIF(O7:O65,A6),\"\")","v":""},{"$f":"IF(O65=B6,COUNTIF(O7:O65,B6),\"\")","v":""},{"$f":"IF(O65=C6,COUNTIF(O7:O65,C6),\"\")","v":""},{"$f":"IF(O65=D6,COUNTIF(O7:O65,D6),\"\")","v":""},{"$f":"IF(O65=E6,COUNTIF(O7:O65,E6),\"\")","v":""},{"$f":"IF(O65=F6,COUNTIF(O7:O65,F6),\"\")","v":""},59,null,"",null,null,null,null,null,"",null,null,null,null,0,null,null,null,null,null,null,null,null,null,null,null,null,null,null,null,null,null,null,59]
[{"$f":"IF(O66=A6,COUNTIF(O7:O66,A6),\"\")","v":""},{"$f":"IF(O66=B6,COUNTIF(O7:O66,B6),\"\")","v":""},{"$f":"IF(O66=C6,COUNTIF(O7:O66,C6),\"\")","v":""},{"$f":"IF(O66=D6,COUNTIF(O7:O66,D6),\"\")","v":""},{"$f":"IF(O66=E6,COUNTIF(O7:O66,E6),\"\")","v":""},{"$f":"IF(O66=F6,COUNTIF(O7:O66,F6),\"\")","v":""},60,null,"",null,null,null,null,null,"",null,null,null,null,0,null,null,null,null,null,null,null,null,null,null,null,null,null,null,null,null,null,null,60]
[{"$f":"IF(O67=A6,COUNTIF(O7:O67,A6),\"\")","v":""},{"$f":"IF(O67=B6,COUNTIF(O7:O67,B6),\"\")","v":""},{"$f":"IF(O67=C6,COUNTIF(O7:O67,C6),\"\")","v":""},{"$f":"IF(O67=D6,COUNTIF(O7:O67,D6),\"\")","v":""},{"$f":"IF(O67=E6,COUNTIF(O7:O67,E6),\"\")","v":""},{"$f":"IF(O67=F6,COUNTIF(O7:O67,F6),\"\")","v":""},61,null,"",null,null,null,null,null,"",null,null,null,null,0,null,null,null,null,null,null,null,null,null,null,null,null,null,null,null,null,null,null,61]
[{"$f":"IF(O68=A6,COUNTIF(O7:O68,A6),\"\")","v":""},{"$f":"IF(O68=B6,COUNTIF(O7:O68,B6),\"\")","v":""},{"$f":"IF(O68=C6,COUNTIF(O7:O68,C6),\"\")","v":""},{"$f":"IF(O68=D6,COUNTIF(O7:O68,D6),\"\")","v":""},{"$f":"IF(O68=E6,COUNTIF(O7:O68,E6),\"\")","v":""},{"$f":"IF(O68=F6,COUNTIF(O7:O68,F6),\"\")","v":""},62,null,"",null,null,null,null,null,"",null,null,null,null,0,null,null,null,null,null,null,null,null,null,null,null,null,null,null,null,null,null,null,62]
[{"$f":"IF(O69=A6,COUNTIF(O7:O69,A6),\"\")","v":""},{"$f":"IF(O69=B6,COUNTIF(O7:O69,B6),\"\")","v":""},{"$f":"IF(O69=C6,COUNTIF(O7:O69,C6),\"\")","v":""},{"$f":"IF(O69=D6,COUNTIF(O7:O69,D6),\"\")","v":""},{"$f":"IF(O69=E6,COUNTIF(O7:O69,E6),\"\")","v":""},{"$f":"IF(O69=F6,COUNTIF(O7:O69,F6),\"\")","v":""},63,null,"",null,null,null,null,null,"",null,null,null,null,0,null,null,null,null,null,null,null,null,null,null,null,null,null,null,null,null,null,null,63]
[{"$f":"IF(O70=A6,COUNTIF(O7:O70,A6),\"\")","v":""},{"$f":"IF(O70=B6,COUNTIF(O7:O70,B6),\"\")","v":""},{"$f":"IF(O70=C6,COUNTIF(O7:O70,C6),\"\")","v":""},{"$f":"IF(O70=D6,COUNTIF(O7:O70,D6),\"\")","v":""},{"$f":"IF(O70=E6,COUNTIF(O7:O70,E6),\"\")","v":""},{"$f":"IF(O70=F6,COUNTIF(O7:O70,F6),\"\")","v":""},64,null,"",null,null,null,null,null,"",null,null,null,null,0,null,null,null,null,null,null,null,null,null,null,null,null,null,null,null,null,null,null,64]
[{"$f":"IF(O71=A6,COUNTIF(O7:O71,A6),\"\")","v":""},{"$f":"IF(O71=B6,COUNTIF(O7:O71,B6),\"\")","v":""},{"$f":"IF(O71=C6,COUNTIF(O7:O71,C6),\"\")","v":""},{"$f":"IF(O71=D6,COUNTIF(O7:O71,D6),\"\")","v":""},{"$f":"IF(O71=E6,COUNTIF(O7:O71,E6),\"\")","v":""},{"$f":"IF(O71=F6,COUNTIF(O7:O71,F6),\"\")","v":""},{"$f":"IF(LEFT(S71,1)=\"D\",0,AM71)","v":65},null,{"$f":"IFERROR(VLOOKUP(H71,INDIRECT($AA$1),2,0),\"\")","v":""},null,null,null,null,null,{"$f":"IFERROR(VLOOKUP(H71,INDIRECT($AA$1),3,0),\"\")","v":""},null,null,null,null,{"$f":"IF(H71=0,0,1)","v":0},null,null,null,null,null,null,null,null,null,null,null,null,null,null,null,null,null,null,65]
[{"$f":"IF(O72=A6,COUNTIF(O7:O72,A6),\"\")","v":""},{"$f":"IF(O72=B6,COUNTIF(O7:O72,B6),\"\")","v":""},{"$f":"IF(O72=C6,COUNTIF(O7:O72,C6),\"\")","v":""},{"$f":"IF(O72=D6,COUNTIF(O7:O72,D6),\"\")","v":""},{"$f":"IF(O72=E6,COUNTIF(O7:O72,E6),\"\")","v":""},{"$f":"IF(O72=F6,COUNTIF(O7:O72,F6),\"\")","v":""},66,null,"",null,null,null,null,null,"",null,null,null,null,0,null,null,null,null,null,null,null,null,null,null,null,null,null,null,null,null,null,null,66]
[{"$f":"IF(O73=A6,COUNTIF(O7:O73,A6),\"\")","v":""},{"$f":"IF(O73=B6,COUNTIF(O7:O73,B6),\"\")","v":""},{"$f":"IF(O73=C6,COUNTIF(O7:O73,C6),\"\")","v":""},{"$f":"IF(O73=D6,COUNTIF(O7:O73,D6),\"\")","v":""},{"$f":"IF(O73=E6,COUNTIF(O7:O73,E6),\"\")","v":""},{"$f":"IF(O73=F6,COUNTIF(O7:O73,F6),\"\")","v":""},67,null,"",null,null,null,null,null,"",null,null,null,null,0,null,null,null,null,null,null,null,null,null,null,null,null,null,null,null,null,null,null,67]
[{"$f":"IF(O74=A6,COUNTIF(O7:O74,A6),\"\")","v":""},{"$f":"IF(O74=B6,COUNTIF(O7:O74,B6),\"\")","v":""},{"$f":"IF(O74=C6,COUNTIF(O7:O74,C6),\"\")","v":""},{"$f":"IF(O74=D6,COUNTIF(O7:O74,D6),\"\")","v":""},{"$f":"IF(O74=E6,COUNTIF(O7:O74,E6),\"\")","v":""},{"$f":"IF(O74=F6,COUNTIF(O7:O74,F6),\"\")","v":""},68,null,"",null,null,null,null,null,"",null,null,null,null,0,null,null,null,null,null,null,null,null,null,null,null,null,null,null,null,null,null,null,68]
[{"$f":"IF(O75=A6,COUNTIF(O7:O75,A6),\"\")","v":""},{"$f":"IF(O75=B6,COUNTIF(O7:O75,B6),\"\")","v":""},{"$f":"IF(O75=C6,COUNTIF(O7:O75,C6),\"\")","v":""},{"$f":"IF(O75=D6,COUNTIF(O7:O75,D6),\"\")","v":""},{"$f":"IF(O75=E6,COUNTIF(O7:O75,E6),\"\")","v":""},{"$f":"IF(O75=F6,COUNTIF(O7:O75,F6),\"\")","v":""},69,null,"",null,null,null,null,null,"",null,null,null,null,0,null,null,null,null,null,null,null,null,null,null,null,null,null,null,null,null,null,null,69]
[{"$f":"IF(O76=A6,COUNTIF(O7:O76,A6),\"\")","v":""},{"$f":"IF(O76=B6,COUNTIF(O7:O76,B6),\"\")","v":""},{"$f":"IF(O76=C6,COUNTIF(O7:O76,C6),\"\")","v":""},{"$f":"IF(O76=D6,COUNTIF(O7:O76,D6),\"\")","v":""},{"$f":"IF(O76=E6,COUNTIF(O7:O76,E6),\"\")","v":""},{"$f":"IF(O76=F6,COUNTIF(O7:O76,F6),\"\")","v":""},70,null,"",null,null,null,null,null,"",null,null,null,null,0,null,null,null,null,null,null,null,null,null,null,null,null,null,null,null,null,null,null,70]
[{"$f":"IF(O77=A6,COUNTIF(O7:O77,A6),\"\")","v":""},{"$f":"IF(O77=B6,COUNTIF(O7:O77,B6),\"\")","v":""},{"$f":"IF(O77=C6,COUNTIF(O7:O77,C6),\"\")","v":""},{"$f":"IF(O77=D6,COUNTIF(O7:O77,D6),\"\")","v":""},{"$f":"IF(O77=E6,COUNTIF(O7:O77,E6),\"\")","v":""},{"$f":"IF(O77=F6,COUNTIF(O7:O77,F6),\"\")","v":""},71,null,"",null,null,null,null,null,"",null,null,null,null,0,null,null,null,null,null,null,null,null,null,null,null,null,null,null,null,null,null,null,71]
[{"$f":"IF(O78=A6,COUNTIF(O7:O78,A6),\"\")","v":""},{"$f":"IF(O78=B6,COUNTIF(O7:O78,B6),\"\")","v":""},{"$f":"IF(O78=C6,COUNTIF(O7:O78,C6),\"\")","v":""},{"$f":"IF(O78=D6,COUNTIF(O7:O78,D6),\"\")","v":""},{"$f":"IF(O78=E6,COUNTIF(O7:O78,E6),\"\")","v":""},{"$f":"IF(O78=F6,COUNTIF(O7:O78,F6),\"\")","v":""},72,null,"",null,null,null,null,null,"",null,null,null,null,0,null,null,null,null,null,null,null,null,null,null,null,null,null,null,null,null,null,null,72]
[{"$f":"IF(O79=A6,COUNTIF(O7:O79,A6),\"\")","v":""},{"$f":"IF(O79=B6,COUNTIF(O7:O79,B6),\"\")","v":""},{"$f":"IF(O79=C6,COUNTIF(O7:O79,C6),\"\")","v":""},{"$f":"IF(O79=D6,COUNTIF(O7:O79,D6),\"\")","v":""},{"$f":"IF(O79=E6,COUNTIF(O7:O79,E6),\"\")","v":""},{"$f":"IF(O79=F6,COUNTIF(O7:O79,F6),\"\")","v":""},73,null,"",null,null,null,null,null,"",null,null,null,null,0,null,null,null,null,null,null,null,null,null,null,null,null,null,null,null,null,null,null,73]
[{"$f":"IF(O80=A6,COUNTIF(O7:O80,A6),\"\")","v":""},{"$f":"IF(O80=B6,COUNTIF(O7:O80,B6),\"\")","v":""},{"$f":"IF(O80=C6,COUNTIF(O7:O80,C6),\"\")","v":""},{"$f":"IF(O80=D6,COUNTIF(O7:O80,D6),\"\")","v":""},{"$f":"IF(O80=E6,COUNTIF(O7:O80,E6),\"\")","v":""},{"$f":"IF(O80=F6,COUNTIF(O7:O80,F6),\"\")","v":""},74,null,"",null,null,null,null,null,"",null,null,null,null,0,null,null,null,null,null,null,null,null,null,null,null,null,null,null,null,null,null,null,74]
[{"$f":"IF(O81=A6,COUNTIF(O7:O81,A6),\"\")","v":""},{"$f":"IF(O81=B6,COUNTIF(O7:O81,B6),\"\")","v":""},{"$f":"IF(O81=C6,COUNTIF(O7:O81,C6),\"\")","v":""},{"$f":"IF(O81=D6,COUNTIF(O7:O81,D6),\"\")","v":""},{"$f":"IF(O81=E6,COUNTIF(O7:O81,E6),\"\")","v":""},{"$f":"IF(O81=F6,COUNTIF(O7:O81,F6),\"\")","v":""},75,null,"",null,null,null,null,null,"",null,null,null,null,0,null,null,null,null,null,null,null,null,null,null,null,null,null,null,null,null,null,null,75]
[{"$f":"IF(O82=A6,COUNTIF(O7:O82,A6),\"\")","v":""},{"$f":"IF(O82=B6,COUNTIF(O7:O82,B6),\"\")","v":""},{"$f":"IF(O82=C6,COUNTIF(O7:O82,C6),\"\")","v":""},{"$f":"IF(O82=D6,COUNTIF(O7:O82,D6),\"\")","v":""},{"$f":"IF(O82=E6,COUNTIF(O7:O82,E6),\"\")","v":""},{"$f":"IF(O82=F6,COUNTIF(O7:O82,F6),\"\")","v":""},76,null,"",null,null,null,null,null,"",null,null,null,null,0,null,null,null,null,null,null,null,null,null,null,null,null,null,null,null,null,null,null,76]
[{"$f":"IF(O83=A6,COUNTIF(O7:O83,A6),\"\")","v":""},{"$f":"IF(O83=B6,COUNTIF(O7:O83,B6),\"\")","v":""},{"$f":"IF(O83=C6,COUNTIF(O7:O83,C6),\"\")","v":""},{"$f":"IF(O83=D6,COUNTIF(O7:O83,D6),\"\")","v":""},{"$f":"IF(O83=E6,COUNTIF(O7:O83,E6),\"\")","v":""},{"$f":"IF(O83=F6,COUNTIF(O7:O83,F6),\"\")","v":""},77,null,"",null,null,null,null,null,"",null,null,null,null,0,null,null,null,null,null,null,null,null,null,null,null,null,null,null,null,null,null,null,77]
[{"$f":"IF(O84=A6,COUNTIF(O7:O84,A6),\"\")","v":""},{"$f":"IF(O84=B6,COUNTIF(O7:O84,B6),\"\")","v":""},{"$f":"IF(O84=C6,COUNTIF(O7:O84,C6),\"\")","v":""},{"$f":"IF(O84=D6,COUNTIF(O7:O84,D6),\"\")","v":""},{"$f":"IF(O84=E6,COUNTIF(O7:O84,E6),\"\")","v":""},{"$f":"IF(O84=F6,COUNTIF(O7:O84,F6),\"\")","v":""},78,null,"",null,null,null,null,null,"",null,null,null,null,0,null,null,null,null,null,null,null,null,null,null,null,null,null,null,null,null,null,null,78]
[{"$f":"IF(O85=A6,COUNTIF(O7:O85,A6),\"\")","v":""},{"$f":"IF(O85=B6,COUNTIF(O7:O85,B6),\"\")","v":""},{"$f":"IF(O85=C6,COUNTIF(O7:O85,C6),\"\")","v":""},{"$f":"IF(O85=D6,COUNTIF(O7:O85,D6),\"\")","v":""},{"$f":"IF(O85=E6,COUNTIF(O7:O85,E6),\"\")","v":""},{"$f":"IF(O85=F6,COUNTIF(O7:O85,F6),\"\")","v":""},79,null,"",null,null,null,null,null,"",null,null,null,null,0,null,null,null,null,null,null,null,null,null,null,null,null,null,null,null,null,null,null,79]
[{"$f":"IF(O86=A6,COUNTIF(O7:O86,A6),\"\")","v":""},{"$f":"IF(O86=B6,COUNTIF(O7:O86,B6),\"\")","v":""},{"$f":"IF(O86=C6,COUNTIF(O7:O86,C6),\"\")","v":""},{"$f":"IF(O86=D6,COUNTIF(O7:O86,D6),\"\")","v":""},{"$f":"IF(O86=E6,COUNTIF(O7:O86,E6),\"\")","v":""},{"$f":"IF(O86=F6,COUNTIF(O7:O86,F6),\"\")","v":""},80,null,"",null,null,null,null,null,"",null,null,null,null,0,null,null,null,null,null,null,null,null,null,null,null,null,null,null,null,null,null,null,80]
[{"$f":"IF(O87=A6,COUNTIF(O7:O87,A6),\"\")","v":""},{"$f":"IF(O87=B6,COUNTIF(O7:O87,B6),\"\")","v":""},{"$f":"IF(O87=C6,COUNTIF(O7:O87,C6),\"\")","v":""},{"$f":"IF(O87=D6,COUNTIF(O7:O87,D6),\"\")","v":""},{"$f":"IF(O87=E6,COUNTIF(O7:O87,E6),\"\")","v":""},{"$f":"IF(O87=F6,COUNTIF(O7:O87,F6),\"\")","v":""},81,null,"",null,null,null,null,null,"",null,null,null,null,0,null,null,null,null,null,null,null,null,null,null,null,null,null,null,null,null,null,null,81]
[{"$f":"IF(O88=A6,COUNTIF(O7:O88,A6),\"\")","v":""},{"$f":"IF(O88=B6,COUNTIF(O7:O88,B6),\"\")","v":""},{"$f":"IF(O88=C6,COUNTIF(O7:O88,C6),\"\")","v":""},{"$f":"IF(O88=D6,COUNTIF(O7:O88,D6),\"\")","v":""},{"$f":"IF(O88=E6,COUNTIF(O7:O88,E6),\"\")","v":""},{"$f":"IF(O88=F6,COUNTIF(O7:O88,F6),\"\")","v":""},82,null,"",null,null,null,null,null,"",null,null,null,null,0,null,null,null,null,null,null,null,null,null,null,null,null,null,null,null,null,null,null,82]
[{"$f":"IF(O89=A6,COUNTIF(O7:O89,A6),\"\")","v":""},{"$f":"IF(O89=B6,COUNTIF(O7:O89,B6),\"\")","v":""},{"$f":"IF(O89=C6,COUNTIF(O7:O89,C6),\"\")","v":""},{"$f":"IF(O89=D6,COUNTIF(O7:O89,D6),\"\")","v":""},{"$f":"IF(O89=E6,COUNTIF(O7:O89,E6),\"\")","v":""},{"$f":"IF(O89=F6,COUNTIF(O7:O89,F6),\"\")","v":""},83,null,"",null,null,null,null,null,"",null,null,null,null,0,null,null,null,null,null,null,null,null,null,null,null,null,null,null,null,null,null,null,83]
[{"$f":"IF(O90=A6,COUNTIF(O7:O90,A6),\"\")","v":""},{"$f":"IF(O90=B6,COUNTIF(O7:O90,B6),\"\")","v":""},{"$f":"IF(O90=C6,COUNTIF(O7:O90,C6),\"\")","v":""},{"$f":"IF(O90=D6,COUNTIF(O7:O90,D6),\"\")","v":""},{"$f":"IF(O90=E6,COUNTIF(O7:O90,E6),\"\")","v":""},{"$f":"IF(O90=F6,COUNTIF(O7:O90,F6),\"\")","v":""},84,null,"",null,null,null,null,null,"",null,null,null,null,0,null,null,null,null,null,null,null,null,null,null,null,null,null,null,null,null,null,null,84]
[{"$f":"IF(O91=A6,COUNTIF(O7:O91,A6),\"\")","v":""},{"$f":"IF(O91=B6,COUNTIF(O7:O91,B6),\"\")","v":""},{"$f":"IF(O91=C6,COUNTIF(O7:O91,C6),\"\")","v":""},{"$f":"IF(O91=D6,COUNTIF(O7:O91,D6),\"\")","v":""},{"$f":"IF(O91=E6,COUNTIF(O7:O91,E6),\"\")","v":""},{"$f":"IF(O91=F6,COUNTIF(O7:O91,F6),\"\")","v":""},85,null,"",null,null,null,null,null,"",null,null,null,null,0,null,null,null,null,null,null,null,null,null,null,null,null,null,null,null,null,null,null,85]
[{"$f":"IF(O92=A6,COUNTIF(O7:O92,A6),\"\")","v":""},{"$f":"IF(O92=B6,COUNTIF(O7:O92,B6),\"\")","v":""},{"$f":"IF(O92=C6,COUNTIF(O7:O92,C6),\"\")","v":""},{"$f":"IF(O92=D6,COUNTIF(O7:O92,D6),\"\")","v":""},{"$f":"IF(O92=E6,COUNTIF(O7:O92,E6),\"\")","v":""},{"$f":"IF(O92=F6,COUNTIF(O7:O92,F6),\"\")","v":""},86,null,"",null,null,null,null,null,"",null,null,null,null,0,null,null,null,null,null,null,null,null,null,null,null,null,null,null,null,null,null,null,86]
[{"$f":"IF(O93=A6,COUNTIF(O7:O93,A6),\"\")","v":""},{"$f":"IF(O93=B6,COUNTIF(O7:O93,B6),\"\")","v":""},{"$f":"IF(O93=C6,COUNTIF(O7:O93,C6),\"\")","v":""},{"$f":"IF(O93=D6,COUNTIF(O7:O93,D6),\"\")","v":""},{"$f":"IF(O93=E6,COUNTIF(O7:O93,E6),\"\")","v":""},{"$f":"IF(O93=F6,COUNTIF(O7:O93,F6),\"\")","v":""},87,null,"",null,null,null,null,null,"",null,null,null,null,0,null,null,null,null,null,null,null,null,null,null,null,null,null,null,null,null,null,null,87]
[{"$f":"IF(O94=A6,COUNTIF(O7:O94,A6),\"\")","v":""},{"$f":"IF(O94=B6,COUNTIF(O7:O94,B6),\"\")","v":""},{"$f":"IF(O94=C6,COUNTIF(O7:O94,C6),\"\")","v":""},{"$f":"IF(O94=D6,COUNTIF(O7:O94,D6),\"\")","v":""},{"$f":"IF(O94=E6,COUNTIF(O7:O94,E6),\"\")","v":""},{"$f":"IF(O94=F6,COUNTIF(O7:O94,F6),\"\")","v":""},88,null,"",null,null,null,null,null,"",null,null,null,null,0,null,null,null,null,null,null,null,null,null,null,null,null,null,null,null,null,null,null,88]
[{"$f":"IF(O95=A6,COUNTIF(O7:O95,A6),\"\")","v":""},{"$f":"IF(O95=B6,COUNTIF(O7:O95,B6),\"\")","v":""},{"$f":"IF(O95=C6,COUNTIF(O7:O95,C6),\"\")","v":""},{"$f":"IF(O95=D6,COUNTIF(O7:O95,D6),\"\")","v":""},{"$f":"IF(O95=E6,COUNTIF(O7:O95,E6),\"\")","v":""},{"$f":"IF(O95=F6,COUNTIF(O7:O95,F6),\"\")","v":""},89,null,"",null,null,null,null,null,"",null,null,null,null,0,null,null,null,null,null,null,null,null,null,null,null,null,null,null,null,null,null,null,89]
[{"$f":"IF(O96=A6,COUNTIF(O7:O96,A6),\"\")","v":""},{"$f":"IF(O96=B6,COUNTIF(O7:O96,B6),\"\")","v":""},{"$f":"IF(O96=C6,COUNTIF(O7:O96,C6),\"\")","v":""},{"$f":"IF(O96=D6,COUNTIF(O7:O96,D6),\"\")","v":""},{"$f":"IF(O96=E6,COUNTIF(O7:O96,E6),\"\")","v":""},{"$f":"IF(O96=F6,COUNTIF(O7:O96,F6),\"\")","v":""},90,null,"",null,null,null,null,null,"",null,null,null,null,0,null,null,null,null,null,null,null,null,null,null,null,null,null,null,null,null,null,null,90]
[{"$f":"IF(O97=A6,COUNTIF(O7:O97,A6),\"\")","v":""},{"$f":"IF(O97=B6,COUNTIF(O7:O97,B6),\"\")","v":""},{"$f":"IF(O97=C6,COUNTIF(O7:O97,C6),\"\")","v":""},{"$f":"IF(O97=D6,COUNTIF(O7:O97,D6),\"\")","v":""},{"$f":"IF(O97=E6,COUNTIF(O7:O97,E6),\"\")","v":""},{"$f":"IF(O97=F6,COUNTIF(O7:O97,F6),\"\")","v":""},91,null,"",null,null,null,null,null,"",null,null,null,null,0,null,null,null,null,null,null,null,null,null,null,null,null,null,null,null,null,null,null,91]
[{"$f":"IF(O98=A6,COUNTIF(O7:O98,A6),\"\")","v":""},{"$f":"IF(O98=B6,COUNTIF(O7:O98,B6),\"\")","v":""},{"$f":"IF(O98=C6,COUNTIF(O7:O98,C6),\"\")","v":""},{"$f":"IF(O98=D6,COUNTIF(O7:O98,D6),\"\")","v":""},{"$f":"IF(O98=E6,COUNTIF(O7:O98,E6),\"\")","v":""},{"$f":"IF(O98=F6,COUNTIF(O7:O98,F6),\"\")","v":""},92,null,"",null,null,null,null,null,"",null,null,null,null,0,null,null,null,null,null,null,null,null,null,null,null,null,null,null,null,null,null,null,92]
[{"$f":"IF(O99=A6,COUNTIF(O7:O99,A6),\"\")","v":""},{"$f":"IF(O99=B6,COUNTIF(O7:O99,B6),\"\")","v":""},{"$f":"IF(O99=C6,COUNTIF(O7:O99,C6),\"\")","v":""},{"$f":"IF(O99=D6,COUNTIF(O7:O99,D6),\"\")","v":""},{"$f":"IF(O99=E6,COUNTIF(O7:O99,E6),\"\")","v":""},{"$f":"IF(O99=F6,COUNTIF(O7:O99,F6),\"\")","v":""},93,null,"",null,null,null,null,null,"",null,null,null,null,0,null,null,null,null,null,null,null,null,null,null,null,null,null,null,null,null,null,null,93]
[{"$f":"IF(O100=A6,COUNTIF(O7:O100,A6),\"\")","v":""},{"$f":"IF(O100=B6,COUNTIF(O7:O100,B6),\"\")","v":""},{"$f":"IF(O100=C6,COUNTIF(O7:O100,C6),\"\")","v":""},{"$f":"IF(O100=D6,COUNTIF(O7:O100,D6),\"\")","v":""},{"$f":"IF(O100=E6,COUNTIF(O7:O100,E6),\"\")","v":""},{"$f":"IF(O100=F6,COUNTIF(O7:O100,F6),\"\")","v":""},94,null,"",null,null,null,null,null,"",null,null,null,null,0,null,null,null,null,null,null,null,null,null,null,null,null,null,null,null,null,null,null,94]
[{"$f":"IF(O101=A6,COUNTIF(O7:O101,A6),\"\")","v":""},{"$f":"IF(O101=B6,COUNTIF(O7:O101,B6),\"\")","v":""},{"$f":"IF(O101=C6,COUNTIF(O7:O101,C6),\"\")","v":""},{"$f":"IF(O101=D6,COUNTIF(O7:O101,D6),\"\")","v":""},{"$f":"IF(O101=E6,COUNTIF(O7:O101,E6),\"\")","v":""},{"$f":"IF(O101=F6,COUNTIF(O7:O101,F6),\"\")","v":""},95,null,"",null,null,null,null,null,"",null,null,null,null,0,null,null,null,null,null,null,null,null,null,null,null,null,null,null,null,null,null,null,95]
[{"$f":"IF(O102=A6,COUNTIF(O7:O102,A6),\"\")","v":""},{"$f":"IF(O102=B6,COUNTIF(O7:O102,B6),\"\")","v":""},{"$f":"IF(O102=C6,COUNTIF(O7:O102,C6),\"\")","v":""},{"$f":"IF(O102=D6,COUNTIF(O7:O102,D6),\"\")","v":""},{"$f":"IF(O102=E6,COUNTIF(O7:O102,E6),\"\")","v":""},{"$f":"IF(O102=F6,COUNTIF(O7:O102,F6),\"\")","v":""},96,null,"",null,null,null,null,null,"",null,null,null,null,0,null,null,null,null,null,null,null,null,null,null,null,null,null,null,null,null,null,null,96]
[{"$f":"IF(O103=A6,COUNTIF(O7:O103,A6),\"\")","v":""},{"$f":"IF(O103=B6,COUNTIF(O7:O103,B6),\"\")","v":""},{"$f":"IF(O103=C6,COUNTIF(O7:O103,C6),\"\")","v":""},{"$f":"IF(O103=D6,COUNTIF(O7:O103,D6),\"\")","v":""},{"$f":"IF(O103=E6,COUNTIF(O7:O103,E6),\"\")","v":""},{"$f":"IF(O103=F6,COUNTIF(O7:O103,F6),\"\")","v":""},97,null,"",null,null,null,null,null,"",null,null,null,null,0,null,null,null,null,null,null,null,null,null,null,null,null,null,null,null,null,null,null,97]
[{"$f":"IF(O104=A6,COUNTIF(O7:O104,A6),\"\")","v":""},{"$f":"IF(O104=B6,COUNTIF(O7:O104,B6),\"\")","v":""},{"$f":"IF(O104=C6,COUNTIF(O7:O104,C6),\"\")","v":""},{"$f":"IF(O104=D6,COUNTIF(O7:O104,D6),\"\")","v":""},{"$f":"IF(O104=E6,COUNTIF(O7:O104,E6),\"\")","v":""},{"$f":"IF(O104=F6,COUNTIF(O7:O104,F6),\"\")","v":""},98,null,"",null,null,null,null,null,"",null,null,null,null,0,null,null,null,null,null,null,null,null,null,null,null,null,null,null,null,null,null,null,98]
[{"$f":"IF(O105=A6,COUNTIF(O7:O105,A6),\"\")","v":""},{"$f":"IF(O105=B6,COUNTIF(O7:O105,B6),\"\")","v":""},{"$f":"IF(O105=C6,COUNTIF(O7:O105,C6),\"\")","v":""},{"$f":"IF(O105=D6,COUNTIF(O7:O105,D6),\"\")","v":""},{"$f":"IF(O105=E6,COUNTIF(O7:O105,E6),\"\")","v":""},{"$f":"IF(O105=F6,COUNTIF(O7:O105,F6),\"\")","v":""},99,null,"",null,null,null,null,null,"",null,null,null,null,0,null,null,null,null,null,null,null,null,null,null,null,null,null,null,null,null,null,null,99]
[{"$f":"IF(O106=A6,COUNTIF(O7:O106,A6),\"\")","v":""},{"$f":"IF(O106=B6,COUNTIF(O7:O106,B6),\"\")","v":""},{"$f":"IF(O106=C6,COUNTIF(O7:O106,C6),\"\")","v":""},{"$f":"IF(O106=D6,COUNTIF(O7:O106,D6),\"\")","v":""},{"$f":"IF(O106=E6,COUNTIF(O7:O106,E6),\"\")","v":""},{"$f":"IF(O106=F6,COUNTIF(O7:O106,F6),\"\")","v":""},100,null,"",null,null,null,null,null,"",null,null,null,null,0,null,null,null,null,null,null,null,null,null,null,null,null,null,null,null,null,null,null,100]
[null,null,null,null,null,null,{"$f":"CONCATENATE($G$5,\" \",\"Individual Medal Winners\")","v":"Senior Girls Individual Medal Winners"},null,null,null,null,null,null,null,null,null,null,null,null,"f"]
[null,null,null,null,null,null,"Pos","Num","Name",null,null,null,null,null,"County",null,null,null,"Time",{"$f":"IF(H109=\"\",0,1)","v":1}]
[null,null,null,null,null,null,1,{"$f":"IF(H7=0,\"\",H7)","v":36},"Imogen Burrow","","","","","","Cumbria",null,null,null,{"$f":"IF(S7=0,\"\",S7)","v":16.100000000000001},{"$f":"IF(H109=\"\",0,1)","v":1}]
[null,null,null,null,null,null,2,1,"Eli Barnbrook","","","","","","Cleveland",null,null,null,{"$f":"IF(S8=0,\"\",S8)","v":16.2},{"$f":"IF(H110=\"\",0,1)","v":1}]
[null,null,null,null,null,null,3,76,"Rhian Purves","","","","","","Northumberland",null,null,null,{"$f":"IF(S9=0,\"\",S9)","v":16.25},{"$f":"IF(H111=\"\",0,1)","v":1}]
[null,null,null,null,null,null,null,null,null,null,null,null,null,null,null,null,null,null,null,"g"]
[null,null,null,null,null,null,{"$f":"CONCATENATE($G$5,\" \",\"Team Results\")","v":"Senior Girls Team Results"},null,null,null,null,null,null,null,null,null,null,null,null,"h",null,null,null,null,{"$f":"G113","v":"Senior Girls Team Results"}]
[null,null,null,null,null,null,null,"Team Name",null,null,null,null,"1st","2nd","3rd","4th","5th","6th","Points","i",null,null,{"$f":"P5","v":0},null,null,1,2,3,4,5,6,"Pts"]
[null,null,null,null,null,null,1,{"$f":"IFERROR(VLOOKUP(G115,$X$115:$AF$119,2,0),\"\")","v":"Northumberland"},null,null,null,null,{"$f":"IFERROR(VLOOKUP(G115,$X$115:$AF$119,3,0),\"\")","v":3},{"$f":"IFERROR(VLOOKUP(G115,$X$115:$AF$119,4,0),\"\")","v":4},{"$f":"IFERROR(VLOOKUP(G115,$X$115:$AF$119,5,0),\"\")","v":6},{"$f":"IFERROR(VLOOKUP(G115,$X$115:$AF$119,6,0),\"\")","v":7},{"$f":"IFERROR(VLOOKUP(G115,$X$115:$AF$119,7,0),\"\")","v":8},{"$f":"IFERROR(VLOOKUP(G115,$X$115:$AF$119,8,0),\"\")","v":10},{"$f":"SUM(M115:R115)","v":38},{"$f":"IF(H115=\"\",0,1)","v":1},null,null,7,{"$f":"IF(OR(AJ115=\"\",AJ115=0),0,RANK(AJ115,AJ115:AJ120,1))","v":5},{"$f":"Home!F4","v":"Cleveland"},{"$f":"IFERROR(VLOOKUP(Z114,$A$7:$G$106,W115,0),0)","v":2},{"$f":"IFERROR(VLOOKUP(AA114,A$7:G$106,W115,0),0)","v":27},{"$f":"IFERROR(VLOOKUP(AB114,A$7:G$106,W115,0),0)","v":35},{"$f":"IF(W114=3,0,IFERROR(VLOOKUP(AC114,A$7:G$106,W115,0),0))","v":41},{"$f":"IF(W114=4,0,IFERROR(VLOOKUP(AD114,A$7:G$106,W115,0),0))","v":51},{"$f":"IF(OR(W114=4,W114=5),0,IFERROR(VLOOKUP(AE114,A$7:G$106,W115,0),0))","v":52},{"$f":"IF(AE115=0,0,SUM(Z115:AE115))","v":208},{"$f":"IF(OR(AF115=0,AF115=\"\"),0,RANK(AF115,AF115:AF120,1))","v":6},{"$f":"IF(OR(AG115=0,AG115=\"\"),\"\",IF(OR(AG115=AG116,AG115=AG117,AG115=AG118,AG115=AG119,AG115=AG120),\"=\",\"\"))","v":""},{"$f":"IF(AH115=\"=\",COUNTIF(AH115:AH115,\"<>A\")-COUNTIF(AH115:AH115,\"\"),0)","v":0},{"$f":"IF(AND(AG115=0,AI115=0),\"\",AG115+(AI115/10)+AL115/10)","v":6.3},{"$f":"X115","v":5},{"$f":"IF(OR(AF115=0,AF115=\"\"),0,RANK(Z115,Z115:Z120,1))","v":3}]
[null,null,null,null,null,null,2,{"$f":"IFERROR(VLOOKUP(G116,$X$115:$AF$119,2,0),\"\")","v":"Cumbria"},null,null,null,null,{"$f":"IFERROR(VLOOKUP(G116,$X$115:$AF$119,3,0),\"\")","v":1},{"$f":"IFERROR(VLOOKUP(G116,$X$115:$AF$119,4,0),\"\")","v":5},{"$f":"IFERROR(VLOOKUP(G116,$X$115:$AF$119,5,0),\"\")","v":9},{"$f":"IFERROR(VLOOKUP(G116,$X$115:$AF$119,6,0),\"\")","v":12},{"$f":"IFERROR(VLOOKUP(G116,$X$115:$AF$119,7,0),\"\")","v":13},{"$f":"IFERROR(VLOOKUP(G116,$X$115:$AF$119,8,0),\"\")","v":22},{"$f":"SUM(M116:R116)","v":62},1,null,null,6,{"$f":"IF(OR(AJ116=\"\",AJ116=0),0,RANK(AJ116,AJ115:AJ120,1))","v":2},{"$f":"Home!F5","v":"Cumbria"},{"$f":"IFERROR(VLOOKUP(Z114,$B$7:$G$106,W116,0),0)","v":1},{"$f":"IFERROR(VLOOKUP(AA114,B$7:G$106,W116,0),0)","v":5},{"$f":"IFERROR(VLOOKUP(AB114,B$7:G$106,W116,0),0)","v":9},{"$f":"IF(W114=3,0,IFERROR(VLOOKUP(AC114,B$7:G$106,W116,0),0))","v":12},{"$f":"IF(W114=4,0,IFERROR(VLOOKUP(AD114,B$7:G$106,W116,0),0))","v":13},{"$f":"IF(OR(W114=4,W114=5),0,IFERROR(VLOOKUP(AE114,B$7:G$106,W116,0),0))","v":22},{"$f":"IF(AE116=0,0,SUM(Z116:AE116))","v":62},{"$f":"IF(OR(AF116=0,AF116=\"\"),0,RANK(AF116,AF115:AF120,1))","v":3},{"$f":"IF(OR(AG116=0,AG116=\"\"),\"\",IF(OR(AG116=AG117,AG116=AG118,AG116=AG119,AG116=AG120,AG116=AG115),\"=\",\"\"))","v":""},{"$f":"IF(AH116=\"=\",COUNTIF(AH115:AH116,\"<>A\")-COUNTIF(AH115:AH116,\"\"),0)","v":0},{"$f":"IF(AND(AG116=0,AI116=0),\"\",AG116+(AI116/10)+AL116/10)","v":3.2},{"$f":"X116","v":2},{"$f":"IF(OR(AF116=0,AF116=\"\"),0,RANK(Z116,Z115:Z120,1))","v":2}]
[null,null,null,null,null,null,3,"Durham",null,null,null,null,11,14,16,20,23,24,108,1,null,null,5,{"$f":"IF(OR(AJ117=\"\",AJ117=0),0,RANK(AJ117,AJ115:AJ120,1))","v":3},{"$f":"Home!F6","v":"Durham"},{"$f":"IFERROR(VLOOKUP(Z114,$C$7:$G$106,W117,0),0)","v":11},{"$f":"IFERROR(VLOOKUP(AA114,C$7:G$106,W117,0),0)","v":14},{"$f":"IFERROR(VLOOKUP(AB114,C$7:G$106,W117,0),0)","v":16},{"$f":"IF(W114=3,0,IFERROR(VLOOKUP(AC114,C$7:G$106,W117,0),0))","v":20},{"$f":"IF(W114=4,0,IFERROR(VLOOKUP(AD114,C$7:G$106,W117,0),0))","v":23},{"$f":"IF(OR(W114=4,W114=5),0,IFERROR(VLOOKUP(AE114,C$7:G$106,W117,0),0))","v":24},108,{"$f":"IF(OR(AF117=0,AF117=\"\"),0,RANK(AF117,AF115:AF120,1))","v":4},{"$f":"IF(OR(AG117=0,AG117=\"\"),\"\",IF(OR(AG117=AG118,AG117=AG119,AG117=AG120,AG117=AG115,AG117=AG116),\"=\",\"\"))","v":""},{"$f":"IF(AH117=\"=\",COUNTIF(AH115:AH117,\"<>A\")-COUNTIF(AH115:AH117,\"\"),0)","v":0},4.5,3,{"$f":"IF(OR(AF117=0,AF117=\"\"),0,RANK(Z117,Z115:Z120,1))","v":5}]
[null,null,null,null,null,null,4,"North Yorkshire",null,null,null,null,17,18,19,21,25,30,130,1,null,null,4,{"$f":"IF(OR(AJ118=\"\",AJ118=0),0,RANK(AJ118,AJ115:AJ120,1))","v":1},{"$f":"Home!F7","v":"Northumberland"},{"$f":"IFERROR(VLOOKUP(Z114,$D$7:$G$106,W118,0),0)","v":3},{"$f":"IFERROR(VLOOKUP(AA114,D$7:G$106,W118,0),0)","v":4},{"$f":"IFERROR(VLOOKUP(AB114,D$7:G$106,W118,0),0)","v":6},{"$f":"IF(W114=3,0,IFERROR(VLOOKUP(AC114,D$7:G$106,W118,0),0))","v":7},{"$f":"IF(W114=4,0,IFERROR(VLOOKUP(AD114,D$7:G$106,W118,0),0))","v":8},{"$f":"IF(OR(W114=4,W114=5),0,IFERROR(VLOOKUP(AE114,D$7:G$106,W118,0),0))","v":10},38,{"$f":"IF(OR(AF118=0,AF118=\"\"),0,RANK(AF118,AF115:AF120,1))","v":2},{"$f":"IF(OR(AG118=0,AG118=\"\"),\"\",IF(OR(AG118=AG119,AG118=AG120,AG118=AG115,AG118=AG116,AG118=AG117),\"=\",\"\"))","v":""},{"$f":"IF(AH118=\"=\",COUNTIF(AH115:AH118,\"<>A\")-COUNTIF(AH115:AH118,\"\"),0)","v":0},2.4,1,{"$f":"IF(OR(AF118=0,AF118=\"\"),0,RANK(Z118,Z115:Z120,1))","v":4}]
[null,null,null,null,null,null,5,"Cleveland",null,null,null,null,2,27,35,41,51,52,208,1,null,null,3,{"$f":"IF(OR(AJ119=\"\",AJ119=0),0,RANK(AJ119,AJ115:AJ120,1))","v":4},{"$f":"Home!F8","v":"North Yorkshire"},{"$f":"IFERROR(VLOOKUP(Z114,$E$7:$G$106,W119,0),0)","v":17},{"$f":"IFERROR(VLOOKUP(AA114,E$7:G$106,W119,0),0)","v":18},{"$f":"IFERROR(VLOOKUP(AB114,E$7:G$106,W119,0),0)","v":19},{"$f":"IF(W114=3,0,IFERROR(VLOOKUP(AC114,E$7:G$106,W119,0),0))","v":21},{"$f":"IF(W114=4,0,IFERROR(VLOOKUP(AD114,E$7:G$106,W119,0),0))","v":25},{"$f":"IF(OR(W114=4,W114=5),0,IFERROR(VLOOKUP(AE114,E$7:G$106,W119,0),0))","v":30},130,{"$f":"IF(OR(AF119=0,AF119=\"\"),0,RANK(AF119,AF115:AF120,1))","v":5},{"$f":"IF(OR(AG119=0,AG119=\"\"),\"\",IF(OR(AG119=AG120,AG119=AG115,AG119=AG116,AG119=AG117,AG119=AG118),\"=\",\"\"))","v":""},{"$f":"IF(AH119=\"=\",COUNTIF(AH115:AH119,\"<>A\")-COUNTIF(AH115:AH119,\"\"),0)","v":0},5.6,4,{"$f":"IF(OR(AF119=0,AF119=\"\"),0,RANK(Z119,Z115:Z120,1))","v":6}]
[null,null,null,null,null,null,null,null,null,null,null,null,null,null,null,null,null,null,null,null,null,null,2,{"$f":"IF(OR(AJ120=\"\",AJ120=0),0,RANK(AJ120,AJ115:AJ120,1))","v":0},{"$f":"Home!F9","v":0},{"$f":"IFERROR(VLOOKUP(Z114,F7:G106,W120,0),0)","v":0},{"$f":"IFERROR(VLOOKUP(AA114,F7:G106,W120,0),0)","v":0},{"$f":"IFERROR(VLOOKUP(AB114,F7:G106,W120,0),0)","v":0},{"$f":"IF(W114=3,0,IFERROR(VLOOKUP(AC114,F7:G106,W120,0),0))","v":0},{"$f":"IF(W114=4,0,IFERROR(VLOOKUP(AD114,F7:G106,W120,0),0))","v":0},{"$f":"IF(OR(W114=4,W114=5),0,IFERROR(VLOOKUP(AE114,F7:G106,W120,0),0))","v":0},{"$f":"IF(AE120=0,0,SUM(Z120:AE120))","v":0},{"$f":"IF(OR(AF120=0,AF120=\"\"),0,RANK(AF120,AF115:AF120,1))","v":0},{"$f":"IF(OR(AG120=0,AG120=\"\"),\"\",IF(OR(AG120=AG115,AG120=AG116,AG120=AG117,AG120=AG118,AG120=AG119),\"=\",\"\"))","v":""},{"$f":"IF(AH120=\"=\",COUNTIF(AH115:AH120,\"<>A\")-COUNTIF(AH115:AH120,\"\"),0)","v":0},"",0,{"$f":"IF(OR(AF120=0,AF120=\"\"),0,RANK(Z120,Z115:Z120,1))","v":0}]

{"sheet":"Girls Declarations","index":10,"n_rows":102,"n_cols":15,"rows_kept":102,"cut":false,"hidden":false,"merged":[[0,0,0,2],[0,4,0,6],[0,8,0,10],[0,12,0,14]]}
["Minor Girls (Year 7)",null,null,null,"Junior Girls (Year 8/9)",null,null,null,"Intermediate Girls (Year 10/11)",null,null,null,"Senior Girls (Year 12/13)"]
["Num","Name","County",null,"Num","Name","County",null,"Num","Name","County",null,"Num","Name","County"]
[1,"Emma Mcneil","Cleveland",null,1,"Lois Creasey","Cleveland",null,1,"Laura Harris","Cleveland",null,1,"Eli Barnbrook","Cleveland"]
[2,"Gabby Hall","Cleveland",null,2,"Katie Lowe","Cleveland",null,2,"Charlotte Bennett","Cleveland",null,2,"IsobelWherritt","Cleveland"]
[3,"Isabelle Herbert","Cleveland",null,3,"Peta Collins","Cleveland",null,3,"Jordan Thrower","Cleveland",null,3,"Willow Andrew","Cleveland"]
[4,"Isabelle Troop","Cleveland",null,4,"Anna Reeves","Cleveland",null,4,"Rebecca Tilley","Cleveland",null,4,"Amelia Farrow","Cleveland"]
[5,"Molly Thrower","Cleveland",null,5,"Sophie Briming","Cleveland",null,5,"Millie Steel","Cleveland",null,5,"Rebeckah Higgins","Cleveland"]
[6,"Claudia Bainbridge","Cleveland",null,6,"Imogen Lillie","Cleveland",null,6,"F Roger","Cleveland",null,6,"Alice Knight","Cleveland"]
[7,"Emma Foster","Cleveland",null,7,"Millie Ellicker","Cleveland",null,7,"Ruby Whitney","Cleveland",null,7,"Laura Edwards","Cleveland"]
[8,"Fern Shelton","Cleveland",null,8,"Essie Croce","Cleveland",null,8,"Megan Tipper","Cleveland",null,8,null,"Cleveland"]
[9,null,"Cleveland",null,9,"Maddy Cox","Cleveland",null,9,"Victoria Lynn","Cleveland",null,9,null,"Cleveland"]
[10,null,"Cleveland",null,10,"Faye Dale","Cleveland",null,10,"Amelia O'Neill","Cleveland",null,10,null,"Cleveland"]
[11,null,"Cleveland",null,11,"Heba Nane","Cleveland",null,11,"Hannah Skull","Cleveland",null,11,null,"Cleveland"]
[12,null,"Cleveland",null,12,"Izzy Blackburn","Cleveland",null,12,"Mia Templeton","Cleveland",null,12,null,"Cleveland"]
[13,null,"Cleveland",null,13,"Lucy Mcgouran","Cleveland",null,13,"Estelle Matthews","Cleveland",null,13,null,"Cleveland"]
[14,null,"Cleveland",null,14,"Caitlin Andrews","Cleveland",null,14,"Harriet Thompson","Cleveland",null,14,null,"Cleveland"]
[15,null,"Cleveland",null,15,"Jess Hall","Cleveland",null,15,"Sophie Vickers","Cleveland",null,15,null,"Cleveland"]
[16,null,"Cleveland",null,16,"Kerry Heslop","Cleveland",null,16,"Rebecca Dowson","Cleveland",null,16,null,"Cleveland"]
[17,null,"Cleveland",null,17,null,"Cleveland",null,17,"Emily Brown","Cleveland",null,17,null,"Cleveland"]
[18,null,"Cleveland",null,18,null,"Cleveland",null,18,null,"Cleveland",null,18,null,"Cleveland"]
[19,null,"Cleveland",null,19,null,"Cleveland",null,19,null,"Cleveland",null,19,null,"Cleveland"]
[20,null,"Cleveland",null,20,null,"Cleveland",null,20,null,"Cleveland",null,20,null,"Cleveland"]
[21,"Sarah Smith","Cumbria",null,21,"Anna Mason","Cumbria",null,21,"Rosie Woodhams","Cumbria",null,21,"Esme Davies","Cumbria"]
[22,"Sophie Rylance","Cumbria",null,22,"Olesia Winder","Cumbria",null,22,"Chloe Rylance","Cumbria",null,22,"Maria Page","Cumbria"]
[23,"Clara Samson","Cumbria",null,23,"Millie  Bell","Cumbria",null,23,"Molly Wren","Cumbria",null,23,"Eve Pannone","Cumbria"]
[24,"Maddie Hutton","Cumbria",null,24,"Emily Weightman","Cumbria",null,24,"Natasha Cookson","Cumbria",null,24,"Hannah Durkin","Cumbria"]
[25,"Elodie Malcolm","Cumbria",null,25,"Alicia Newing","Cumbria",null,25,"Mia Easthope","Cumbria",null,25,"Georgina Boyd-Moss","Cumbria"]
[26,"Jessica Bailey","Cumbria",null,26,"Lizzy Pawson","Cumbria",null,26,"Alex Duckitt","Cumbria",null,26,"Amy Slattery","Cumbria"]
[27,"Katy Irving","Cumbria",null,27,"Amelie Marshall","Cumbria",null,27,"Clara Davies","Cumbria",null,27,"Sally Bennett","Cumbria"]
[28,"Grace Monkhouse","Cumbria",null,28,"Laura Brown","Cumbria",null,28,"Olivia Graham","Cumbria",null,28,"Christina Peart","Cumbria"]
[29,"Neve Mclaughlin","Cumbria",null,29,"Gemma O'Dowd","Cumbria",null,29,"Ruby Frankland","Cumbria",null,29,"Ally Hoy","Cumbria"]
[30,"Bethan Saunders","Cumbria",null,30,"Emily Swarbrick","Cumbria",null,30,"Mia Doherty","Cumbria",null,30,"Honour Jeffrey","Cumbria"]
[31,"Olivia Bennett","Cumbria",null,31,"Melissa Mcintosh","Cumbria",null,31,"Megan Jones","Cumbria",null,31,"Daisy Barnes","Cumbria"]
[32,"Ella Parr","Cumbria",null,32,"Anna Taylor","Cumbria",null,32,"Nicole Clegg","Cumbria",null,32,"Amy Cooke","Cumbria"]
[33,"Fayth Bowness","Cumbria",null,33,"Martha Richards","Cumbria",null,33,"Olivia Mason","Cumbria",null,33,"Molly Hale","Cumbria"]
[34,"Bethany Saunders","Cumbria",null,34,"Amelia Mardel","Cumbria",null,34,"Nicole Mattinson","Cumbria",null,34,"Josie Coulthard","Cumbria"]
[35,"Mia Brayshaw","Cumbria",null,35,"Georgia Heath","Cumbria",null,35,"Bella Matarewicz","Cumbria",null,35,"Emma Whittaker","Cumbria"]
[36,"Holly Brown","Cumbria",null,36,"Ava Taperell","Cumbria",null,36,"Maisie Gough","Cumbria",null,36,"Imogen Burrow","Cumbria"]
[37,"Ebony Blackwell","Cumbria",null,37,"Holly Dobson","Cumbria",null,37,"Molly Barrett","Cumbria",null,37,"Heidi Murray","Cumbria"]
[38,null,"Cumbria",null,38,"Sophie Uwbank","Cumbria",null,38,"Anna Herr","Cumbria",null,38,null,"Cumbria"]
[39,null,"Cumbria",null,39,"Daisey Gillon","Cumbria",null,39,"CJ Middleton","Cumbria",null,39,null,"Cumbria"]
[40,"Tilly Nicholson","Cumbria",null,40,"Freya Gaitshell","Cumbria",null,40,"Lucy Gibson","Cumbria",null,40,null,"Cumbria"]
[41,"Freya Clarkson","Durham",null,41,"Emily Chong","Durham",null,41,"India Pentland","Durham",null,41,"Lucy-Erin Hunter","Durham"]
[42,"Jessica Peart","Durham",null,42,"Amy Leonard","Durham",null,42,"Catherine Roberts","Durham",null,42,"Sarah Knight","Durham"]
[43,"Ava Local","Durham",null,43,"Tess Graham","Durham",null,43,"Lydia James","Durham",null,43,"Evie Quinn","Durham"]
[44,"Hannah Bowyer","Durham",null,44,"Erin Keeler-Clarke","Durham",null,44,"Anna Pigford","Durham",null,44,"Stella Jones","Durham"]
[45,"Tilly Abbott","Durham",null,45,"Cecilia Reid","Durham",null,45,"Eva Hardie","Durham",null,45,"Hannah Short","Durham"]
[46,"Anya Crowder","Durham",null,46,"Katie Francis","Durham",null,46,"Ellie Phillips","Durham",null,46,"Molly Foggon","Durham"]
[47,"Rachel Maclenwey","Durham",null,47,"Lucy Scothern","Durham",null,47,"Rebecca Wren","Durham",null,47,"Kezia Dowcett","Durham"]
[48,"Freya Gibson","Durham",null,48,"Nicole Phillips","Durham",null,48,"Sophie Robson","Durham",null,48,"Laura Kirkham","Durham"]
[49,"Katy Watson","Durham",null,49,"Scarlett Newby","Durham",null,49,"Megan Noble","Durham",null,49,"Amy Jack","Durham"]
[50,"Heather Robinson","Durham",null,50,"Abigail Thwaites","Durham",null,50,"Chloe Fairclough","Durham",null,50,"Lisa Thornley","Durham"]
[51,"Helena Wyness","Durham",null,51,"Emily Salmon","Durham",null,51,"Jessica Holman","Durham",null,51,"Bridget Bradshaw","Durham"]
[52,"Adele Dry","Durham",null,52,"Ciara Thornley","Durham",null,52,"Hannah Holman","Durham",null,52,"Grace Curtis","Durham"]
[53,null,"Durham",null,53,"Beth Wilson","Durham",null,53,"Ishbel Speirs","Durham",null,53,"Imogen Coxon","Durham"]
[54,null,"Durham",null,54,"Bethaney Iveson","Durham",null,54,"Jessica Levy","Durham",null,54,"Lucy Grehan-Bradley","Durham"]
[55,null,"Durham",null,55,"Harriet Rogers","Durham",null,55,"Lara Greggs","Durham",null,55,"Bethany Fitzsimmons","Durham"]
[56,null,"Durham",null,56,"Florence Archer","Durham",null,56,"Bethany Chapman","Durham",null,56,null,"Durham"]
[57,null,"Durham",null,57,"Kathyrn Lee","Durham",null,57,"Jasmine Crang","Durham",null,57,null,"Durham"]
[58,null,"Durham",null,58,null,"Durham",null,58,"Abbie Lewis ","Durham",null,58,null,"Durham"]
[59,null,"Durham",null,59,null,"Durham",null,59,null,"Durham",null,59,null,"Durham"]
[60,null,"Durham",null,60,null,"Durham",null,60,null,"Durham",null,60,null,"Durham"]
[61,"Katie Joslyn","Northumberland",null,61,"Ines Curran","Northumberland",null,61,"Holly Peck","Northumberland",null,61,"Robyn Bennett","Northumberland"]
[62,"Faye Landless","Northumberland",null,62,"Lauren Brown","Northumberland",null,62,"Suzannah Fielding","Northumberland",null,62,"Isobel Chaudhry","Northumberland"]
[63,"Zara Naughton","Northumberland",null,63,"Kate Salthouse","Northumberland",null,63,null,"Northumberland",null,63,"Erin Prior","Northumberland"]
[64,"Charlotte Payton","Northumberland",null,64,"Millicent Breese","Northumberland",null,64,"Lily Heaton","Northumberland",null,64,"Gracie Hufton","Northumberland"]
[65,"Laura Cottee","Northumberland",null,65,"Amy Ellis","Northumberland",null,65,"Grace Varley","Northumberland",null,65,"Isobel Robinson","Northumberland"]
[66,"Caitlin Flanagan","Northumberland",null,66,"Rosie Hughes","Northumberland",null,66,"Chloe Wellings","Northumberland",null,66,"Holly Matheson","Northumberland"]
[67,"Imogen Bungay","Northumberland",null,67,"Lily Robson","Northumberland",null,67,"Anna Styles","Northumberland",null,67,"Elisha Tait","Northumberland"]
[68,"Nikola Grinberga","Northumberland",null,68,"Ellie Van Der Merwe","Northumberland",null,68,"Megan Cottee","Northumberland",null,68,"Sophie Robinson","Northumberland"]
[69,"Matilda Anderson","Northumberland",null,69,"Abigail Leiper","Northumberland",null,69,"Elena Walker","Northumberland",null,69,"Emma Dixon","Northumberland"]
[70,"Daisy McClintock","Northumberland",null,70,"Willow Morris","Northumberland",null,70,"Lily Shaw","Northumberland",null,70,"Eira Hegarty","Northumberland"]
[71,"Georgina Mabbott","Northumberland",null,71,"Rhiannon Hedley","Northumberland",null,71,"Molly Craig","Northumberland",null,71,"Kay Errington","Northumberland"]
[72,"Elizabeth Carragher","Northumberland",null,72,"Holly Waugh","Northumberland",null,72,"Kirsty Duffin","Northumberland",null,72,"Beth Fraser","Northumberland"]
[73,"Eve Rudd","Northumberland",null,73,"Grace Larsen","Northumberland",null,73,"Amelie Brook","Northumberland",null,73,"Annabel Carroll","Northumberland"]
[74,"Faye Crawford","Northumberland",null,74,null,"Northumberland",null,74,"Ella Duffield","Northumberland",null,74,"Sophie Mutch","Northumberland"]
[75,"Sophia Cunningham","Northumberland",null,75,null,"Northumberland",null,75,"Abigail Bedford","Northumberland",null,75,"Eve Buddle","Northumberland"]
[76,null,"Northumberland",null,76,null,"Northumberland",null,76,"Hannah Tumia","Northumberland",null,76,"Rhian Purves","Northumberland"]
[77,null,"Northumberland",null,77,null,"Northumberland",null,77,null,"Northumberland",null,77,null,"Northumberland"]
[78,null,"Northumberland",null,78,null,"Northumberland",null,78,null,"Northumberland",null,78,null,"Northumberland"]
[79,null,"Northumberland",null,79,null,"Northumberland",null,79,null,"Northumberland",null,79,null,"Northumberland"]
[80,null,"Northumberland",null,80,null,"Northumberland",null,80,null,"Northumberland",null,80,null,"Northumberland"]
[81,"Zoe Hill","North Yorkshire",null,81,"Alice Jones","North Yorkshire",null,81,"Bethany Bergstrand","North Yorkshire",null,81,"Maddy Mastrolonardo","North Yorkshire"]
[82,"Amelie Aylesbury","North Yorkshire",null,82,"Eve Whitaker","North Yorkshire",null,82,"Emily Jones","North Yorkshire",null,82,"Lily Naylor","North Yorkshire"]
[83,"Mollie Reynolds-Jones","North Yorkshire",null,83,"Issy Nicholls","North Yorkshire",null,83,"Emma Hart","North Yorkshire",null,83,"Lara Sterritt","North Yorkshire"]
[84,"Frances Hogg","North Yorkshire",null,84,"Harisah Ghafoor","North Yorkshire",null,84,"Holly Moss","North Yorkshire",null,84,"Julia Candela-Martinez","North Yorkshire"]
[85,"Shannon Robinson","North Yorkshire",null,85,"Marnie Scatchard","North Yorkshire",null,85,"Charlotte Parris","North Yorkshire",null,85,"Libby Rickard","North Yorkshire"]
[86,"Holly McCowie","North Yorkshire",null,86,"Ella Colbourn","North Yorkshire",null,86,"Abi Smith","North Yorkshire",null,86,"Eve Hutchinson","North Yorkshire"]
[87,"Willow Baker","North Yorkshire",null,87,"Lexi Whitaker","North Yorkshire",null,87,"Freddie Moore","North Yorkshire",null,87,"Vicki Merrick","North Yorkshire"]
[88,"Anya Potter-Firth","North Yorkshire",null,88,"Emma Peel","North Yorkshire",null,88,"Georgia Neary","North Yorkshire",null,88,"Charlotte Morris","North Yorkshire"]
[89,"Rebecca Hugill","North Yorkshire",null,89,"Alana Teasdale","North Yorkshire",null,89,"Phoebe Hall","North Yorkshire",null,89,"Tara Schwarze-Chintapatla","North Yorkshire"]
[90,"Alice McIntee","North Yorkshire",null,90,"Inez Khaddi","North Yorkshire",null,90,"Anika Schwarze-Chintapatla","North Yorkshire",null,90,"Chloe Dalton","North Yorkshire"]
[91,"Emily Simpson","North Yorkshire",null,91,"Molly Acton","North Yorkshire",null,91,"Jess Head","North Yorkshire",null,91,"Emily Dixon ","North Yorkshire"]
[92,"Alex Beeson","North Yorkshire",null,92,"Mia Petrucci","North Yorkshire",null,92,"Abi Robinson","North Yorkshire",null,92,null,"North Yorkshire"]
[93,"Elvina Vassell","North Yorkshire",null,93,null,"North Yorkshire",null,93,null,"North Yorkshire",null,93,null,"North Yorkshire"]
[94,null,"North Yorkshire",null,94,null,"North Yorkshire",null,94,null,"North Yorkshire",null,94,null,"North Yorkshire"]
[95,null,"North Yorkshire",null,95,null,"North Yorkshire",null,95,null,"North Yorkshire",null,95,null,"North Yorkshire"]
[96,null,"North Yorkshire",null,96,null,"North Yorkshire",null,96,null,"North Yorkshire",null,96,null,"North Yorkshire"]
[97,null,"North Yorkshire",null,97,null,"North Yorkshire",null,97,null,"North Yorkshire",null,97,null,"North Yorkshire"]
[98,null,"North Yorkshire",null,98,null,"North Yorkshire",null,98,null,"North Yorkshire",null,98,null,"North Yorkshire"]
[99,null,"North Yorkshire",null,99,null,"North Yorkshire",null,99,null,"North Yorkshire",null,99,null,"North Yorkshire"]
[100,null,"North Yorkshire",null,100,null,"North Yorkshire",null,100,null,"North Yorkshire",null,100,null,"North Yorkshire"]

{"sheet":"Overall Team Results","index":11,"n_rows":46,"n_cols":24,"rows_kept":46,"cut":false,"hidden":false,"merged":[[13,0,13,2],[13,4,13,8],[25,0,25,8],[37,0,37,8],[0,0,1,10],[6,0,6,10],[7,0,7,10],[8,0,8,10],[10,0,10,10]]}
[{"$f":"Home!$B$1","v":"Northern Schools' Inter-County Cross Country Championships"}]
[]
[]
[]
[]
[]
["Northern Schools' Inter-County"]
["Cross Country  Team Results "]
[{"$f":"Home!$I$4","v":"2018-02-03"},null,null,null,null,null,null,null,null,null,null,null,null,null,"MB","JB","IB","SB","MG","JG","IG","SG","TOTALS"]
[null,null,null,null,null,null,null,null,null,null,null,null,{"$f":"IF(W10=\"\",0,_xlfn.RANK.EQ(W10,W10:W14,1))","v":0},{"$f":"Home!F4","v":"Cleveland"},{"$f":"Minor_Boys!$AF$115","v":224},{"$f":"Junior_Boys!$AF$115","v":259},{"$f":"Intermediate_Boys!$AF$115","v":74},{"$f":"Senior_Boys!$AF$115","v":0},{"$f":"Minor_Girls!$AF$115","v":0},{"$f":"Junior_Girls!$AF$115","v":241},{"$f":"Intermediate_Girls!$AF$115","v":282},{"$f":"Senior_Girls!$AF$115","v":208},{"$f":"IF(X10=8,SUM(O10:U10),\"\")","v":""},{"$f":"COUNT(O10:V10)-COUNTIF(O10:V10,0)","v":6}]
[{"$f":"CONCATENATE(Home!$B$2,\", \",Home!$G$3)","v":"Barnard Castle School, Saturday 3rd February 2018"},null,null,null,null,null,null,null,null,null,null,null,{"$f":"IF(W11=\"\",0,_xlfn.RANK.EQ(W11,W10:W14,1))","v":3},{"$f":"Home!F5","v":"Cumbria"},{"$f":"Minor_Boys!$AF$116","v":137},{"$f":"Junior_Boys!$AF$116","v":70},{"$f":"Intermediate_Boys!$AF$116","v":157},{"$f":"Senior_Boys!$AF$116","v":76},{"$f":"Minor_Girls!$AF$116","v":67},{"$f":"Junior_Girls!$AF$116","v":80},{"$f":"Intermediate_Girls!$AF$116","v":44},{"$f":"Senior_Girls!$AF$116","v":62},{"$f":"IF(X11=8,SUM(O11:U11),\"\")","v":631},{"$f":"COUNT(O11:V11)-COUNTIF(O11:V11,0)","v":8}]
[null,null,null,null,null,null,null,null,null,null,null,null,{"$f":"IF(W12=\"\",0,_xlfn.RANK.EQ(W12,W10:W14,1))","v":2},{"$f":"Home!F6","v":"Durham"},{"$f":"Minor_Boys!$AF$117","v":61},{"$f":"Junior_Boys!$AF$117","v":74},{"$f":"Intermediate_Boys!$AF$117","v":109},{"$f":"Senior_Boys!$AF$117","v":125},{"$f":"Minor_Girls!$AF$117","v":94},{"$f":"Junior_Girls!$AF$117","v":59},{"$f":"Intermediate_Girls!$AF$117","v":59},{"$f":"Senior_Girls!$AF$117","v":108},581,8]
[null,null,null,null,null,null,null,null,null,null,null,null,{"$f":"IF(W13=\"\",0,_xlfn.RANK.EQ(W13,W10:W14,1))","v":4},{"$f":"Home!F7","v":"Northumberland"},{"$f":"Minor_Boys!$AF$118","v":67},{"$f":"Junior_Boys!$AF$118","v":89},{"$f":"Intermediate_Boys!$AF$118","v":47},{"$f":"Senior_Boys!$AF$118","v":107},{"$f":"Minor_Girls!$AF$118","v":140},{"$f":"Junior_Girls!$AF$118","v":107},{"$f":"Intermediate_Girls!$AF$118","v":142},{"$f":"Senior_Girls!$AF$118","v":38},699,8]
["Winners :",null,null,null,{"$f":"IFERROR(VLOOKUP(1,M10:N14,2,0),\"\")","v":"North Yorkshire"},null,null,null,null,null,null,null,{"$f":"IF(W14=\"\",0,_xlfn.RANK.EQ(W14,W10:W14,1))","v":1},{"$f":"Home!F8","v":"North Yorkshire"},{"$f":"Minor_Boys!$AF$119","v":58},{"$f":"Junior_Boys!$AF$119","v":72},{"$f":"Intermediate_Boys!$AF$119","v":97},{"$f":"Senior_Boys!$AF$119","v":51},{"$f":"Minor_Girls!$AF$119","v":59},{"$f":"Junior_Girls!$AF$119","v":71},{"$f":"Intermediate_Girls!$AF$119","v":85},{"$f":"Senior_Girls!$AF$119","v":130},493,8]
[null,null,3,4,5,6,7,8,9,10]
[null,"Overall County Team Results","MB","JB","IB","SB","MG","JG","IG","SG","TOTALS"]
[1,{"$f":"IFERROR(VLOOKUP(A17,M10:N14,2,0),\"\")","v":"North Yorkshire"},{"$f":"IFERROR(VLOOKUP(A17,M10:V14,C15,0),\"\")","v":58},{"$f":"IFERROR(VLOOKUP(A17,M10:V14,D15,0),\"\")","v":72},{"$f":"IFERROR(VLOOKUP(A17,M10:V14,E15,0),\"\")","v":97},{"$f":"IFERROR(VLOOKUP(A17,M10:V14,F15,0),\"\")","v":51},{"$f":"IFERROR(VLOOKUP(A17,M10:V14,G15,0),\"\")","v":59},{"$f":"IFERROR(VLOOKUP(A17,M10:V14,H15,0),\"\")","v":71},{"$f":"IFERROR(VLOOKUP(A17,M10:V14,I15,0),\"\")","v":85},{"$f":"IFERROR(VLOOKUP(A17,M10:V14,J15,0),\"\")","v":130},{"$f":"SUM(C17:J17)","v":623}]
[2,{"$f":"IFERROR(VLOOKUP(A18,M10:N14,2,0),\"\")","v":"Durham"},{"$f":"IFERROR(VLOOKUP(A18,M10:V14,C15,0),\"\")","v":61},{"$f":"IFERROR(VLOOKUP(A18,M10:V14,D15,0),\"\")","v":74},{"$f":"IFERROR(VLOOKUP(A18,M10:V14,E15,0),\"\")","v":109},{"$f":"IFERROR(VLOOKUP(A18,M10:V14,F15,0),\"\")","v":125},{"$f":"IFERROR(VLOOKUP(A18,M10:V14,G15,0),\"\")","v":94},{"$f":"IFERROR(VLOOKUP(A18,M10:V14,H15,0),\"\")","v":59},{"$f":"IFERROR(VLOOKUP(A18,M10:V14,I15,0),\"\")","v":59},{"$f":"IFERROR(VLOOKUP(A18,M10:V14,J15,0),\"\")","v":108},{"$f":"SUM(C18:J18)","v":689}]
[3,{"$f":"IFERROR(VLOOKUP(A19,M10:N14,2,0),\"\")","v":"Cumbria"},{"$f":"IFERROR(VLOOKUP(A19,M10:V14,C15,0),\"\")","v":137},{"$f":"IFERROR(VLOOKUP(A19,M10:V14,D15,0),\"\")","v":70},{"$f":"IFERROR(VLOOKUP(A19,M10:V14,E15,0),\"\")","v":157},{"$f":"IFERROR(VLOOKUP(A19,M10:V14,F15,0),\"\")","v":76},{"$f":"IFERROR(VLOOKUP(A19,M10:V14,G15,0),\"\")","v":67},{"$f":"IFERROR(VLOOKUP(A19,M10:V14,H15,0),\"\")","v":80},{"$f":"IFERROR(VLOOKUP(A19,M10:V14,I15,0),\"\")","v":44},{"$f":"IFERROR(VLOOKUP(A19,M10:V14,J15,0),\"\")","v":62},693,null,null,null,"MB","JB","IB","SB","TOTALS"]
[4,{"$f":"IFERROR(VLOOKUP(A20,M10:N14,2,0),\"\")","v":"Northumberland"},{"$f":"IFERROR(VLOOKUP(A20,M10:V14,C15,0),\"\")","v":67},{"$f":"IFERROR(VLOOKUP(A20,M10:V14,D15,0),\"\")","v":89},{"$f":"IFERROR(VLOOKUP(A20,M10:V14,E15,0),\"\")","v":47},{"$f":"IFERROR(VLOOKUP(A20,M10:V14,F15,0),\"\")","v":107},{"$f":"IFERROR(VLOOKUP(A20,M10:V14,G15,0),\"\")","v":140},{"$f":"IFERROR(VLOOKUP(A20,M10:V14,H15,0),\"\")","v":107},{"$f":"IFERROR(VLOOKUP(A20,M10:V14,I15,0),\"\")","v":142},{"$f":"IFERROR(VLOOKUP(A20,M10:V14,J15,0),\"\")","v":38},737,null,{"$f":"IF(S20=\"\",\"\",_xlfn.RANK.EQ(S20,S20:S24,1))","v":""},{"$f":"N10","v":"Cleveland"},{"$f":"O10","v":224},{"$f":"P10","v":259},{"$f":"Q10","v":74},{"$f":"R10","v":0},{"$f":"IF(T20=4,SUM(O20:R20),\"\")","v":""},{"$f":"COUNT(O20:R20)-COUNTIF(O20:R20,0)","v":3}]
[5,{"$f":"IFERROR(VLOOKUP(A21,M10:N14,2,0),\"\")","v":""},{"$f":"IFERROR(VLOOKUP(A21,M10:V14,C15,0),\"\")","v":""},{"$f":"IFERROR(VLOOKUP(A21,M10:V14,D15,0),\"\")","v":""},{"$f":"IFERROR(VLOOKUP(A21,M10:V14,E15,0),\"\")","v":""},{"$f":"IFERROR(VLOOKUP(A21,M10:V14,F15,0),\"\")","v":""},{"$f":"IFERROR(VLOOKUP(A21,M10:V14,G15,0),\"\")","v":""},{"$f":"IFERROR(VLOOKUP(A21,M10:V14,H15,0),\"\")","v":""},{"$f":"IFERROR(VLOOKUP(A21,M10:V14,I15,0),\"\")","v":""},{"$f":"IFERROR(VLOOKUP(A21,M10:V14,J15,0),\"\")","v":""},0,null,{"$f":"IF(S21=\"\",\"\",_xlfn.RANK.EQ(S21,S20:S24,1))","v":4},{"$f":"N11","v":"Cumbria"},{"$f":"O11","v":137},70,157,76,{"$f":"IF(T21=4,SUM(O21:R21),\"\")","v":440},{"$f":"COUNT(O21:R21)-COUNTIF(O21:R21,0)","v":4}]
[null,null,null,null,null,null,null,null,null,null,null,null,{"$f":"IF(S22=\"\",\"\",_xlfn.RANK.EQ(S22,S20:S24,1))","v":3},"Durham",61,74,109,125,369,4]
[null,null,null,null,null,null,null,null,null,null,null,null,{"$f":"IF(S23=\"\",\"\",_xlfn.RANK.EQ(S23,S20:S24,1))","v":2},"Northumberland",67,89,47,107,310,4]
[null,null,null,null,null,null,null,null,null,null,null,null,{"$f":"IF(S24=\"\",\"\",_xlfn.RANK.EQ(S24,S20:S24,1))","v":1},"North Yorkshire",58,72,97,51,278,4]
[]
["COUNTY TEAM RESULTS BOYS",null,null,null,null,null,null,null,null,null,null,null,null,null,"MG","JG","IG","SG","TOTALS"]
[null,null,null,null,null,null,null,null,null,null,null,null,{"$f":"IF(S27=\"\",\"\",_xlfn.RANK.EQ(S27,S27:S31,1))","v":""},{"$f":"N10","v":"Cleveland"},{"$f":"S10","v":0},{"$f":"T10","v":241},282,{"$f":"V10","v":208},{"$f":"IF(T27=4,SUM(O27:Q27),\"\")","v":""},{"$f":"COUNT(O27:R27)-COUNTIF(O27:R27,0)","v":3}]
[null,2,3,4,5,6,null,null,null,null,null,null,{"$f":"IF(S28=\"\",\"\",_xlfn.RANK.EQ(S28,S27:S31,1))","v":1},{"$f":"N11","v":"Cumbria"},{"$f":"S11","v":67},80,44,{"$f":"V11","v":62},{"$f":"IF(T28=4,SUM(O28:Q28),\"\")","v":191},{"$f":"COUNT(O28:R28)-COUNTIF(O28:R28,0)","v":4}]
[null,{"$f":"A26","v":"COUNTY TEAM RESULTS BOYS"},"MB","JB","IB","SB",null,"TOTALS",null,null,null,null,{"$f":"IF(S29=\"\",\"\",_xlfn.RANK.EQ(S29,S27:S31,1))","v":2},"Durham",94,59,59,108,212,4]
[1,{"$f":"IFERROR(VLOOKUP(A30,M20:Q24,B28,0),\"\")","v":"North Yorkshire"},{"$f":"IFERROR(VLOOKUP(A30,M20:R24,C28,0),\"\")","v":58},{"$f":"IFERROR(VLOOKUP(A30,M20:R24,D28,0),\"\")","v":72},{"$f":"IFERROR(VLOOKUP(A30,M20:R24,E28,0),\"\")","v":97},{"$f":"IFERROR(VLOOKUP(A30,M20:R24,F28,0),\"\")","v":51},null,{"$f":"SUM(C30:F30)","v":278},null,null,null,null,{"$f":"IF(S30=\"\",\"\",_xlfn.RANK.EQ(S30,S27:S31,1))","v":4},"Northumberland",140,107,142,38,389,4]
[2,{"$f":"IFERROR(VLOOKUP(A31,M20:Q24,B28,0),\"\")","v":"Northumberland"},{"$f":"IFERROR(VLOOKUP(A31,M20:R24,C28,0),\"\")","v":67},{"$f":"IFERROR(VLOOKUP(A31,M20:R24,D28,0),\"\")","v":89},{"$f":"IFERROR(VLOOKUP(A31,M20:R24,E28,0),\"\")","v":47},{"$f":"IFERROR(VLOOKUP(A31,M20:R24,F28,0),\"\")","v":107},null,{"$f":"SUM(C31:F31)","v":310},null,null,null,null,{"$f":"IF(S31=\"\",\"\",_xlfn.RANK.EQ(S31,S27:S31,1))","v":3},"North Yorkshire",59,71,{"$f":"U14","v":85},130,215,4]
[3,{"$f":"IFERROR(VLOOKUP(A32,M20:Q24,B28,0),\"\")","v":"Durham"},{"$f":"IFERROR(VLOOKUP(A32,M20:R24,C28,0),\"\")","v":61},{"$f":"IFERROR(VLOOKUP(A32,M20:R24,D28,0),\"\")","v":74},{"$f":"IFERROR(VLOOKUP(A32,M20:R24,E28,0),\"\")","v":109},{"$f":"IFERROR(VLOOKUP(A32,M20:R24,F28,0),\"\")","v":125},null,{"$f":"SUM(C32:F32)","v":369}]
[4,{"$f":"IFERROR(VLOOKUP(A33,M20:Q24,B28,0),\"\")","v":"Cumbria"},{"$f":"IFERROR(VLOOKUP(A33,M20:R24,C28,0),\"\")","v":137},{"$f":"IFERROR(VLOOKUP(A33,M20:R24,D28,0),\"\")","v":70},{"$f":"IFERROR(VLOOKUP(A33,M20:R24,E28,0),\"\")","v":157},{"$f":"IFERROR(VLOOKUP(A33,M20:R24,F28,0),\"\")","v":76},null,{"$f":"SUM(C33:F33)","v":440}]
[5,{"$f":"IFERROR(VLOOKUP(A34,M20:Q24,B28,0),\"\")","v":""},{"$f":"IFERROR(VLOOKUP(A34,M20:R24,C28,0),\"\")","v":""},{"$f":"IFERROR(VLOOKUP(A34,M20:R24,D28,0),\"\")","v":""},{"$f":"IFERROR(VLOOKUP(A34,M20:R24,E28,0),\"\")","v":""},{"$f":"IFERROR(VLOOKUP(A34,M20:R24,F28,0),\"\")","v":""},null,{"$f":"SUM(C34:F34)","v":0}]
[]
[]
[]
["COUNTY TEAM RESULTS GIRLS"]
[]
[null,2,3,4,5,6]
[null,{"$f":"A38","v":"COUNTY TEAM RESULTS GIRLS"},"MG","JG","IG","SG",null,"TOTALS"]
[1,{"$f":"IFERROR(VLOOKUP(A42,M27:Q31,B40,0),\"\")","v":"Cumbria"},{"$f":"IFERROR(VLOOKUP(A42,M27:R31,C40,0),\"\")","v":67},{"$f":"IFERROR(VLOOKUP(A42,M27:R31,D40,0),\"\")","v":80},{"$f":"IFERROR(VLOOKUP(A42,M27:R31,E40,0),\"\")","v":44},{"$f":"IFERROR(VLOOKUP(A42,M27:R31,F40,0),\"\")","v":62},null,{"$f":"SUM(C42:F42)","v":253}]
[2,{"$f":"IFERROR(VLOOKUP(A43,M27:Q31,B40,0),\"\")","v":"Durham"},{"$f":"IFERROR(VLOOKUP(A43,M27:R31,C40,0),\"\")","v":94},{"$f":"IFERROR(VLOOKUP(A43,M27:R31,D40,0),\"\")","v":59},{"$f":"IFERROR(VLOOKUP(A43,M27:R31,E40,0),\"\")","v":59},{"$f":"IFERROR(VLOOKUP(A43,M27:R31,F40,0),\"\")","v":108},null,{"$f":"SUM(C43:F43)","v":320}]
[3,{"$f":"IFERROR(VLOOKUP(A44,M27:Q31,B40,0),\"\")","v":"North Yorkshire"},{"$f":"IFERROR(VLOOKUP(A44,M27:R31,C40,0),\"\")","v":59},{"$f":"IFERROR(VLOOKUP(A44,M27:R31,D40,0),\"\")","v":71},{"$f":"IFERROR(VLOOKUP(A44,M27:R31,E40,0),\"\")","v":85},{"$f":"IFERROR(VLOOKUP(A44,M27:R31,F40,0),\"\")","v":130},null,{"$f":"SUM(C44:F44)","v":345}]
[4,{"$f":"IFERROR(VLOOKUP(A45,M27:Q31,B40,0),\"\")","v":"Northumberland"},{"$f":"IFERROR(VLOOKUP(A45,M27:R31,C40,0),\"\")","v":140},{"$f":"IFERROR(VLOOKUP(A45,M27:R31,D40,0),\"\")","v":107},{"$f":"IFERROR(VLOOKUP(A45,M27:R31,E40,0),\"\")","v":142},{"$f":"IFERROR(VLOOKUP(A45,M27:R31,F40,0),\"\")","v":38},null,{"$f":"SUM(C45:F45)","v":427}]
[5,{"$f":"IFERROR(VLOOKUP(A46,M27:Q31,B40,0),\"\")","v":""},{"$f":"IFERROR(VLOOKUP(A46,M27:R31,C40,0),\"\")","v":""},{"$f":"IFERROR(VLOOKUP(A46,M27:R31,D40,0),\"\")","v":""},{"$f":"IFERROR(VLOOKUP(A46,M27:R31,E40,0),\"\")","v":""},{"$f":"IFERROR(VLOOKUP(A46,M27:R31,F40,0),\"\")","v":""},null,{"$f":"SUM(C46:F46)","v":0}]

{"sheet":"Full Results","index":12,"n_rows":1007,"n_cols":29,"rows_kept":1007,"cut":false,"hidden":false,"merged":[[45,11,45,12],[39,3,39,7],[40,11,40,12],[41,11,41,12],[42,11,42,12],[43,11,43,12],[44,11,44,12],[40,3,40,6],[41,3,41,6],[42,3,42,6],[43,3,43,6],[44,3,44,6],[45,3,45,6],[33,3,33,6],[28,11,28,12],[29,11,29,12],[30,11,30,12],[31,11,31,12],[32,11,32,12],[33,11,33,12],[28,3,28,6],[29,3,29,6],[30,3,30,6],[31,3,31,6],[32,3,32,6],[16,3,16,5],[17,3,17,5],[18,3,18,5],[19,3,19,5],[20,3,20,5],[12,6,12,14],[15,3,15,5],[10,2,10,14],[8,2,8,14],[7,2,7,14],[6,2,6,14],[0,2,1,14],[888,2,888,14],[888,22,888,25],[889,2,889,14],[767,2,767,14],[767,22,767,25],[528,2,528,14],[528,22,528,25],[529,2,529,14],[633,2,633,14],[639,2,639,14],[647,2,647,14],[647,22,647,25],[408,2,408,14],[408,22,408,25],[993,2,993,14],[999,2,999,14],[527,2,527,14],[527,22,527,25],[768,2,768,14],[768,22,768,25],[769,2,769,14],[873,2,873,14],[879,2,879,14],[887,2,887,14],[887,22,887,25],[648,2,648,14],[648,22,648,25],[649,2,649,14],[753,2,753,14],[759,2,759,14],[409,2,409,14],[513,2,513,14],[519,2,519,14],[288,2,288,14],[288,22,288,25],[289,2,289,14],[393,2,393,14],[399,2,399,14],[407,2,407,14],[407,22,407,25],[169,2,169,14],[273,2,273,14],[279,2,279,14],[287,2,287,14],[287,22,287,25],[167,2,167,14],[167,22,167,25],[168,2,168,14],[159,2,159,14],[153,2,153,14],[168,22,168,25],[47,2,47,14],[48,2,48,14],[49,2,49,14],[47,22,47,25],[48,22,48,25]]}
[null,null,{"$f":"Home!$B$1","v":"Northern Schools' Inter-County Cross Country Championships"},null,null,null,null,null,null,null,null,null,null,null,null,1]
[null,null,null,null,null,null,null,null,null,null,null,null,null,null,null,1]
[null,null,null,null,null,null,null,null,null,null,null,null,null,null,null,1]
[null,null,null,null,null,null,null,null,null,null,null,null,null,null,null,1]
[null,null,null,null,null,null,null,null,null,null,null,null,null,null,null,1]
[null,null,null,null,null,null,null,null,null,null,null,null,null,null,null,1]
[null,null,"Northern Schools' Inter-County",null,null,null,null,null,null,null,null,null,null,null,null,1]
[null,null,"Cross Country  Team Results ",null,null,null,null,null,null,null,null,null,null,null,null,1]
[null,null,{"$f":"Home!$I$4","v":"2018-02-03"},null,null,null,null,null,null,null,null,null,null,null,null,1,null,null,null,"MB","JB","IB","SB","MG","JG","IG","SG","TOTALS"]
[null,null,null,null,null,null,null,null,null,null,null,null,null,null,null,1,null,{"$f":"IF(AB10=\"\",0,_xlfn.RANK.EQ(AB10,AB10:AB14,1))","v":0},{"$f":"Home!F4","v":"Cleveland"},{"$f":"Minor_Boys!$AF$115","v":224},{"$f":"Junior_Boys!$AF$115","v":259},{"$f":"Intermediate_Boys!$AF$115","v":74},{"$f":"Senior_Boys!$AF$115","v":0},{"$f":"Minor_Girls!$AF$115","v":0},{"$f":"Junior_Girls!$AF$115","v":241},{"$f":"Intermediate_Girls!$AF$115","v":282},{"$f":"Senior_Girls!$AF$115","v":208},{"$f":"IF(AC10=8,SUM(T10:Z10),\"\")","v":""},{"$f":"COUNT(T10:AA10)-COUNTIF(T10:AA10,0)","v":6}]
[null,null,{"$f":"CONCATENATE(Home!$B$2,\", \",Home!$G$3)","v":"Barnard Castle School, Saturday 3rd February 2018"},null,null,null,null,null,null,null,null,null,null,null,null,1,null,{"$f":"IF(AB11=\"\",0,_xlfn.RANK.EQ(AB11,AB10:AB14,1))","v":3},{"$f":"Home!F5","v":"Cumbria"},{"$f":"Minor_Boys!$AF$116","v":137},{"$f":"Junior_Boys!$AF$116","v":70},{"$f":"Intermediate_Boys!$AF$116","v":157},{"$f":"Senior_Boys!$AF$116","v":76},{"$f":"Minor_Girls!$AF$116","v":67},{"$f":"Junior_Girls!$AF$116","v":80},{"$f":"Intermediate_Girls!$AF$116","v":44},{"$f":"Senior_Girls!$AF$116","v":62},{"$f":"IF(AC11=8,SUM(T11:Z11),\"\")","v":631},{"$f":"COUNT(T11:AA11)-COUNTIF(T11:AA11,0)","v":8}]
[null,null,null,null,null,null,null,null,null,null,null,null,null,null,null,1,null,{"$f":"IF(AB12=\"\",0,_xlfn.RANK.EQ(AB12,AB10:AB14,1))","v":2},{"$f":"Home!F6","v":"Durham"},{"$f":"Minor_Boys!$AF$117","v":61},{"$f":"Junior_Boys!$AF$117","v":74},{"$f":"Intermediate_Boys!$AF$117","v":109},{"$f":"Senior_Boys!$AF$117","v":125},{"$f":"Minor_Girls!$AF$117","v":94},{"$f":"Junior_Girls!$AF$117","v":59},{"$f":"Intermediate_Girls!$AF$117","v":59},{"$f":"Senior_Girls!$AF$117","v":108},581,8]
[null,null,"Winners :",null,null,null,{"$f":"IFERROR(VLOOKUP(1,R9:S13,2,0),\"\")","v":""},null,null,null,null,null,null,null,null,1,null,{"$f":"IF(AB13=\"\",0,_xlfn.RANK.EQ(AB13,AB10:AB14,1))","v":4},{"$f":"Home!F7","v":"Northumberland"},{"$f":"Minor_Boys!$AF$118","v":67},{"$f":"Junior_Boys!$AF$118","v":89},{"$f":"Intermediate_Boys!$AF$118","v":47},{"$f":"Senior_Boys!$AF$118","v":107},{"$f":"Minor_Girls!$AF$118","v":140},{"$f":"Junior_Girls!$AF$118","v":107},{"$f":"Intermediate_Girls!$AF$118","v":142},{"$f":"Senior_Girls!$AF$118","v":38},699,8]
[null,null,null,null,null,null,null,null,null,null,null,null,null,null,null,1,null,{"$f":"IF(AB14=\"\",0,_xlfn.RANK.EQ(AB14,AB10:AB14,1))","v":1},{"$f":"Home!F8","v":"North Yorkshire"},{"$f":"Minor_Boys!$AF$119","v":58},{"$f":"Junior_Boys!$AF$119","v":72},{"$f":"Intermediate_Boys!$AF$119","v":97},{"$f":"Senior_Boys!$AF$119","v":51},{"$f":"Minor_Girls!$AF$119","v":59},{"$f":"Junior_Girls!$AF$119","v":71},{"$f":"Intermediate_Girls!$AF$119","v":85},{"$f":"Senior_Girls!$AF$119","v":130},493,8]
[null,null,null,"Overall County Team Results",null,null,null,null,null,null,null,null,null,null,null,1]
[null,null,null,null,null,null,"MB","JB","IB","SB","MG","JG","IG","SG","TOTALS",1]
[null,null,1,{"$f":"IFERROR(VLOOKUP(C17,R10:S14,2,0),\"\")","v":"North Yorkshire"},null,null,{"$f":"IFERROR(VLOOKUP(C17,R10:AA14,G22,0),\"\")","v":58},{"$f":"IFERROR(VLOOKUP(C17,R10:AA14,H22,0),\"\")","v":72},{"$f":"IFERROR(VLOOKUP(C17,R10:AA14,I22,0),\"\")","v":97},{"$f":"IFERROR(VLOOKUP(C17,R10:AA14,J22,0),\"\")","v":51},{"$f":"IFERROR(VLOOKUP(C17,R10:AA14,K22,0),\"\")","v":59},{"$f":"IFERROR(VLOOKUP(C17,R10:AA14,L22,0),\"\")","v":71},{"$f":"IFERROR(VLOOKUP(C17,R10:AA14,M22,0),\"\")","v":85},{"$f":"IFERROR(VLOOKUP(C17,R10:AA14,N22,0),\"\")","v":130},{"$f":"SUM(G17:N17)","v":623},1]
[null,null,2,{"$f":"IFERROR(VLOOKUP(C18,R10:S14,2,0),\"\")","v":"Durham"},null,null,{"$f":"IFERROR(VLOOKUP(C18,R10:AA14,G22,0),\"\")","v":61},{"$f":"IFERROR(VLOOKUP(C18,R10:AA14,H22,0),\"\")","v":74},{"$f":"IFERROR(VLOOKUP(C18,R10:AA14,I22,0),\"\")","v":109},{"$f":"IFERROR(VLOOKUP(C18,R10:AA14,J22,0),\"\")","v":125},{"$f":"IFERROR(VLOOKUP(C18,R10:AA14,K22,0),\"\")","v":94},{"$f":"IFERROR(VLOOKUP(C18,R10:AA14,L22,0),\"\")","v":59},{"$f":"IFERROR(VLOOKUP(C18,R10:AA14,M22,0),\"\")","v":59},{"$f":"IFERROR(VLOOKUP(C18,R10:AA14,N22,0),\"\")","v":108},{"$f":"SUM(G18:N18)","v":689},1]
[null,null,3,{"$f":"IFERROR(VLOOKUP(C19,R10:S14,2,0),\"\")","v":"Cumbria"},null,null,{"$f":"IFERROR(VLOOKUP(C19,R10:AA14,G22,0),\"\")","v":137},{"$f":"IFERROR(VLOOKUP(C19,R10:AA14,H22,0),\"\")","v":70},{"$f":"IFERROR(VLOOKUP(C19,R10:AA14,I22,0),\"\")","v":157},{"$f":"IFERROR(VLOOKUP(C19,R10:AA14,J22,0),\"\")","v":76},{"$f":"IFERROR(VLOOKUP(C19,R10:AA14,K22,0),\"\")","v":67},{"$f":"IFERROR(VLOOKUP(C19,R10:AA14,L22,0),\"\")","v":80},{"$f":"IFERROR(VLOOKUP(C19,R10:AA14,M22,0),\"\")","v":44},{"$f":"IFERROR(VLOOKUP(C19,R10:AA14,N22,0),\"\")","v":62},693,1,null,null,null,"MB","JB","IB","SB","TOTALS"]
[null,null,4,{"$f":"IFERROR(VLOOKUP(C20,R10:S14,2,0),\"\")","v":"Northumberland"},null,null,{"$f":"IFERROR(VLOOKUP(C20,R10:AA14,G22,0),\"\")","v":67},{"$f":"IFERROR(VLOOKUP(C20,R10:AA14,H22,0),\"\")","v":89},{"$f":"IFERROR(VLOOKUP(C20,R10:AA14,I22,0),\"\")","v":47},{"$f":"IFERROR(VLOOKUP(C20,R10:AA14,J22,0),\"\")","v":107},{"$f":"IFERROR(VLOOKUP(C20,R10:AA14,K22,0),\"\")","v":140},{"$f":"IFERROR(VLOOKUP(C20,R10:AA14,L22,0),\"\")","v":107},{"$f":"IFERROR(VLOOKUP(C20,R10:AA14,M22,0),\"\")","v":142},{"$f":"IFERROR(VLOOKUP(C20,R10:AA14,N22,0),\"\")","v":38},737,1,null,{"$f":"IF(X20=\"\",\"\",_xlfn.RANK.EQ(X20,X20:X24,1))","v":""},{"$f":"S10","v":"Cleveland"},{"$f":"T10","v":224},{"$f":"U10","v":259},{"$f":"V10","v":74},{"$f":"W10","v":0},{"$f":"IF(Y20=4,SUM(T20:W20),\"\")","v":""},{"$f":"COUNT(T20:W20)-COUNTIF(T20:W20,0)","v":3}]
[null,null,5,{"$f":"IFERROR(VLOOKUP(C21,R10:S14,2,0),\"\")","v":""},null,null,{"$f":"IFERROR(VLOOKUP(C21,R10:AA14,G22,0),\"\")","v":""},{"$f":"IFERROR(VLOOKUP(C21,R10:AA14,H22,0),\"\")","v":""},{"$f":"IFERROR(VLOOKUP(C21,R10:AA14,I22,0),\"\")","v":""},{"$f":"IFERROR(VLOOKUP(C21,R10:AA14,J22,0),\"\")","v":""},{"$f":"IFERROR(VLOOKUP(C21,R10:AA14,K22,0),\"\")","v":""},{"$f":"IFERROR(VLOOKUP(C21,R10:AA14,L22,0),\"\")","v":""},{"$f":"IFERROR(VLOOKUP(C21,R10:AA14,M22,0),\"\")","v":""},{"$f":"IFERROR(VLOOKUP(C21,R10:AA14,N22,0),\"\")","v":""},0,1,null,{"$f":"IF(X21=\"\",\"\",_xlfn.RANK.EQ(X21,X20:X24,1))","v":4},{"$f":"S11","v":"Cumbria"},137,70,157,76,{"$f":"IF(Y21=4,SUM(T21:W21),\"\")","v":440},{"$f":"COUNT(T21:W21)-COUNTIF(T21:W21,0)","v":4}]
[null,null,null,null,null,null,3,4,5,6,7,8,9,10,null,1,null,{"$f":"IF(X22=\"\",\"\",_xlfn.RANK.EQ(X22,X20:X24,1))","v":3},"Durham",61,74,109,125,369,4]
[null,null,null,null,null,null,null,null,null,null,null,null,null,null,null,1,null,{"$f":"IF(X23=\"\",\"\",_xlfn.RANK.EQ(X23,X20:X24,1))","v":2},"Northumberland",67,89,47,107,310,4]
[null,null,null,null,null,null,null,null,null,null,null,null,null,null,null,1,null,{"$f":"IF(X24=\"\",\"\",_xlfn.RANK.EQ(X24,X20:X24,1))","v":1},"North Yorkshire",58,72,97,51,278,4]
[null,null,null,null,null,null,null,null,null,null,null,null,null,null,null,1]
[null,null,"COUNTY TEAM RESULTS BOYS",null,null,null,null,null,null,null,null,null,null,null,null,1,null,null,null,"MG","JG","IG","SG","TOTALS"]
[null,null,null,null,null,null,null,null,null,null,null,null,null,null,null,1,null,{"$f":"IF(X27=\"\",\"\",_xlfn.RANK.EQ(X27,X27:X31,1))","v":""},{"$f":"S10","v":"Cleveland"},{"$f":"X10","v":0},{"$f":"Y10","v":241},282,{"$f":"AA10","v":208},{"$f":"IF(Y27=4,SUM(T27:V27),\"\")","v":""},{"$f":"COUNT(T27:W27)-COUNTIF(T27:W27,0)","v":3}]
[null,null,null,{"$f":"C26","v":"COUNTY TEAM RESULTS BOYS"},null,null,null,null,null,null,null,null,null,null,null,1,null,{"$f":"IF(X28=\"\",\"\",_xlfn.RANK.EQ(X28,X27:X31,1))","v":1},{"$f":"S11","v":"Cumbria"},{"$f":"X11","v":67},80,44,62,{"$f":"IF(Y28=4,SUM(T28:V28),\"\")","v":191},{"$f":"COUNT(T28:W28)-COUNTIF(T28:W28,0)","v":4}]
[null,null,null,null,null,null,null,"MB","JB","IB","SB","TOTALS",null,null,null,1,null,{"$f":"IF(X29=\"\",\"\",_xlfn.RANK.EQ(X29,X27:X31,1))","v":2},"Durham",94,59,59,108,212,4]
[null,null,1,{"$f":"IFERROR(VLOOKUP(C30,R20:V24,D35,0),\"\")","v":"North Yorkshire"},null,null,null,{"$f":"IFERROR(VLOOKUP(C30,R20:W24,H35,0),\"\")","v":58},{"$f":"IFERROR(VLOOKUP(C30,R20:W24,I35,0),\"\")","v":72},{"$f":"IFERROR(VLOOKUP(C30,R20:W24,J35,0),\"\")","v":97},{"$f":"IFERROR(VLOOKUP(C30,R20:W24,K35,0),\"\")","v":51},{"$f":"SUM(H30:K30)","v":278},null,null,null,1,null,{"$f":"IF(X30=\"\",\"\",_xlfn.RANK.EQ(X30,X27:X31,1))","v":4},"Northumberland",140,107,142,38,389,4]
[null,null,2,{"$f":"IFERROR(VLOOKUP(C31,R20:V24,D35,0),\"\")","v":"Northumberland"},null,null,null,{"$f":"IFERROR(VLOOKUP(C31,R20:W24,H35,0),\"\")","v":67},{"$f":"IFERROR(VLOOKUP(C31,R20:W24,I35,0),\"\")","v":89},{"$f":"IFERROR(VLOOKUP(C31,R20:W24,J35,0),\"\")","v":47},{"$f":"IFERROR(VLOOKUP(C31,R20:W24,K35,0),\"\")","v":107},{"$f":"SUM(H31:K31)","v":310},null,null,null,1,null,{"$f":"IF(X31=\"\",\"\",_xlfn.RANK.EQ(X31,X27:X31,1))","v":3},"North Yorkshire",59,71,{"$f":"Z14","v":85},130,215,4]
[null,null,3,{"$f":"IFERROR(VLOOKUP(C32,R20:V24,D35,0),\"\")","v":"Durham"},null,null,null,{"$f":"IFERROR(VLOOKUP(C32,R20:W24,H35,0),\"\")","v":61},{"$f":"IFERROR(VLOOKUP(C32,R20:W24,I35,0),\"\")","v":74},{"$f":"IFERROR(VLOOKUP(C32,R20:W24,J35,0),\"\")","v":109},{"$f":"IFERROR(VLOOKUP(C32,R20:W24,K35,0),\"\")","v":125},{"$f":"SUM(H32:K32)","v":369},null,null,null,1]
[null,null,4,{"$f":"IFERROR(VLOOKUP(C33,R20:V24,D35,0),\"\")","v":"Cumbria"},null,null,null,{"$f":"IFERROR(VLOOKUP(C33,R20:W24,H35,0),\"\")","v":137},{"$f":"IFERROR(VLOOKUP(C33,R20:W24,I35,0),\"\")","v":70},{"$f":"IFERROR(VLOOKUP(C33,R20:W24,J35,0),\"\")","v":157},{"$f":"IFERROR(VLOOKUP(C33,R20:W24,K35,0),\"\")","v":76},{"$f":"SUM(H33:K33)","v":440},null,null,null,1]
[null,null,5,{"$f":"IFERROR(VLOOKUP(C34,R20:V24,D35,0),\"\")","v":""},null,null,null,{"$f":"IFERROR(VLOOKUP(C34,R20:W24,H35,0),\"\")","v":""},{"$f":"IFERROR(VLOOKUP(C34,R20:W24,I35,0),\"\")","v":""},{"$f":"IFERROR(VLOOKUP(C34,R20:W24,J35,0),\"\")","v":""},{"$f":"IFERROR(VLOOKUP(C34,R20:W24,K35,0),\"\")","v":""},{"$f":"SUM(H34:K34)","v":0},null,null,null,1]
[null,null,null,2,null,null,null,3,4,5,6,null,null,null,null,1]
[null,null,null,null,null,null,null,null,null,null,null,null,null,null,null,1]
[null,null,null,null,null,null,null,null,null,null,null,null,null,null,null,1]
[null,null,"COUNTY TEAM RESULTS GIRLS",null,null,null,null,null,null,null,null,null,null,null,null,1]
[null,null,null,null,null,null,null,null,null,null,null,null,null,null,null,1]
[null,null,null,{"$f":"C38","v":"COUNTY TEAM RESULTS GIRLS"},null,null,null,null,null,null,null,null,null,null,null,1]
[null,null,null,null,null,null,null,"MG","JG","IG","SG","TOTALS",null,null,null,1]
[null,null,1,{"$f":"IFERROR(VLOOKUP(C42,R27:V31,D47,0),\"\")","v":"Cumbria"},null,null,null,{"$f":"IFERROR(VLOOKUP(C42,R27:W31,H47,0),\"\")","v":67},{"$f":"IFERROR(VLOOKUP(C42,R27:W31,I47,0),\"\")","v":80},{"$f":"IFERROR(VLOOKUP(C42,R27:W31,J47,0),\"\")","v":44},{"$f":"IFERROR(VLOOKUP(C42,R27:W31,K47,0),\"\")","v":62},{"$f":"SUM(H42:K42)","v":253},null,null,null,1]
[null,null,2,{"$f":"IFERROR(VLOOKUP(C43,R27:V31,D47,0),\"\")","v":"Durham"},null,null,null,{"$f":"IFERROR(VLOOKUP(C43,R27:W31,H47,0),\"\")","v":94},{"$f":"IFERROR(VLOOKUP(C43,R27:W31,I47,0),\"\")","v":59},{"$f":"IFERROR(VLOOKUP(C43,R27:W31,J47,0),\"\")","v":59},{"$f":"IFERROR(VLOOKUP(C43,R27:W31,K47,0),\"\")","v":108},{"$f":"SUM(H43:K43)","v":320},null,null,null,1]
[null,null,3,{"$f":"IFERROR(VLOOKUP(C44,R27:V31,D47,0),\"\")","v":"North Yorkshire"},null,null,null,{"$f":"IFERROR(VLOOKUP(C44,R27:W31,H47,0),\"\")","v":59},{"$f":"IFERROR(VLOOKUP(C44,R27:W31,I47,0),\"\")","v":71},{"$f":"IFERROR(VLOOKUP(C44,R27:W31,J47,0),\"\")","v":85},{"$f":"IFERROR(VLOOKUP(C44,R27:W31,K47,0),\"\")","v":130},{"$f":"SUM(H44:K44)","v":345},null,null,null,1]
[null,null,4,{"$f":"IFERROR(VLOOKUP(C45,R27:V31,D47,0),\"\")","v":"Northumberland"},null,null,null,{"$f":"IFERROR(VLOOKUP(C45,R27:W31,H47,0),\"\")","v":140},{"$f":"IFERROR(VLOOKUP(C45,R27:W31,I47,0),\"\")","v":107},{"$f":"IFERROR(VLOOKUP(C45,R27:W31,J47,0),\"\")","v":142},{"$f":"IFERROR(VLOOKUP(C45,R27:W31,K47,0),\"\")","v":38},{"$f":"SUM(H45:K45)","v":427},null,null,null,1]
[null,null,5,{"$f":"IFERROR(VLOOKUP(C46,R27:V31,D47,0),\"\")","v":""},null,null,null,{"$f":"IFERROR(VLOOKUP(C46,R27:W31,H47,0),\"\")","v":""},{"$f":"IFERROR(VLOOKUP(C46,R27:W31,I47,0),\"\")","v":""},{"$f":"IFERROR(VLOOKUP(C46,R27:W31,J47,0),\"\")","v":""},{"$f":"IFERROR(VLOOKUP(C46,R27:W31,K47,0),\"\")","v":""},{"$f":"SUM(H46:K46)","v":0},null,null,null,1]
[null,null,null,2,null,null,null,3,4,5,6,null,null,null,null,1]
[null,null,{"$f":"Home!$B$1","v":"Northern Schools' Inter-County Cross Country Championships"},null,null,null,null,null,null,null,null,null,null,null,null,{"$f":"IF(D54=0,\"\",1)","v":1},null,null,null,null,null,null,null,null,null,null,{"$f":"CONCATENATE(U48,\" \",V48)","v":" "}]
[null,null,{"$f":"Home!$B$2","v":"Barnard Castle School"},null,null,null,null,null,null,null,null,null,null,null,null,{"$f":"IF(D54=0,\"\",1)","v":1}]
[null,null,{"$f":"Home!$G$3","v":"Saturday 3rd February 2018"},null,null,null,null,null,null,null,null,null,null,null,null,{"$f":"IF(D54=0,\"\",1)","v":1}]
[null,null,null,null,null,null,null,null,null,null,null,null,null,null,null,{"$f":"IF(D54=0,\"\",1)","v":1}]
[null,null,{"$f":"Minor_Boys!$G$5","v":"Minor Boys"},null,null,null,null,null,null,null,null,null,null,null,null,{"$f":"IF(D54=0,\"\",1)","v":1}]
[null,null,"Pos","Num","Name",null,null,null,null,null,"County",null,null,null,"Time",{"$f":"IF(D54=0,\"\",1)","v":1}]
[null,null,{"$f":"Minor_Boys!$G$7","v":1},{"$f":"Minor_Boys!$H$7","v":61},{"$f":"Minor_Boys!$I$7","v":"Tom Slane"},null,null,null,null,null,{"$f":"Minor_Boys!$O$7","v":"Northumberland"},null,null,null,{"$f":"Minor_Boys!$S$7","v":9.0299999999999994},{"$f":"IF(D54=0,\"\",1)","v":1}]
[null,null,{"$f":"Minor_Boys!$G$8","v":2},{"$f":"Minor_Boys!$H$8","v":82},{"$f":"Minor_Boys!$I$8","v":"Archie Gray"},null,null,null,null,null,{"$f":"Minor_Boys!$O$8","v":"North Yorkshire"},null,null,null,{"$f":"Minor_Boys!$S$8","v":9.1199999999999992},{"$f":"IF(D55=0,\"\",1)","v":1}]
[null,null,{"$f":"Minor_Boys!$G$9","v":3},{"$f":"Minor_Boys!$H$9","v":83},{"$f":"Minor_Boys!$I$9","v":"Archie Bordewich"},null,null,null,null,null,{"$f":"Minor_Boys!$O$9","v":"North Yorkshire"},null,null,null,{"$f":"Minor_Boys!$S$9","v":9.1300000000000008},1]
[null,null,{"$f":"Minor_Boys!$G$10","v":4},{"$f":"Minor_Boys!$H$10","v":21},{"$f":"Minor_Boys!$I$10","v":"Thomas Renwick"},null,null,null,null,null,{"$f":"Minor_Boys!$O$10","v":"Cumbria"},null,null,null,{"$f":"Minor_Boys!$S$10","v":9.1999999999999993},1]
[null,null,{"$f":"Minor_Boys!$G$11","v":5},{"$f":"Minor_Boys!$H$11","v":41},{"$f":"Minor_Boys!$I$11","v":"Daniel Richardson"},null,null,null,null,null,{"$f":"Minor_Boys!$O$11","v":"Durham"},null,null,null,{"$f":"Minor_Boys!$S$11","v":9.2200000000000006},1]
[null,null,{"$f":"Minor_Boys!$G$12","v":6},{"$f":"Minor_Boys!$H$12","v":42},{"$f":"Minor_Boys!$I$12","v":"Dylan Wilson"},null,null,null,null,null,{"$f":"Minor_Boys!$O$12","v":"Durham"},null,null,null,{"$f":"Minor_Boys!$S$12","v":9.24},1]
[null,null,{"$f":"Minor_Boys!$G$13","v":7},{"$f":"Minor_Boys!$H$13","v":84},{"$f":"Minor_Boys!$I$13","v":"Joshua Hammett"},null,null,null,null,null,{"$f":"Minor_Boys!$O$13","v":"North Yorkshire"},null,null,null,{"$f":"Minor_Boys!$S$13","v":9.25},1]
[null,null,{"$f":"Minor_Boys!$G$14","v":8},{"$f":"Minor_Boys!$H$14","v":43},{"$f":"Minor_Boys!$I$14","v":"Angus Milne"},null,null,null,null,null,{"$f":"Minor_Boys!$O$14","v":"Durham"},null,null,null,{"$f":"Minor_Boys!$S$14","v":9.27},1]
[null,null,{"$f":"Minor_Boys!$G$15","v":9},{"$f":"Minor_Boys!$H$15","v":47},{"$f":"Minor_Boys!$I$15","v":"Benjamin Giles"},null,null,null,null,null,{"$f":"Minor_Boys!$O$15","v":"Durham"},null,null,null,{"$f":"Minor_Boys!$S$15","v":9.2799999999999994},1]
[null,null,{"$f":"Minor_Boys!$G$16","v":10},{"$f":"Minor_Boys!$H$16","v":63},{"$f":"Minor_Boys!$I$16","v":"Ethan Bond"},null,null,null,null,null,{"$f":"Minor_Boys!$O$16","v":"Northumberland"},null,null,null,{"$f":"Minor_Boys!$S$16","v":9.2799999999999994},1]
[null,null,{"$f":"Minor_Boys!$G$17","v":11},{"$f":"Minor_Boys!$H$17","v":73},{"$f":"Minor_Boys!$I$17","v":"Oliver Dixon"},null,null,null,null,null,{"$f":"Minor_Boys!$O$17","v":"Northumberland"},null,null,null,{"$f":"Minor_Boys!$S$17","v":9.31},1]
[null,null,{"$f":"Minor_Boys!$G$18","v":12},{"$f":"Minor_Boys!$H$18","v":64},{"$f":"Minor_Boys!$I$18","v":"Noah Curran"},null,null,null,null,null,{"$f":"Minor_Boys!$O$18","v":"Northumberland"},null,null,null,{"$f":"Minor_Boys!$S$18","v":9.33},1]
[null,null,{"$f":"Minor_Boys!$G$19","v":13},{"$f":"Minor_Boys!$H$19","v":85},{"$f":"Minor_Boys!$I$19","v":"Will Partner"},null,null,null,null,null,{"$f":"Minor_Boys!$O$19","v":"North Yorkshire"},null,null,null,{"$f":"Minor_Boys!$S$19","v":9.33},1]
[null,null,{"$f":"Minor_Boys!$G$20","v":14},{"$f":"Minor_Boys!$H$20","v":81},{"$f":"Minor_Boys!$I$20","v":"Campbell Darcy"},null,null,null,null,null,{"$f":"Minor_Boys!$O$20","v":"North Yorkshire"},null,null,null,{"$f":"Minor_Boys!$S$20","v":9.33},1]
[null,null,{"$f":"Minor_Boys!$G$21","v":15},{"$f":"Minor_Boys!$H$21","v":44},{"$f":"Minor_Boys!$I$21","v":"George Wilkinson"},null,null,null,null,null,{"$f":"Minor_Boys!$O$21","v":"Durham"},null,null,null,{"$f":"Minor_Boys!$S$21","v":9.35},1]
[null,null,{"$f":"Minor_Boys!$G$22","v":16},{"$f":"Minor_Boys!$H$22","v":70},{"$f":"Minor_Boys!$I$22","v":"Ryan Davies"},null,null,null,null,null,{"$f":"Minor_Boys!$O$22","v":"Northumberland"},null,null,null,{"$f":"Minor_Boys!$S$22","v":9.39},1]
[null,null,{"$f":"Minor_Boys!$G$23","v":17},{"$f":"Minor_Boys!$H$23","v":67},{"$f":"Minor_Boys!$I$23","v":"Bertie  Marr"},null,null,null,null,null,{"$f":"Minor_Boys!$O$23","v":"Northumberland"},null,null,null,{"$f":"Minor_Boys!$S$23","v":9.34},1]
[null,null,{"$f":"Minor_Boys!$G$24","v":18},{"$f":"Minor_Boys!$H$24","v":45},{"$f":"Minor_Boys!$I$24","v":"George Beevers"},null,null,null,null,null,{"$f":"Minor_Boys!$O$24","v":"Durham"},null,null,null,{"$f":"Minor_Boys!$S$24","v":9.44},1]
[null,null,{"$f":"Minor_Boys!$G$25","v":19},{"$f":"Minor_Boys!$H$25","v":90},{"$f":"Minor_Boys!$I$25","v":"Freddie Marsh"},null,null,null,null,null,{"$f":"Minor_Boys!$O$25","v":"North Yorkshire"},null,null,null,{"$f":"Minor_Boys!$S$25","v":9.4499999999999993},1]
[null,null,{"$f":"Minor_Boys!$G$26","v":20},{"$f":"Minor_Boys!$H$26","v":22},{"$f":"Minor_Boys!$I$26","v":"Hector Westmorland-Nicholson"},null,null,null,null,null,{"$f":"Minor_Boys!$O$26","v":"Cumbria"},null,null,null,{"$f":"Minor_Boys!$S$26","v":9.4600000000000009},1]
[null,null,{"$f":"Minor_Boys!$G$27","v":21},{"$f":"Minor_Boys!$H$27","v":72},{"$f":"Minor_Boys!$I$27","v":"Lewis Henry"},null,null,null,null,null,{"$f":"Minor_Boys!$O$27","v":"Northumberland"},null,null,null,{"$f":"Minor_Boys!$S$27","v":9.48},1]
[null,null,{"$f":"Minor_Boys!$G$28","v":22},{"$f":"Minor_Boys!$H$28","v":91},{"$f":"Minor_Boys!$I$28","v":"Cian Winter"},null,null,null,null,null,{"$f":"Minor_Boys!$O$28","v":"North Yorkshire"},null,null,null,{"$f":"Minor_Boys!$S$28","v":9.5399999999999991},1]
[null,null,{"$f":"Minor_Boys!$G$29","v":23},{"$f":"Minor_Boys!$H$29","v":65},{"$f":"Minor_Boys!$I$29","v":"Cameron Simpson"},null,null,null,null,null,{"$f":"Minor_Boys!$O$29","v":"Northumberland"},null,null,null,{"$f":"Minor_Boys!$S$29","v":9.5500000000000007},1]
[null,null,{"$f":"Minor_Boys!$G$30","v":24},{"$f":"Minor_Boys!$H$30","v":32},{"$f":"Minor_Boys!$I$30","v":"Kia Hatcher"},null,null,null,null,null,{"$f":"Minor_Boys!$O$30","v":"Cumbria"},null,null,null,{"$f":"Minor_Boys!$S$30","v":10},1]
[null,null,{"$f":"Minor_Boys!$G$31","v":25},{"$f":"Minor_Boys!$H$31","v":2},{"$f":"Minor_Boys!$I$31","v":"Jack Farrell"},null,null,null,null,null,{"$f":"Minor_Boys!$O$31","v":"Cleveland"},null,null,null,{"$f":"Minor_Boys!$S$31","v":10},1]
[null,null,{"$f":"Minor_Boys!$G$32","v":26},{"$f":"Minor_Boys!$H$32","v":87},{"$f":"Minor_Boys!$I$32","v":"Isaac Henson"},null,null,null,null,null,{"$f":"Minor_Boys!$O$32","v":"North Yorkshire"},null,null,null,{"$f":"Minor_Boys!$S$32","v":10},1]
[null,null,{"$f":"Minor_Boys!$G$33","v":27},{"$f":"Minor_Boys!$H$33","v":28},{"$f":"Minor_Boys!$I$33","v":"Fin Logue"},null,null,null,null,null,{"$f":"Minor_Boys!$O$33","v":"Cumbria"},null,null,null,{"$f":"Minor_Boys!$S$33","v":10},1]
[null,null,{"$f":"Minor_Boys!$G$34","v":28},{"$f":"Minor_Boys!$H$34","v":66},{"$f":"Minor_Boys!$I$34","v":"Charlie Whittaker"},null,null,null,null,null,{"$f":"Minor_Boys!$O$34","v":"Northumberland"},null,null,null,{"$f":"Minor_Boys!$S$34","v":10},1]
[null,null,{"$f":"Minor_Boys!$G$35","v":29},{"$f":"Minor_Boys!$H$35","v":48},{"$f":"Minor_Boys!$I$35","v":"Luke Bell"},null,null,null,null,null,{"$f":"Minor_Boys!$O$35","v":"Durham"},null,null,null,{"$f":"Minor_Boys!$S$35","v":10},1]
[null,null,{"$f":"Minor_Boys!$G$36","v":30},{"$f":"Minor_Boys!$H$36","v":23},{"$f":"Minor_Boys!$I$36","v":"Mason McAnaney"},null,null,null,null,null,{"$f":"Minor_Boys!$O$36","v":"Cumbria"},null,null,null,{"$f":"Minor_Boys!$S$36","v":10},1]
[null,null,{"$f":"Minor_Boys!$G$37","v":31},{"$f":"Minor_Boys!$H$37","v":8},{"$f":"Minor_Boys!$I$37","v":"Liam Woods-Ruddick"},null,null,null,null,null,{"$f":"Minor_Boys!$O$37","v":"Cleveland"},null,null,null,{"$f":"Minor_Boys!$S$37","v":10},1]
[null,null,{"$f":"Minor_Boys!$G$38","v":32},{"$f":"Minor_Boys!$H$38","v":31},{"$f":"Minor_Boys!$I$38","v":"Ed Sargent"},null,null,null,null,null,{"$f":"Minor_Boys!$O$38","v":"Cumbria"},null,null,null,{"$f":"Minor_Boys!$S$38","v":10},1]
[null,null,{"$f":"Minor_Boys!$G$39","v":33},{"$f":"Minor_Boys!$H$39","v":86},{"$f":"Minor_Boys!$I$39","v":"Louis How"},null,null,null,null,null,{"$f":"Minor_Boys!$O$39","v":"North Yorkshire"},null,null,null,{"$f":"Minor_Boys!$S$39","v":10},1]
[null,null,{"$f":"Minor_Boys!$G$40","v":34},{"$f":"Minor_Boys!$H$40","v":26},{"$f":"Minor_Boys!$I$40","v":"Oliver Smith"},null,null,null,null,null,{"$f":"Minor_Boys!$O$40","v":"Cumbria"},null,null,null,{"$f":"Minor_Boys!$S$40","v":10},1]
[null,null,{"$f":"Minor_Boys!$G$41","v":35},{"$f":"Minor_Boys!$H$41","v":50},{"$f":"Minor_Boys!$I$41","v":"William Henderson"},null,null,null,null,null,{"$f":"Minor_Boys!$O$41","v":"Durham"},null,null,null,{"$f":"Minor_Boys!$S$41","v":10},1]
[null,null,{"$f":"Minor_Boys!$G$42","v":36},{"$f":"Minor_Boys!$H$42","v":62},{"$f":"Minor_Boys!$I$42","v":"Max Murray-John"},null,null,null,null,null,{"$f":"Minor_Boys!$O$42","v":"Northumberland"},null,null,null,{"$f":"Minor_Boys!$S$42","v":10},1]
[null,null,{"$f":"Minor_Boys!$G$43","v":37},{"$f":"Minor_Boys!$H$43","v":89},{"$f":"Minor_Boys!$I$43","v":"Finlay Tulip"},null,null,null,null,null,{"$f":"Minor_Boys!$O$43","v":"North Yorkshire"},null,null,null,{"$f":"Minor_Boys!$S$43","v":10},1]
[null,null,{"$f":"Minor_Boys!$G$44","v":38},{"$f":"Minor_Boys!$H$44","v":74},{"$f":"Minor_Boys!$I$44","v":"Harry  Twinn"},null,null,null,null,null,{"$f":"Minor_Boys!$O$44","v":"Northumberland"},null,null,null,{"$f":"Minor_Boys!$S$44","v":10},1]
[null,null,{"$f":"Minor_Boys!$G$45","v":39},{"$f":"Minor_Boys!$H$45","v":6},{"$f":"Minor_Boys!$I$45","v":"John Bolam"},null,null,null,null,null,{"$f":"Minor_Boys!$O$45","v":"Cleveland"},null,null,null,{"$f":"Minor_Boys!$S$45","v":10},1]
[null,null,{"$f":"Minor_Boys!$G$46","v":40},{"$f":"Minor_Boys!$H$46","v":5},{"$f":"Minor_Boys!$I$46","v":"Tom Graham"},null,null,null,null,null,{"$f":"Minor_Boys!$O$46","v":"Cleveland"},null,null,null,{"$f":"Minor_Boys!$S$46","v":10},1]
[null,null,{"$f":"Minor_Boys!$G$47","v":41},{"$f":"Minor_Boys!$H$47","v":69},{"$f":"Minor_Boys!$I$47","v":"Joseph Hudspith"},null,null,null,null,null,{"$f":"Minor_Boys!$O$47","v":"Northumberland"},null,null,null,{"$f":"Minor_Boys!$S$47","v":10},1]
[null,null,{"$f":"Minor_Boys!$G$48","v":42},{"$f":"Minor_Boys!$H$48","v":1},{"$f":"Minor_Boys!$I$48","v":"Noah Payne"},null,null,null,null,null,{"$f":"Minor_Boys!$O$48","v":"Cleveland"},null,null,null,{"$f":"Minor_Boys!$S$48","v":10},1]
[null,null,{"$f":"Minor_Boys!$G$49","v":43},{"$f":"Minor_Boys!$H$49","v":27},{"$f":"Minor_Boys!$I$49","v":"Joseph Rigby"},null,null,null,null,null,{"$f":"Minor_Boys!$O$49","v":"Cumbria"},null,null,null,{"$f":"Minor_Boys!$S$49","v":10},1]
[null,null,{"$f":"Minor_Boys!$G$50","v":44},{"$f":"Minor_Boys!$H$50","v":30},{"$f":"Minor_Boys!$I$50","v":"Daniel Knott"},null,null,null,null,null,{"$f":"Minor_Boys!$O$50","v":"Cumbria"},null,null,null,{"$f":"Minor_Boys!$S$50","v":10},1]
[null,null,{"$f":"Minor_Boys!$G$51","v":45},{"$f":"Minor_Boys!$H$51","v":24},{"$f":"Minor_Boys!$I$51","v":"Charlie Barry"},null,null,null,null,null,{"$f":"Minor_Boys!$O$51","v":"Cumbria"},null,null,null,{"$f":"Minor_Boys!$S$51","v":10.01},1]
[null,null,{"$f":"Minor_Boys!$G$52","v":46},{"$f":"Minor_Boys!$H$52","v":77},{"$f":"Minor_Boys!$I$52","v":"Ben Asquith"},null,null,null,null,null,{"$f":"Minor_Boys!$O$52","v":"Northumberland"},null,null,null,{"$f":"Minor_Boys!$S$52","v":10.3},1]
[null,null,{"$f":"Minor_Boys!$G$53","v":47},{"$f":"Minor_Boys!$H$53","v":3},{"$f":"Minor_Boys!$I$53","v":"Riley Middleton"},null,null,null,null,null,{"$f":"Minor_Boys!$O$53","v":"Cleveland"},null,null,null,{"$f":"Minor_Boys!$S$53","v":10.08},1]
[null,null,{"$f":"Minor_Boys!$G$54","v":48},{"$f":"Minor_Boys!$H$54","v":71},{"$f":"Minor_Boys!$I$54","v":"Nathaniel Henderson"},null,null,null,null,null,{"$f":"Minor_Boys!$O$54","v":"Northumberland"},null,null,null,{"$f":"Minor_Boys!$S$54","v":10.09},1]
[null,null,{"$f":"Minor_Boys!$G$55","v":49},{"$f":"Minor_Boys!$H$55","v":49},{"$f":"Minor_Boys!$I$55","v":"Sam Terry"},null,null,null,null,null,{"$f":"Minor_Boys!$O$55","v":"Durham"},null,null,null,{"$f":"Minor_Boys!$S$55","v":10.130000000000001},1]
[null,null,{"$f":"Minor_Boys!$G$56","v":50},{"$f":"Minor_Boys!$H$56","v":88},{"$f":"Minor_Boys!$I$56","v":"Sam Pratt"},null,null,null,null,null,{"$f":"Minor_Boys!$O$56","v":"North Yorkshire"},null,null,null,{"$f":"Minor_Boys!$S$56","v":10.130000000000001},1]
[null,null,{"$f":"Minor_Boys!$G$57","v":51},{"$f":"Minor_Boys!$H$57","v":37},{"$f":"Minor_Boys!$I$57","v":"Finn Walker"},null,null,null,null,null,{"$f":"Minor_Boys!$O$57","v":"Cumbria"},null,null,null,{"$f":"Minor_Boys!$S$57","v":10.14},1]
[null,null,{"$f":"Minor_Boys!$G$58","v":52},{"$f":"Minor_Boys!$H$58","v":46},{"$f":"Minor_Boys!$I$58","v":"Jordy Armstrong"},null,null,null,null,null,{"$f":"Minor_Boys!$O$58","v":"Durham"},null,null,null,{"$f":"Minor_Boys!$S$58","v":10.14},1]
[null,null,{"$f":"Minor_Boys!$G$59","v":53},{"$f":"Minor_Boys!$H$59","v":75},{"$f":"Minor_Boys!$I$59","v":"Daniel Lamb"},null,null,null,null,null,{"$f":"Minor_Boys!$O$59","v":"Northumberland"},null,null,null,{"$f":"Minor_Boys!$S$59","v":10.15},1]
[null,null,{"$f":"Minor_Boys!$G$60","v":54},{"$f":"Minor_Boys!$H$60","v":29},{"$f":"Minor_Boys!$I$60","v":"Greg Barnard McKenzie"},null,null,null,null,null,{"$f":"Minor_Boys!$O$60","v":"Cumbria"},null,null,null,{"$f":"Minor_Boys!$S$60","v":10.19},1]
[null,null,{"$f":"Minor_Boys!$G$61","v":55},{"$f":"Minor_Boys!$H$61","v":7},{"$f":"Minor_Boys!$I$61","v":"Max Peverall"},null,null,null,null,null,{"$f":"Minor_Boys!$O$61","v":"Cleveland"},null,null,null,{"$f":"Minor_Boys!$S$61","v":10.23},1]
[null,null,{"$f":"Minor_Boys!$G$62","v":56},{"$f":"Minor_Boys!$H$62","v":33},{"$f":"Minor_Boys!$I$62","v":"Isaac Barber"},null,null,null,null,null,{"$f":"Minor_Boys!$O$62","v":"Cumbria"},null,null,null,{"$f":"Minor_Boys!$S$62","v":10.24},1]
[null,null,{"$f":"Minor_Boys!$G$63","v":57},{"$f":"Minor_Boys!$H$63","v":76},{"$f":"Minor_Boys!$I$63","v":"Adam Howliston"},null,null,null,null,null,{"$f":"Minor_Boys!$O$63","v":"Northumberland"},null,null,null,{"$f":"Minor_Boys!$S$63","v":10.46},1]
[null,null,{"$f":"Minor_Boys!$G$64","v":58},{"$f":"Minor_Boys!$H$64","v":0},{"$f":"Minor_Boys!$I$64","v":""},null,null,null,null,null,{"$f":"Minor_Boys!$O$64","v":""},null,null,null,{"$f":"Minor_Boys!$S$64","v":0},""]
[null,null,{"$f":"Minor_Boys!$G$65","v":59},{"$f":"Minor_Boys!$H$65","v":0},{"$f":"Minor_Boys!$I$65","v":""},null,null,null,null,null,{"$f":"Minor_Boys!$O$65","v":""},null,null,null,{"$f":"Minor_Boys!$S$65","v":0},""]
[null,null,{"$f":"Minor_Boys!$G$66","v":60},{"$f":"Minor_Boys!$H$66","v":0},{"$f":"Minor_Boys!$I$66","v":""},null,null,null,null,null,{"$f":"Minor_Boys!$O$66","v":""},null,null,null,{"$f":"Minor_Boys!$S$66","v":0},""]
[null,null,{"$f":"Minor_Boys!$G$67","v":61},{"$f":"Minor_Boys!$H$67","v":0},{"$f":"Minor_Boys!$I$67","v":""},null,null,null,null,null,{"$f":"Minor_Boys!$O$67","v":""},null,null,null,{"$f":"Minor_Boys!$S$67","v":0},""]
[null,null,{"$f":"Minor_Boys!$G$68","v":62},{"$f":"Minor_Boys!$H$68","v":0},{"$f":"Minor_Boys!$I$68","v":""},null,null,null,null,null,{"$f":"Minor_Boys!$O$68","v":""},null,null,null,{"$f":"Minor_Boys!$S$68","v":0},""]
[null,null,{"$f":"Minor_Boys!$G$69","v":63},{"$f":"Minor_Boys!$H$69","v":0},{"$f":"Minor_Boys!$I$69","v":""},null,null,null,null,null,{"$f":"Minor_Boys!$O$69","v":""},null,null,null,{"$f":"Minor_Boys!$S$69","v":0},""]
[null,null,{"$f":"Minor_Boys!$G$70","v":64},{"$f":"Minor_Boys!$H$70","v":0},{"$f":"Minor_Boys!$I$70","v":""},null,null,null,null,null,{"$f":"Minor_Boys!$O$70","v":""},null,null,null,{"$f":"Minor_Boys!$S$70","v":0},""]
[null,null,{"$f":"Minor_Boys!$G$71","v":65},{"$f":"Minor_Boys!$H$71","v":0},{"$f":"Minor_Boys!$I$71","v":""},null,null,null,null,null,{"$f":"Minor_Boys!$O$71","v":""},null,null,null,{"$f":"Minor_Boys!$S$71","v":0},""]
[null,null,{"$f":"Minor_Boys!$G$72","v":66},{"$f":"Minor_Boys!$H$72","v":0},{"$f":"Minor_Boys!$I$72","v":""},null,null,null,null,null,{"$f":"Minor_Boys!$O$72","v":""},null,null,null,{"$f":"Minor_Boys!$S$72","v":0},{"$f":"IF(D119=0,\"\",1)","v":""}]
[null,null,{"$f":"Minor_Boys!$G$73","v":67},{"$f":"Minor_Boys!$H$73","v":0},{"$f":"Minor_Boys!$I$73","v":""},null,null,null,null,null,{"$f":"Minor_Boys!$O$73","v":""},null,null,null,{"$f":"Minor_Boys!$S$73","v":0},""]
[null,null,{"$f":"Minor_Boys!$G$74","v":68},{"$f":"Minor_Boys!$H$74","v":0},{"$f":"Minor_Boys!$I$74","v":""},null,null,null,null,null,{"$f":"Minor_Boys!$O$74","v":""},null,null,null,{"$f":"Minor_Boys!$S$74","v":0},""]
[null,null,{"$f":"Minor_Boys!$G$75","v":69},{"$f":"Minor_Boys!$H$75","v":0},{"$f":"Minor_Boys!$I$75","v":""},null,null,null,null,null,{"$f":"Minor_Boys!$O$75","v":""},null,null,null,{"$f":"Minor_Boys!$S$75","v":0},""]
[null,null,{"$f":"Minor_Boys!$G$76","v":70},{"$f":"Minor_Boys!$H$76","v":0},{"$f":"Minor_Boys!$I$76","v":""},null,null,null,null,null,{"$f":"Minor_Boys!$O$76","v":""},null,null,null,{"$f":"Minor_Boys!$S$76","v":0},""]
[null,null,{"$f":"Minor_Boys!$G$77","v":71},{"$f":"Minor_Boys!$H$77","v":0},{"$f":"Minor_Boys!$I$77","v":""},null,null,null,null,null,{"$f":"Minor_Boys!$O$77","v":""},null,null,null,{"$f":"Minor_Boys!$S$77","v":0},""]
[null,null,{"$f":"Minor_Boys!$G$78","v":72},{"$f":"Minor_Boys!$H$78","v":0},{"$f":"Minor_Boys!$I$78","v":""},null,null,null,null,null,{"$f":"Minor_Boys!$O$78","v":""},null,null,null,{"$f":"Minor_Boys!$S$78","v":0},""]
[null,null,{"$f":"Minor_Boys!$G$79","v":73},{"$f":"Minor_Boys!$H$79","v":0},{"$f":"Minor_Boys!$I$79","v":""},null,null,null,null,null,{"$f":"Minor_Boys!$O$79","v":""},null,null,null,{"$f":"Minor_Boys!$S$79","v":0},""]
[null,null,{"$f":"Minor_Boys!$G$80","v":74},{"$f":"Minor_Boys!$H$80","v":0},{"$f":"Minor_Boys!$I$80","v":""},null,null,null,null,null,{"$f":"Minor_Boys!$O$80","v":""},null,null,null,{"$f":"Minor_Boys!$S$80","v":0},""]
[null,null,{"$f":"Minor_Boys!$G$81","v":75},{"$f":"Minor_Boys!$H$81","v":0},{"$f":"Minor_Boys!$I$81","v":""},null,null,null,null,null,{"$f":"Minor_Boys!$O$81","v":""},null,null,null,{"$f":"Minor_Boys!$S$81","v":0},""]
[null,null,{"$f":"Minor_Boys!$G$82","v":76},{"$f":"Minor_Boys!$H$82","v":0},{"$f":"Minor_Boys!$I$82","v":""},null,null,null,null,null,{"$f":"Minor_Boys!$O$82","v":""},null,null,null,{"$f":"Minor_Boys!$S$82","v":0},""]
[null,null,{"$f":"Minor_Boys!$G$83","v":77},{"$f":"Minor_Boys!$H$83","v":0},{"$f":"Minor_Boys!$I$83","v":""},null,null,null,null,null,{"$f":"Minor_Boys!$O$83","v":""},null,null,null,{"$f":"Minor_Boys!$S$83","v":0},""]
[null,null,{"$f":"Minor_Boys!$G$84","v":78},{"$f":"Minor_Boys!$H$84","v":0},{"$f":"Minor_Boys!$I$84","v":""},null,null,null,null,null,{"$f":"Minor_Boys!$O$84","v":""},null,null,null,{"$f":"Minor_Boys!$S$84","v":0},""]
[null,null,{"$f":"Minor_Boys!$G$85","v":79},{"$f":"Minor_Boys!$H$85","v":0},{"$f":"Minor_Boys!$I$85","v":""},null,null,null,null,null,{"$f":"Minor_Boys!$O$85","v":""},null,null,null,{"$f":"Minor_Boys!$S$85","v":0},""]
[null,null,{"$f":"Minor_Boys!$G$86","v":80},{"$f":"Minor_Boys!$H$86","v":0},{"$f":"Minor_Boys!$I$86","v":""},null,null,null,null,null,{"$f":"Minor_Boys!$O$86","v":""},null,null,null,{"$f":"Minor_Boys!$S$86","v":0},""]
[null,null,{"$f":"Minor_Boys!$G$87","v":81},{"$f":"Minor_Boys!$H$87","v":0},{"$f":"Minor_Boys!$I$87","v":""},null,null,null,null,null,{"$f":"Minor_Boys!$O$87","v":""},null,null,null,{"$f":"Minor_Boys!$S$87","v":0},""]
[null,null,{"$f":"Minor_Boys!$G$88","v":82},{"$f":"Minor_Boys!$H$88","v":0},{"$f":"Minor_Boys!$I$88","v":""},null,null,null,null,null,{"$f":"Minor_Boys!$O$88","v":""},null,null,null,{"$f":"Minor_Boys!$S$88","v":0},""]
[null,null,{"$f":"Minor_Boys!$G$89","v":83},{"$f":"Minor_Boys!$H$89","v":0},{"$f":"Minor_Boys!$I$89","v":""},null,null,null,null,null,{"$f":"Minor_Boys!$O$89","v":""},null,null,null,{"$f":"Minor_Boys!$S$89","v":0},""]
[null,null,{"$f":"Minor_Boys!$G$90","v":84},{"$f":"Minor_Boys!$H$90","v":0},{"$f":"Minor_Boys!$I$90","v":""},null,null,null,null,null,{"$f":"Minor_Boys!$O$90","v":""},null,null,null,{"$f":"Minor_Boys!$S$90","v":0},""]
[null,null,{"$f":"Minor_Boys!$G$91","v":85},{"$f":"Minor_Boys!$H$91","v":0},{"$f":"Minor_Boys!$I$91","v":""},null,null,null,null,null,{"$f":"Minor_Boys!$O$91","v":""},null,null,null,{"$f":"Minor_Boys!$S$91","v":0},""]
[null,null,{"$f":"Minor_Boys!$G$92","v":86},{"$f":"Minor_Boys!$H$92","v":0},{"$f":"Minor_Boys!$I$92","v":""},null,null,null,null,null,{"$f":"Minor_Boys!$O$92","v":""},null,null,null,{"$f":"Minor_Boys!$S$92","v":0},""]
[null,null,{"$f":"Minor_Boys!$G$93","v":87},{"$f":"Minor_Boys!$H$93","v":0},{"$f":"Minor_Boys!$I$93","v":""},null,null,null,null,null,{"$f":"Minor_Boys!$O$93","v":""},null,null,null,{"$f":"Minor_Boys!$S$93","v":0},""]
[null,null,{"$f":"Minor_Boys!$G$94","v":88},{"$f":"Minor_Boys!$H$94","v":0},{"$f":"Minor_Boys!$I$94","v":""},null,null,null,null,null,{"$f":"Minor_Boys!$O$94","v":""},null,null,null,{"$f":"Minor_Boys!$S$94","v":0},""]
[null,null,{"$f":"Minor_Boys!$G$95","v":89},{"$f":"Minor_Boys!$H$95","v":0},{"$f":"Minor_Boys!$I$95","v":""},null,null,null,null,null,{"$f":"Minor_Boys!$O$95","v":""},null,null,null,{"$f":"Minor_Boys!$S$95","v":0},""]
[null,null,{"$f":"Minor_Boys!$G$96","v":90},{"$f":"Minor_Boys!$H$96","v":0},{"$f":"Minor_Boys!$I$96","v":""},null,null,null,null,null,{"$f":"Minor_Boys!$O$96","v":""},null,null,null,{"$f":"Minor_Boys!$S$96","v":0},""]
[null,null,{"$f":"Minor_Boys!$G$97","v":91},{"$f":"Minor_Boys!$H$97","v":0},{"$f":"Minor_Boys!$I$97","v":""},null,null,null,null,null,{"$f":"Minor_Boys!$O$97","v":""},null,null,null,{"$f":"Minor_Boys!$S$97","v":0},""]
[null,null,{"$f":"Minor_Boys!$G$98","v":92},{"$f":"Minor_Boys!$H$98","v":0},{"$f":"Minor_Boys!$I$98","v":""},null,null,null,null,null,{"$f":"Minor_Boys!$O$98","v":""},null,null,null,{"$f":"Minor_Boys!$S$98","v":0},""]
[null,null,{"$f":"Minor_Boys!$G$99","v":93},{"$f":"Minor_Boys!$H$99","v":0},{"$f":"Minor_Boys!$I$99","v":""},null,null,null,null,null,{"$f":"Minor_Boys!$O$99","v":""},null,null,null,{"$f":"Minor_Boys!$S$99","v":0},""]
[null,null,{"$f":"Minor_Boys!$G$100","v":94},{"$f":"Minor_Boys!$H$100","v":0},{"$f":"Minor_Boys!$I$100","v":""},null,null,null,null,null,{"$f":"Minor_Boys!$O$100","v":""},null,null,null,{"$f":"Minor_Boys!$S$100","v":0},""]
[null,null,{"$f":"Minor_Boys!$G$101","v":95},{"$f":"Minor_Boys!$H$101","v":0},{"$f":"Minor_Boys!$I$101","v":""},null,null,null,null,null,{"$f":"Minor_Boys!$O$101","v":""},null,null,null,{"$f":"Minor_Boys!$S$101","v":0},{"$f":"IF(D148=0,\"\",1)","v":""}]
[null,null,{"$f":"Minor_Boys!$G$102","v":96},{"$f":"Minor_Boys!$H$102","v":0},{"$f":"Minor_Boys!$I$102","v":""},null,null,null,null,null,{"$f":"Minor_Boys!$O$102","v":""},null,null,null,{"$f":"Minor_Boys!$S$102","v":0},""]
[null,null,{"$f":"Minor_Boys!$G$103","v":97},{"$f":"Minor_Boys!$H$103","v":0},{"$f":"Minor_Boys!$I$103","v":""},null,null,null,null,null,{"$f":"Minor_Boys!$O$103","v":""},null,null,null,{"$f":"Minor_Boys!$S$103","v":0},""]
[null,null,{"$f":"Minor_Boys!$G$104","v":98},{"$f":"Minor_Boys!$H$104","v":0},{"$f":"Minor_Boys!$I$104","v":""},null,null,null,null,null,{"$f":"Minor_Boys!$O$104","v":""},null,null,null,{"$f":"Minor_Boys!$S$104","v":0},""]
[null,null,{"$f":"Minor_Boys!$G$105","v":99},{"$f":"Minor_Boys!$H$105","v":0},{"$f":"Minor_Boys!$I$105","v":""},null,null,null,null,null,{"$f":"Minor_Boys!$O$105","v":""},null,null,null,{"$f":"Minor_Boys!$S$105","v":0},""]
[null,null,{"$f":"Minor_Boys!$G$106","v":100},{"$f":"Minor_Boys!$H$106","v":0},{"$f":"Minor_Boys!$I$106","v":""},null,null,null,null,null,{"$f":"Minor_Boys!$O$106","v":""},null,null,null,{"$f":"Minor_Boys!$S$106","v":0},""]
[null,null,{"$f":"CONCATENATE($C52,\" \",\"Individual Medal Winners\")","v":"Minor Boys Individual Medal Winners"},null,null,null,null,null,null,null,null,null,null,null,null,{"$f":"IF(D156=\"\",\"\",1)","v":1}]
[null,null,"Pos","Num","Name",null,null,null,null,null,"County",null,null,null,"Time",{"$f":"IF(D156=\"\",\"\",1)","v":1}]
[null,null,1,{"$f":"Minor_Boys!$H$109","v":61},{"$f":"Minor_Boys!$I$109","v":"Tom Slane"},null,null,null,null,null,{"$f":"Minor_Boys!$O$109","v":"Northumberland"},null,null,null,{"$f":"Minor_Boys!$S$109","v":9.0299999999999994},{"$f":"IF(D156=\"\",\"\",1)","v":1}]
[null,null,2,{"$f":"Minor_Boys!$H$110","v":82},{"$f":"Minor_Boys!$I$110","v":"Archie Gray"},null,null,null,null,null,{"$f":"Minor_Boys!$O$110","v":"North Yorkshire"},null,null,null,{"$f":"Minor_Boys!$S$110","v":9.1199999999999992},{"$f":"IF(D157=\"\",\"\",1)","v":1}]
[null,null,3,{"$f":"Minor_Boys!$H$111","v":83},{"$f":"Minor_Boys!$I$111","v":"Archie Bordewich"},null,null,null,null,null,{"$f":"Minor_Boys!$O$111","v":"North Yorkshire"},null,null,null,{"$f":"Minor_Boys!$S$111","v":9.1300000000000008},1]
[]
[null,null,{"$f":"CONCATENATE($C52,\" \",\"Team Results\")","v":"Minor Boys Team Results"},null,null,null,null,null,null,null,null,null,null,null,null,{"$f":"IF(D162=\"\",\"\",1)","v":1}]
[null,null,null,"Team Name",null,null,null,null,"1st","2nd","3rd","4th","5th","6th","Points",{"$f":"IF(D162=\"\",\"\",1)","v":1}]
[null,null,1,{"$f":"Minor_Boys!$H$115","v":"North Yorkshire"},null,null,null,null,{"$f":"Minor_Boys!$M$115","v":2},{"$f":"Minor_Boys!$N$115","v":3},{"$f":"Minor_Boys!$O$115","v":7},{"$f":"Minor_Boys!$P$115","v":13},{"$f":"Minor_Boys!$Q$115","v":14},{"$f":"Minor_Boys!$R$115","v":19},{"$f":"Minor_Boys!$S$115","v":58},{"$f":"IF(D162=\"\",\"\",1)","v":1}]
[null,null,2,{"$f":"Minor_Boys!$H$116","v":"Durham"},null,null,null,null,{"$f":"Minor_Boys!$M$116","v":5},{"$f":"Minor_Boys!$N$116","v":6},{"$f":"Minor_Boys!$O$116","v":8},{"$f":"Minor_Boys!$P$116","v":9},{"$f":"Minor_Boys!$Q$116","v":15},{"$f":"Minor_Boys!$R$116","v":18},{"$f":"Minor_Boys!$S$116","v":61},{"$f":"IF(D163=\"\",\"\",1)","v":1}]
[null,null,3,{"$f":"Minor_Boys!$H$117","v":"Northumberland"},null,null,null,null,{"$f":"Minor_Boys!$M$117","v":1},{"$f":"Minor_Boys!$N$117","v":10},{"$f":"Minor_Boys!$O$117","v":11},{"$f":"Minor_Boys!$P$117","v":12},{"$f":"Minor_Boys!$Q$117","v":16},{"$f":"Minor_Boys!$R$117","v":17},{"$f":"Minor_Boys!$S$117","v":67},1]
[null,null,4,{"$f":"Minor_Boys!$H$118","v":"Cumbria"},null,null,null,null,{"$f":"Minor_Boys!$M$118","v":4},{"$f":"Minor_Boys!$N$118","v":20},{"$f":"Minor_Boys!$O$118","v":24},{"$f":"Minor_Boys!$P$118","v":27},{"$f":"Minor_Boys!$Q$118","v":30},{"$f":"Minor_Boys!$R$118","v":32},{"$f":"Minor_Boys!$S$118","v":137},1]
[null,null,5,{"$f":"Minor_Boys!$H$119","v":"Cleveland"},null,null,null,null,{"$f":"Minor_Boys!$M$119","v":25},{"$f":"Minor_Boys!$N$119","v":31},{"$f":"Minor_Boys!$O$119","v":39},{"$f":"Minor_Boys!$P$119","v":40},{"$f":"Minor_Boys!$Q$119","v":42},{"$f":"Minor_Boys!$R$119","v":47},{"$f":"Minor_Boys!$S$119","v":224},1]
[null,null,null,null,null,null,null,null,null,null,null,null,null,null,null,{"$f":"IF(D162=\"\",\"\",1)","v":1}]
[null,null,{"$f":"Home!$B$1","v":"Northern Schools' Inter-County Cross Country Championships"},null,null,null,null,null,null,null,null,null,null,null,null,{"$f":"IF(D174=0,\"\",1)","v":1},null,null,null,null,null,null,null,null,null,null,{"$f":"CONCATENATE(U168,\" \",V168)","v":" "}]
[null,null,{"$f":"Home!$B$2","v":"Barnard Castle School"},null,null,null,null,null,null,null,null,null,null,null,null,{"$f":"IF(D174=0,\"\",1)","v":1}]
[null,null,{"$f":"Home!$G$3","v":"Saturday 3rd February 2018"},null,null,null,null,null,null,null,null,null,null,null,null,{"$f":"IF(D174=0,\"\",1)","v":1}]
[null,null,null,null,null,null,null,null,null,null,null,null,null,null,null,{"$f":"IF(D174=0,\"\",1)","v":1}]
[null,null,{"$f":"Minor_Girls!$G$5","v":"Minor Girls"},null,null,null,null,null,null,null,null,null,null,null,null,{"$f":"IF(D174=0,\"\",1)","v":1}]
[null,null,"Pos","Num","Name",null,null,null,null,null,"County",null,null,null,"Time",{"$f":"IF(D174=0,\"\",1)","v":1}]
[null,null,{"$f":"Minor_Girls!$G$7","v":1},{"$f":"Minor_Girls!$H$7","v":21},{"$f":"Minor_Girls!$I$7","v":"Sarah Smith"},null,null,null,null,null,{"$f":"Minor_Girls!$O$7","v":"Cumbria"},null,null,null,{"$f":"Minor_Girls!$S$7","v":9.42},{"$f":"IF(D174=0,\"\",1)","v":1}]
[null,null,{"$f":"Minor_Girls!$G$8","v":2},{"$f":"Minor_Girls!$H$8","v":81},{"$f":"Minor_Girls!$I$8","v":"Zoe Hill"},null,null,null,null,null,{"$f":"Minor_Girls!$O$8","v":"North Yorkshire"},null,null,null,{"$f":"Minor_Girls!$S$8","v":9.44},{"$f":"IF(D175=0,\"\",1)","v":1}]
[null,null,{"$f":"Minor_Girls!$G$9","v":3},{"$f":"Minor_Girls!$H$9","v":2},{"$f":"Minor_Girls!$I$9","v":"Gabby Hall"},null,null,null,null,null,{"$f":"Minor_Girls!$O$9","v":"Cleveland"},null,null,null,{"$f":"Minor_Girls!$S$9","v":9.49},1]
[null,null,{"$f":"Minor_Girls!$G$10","v":4},{"$f":"Minor_Girls!$H$10","v":22},{"$f":"Minor_Girls!$I$10","v":"Sophie Rylance"},null,null,null,null,null,{"$f":"Minor_Girls!$O$10","v":"Cumbria"},null,null,null,{"$f":"Minor_Girls!$S$10","v":9.5299999999999994},1]
[null,null,{"$f":"Minor_Girls!$G$11","v":5},{"$f":"Minor_Girls!$H$11","v":83},{"$f":"Minor_Girls!$I$11","v":"Mollie Reynolds-Jones"},null,null,null,null,null,{"$f":"Minor_Girls!$O$11","v":"North Yorkshire"},null,null,null,{"$f":"Minor_Girls!$S$11","v":9.5399999999999991},1]
[null,null,{"$f":"Minor_Girls!$G$12","v":6},{"$f":"Minor_Girls!$H$12","v":1},{"$f":"Minor_Girls!$I$12","v":"Emma Mcneil"},null,null,null,null,null,{"$f":"Minor_Girls!$O$12","v":"Cleveland"},null,null,null,{"$f":"Minor_Girls!$S$12","v":10.02},1]
[null,null,{"$f":"Minor_Girls!$G$13","v":7},{"$f":"Minor_Girls!$H$13","v":24},{"$f":"Minor_Girls!$I$13","v":"Maddie Hutton"},null,null,null,null,null,{"$f":"Minor_Girls!$O$13","v":"Cumbria"},null,null,null,{"$f":"Minor_Girls!$S$13","v":10.09},1]
[null,null,{"$f":"Minor_Girls!$G$14","v":8},{"$f":"Minor_Girls!$H$14","v":25},{"$f":"Minor_Girls!$I$14","v":"Elodie Malcolm"},null,null,null,null,null,{"$f":"Minor_Girls!$O$14","v":"Cumbria"},null,null,null,{"$f":"Minor_Girls!$S$14","v":10.1},1]
[null,null,{"$f":"Minor_Girls!$G$15","v":9},{"$f":"Minor_Girls!$H$15","v":44},{"$f":"Minor_Girls!$I$15","v":"Hannah Bowyer"},null,null,null,null,null,{"$f":"Minor_Girls!$O$15","v":"Durham"},null,null,null,{"$f":"Minor_Girls!$S$15","v":10.14},1]
[null,null,{"$f":"Minor_Girls!$G$16","v":10},{"$f":"Minor_Girls!$H$16","v":45},{"$f":"Minor_Girls!$I$16","v":"Tilly Abbott"},null,null,null,null,null,{"$f":"Minor_Girls!$O$16","v":"Durham"},null,null,null,{"$f":"Minor_Girls!$S$16","v":10.16},1]
[null,null,{"$f":"Minor_Girls!$G$17","v":11},{"$f":"Minor_Girls!$H$17","v":87},{"$f":"Minor_Girls!$I$17","v":"Willow Baker"},null,null,null,null,null,{"$f":"Minor_Girls!$O$17","v":"North Yorkshire"},null,null,null,{"$f":"Minor_Girls!$S$17","v":10.16},1]
[null,null,{"$f":"Minor_Girls!$G$18","v":12},{"$f":"Minor_Girls!$H$18","v":86},{"$f":"Minor_Girls!$I$18","v":"Holly McCowie"},null,null,null,null,null,{"$f":"Minor_Girls!$O$18","v":"North Yorkshire"},null,null,null,{"$f":"Minor_Girls!$S$18","v":10.18},1]
[null,null,{"$f":"Minor_Girls!$G$19","v":13},{"$f":"Minor_Girls!$H$19","v":84},{"$f":"Minor_Girls!$I$19","v":"Frances Hogg"},null,null,null,null,null,{"$f":"Minor_Girls!$O$19","v":"North Yorkshire"},null,null,null,{"$f":"Minor_Girls!$S$19","v":10.18},1]
[null,null,{"$f":"Minor_Girls!$G$20","v":14},{"$f":"Minor_Girls!$H$20","v":61},{"$f":"Minor_Girls!$I$20","v":"Katie Joslyn"},null,null,null,null,null,{"$f":"Minor_Girls!$O$20","v":"Northumberland"},null,null,null,{"$f":"Minor_Girls!$S$20","v":10.199999999999999},1]
[null,null,{"$f":"Minor_Girls!$G$21","v":15},{"$f":"Minor_Girls!$H$21","v":46},{"$f":"Minor_Girls!$I$21","v":"Anya Crowder"},null,null,null,null,null,{"$f":"Minor_Girls!$O$21","v":"Durham"},null,null,null,{"$f":"Minor_Girls!$S$21","v":10.23},1]
[null,null,{"$f":"Minor_Girls!$G$22","v":16},{"$f":"Minor_Girls!$H$22","v":85},{"$f":"Minor_Girls!$I$22","v":"Shannon Robinson"},null,null,null,null,null,{"$f":"Minor_Girls!$O$22","v":"North Yorkshire"},null,null,null,{"$f":"Minor_Girls!$S$22","v":10.24},1]
[null,null,{"$f":"Minor_Girls!$G$23","v":17},{"$f":"Minor_Girls!$H$23","v":82},{"$f":"Minor_Girls!$I$23","v":"Amelie Aylesbury"},null,null,null,null,null,{"$f":"Minor_Girls!$O$23","v":"North Yorkshire"},null,null,null,{"$f":"Minor_Girls!$S$23","v":10.26},1]
[null,null,{"$f":"Minor_Girls!$G$24","v":18},{"$f":"Minor_Girls!$H$24","v":41},{"$f":"Minor_Girls!$I$24","v":"Freya Clarkson"},null,null,null,null,null,{"$f":"Minor_Girls!$O$24","v":"Durham"},null,null,null,{"$f":"Minor_Girls!$S$24","v":10.28},1]
[null,null,{"$f":"Minor_Girls!$G$25","v":19},{"$f":"Minor_Girls!$H$25","v":47},{"$f":"Minor_Girls!$I$25","v":"Rachel Maclenwey"},null,null,null,null,null,{"$f":"Minor_Girls!$O$25","v":"Durham"},null,null,null,{"$f":"Minor_Girls!$S$25","v":10.29},1]
[null,null,{"$f":"Minor_Girls!$G$26","v":20},{"$f":"Minor_Girls!$H$26","v":63},{"$f":"Minor_Girls!$I$26","v":"Zara Naughton"},null,null,null,null,null,{"$f":"Minor_Girls!$O$26","v":"Northumberland"},null,null,null,{"$f":"Minor_Girls!$S$26","v":10.34},1]
[null,null,{"$f":"Minor_Girls!$G$27","v":21},{"$f":"Minor_Girls!$H$27","v":65},{"$f":"Minor_Girls!$I$27","v":"Laura Cottee"},null,null,null,null,null,{"$f":"Minor_Girls!$O$27","v":"Northumberland"},null,null,null,{"$f":"Minor_Girls!$S$27","v":10.34},1]
[null,null,{"$f":"Minor_Girls!$G$28","v":22},{"$f":"Minor_Girls!$H$28","v":35},{"$f":"Minor_Girls!$I$28","v":"Mia Brayshaw"},null,null,null,null,null,{"$f":"Minor_Girls!$O$28","v":"Cumbria"},null,null,null,{"$f":"Minor_Girls!$S$28","v":10.34},1]
[null,null,{"$f":"Minor_Girls!$G$29","v":23},{"$f":"Minor_Girls!$H$29","v":42},{"$f":"Minor_Girls!$I$29","v":"Jessica Peart"},null,null,null,null,null,{"$f":"Minor_Girls!$O$29","v":"Durham"},null,null,null,{"$f":"Minor_Girls!$S$29","v":10.34},1]
[null,null,{"$f":"Minor_Girls!$G$30","v":24},{"$f":"Minor_Girls!$H$30","v":43},{"$f":"Minor_Girls!$I$30","v":"Ava Local"},null,null,null,null,null,{"$f":"Minor_Girls!$O$30","v":"Durham"},null,null,null,{"$f":"Minor_Girls!$S$30","v":10.34},1]
[null,null,{"$f":"Minor_Girls!$G$31","v":25},{"$f":"Minor_Girls!$H$31","v":33},{"$f":"Minor_Girls!$I$31","v":"Fayth Bowness"},null,null,null,null,null,{"$f":"Minor_Girls!$O$31","v":"Cumbria"},null,null,null,{"$f":"Minor_Girls!$S$31","v":10.34},1]
[null,null,{"$f":"Minor_Girls!$G$32","v":26},{"$f":"Minor_Girls!$H$32","v":62},{"$f":"Minor_Girls!$I$32","v":"Faye Landless"},null,null,null,null,null,{"$f":"Minor_Girls!$O$32","v":"Northumberland"},null,null,null,{"$f":"Minor_Girls!$S$32","v":10.34},1]
[null,null,{"$f":"Minor_Girls!$G$33","v":27},{"$f":"Minor_Girls!$H$33","v":37},{"$f":"Minor_Girls!$I$33","v":"Ebony Blackwell"},null,null,null,null,null,{"$f":"Minor_Girls!$O$33","v":"Cumbria"},null,null,null,{"$f":"Minor_Girls!$S$33","v":10.34},1]
[null,null,{"$f":"Minor_Girls!$G$34","v":28},{"$f":"Minor_Girls!$H$34","v":4},{"$f":"Minor_Girls!$I$34","v":"Isabelle Troop"},null,null,null,null,null,{"$f":"Minor_Girls!$O$34","v":"Cleveland"},null,null,null,{"$f":"Minor_Girls!$S$34","v":10.37},1]
[null,null,{"$f":"Minor_Girls!$G$35","v":29},{"$f":"Minor_Girls!$H$35","v":64},{"$f":"Minor_Girls!$I$35","v":"Charlotte Payton"},null,null,null,null,null,{"$f":"Minor_Girls!$O$35","v":"Northumberland"},null,null,null,{"$f":"Minor_Girls!$S$35","v":10.38},1]
[null,null,{"$f":"Minor_Girls!$G$36","v":30},{"$f":"Minor_Girls!$H$36","v":66},{"$f":"Minor_Girls!$I$36","v":"Caitlin Flanagan"},null,null,null,null,null,{"$f":"Minor_Girls!$O$36","v":"Northumberland"},null,null,null,{"$f":"Minor_Girls!$S$36","v":10.4},1]
[null,null,{"$f":"Minor_Girls!$G$37","v":31},{"$f":"Minor_Girls!$H$37","v":26},{"$f":"Minor_Girls!$I$37","v":"Jessica Bailey"},null,null,null,null,null,{"$f":"Minor_Girls!$O$37","v":"Cumbria"},null,null,null,{"$f":"Minor_Girls!$S$37","v":10.42},1]
[null,null,{"$f":"Minor_Girls!$G$38","v":32},{"$f":"Minor_Girls!$H$38","v":88},{"$f":"Minor_Girls!$I$38","v":"Anya Potter-Firth"},null,null,null,null,null,{"$f":"Minor_Girls!$O$38","v":"North Yorkshire"},null,null,null,{"$f":"Minor_Girls!$S$38","v":10.51},1]
[null,null,{"$f":"Minor_Girls!$G$39","v":33},{"$f":"Minor_Girls!$H$39","v":28},{"$f":"Minor_Girls!$I$39","v":"Grace Monkhouse"},null,null,null,null,null,{"$f":"Minor_Girls!$O$39","v":"Cumbria"},null,null,null,{"$f":"Minor_Girls!$S$39","v":10.53},1]
[null,null,{"$f":"Minor_Girls!$G$40","v":34},{"$f":"Minor_Girls!$H$40","v":8},{"$f":"Minor_Girls!$I$40","v":"Fern Shelton"},null,null,null,null,null,{"$f":"Minor_Girls!$O$40","v":"Cleveland"},null,null,null,{"$f":"Minor_Girls!$S$40","v":10.55},1]
[null,null,{"$f":"Minor_Girls!$G$41","v":35},{"$f":"Minor_Girls!$H$41","v":68},{"$f":"Minor_Girls!$I$41","v":"Nikola Grinberga"},null,null,null,null,null,{"$f":"Minor_Girls!$O$41","v":"Northumberland"},null,null,null,{"$f":"Minor_Girls!$S$41","v":10.57},1]
[null,null,{"$f":"Minor_Girls!$G$42","v":36},{"$f":"Minor_Girls!$H$42","v":71},{"$f":"Minor_Girls!$I$42","v":"Georgina Mabbott"},null,null,null,null,null,{"$f":"Minor_Girls!$O$42","v":"Northumberland"},null,null,null,{"$f":"Minor_Girls!$S$42","v":10.58},1]
[null,null,{"$f":"Minor_Girls!$G$43","v":37},{"$f":"Minor_Girls!$H$43","v":67},{"$f":"Minor_Girls!$I$43","v":"Imogen Bungay"},null,null,null,null,null,{"$f":"Minor_Girls!$O$43","v":"Northumberland"},null,null,null,{"$f":"Minor_Girls!$S$43","v":10.59},1]
[null,null,{"$f":"Minor_Girls!$G$44","v":38},{"$f":"Minor_Girls!$H$44","v":50},{"$f":"Minor_Girls!$I$44","v":"Heather Robinson"},null,null,null,null,null,{"$f":"Minor_Girls!$O$44","v":"Durham"},null,null,null,{"$f":"Minor_Girls!$S$44","v":11},1]
[null,null,{"$f":"Minor_Girls!$G$45","v":39},{"$f":"Minor_Girls!$H$45","v":30},{"$f":"Minor_Girls!$I$45","v":"Bethan Saunders"},null,null,null,null,null,{"$f":"Minor_Girls!$O$45","v":"Cumbria"},null,null,null,{"$f":"Minor_Girls!$S$45","v":11.04},1]
[null,null,{"$f":"Minor_Girls!$G$46","v":40},{"$f":"Minor_Girls!$H$46","v":87},{"$f":"Minor_Girls!$I$46","v":"Willow Baker"},null,null,null,null,null,{"$f":"Minor_Girls!$O$46","v":"North Yorkshire"},null,null,null,{"$f":"Minor_Girls!$S$46","v":11.07},1]
[null,null,{"$f":"Minor_Girls!$G$47","v":41},{"$f":"Minor_Girls!$H$47","v":32},{"$f":"Minor_Girls!$I$47","v":"Ella Parr"},null,null,null,null,null,{"$f":"Minor_Girls!$O$47","v":"Cumbria"},null,null,null,{"$f":"Minor_Girls!$S$47","v":11.09},1]
[null,null,{"$f":"Minor_Girls!$G$48","v":42},{"$f":"Minor_Girls!$H$48","v":73},{"$f":"Minor_Girls!$I$48","v":"Eve Rudd"},null,null,null,null,null,{"$f":"Minor_Girls!$O$48","v":"Northumberland"},null,null,null,{"$f":"Minor_Girls!$S$48","v":11.09},1]
[null,null,{"$f":"Minor_Girls!$G$49","v":43},{"$f":"Minor_Girls!$H$49","v":69},{"$f":"Minor_Girls!$I$49","v":"Matilda Anderson"},null,null,null,null,null,{"$f":"Minor_Girls!$O$49","v":"Northumberland"},null,null,null,{"$f":"Minor_Girls!$S$49","v":11.1},1]
[null,null,{"$f":"Minor_Girls!$G$50","v":44},{"$f":"Minor_Girls!$H$50","v":48},{"$f":"Minor_Girls!$I$50","v":"Freya Gibson"},null,null,null,null,null,{"$f":"Minor_Girls!$O$50","v":"Durham"},null,null,null,{"$f":"Minor_Girls!$S$50","v":11.13},1]
[null,null,{"$f":"Minor_Girls!$G$51","v":45},{"$f":"Minor_Girls!$H$51","v":34},{"$f":"Minor_Girls!$I$51","v":"Bethany Saunders"},null,null,null,null,null,{"$f":"Minor_Girls!$O$51","v":"Cumbria"},null,null,null,{"$f":"Minor_Girls!$S$52","v":11.15},1]
[null,null,{"$f":"Minor_Girls!$G$52","v":{"$error":"#REF!"}},{"$f":"Minor_Girls!$H$52","v":36},{"$f":"Minor_Girls!$I$52","v":"Holly Brown"},null,null,null,null,null,{"$f":"Minor_Girls!$O$52","v":"Cumbria"},null,null,null,{"$f":"Minor_Girls!#REF!","v":{"$error":"#REF!"}},1]
[null,null,{"$f":"Minor_Girls!$G$53","v":47},{"$f":"Minor_Girls!$H$53","v":70},{"$f":"Minor_Girls!$I$53","v":"Daisy McClintock"},null,null,null,null,null,{"$f":"Minor_Girls!$O$53","v":"Northumberland"},null,null,null,{"$f":"Minor_Girls!$S$53","v":11.29},1]
[null,null,{"$f":"Minor_Girls!$G$54","v":48},{"$f":"Minor_Girls!$H$54","v":91},{"$f":"Minor_Girls!$I$54","v":"Emily Simpson"},null,null,null,null,null,{"$f":"Minor_Girls!$O$54","v":"North Yorkshire"},null,null,null,{"$f":"Minor_Girls!$S$54","v":11.33},1]
[null,null,{"$f":"Minor_Girls!$G$55","v":49},{"$f":"Minor_Girls!$H$55","v":72},{"$f":"Minor_Girls!$I$55","v":"Elizabeth Carragher"},null,null,null,null,null,{"$f":"Minor_Girls!$O$55","v":"Northumberland"},null,null,null,{"$f":"Minor_Girls!$S$55","v":11.34},1]
[null,null,{"$f":"Minor_Girls!$G$56","v":50},{"$f":"Minor_Girls!$H$56","v":23},{"$f":"Minor_Girls!$I$56","v":"Clara Samson"},null,null,null,null,null,{"$f":"Minor_Girls!$O$56","v":"Cumbria"},null,null,null,{"$f":"Minor_Girls!$S$56","v":11.46},1]
[null,null,{"$f":"Minor_Girls!$G$57","v":51},{"$f":"Minor_Girls!$H$57","v":5},{"$f":"Minor_Girls!$I$57","v":"Molly Thrower"},null,null,null,null,null,{"$f":"Minor_Girls!$O$57","v":"Cleveland"},null,null,null,{"$f":"Minor_Girls!$S$57","v":11.51},1]
[null,null,{"$f":"Minor_Girls!$G$58","v":52},{"$f":"Minor_Girls!$H$58","v":75},{"$f":"Minor_Girls!$I$58","v":"Sophia Cunningham"},null,null,null,null,null,{"$f":"Minor_Girls!$O$58","v":"Northumberland"},null,null,null,{"$f":"Minor_Girls!$S$58","v":12.15},1]
[null,null,{"$f":"Minor_Girls!$G$59","v":53},{"$f":"Minor_Girls!$H$59","v":0},{"$f":"Minor_Girls!$I$59","v":""},null,null,null,null,null,{"$f":"Minor_Girls!$O$59","v":""},null,null,null,{"$f":"Minor_Girls!$S$59","v":0},""]
[null,null,{"$f":"Minor_Girls!$G$60","v":54},{"$f":"Minor_Girls!$H$60","v":0},{"$f":"Minor_Girls!$I$60","v":""},null,null,null,null,null,{"$f":"Minor_Girls!$O$60","v":""},null,null,null,{"$f":"Minor_Girls!$S$60","v":0},""]
[null,null,{"$f":"Minor_Girls!$G$61","v":55},{"$f":"Minor_Girls!$H$61","v":0},{"$f":"Minor_Girls!$I$61","v":""},null,null,null,null,null,{"$f":"Minor_Girls!$O$61","v":""},null,null,null,{"$f":"Minor_Girls!$S$61","v":0},""]
[null,null,{"$f":"Minor_Girls!$G$62","v":56},{"$f":"Minor_Girls!$H$62","v":0},{"$f":"Minor_Girls!$I$62","v":""},null,null,null,null,null,{"$f":"Minor_Girls!$O$62","v":""},null,null,null,{"$f":"Minor_Girls!$S$62","v":0},""]
[null,null,{"$f":"Minor_Girls!$G$63","v":57},{"$f":"Minor_Girls!$H$63","v":0},{"$f":"Minor_Girls!$I$63","v":""},null,null,null,null,null,{"$f":"Minor_Girls!$O$63","v":""},null,null,null,{"$f":"Minor_Girls!$S$63","v":0},""]
[null,null,{"$f":"Minor_Girls!$G$64","v":58},{"$f":"Minor_Girls!$H$64","v":0},{"$f":"Minor_Girls!$I$64","v":""},null,null,null,null,null,{"$f":"Minor_Girls!$O$64","v":""},null,null,null,{"$f":"Minor_Girls!$S$64","v":0},""]
[null,null,{"$f":"Minor_Girls!$G$65","v":59},{"$f":"Minor_Girls!$H$65","v":0},{"$f":"Minor_Girls!$I$65","v":""},null,null,null,null,null,{"$f":"Minor_Girls!$O$65","v":""},null,null,null,{"$f":"Minor_Girls!$S$65","v":0},""]
[null,null,{"$f":"Minor_Girls!$G$66","v":60},{"$f":"Minor_Girls!$H$66","v":0},{"$f":"Minor_Girls!$I$66","v":""},null,null,null,null,null,{"$f":"Minor_Girls!$O$66","v":""},null,null,null,{"$f":"Minor_Girls!$S$66","v":0},""]
[null,null,{"$f":"Minor_Girls!$G$67","v":61},{"$f":"Minor_Girls!$H$67","v":0},{"$f":"Minor_Girls!$I$67","v":""},null,null,null,null,null,{"$f":"Minor_Girls!$O$67","v":""},null,null,null,{"$f":"Minor_Girls!$S$67","v":0},""]
[null,null,{"$f":"Minor_Girls!$G$68","v":62},{"$f":"Minor_Girls!$H$68","v":0},{"$f":"Minor_Girls!$I$68","v":""},null,null,null,null,null,{"$f":"Minor_Girls!$O$68","v":""},null,null,null,{"$f":"Minor_Girls!$S$68","v":0},""]
[null,null,{"$f":"Minor_Girls!$G$69","v":63},{"$f":"Minor_Girls!$H$69","v":0},{"$f":"Minor_Girls!$I$69","v":""},null,null,null,null,null,{"$f":"Minor_Girls!$O$69","v":""},null,null,null,{"$f":"Minor_Girls!$S$69","v":0},""]
[null,null,{"$f":"Minor_Girls!$G$70","v":64},{"$f":"Minor_Girls!$H$70","v":0},{"$f":"Minor_Girls!$I$70","v":""},null,null,null,null,null,{"$f":"Minor_Girls!$O$70","v":""},null,null,null,{"$f":"Minor_Girls!$S$70","v":0},""]
[null,null,{"$f":"Minor_Girls!$G$71","v":65},{"$f":"Minor_Girls!$H$71","v":0},{"$f":"Minor_Girls!$I$71","v":""},null,null,null,null,null,{"$f":"Minor_Girls!$O$71","v":""},null,null,null,{"$f":"Minor_Girls!$S$71","v":0},""]
[null,null,{"$f":"Minor_Girls!$G$72","v":66},{"$f":"Minor_Girls!$H$72","v":0},{"$f":"Minor_Girls!$I$72","v":""},null,null,null,null,null,{"$f":"Minor_Girls!$O$72","v":""},null,null,null,{"$f":"Minor_Girls!$S$72","v":0},{"$f":"IF(D239=0,\"\",1)","v":""}]
[null,null,{"$f":"Minor_Girls!$G$73","v":67},{"$f":"Minor_Girls!$H$73","v":0},{"$f":"Minor_Girls!$I$73","v":""},null,null,null,null,null,{"$f":"Minor_Girls!$O$73","v":""},null,null,null,{"$f":"Minor_Girls!$S$73","v":0},""]
[null,null,{"$f":"Minor_Girls!$G$74","v":68},{"$f":"Minor_Girls!$H$74","v":0},{"$f":"Minor_Girls!$I$74","v":""},null,null,null,null,null,{"$f":"Minor_Girls!$O$74","v":""},null,null,null,{"$f":"Minor_Girls!$S$74","v":0},""]
[null,null,{"$f":"Minor_Girls!$G$75","v":69},{"$f":"Minor_Girls!$H$75","v":0},{"$f":"Minor_Girls!$I$75","v":""},null,null,null,null,null,{"$f":"Minor_Girls!$O$75","v":""},null,null,null,{"$f":"Minor_Girls!$S$75","v":0},""]
[null,null,{"$f":"Minor_Girls!$G$76","v":70},{"$f":"Minor_Girls!$H$76","v":0},{"$f":"Minor_Girls!$I$76","v":""},null,null,null,null,null,{"$f":"Minor_Girls!$O$76","v":""},null,null,null,{"$f":"Minor_Girls!$S$76","v":0},""]
[null,null,{"$f":"Minor_Girls!$G$77","v":71},{"$f":"Minor_Girls!$H$77","v":0},{"$f":"Minor_Girls!$I$77","v":""},null,null,null,null,null,{"$f":"Minor_Girls!$O$77","v":""},null,null,null,{"$f":"Minor_Girls!$S$77","v":0},""]
[null,null,{"$f":"Minor_Girls!$G$78","v":72},{"$f":"Minor_Girls!$H$78","v":0},{"$f":"Minor_Girls!$I$78","v":""},null,null,null,null,null,{"$f":"Minor_Girls!$O$78","v":""},null,null,null,{"$f":"Minor_Girls!$S$78","v":0},""]
[null,null,{"$f":"Minor_Girls!$G$79","v":73},{"$f":"Minor_Girls!$H$79","v":0},{"$f":"Minor_Girls!$I$79","v":""},null,null,null,null,null,{"$f":"Minor_Girls!$O$79","v":""},null,null,null,{"$f":"Minor_Girls!$S$79","v":0},""]
[null,null,{"$f":"Minor_Girls!$G$80","v":74},{"$f":"Minor_Girls!$H$80","v":0},{"$f":"Minor_Girls!$I$80","v":""},null,null,null,null,null,{"$f":"Minor_Girls!$O$80","v":""},null,null,null,{"$f":"Minor_Girls!$S$80","v":0},""]
[null,null,{"$f":"Minor_Girls!$G$81","v":75},{"$f":"Minor_Girls!$H$81","v":0},{"$f":"Minor_Girls!$I$81","v":""},null,null,null,null,null,{"$f":"Minor_Girls!$O$81","v":""},null,null,null,{"$f":"Minor_Girls!$S$81","v":0},""]
[null,null,{"$f":"Minor_Girls!$G$82","v":76},{"$f":"Minor_Girls!$H$82","v":0},{"$f":"Minor_Girls!$I$82","v":""},null,null,null,null,null,{"$f":"Minor_Girls!$O$82","v":""},null,null,null,{"$f":"Minor_Girls!$S$82","v":0},""]
[null,null,{"$f":"Minor_Girls!$G$83","v":77},{"$f":"Minor_Girls!$H$83","v":0},{"$f":"Minor_Girls!$I$83","v":""},null,null,null,null,null,{"$f":"Minor_Girls!$O$83","v":""},null,null,null,{"$f":"Minor_Girls!$S$83","v":0},""]
[null,null,{"$f":"Minor_Girls!$G$84","v":78},{"$f":"Minor_Girls!$H$84","v":0},{"$f":"Minor_Girls!$I$84","v":""},null,null,null,null,null,{"$f":"Minor_Girls!$O$84","v":""},null,null,null,{"$f":"Minor_Girls!$S$84","v":0},""]
[null,null,{"$f":"Minor_Girls!$G$85","v":79},{"$f":"Minor_Girls!$H$85","v":0},{"$f":"Minor_Girls!$I$85","v":""},null,null,null,null,null,{"$f":"Minor_Girls!$O$85","v":""},null,null,null,{"$f":"Minor_Girls!$S$85","v":0},""]
[null,null,{"$f":"Minor_Girls!$G$86","v":80},{"$f":"Minor_Girls!$H$86","v":0},{"$f":"Minor_Girls!$I$86","v":""},null,null,null,null,null,{"$f":"Minor_Girls!$O$86","v":""},null,null,null,{"$f":"Minor_Girls!$S$86","v":0},""]
[null,null,{"$f":"Minor_Girls!$G$87","v":81},{"$f":"Minor_Girls!$H$87","v":0},{"$f":"Minor_Girls!$I$87","v":""},null,null,null,null,null,{"$f":"Minor_Girls!$O$87","v":""},null,null,null,{"$f":"Minor_Girls!$S$87","v":0},""]
[null,null,{"$f":"Minor_Girls!$G$88","v":82},{"$f":"Minor_Girls!$H$88","v":0},{"$f":"Minor_Girls!$I$88","v":""},null,null,null,null,null,{"$f":"Minor_Girls!$O$88","v":""},null,null,null,{"$f":"Minor_Girls!$S$88","v":0},""]
[null,null,{"$f":"Minor_Girls!$G$89","v":83},{"$f":"Minor_Girls!$H$89","v":0},{"$f":"Minor_Girls!$I$89","v":""},null,null,null,null,null,{"$f":"Minor_Girls!$O$89","v":""},null,null,null,{"$f":"Minor_Girls!$S$89","v":0},""]
[null,null,{"$f":"Minor_Girls!$G$90","v":84},{"$f":"Minor_Girls!$H$90","v":0},{"$f":"Minor_Girls!$I$90","v":""},null,null,null,null,null,{"$f":"Minor_Girls!$O$90","v":""},null,null,null,{"$f":"Minor_Girls!$S$90","v":0},""]
[null,null,{"$f":"Minor_Girls!$G$91","v":85},{"$f":"Minor_Girls!$H$91","v":0},{"$f":"Minor_Girls!$I$91","v":""},null,null,null,null,null,{"$f":"Minor_Girls!$O$91","v":""},null,null,null,{"$f":"Minor_Girls!$S$91","v":0},""]
[null,null,{"$f":"Minor_Girls!$G$92","v":86},{"$f":"Minor_Girls!$H$92","v":0},{"$f":"Minor_Girls!$I$92","v":""},null,null,null,null,null,{"$f":"Minor_Girls!$O$92","v":""},null,null,null,{"$f":"Minor_Girls!$S$92","v":0},""]
[null,null,{"$f":"Minor_Girls!$G$93","v":87},{"$f":"Minor_Girls!$H$93","v":0},{"$f":"Minor_Girls!$I$93","v":""},null,null,null,null,null,{"$f":"Minor_Girls!$O$93","v":""},null,null,null,{"$f":"Minor_Girls!$S$93","v":0},""]
[null,null,{"$f":"Minor_Girls!$G$94","v":88},{"$f":"Minor_Girls!$H$94","v":0},{"$f":"Minor_Girls!$I$94","v":""},null,null,null,null,null,{"$f":"Minor_Girls!$O$94","v":""},null,null,null,{"$f":"Minor_Girls!$S$94","v":0},""]
[null,null,{"$f":"Minor_Girls!$G$95","v":89},{"$f":"Minor_Girls!$H$95","v":0},{"$f":"Minor_Girls!$I$95","v":""},null,null,null,null,null,{"$f":"Minor_Girls!$O$95","v":""},null,null,null,{"$f":"Minor_Girls!$S$95","v":0},""]
[null,null,{"$f":"Minor_Girls!$G$96","v":90},{"$f":"Minor_Girls!$H$96","v":0},{"$f":"Minor_Girls!$I$96","v":""},null,null,null,null,null,{"$f":"Minor_Girls!$O$96","v":""},null,null,null,{"$f":"Minor_Girls!$S$96","v":0},""]
[null,null,{"$f":"Minor_Girls!$G$97","v":91},{"$f":"Minor_Girls!$H$97","v":0},{"$f":"Minor_Girls!$I$97","v":""},null,null,null,null,null,{"$f":"Minor_Girls!$O$97","v":""},null,null,null,{"$f":"Minor_Girls!$S$97","v":0},""]
[null,null,{"$f":"Minor_Girls!$G$98","v":92},{"$f":"Minor_Girls!$H$98","v":0},{"$f":"Minor_Girls!$I$98","v":""},null,null,null,null,null,{"$f":"Minor_Girls!$O$98","v":""},null,null,null,{"$f":"Minor_Girls!$S$98","v":0},""]
[null,null,{"$f":"Minor_Girls!$G$99","v":93},{"$f":"Minor_Girls!$H$99","v":0},{"$f":"Minor_Girls!$I$99","v":""},null,null,null,null,null,{"$f":"Minor_Girls!$O$99","v":""},null,null,null,{"$f":"Minor_Girls!$S$99","v":0},""]
[null,null,{"$f":"Minor_Girls!$G$100","v":94},{"$f":"Minor_Girls!$H$100","v":0},{"$f":"Minor_Girls!$I$100","v":""},null,null,null,null,null,{"$f":"Minor_Girls!$O$100","v":""},null,null,null,{"$f":"Minor_Girls!$S$100","v":0},""]
[null,null,{"$f":"Minor_Girls!$G$101","v":95},{"$f":"Minor_Girls!$H$101","v":0},{"$f":"Minor_Girls!$I$101","v":""},null,null,null,null,null,{"$f":"Minor_Girls!$O$101","v":""},null,null,null,{"$f":"Minor_Girls!$S$101","v":0},""]
[null,null,{"$f":"Minor_Girls!$G$102","v":96},{"$f":"Minor_Girls!$H$102","v":0},{"$f":"Minor_Girls!$I$102","v":""},null,null,null,null,null,{"$f":"Minor_Girls!$O$102","v":""},null,null,null,{"$f":"Minor_Girls!$S$102","v":0},""]
[null,null,{"$f":"Minor_Girls!$G$103","v":97},{"$f":"Minor_Girls!$H$103","v":0},{"$f":"Minor_Girls!$I$103","v":""},null,null,null,null,null,{"$f":"Minor_Girls!$O$103","v":""},null,null,null,{"$f":"Minor_Girls!$S$103","v":0},""]
[null,null,{"$f":"Minor_Girls!$G$104","v":98},{"$f":"Minor_Girls!$H$104","v":0},{"$f":"Minor_Girls!$I$104","v":""},null,null,null,null,null,{"$f":"Minor_Girls!$O$104","v":""},null,null,null,{"$f":"Minor_Girls!$S$104","v":0},""]
[null,null,{"$f":"Minor_Girls!$G$105","v":99},{"$f":"Minor_Girls!$H$105","v":0},{"$f":"Minor_Girls!$I$105","v":""},null,null,null,null,null,{"$f":"Minor_Girls!$O$105","v":""},null,null,null,{"$f":"Minor_Girls!$S$105","v":0},""]
[null,null,{"$f":"Minor_Girls!$G$106","v":100},{"$f":"Minor_Girls!$H$106","v":0},{"$f":"Minor_Girls!$I$106","v":""},null,null,null,null,null,{"$f":"Minor_Girls!$O$106","v":""},null,null,null,{"$f":"Minor_Girls!$S$106","v":0},""]
[null,null,{"$f":"CONCATENATE($C172,\" \",\"Individual Medal Winners\")","v":"Minor Girls Individual Medal Winners"},null,null,null,null,null,null,null,null,null,null,null,null,{"$f":"IF(D276=\"\",\"\",1)","v":1}]
[null,null,"Pos","Num","Name",null,null,null,null,null,"County",null,null,null,"Time",{"$f":"IF(D276=\"\",\"\",1)","v":1}]
[null,null,1,{"$f":"Minor_Girls!$H$109","v":21},{"$f":"Minor_Girls!$I$109","v":"Sarah Smith"},null,null,null,null,null,{"$f":"Minor_Girls!$O$109","v":"Cumbria"},null,null,null,{"$f":"Minor_Girls!$S$109","v":9.42},{"$f":"IF(D276=\"\",\"\",1)","v":1}]
[null,null,2,{"$f":"Minor_Girls!$H$110","v":81},{"$f":"Minor_Girls!$I$110","v":"Zoe Hill"},null,null,null,null,null,{"$f":"Minor_Girls!$O$110","v":"North Yorkshire"},null,null,null,{"$f":"Minor_Girls!$S$110","v":9.44},{"$f":"IF(D277=\"\",\"\",1)","v":1}]
[null,null,3,{"$f":"Minor_Girls!$H$111","v":2},{"$f":"Minor_Girls!$I$111","v":"Gabby Hall"},null,null,null,null,null,{"$f":"Minor_Girls!$O$111","v":"Cleveland"},null,null,null,{"$f":"Minor_Girls!$S$111","v":9.49},1]
[]
[null,null,{"$f":"CONCATENATE($C172,\" \",\"Team Results\")","v":"Minor Girls Team Results"},null,null,null,null,null,null,null,null,null,null,null,null,{"$f":"IF(D282=\"\",\"\",1)","v":1}]
[null,null,null,"Team Name",null,null,null,null,"1st","2nd","3rd","4th","5th","6th","Points",{"$f":"IF(D282=\"\",\"\",1)","v":1}]
[null,null,1,{"$f":"Minor_Girls!$H$115","v":"North Yorkshire"},null,null,null,null,{"$f":"Minor_Girls!$M$115","v":2},{"$f":"Minor_Girls!$N$115","v":5},{"$f":"Minor_Girls!$O$115","v":11},{"$f":"Minor_Girls!$P$115","v":12},{"$f":"Minor_Girls!$Q$115","v":13},{"$f":"Minor_Girls!$R$115","v":16},{"$f":"Minor_Girls!$S$115","v":59},{"$f":"IF(D282=\"\",\"\",1)","v":1}]
[null,null,2,{"$f":"Minor_Girls!$H$116","v":"Cumbria"},null,null,null,null,{"$f":"Minor_Girls!$M$116","v":1},{"$f":"Minor_Girls!$N$116","v":4},{"$f":"Minor_Girls!$O$116","v":7},{"$f":"Minor_Girls!$P$116","v":8},{"$f":"Minor_Girls!$Q$116","v":22},{"$f":"Minor_Girls!$R$116","v":25},{"$f":"Minor_Girls!$S$116","v":67},{"$f":"IF(D283=\"\",\"\",1)","v":1}]
[null,null,3,{"$f":"Minor_Girls!$H$117","v":"Durham"},null,null,null,null,{"$f":"Minor_Girls!$M$117","v":9},{"$f":"Minor_Girls!$N$117","v":10},{"$f":"Minor_Girls!$O$117","v":15},{"$f":"Minor_Girls!$P$117","v":18},{"$f":"Minor_Girls!$Q$117","v":19},{"$f":"Minor_Girls!$R$117","v":23},{"$f":"Minor_Girls!$S$117","v":94},1]
[null,null,4,{"$f":"Minor_Girls!$H$118","v":"Northumberland"},null,null,null,null,{"$f":"Minor_Girls!$M$118","v":14},{"$f":"Minor_Girls!$N$118","v":20},{"$f":"Minor_Girls!$O$118","v":21},{"$f":"Minor_Girls!$P$118","v":26},{"$f":"Minor_Girls!$Q$118","v":29},{"$f":"Minor_Girls!$R$118","v":30},{"$f":"Minor_Girls!$S$118","v":140},1]
[null,null,5,{"$f":"Minor_Girls!$H$119","v":""},null,null,null,null,{"$f":"Minor_Girls!$M$119","v":""},{"$f":"Minor_Girls!$N$119","v":""},{"$f":"Minor_Girls!$O$119","v":""},{"$f":"Minor_Girls!$P$119","v":""},{"$f":"Minor_Girls!$Q$119","v":""},{"$f":"Minor_Girls!$R$119","v":""},{"$f":"Minor_Girls!$S$119","v":0},""]
[null,null,null,null,null,null,null,null,null,null,null,null,null,null,null,{"$f":"IF(D282=\"\",\"\",1)","v":1}]
[null,null,{"$f":"Home!$B$1","v":"Northern Schools' Inter-County Cross Country Championships"},null,null,null,null,null,null,null,null,null,null,null,null,{"$f":"IF(D294=0,\"\",1)","v":1},null,null,null,null,null,null,null,null,null,null,{"$f":"CONCATENATE(U288,\" \",V288)","v":" "}]
[null,null,{"$f":"Home!$B$2","v":"Barnard Castle School"},null,null,null,null,null,null,null,null,null,null,null,null,{"$f":"IF(D294=0,\"\",1)","v":1}]
[null,null,{"$f":"Home!$G$3","v":"Saturday 3rd February 2018"},null,null,null,null,null,null,null,null,null,null,null,null,{"$f":"IF(D294=0,\"\",1)","v":1}]
[null,null,null,null,null,null,null,null,null,null,null,null,null,null,null,{"$f":"IF(D294=0,\"\",1)","v":1}]
[null,null,{"$f":"Junior_Boys!$G$5","v":"Junior Boys"},null,null,null,null,null,null,null,null,null,null,null,null,{"$f":"IF(D294=0,\"\",1)","v":1}]
[null,null,"Pos","Num","Name",null,null,null,null,null,"County",null,null,null,"Time",{"$f":"IF(D294=0,\"\",1)","v":1}]
[null,null,{"$f":"Junior_Boys!$G$7","v":1},{"$f":"Junior_Boys!$H$7","v":21},{"$f":"Junior_Boys!$I$7","v":"Fraser Sproul"},null,null,null,null,null,{"$f":"Junior_Boys!$O$7","v":"Cumbria"},null,null,null,{"$f":"Junior_Boys!$S$7","v":14.31},{"$f":"IF(D294=0,\"\",1)","v":1}]
[null,null,{"$f":"Junior_Boys!$G$8","v":2},{"$f":"Junior_Boys!$H$8","v":81},{"$f":"Junior_Boys!$I$8","v":"Kyle Rabjohn"},null,null,null,null,null,{"$f":"Junior_Boys!$O$8","v":"North Yorkshire"},null,null,null,{"$f":"Junior_Boys!$S$8","v":14.33},{"$f":"IF(D295=0,\"\",1)","v":1}]
[null,null,{"$f":"Junior_Boys!$G$9","v":3},{"$f":"Junior_Boys!$H$9","v":22},{"$f":"Junior_Boys!$I$9","v":"Daniel Sanderson"},null,null,null,null,null,{"$f":"Junior_Boys!$O$9","v":"Cumbria"},null,null,null,{"$f":"Junior_Boys!$S$9","v":14.46},1]
[null,null,{"$f":"Junior_Boys!$G$10","v":4},{"$f":"Junior_Boys!$H$10","v":82},{"$f":"Junior_Boys!$I$10","v":"Charlie Stephenson"},null,null,null,null,null,{"$f":"Junior_Boys!$O$10","v":"North Yorkshire"},null,null,null,{"$f":"Junior_Boys!$S$10","v":14.48},1]
[null,null,{"$f":"Junior_Boys!$G$11","v":5},{"$f":"Junior_Boys!$H$11","v":62},{"$f":"Junior_Boys!$I$11","v":"Euan Duffin"},null,null,null,null,null,{"$f":"Junior_Boys!$O$11","v":"Northumberland"},null,null,null,{"$f":"Junior_Boys!$S$11","v":14.5},1]
[null,null,{"$f":"Junior_Boys!$G$12","v":6},{"$f":"Junior_Boys!$H$12","v":84},{"$f":"Junior_Boys!$I$12","v":"Daniel Francis"},null,null,null,null,null,{"$f":"Junior_Boys!$O$12","v":"North Yorkshire"},null,null,null,{"$f":"Junior_Boys!$S$12","v":14.56},1]
[null,null,{"$f":"Junior_Boys!$G$13","v":7},{"$f":"Junior_Boys!$H$13","v":45},{"$f":"Junior_Boys!$I$13","v":"John Russell"},null,null,null,null,null,{"$f":"Junior_Boys!$O$13","v":"Durham"},null,null,null,{"$f":"Junior_Boys!$S$13","v":14.57},1]
[null,null,{"$f":"Junior_Boys!$G$14","v":8},{"$f":"Junior_Boys!$H$14","v":42},{"$f":"Junior_Boys!$I$14","v":"Christopher Perkins"},null,null,null,null,null,{"$f":"Junior_Boys!$O$14","v":"Durham"},null,null,null,{"$f":"Junior_Boys!$S$14","v":15.01},1]
[null,null,{"$f":"Junior_Boys!$G$15","v":9},{"$f":"Junior_Boys!$H$15","v":83},{"$f":"Junior_Boys!$I$15","v":"Will Hugill"},null,null,null,null,null,{"$f":"Junior_Boys!$O$15","v":"North Yorkshire"},null,null,null,{"$f":"Junior_Boys!$S$15","v":15.03},1]
[null,null,{"$f":"Junior_Boys!$G$16","v":10},{"$f":"Junior_Boys!$H$16","v":50},{"$f":"Junior_Boys!$I$16","v":"Joshua Wraith"},null,null,null,null,null,{"$f":"Junior_Boys!$O$16","v":"Durham"},null,null,null,{"$f":"Junior_Boys!$S$16","v":15.12},1]
[null,null,{"$f":"Junior_Boys!$G$17","v":11},{"$f":"Junior_Boys!$H$17","v":63},{"$f":"Junior_Boys!$I$17","v":"William Collinson"},null,null,null,null,null,{"$f":"Junior_Boys!$O$17","v":"Northumberland"},null,null,null,{"$f":"Junior_Boys!$S$17","v":15.14},1]
[null,null,{"$f":"Junior_Boys!$G$18","v":12},{"$f":"Junior_Boys!$H$18","v":60},{"$f":"Junior_Boys!$I$18","v":0},null,null,null,null,null,{"$f":"Junior_Boys!$O$18","v":"Durham"},null,null,null,{"$f":"Junior_Boys!$S$18","v":15.15},1]
[null,null,{"$f":"Junior_Boys!$G$19","v":13},{"$f":"Junior_Boys!$H$19","v":24},{"$f":"Junior_Boys!$I$19","v":"Oliie Sanders"},null,null,null,null,null,{"$f":"Junior_Boys!$O$19","v":"Cumbria"},null,null,null,{"$f":"Junior_Boys!$S$19","v":15.17},1]
[null,null,{"$f":"Junior_Boys!$G$20","v":14},{"$f":"Junior_Boys!$H$20","v":43},{"$f":"Junior_Boys!$I$20","v":"Adam Russell"},null,null,null,null,null,{"$f":"Junior_Boys!$O$20","v":"Durham"},null,null,null,{"$f":"Junior_Boys!$S$20","v":15.2},1]
[null,null,{"$f":"Junior_Boys!$G$21","v":15},{"$f":"Junior_Boys!$H$21","v":23},{"$f":"Junior_Boys!$I$21","v":"James Bowen"},null,null,null,null,null,{"$f":"Junior_Boys!$O$21","v":"Cumbria"},null,null,null,{"$f":"Junior_Boys!$S$21","v":15.23},1]
[null,null,{"$f":"Junior_Boys!$G$22","v":16},{"$f":"Junior_Boys!$H$22","v":74},{"$f":"Junior_Boys!$I$22","v":"Charlie Daley"},null,null,null,null,null,{"$f":"Junior_Boys!$O$22","v":"Northumberland"},null,null,null,{"$f":"Junior_Boys!$S$22","v":15.24},1]
[null,null,{"$f":"Junior_Boys!$G$23","v":17},{"$f":"Junior_Boys!$H$23","v":64},{"$f":"Junior_Boys!$I$23","v":"Dylan Davies"},null,null,null,null,null,{"$f":"Junior_Boys!$O$23","v":"Northumberland"},null,null,null,{"$f":"Junior_Boys!$S$23","v":15.25},1]
[null,null,{"$f":"Junior_Boys!$G$24","v":18},{"$f":"Junior_Boys!$H$24","v":25},{"$f":"Junior_Boys!$I$24","v":"John Egner"},null,null,null,null,null,{"$f":"Junior_Boys!$O$24","v":"Cumbria"},null,null,null,{"$f":"Junior_Boys!$S$24","v":15.26},1]
[null,null,{"$f":"Junior_Boys!$G$25","v":19},{"$f":"Junior_Boys!$H$25","v":65},{"$f":"Junior_Boys!$I$25","v":"Kieron Mutch"},null,null,null,null,null,{"$f":"Junior_Boys!$O$25","v":"Northumberland"},null,null,null,{"$f":"Junior_Boys!$S$25","v":15.27},1]
[null,null,{"$f":"Junior_Boys!$G$26","v":20},{"$f":"Junior_Boys!$H$26","v":30},{"$f":"Junior_Boys!$I$26","v":"George Sidaway"},null,null,null,null,null,{"$f":"Junior_Boys!$O$26","v":"Cumbria"},null,null,null,{"$f":"Junior_Boys!$S$26","v":15.33},1]
[null,null,{"$f":"Junior_Boys!$G$27","v":21},{"$f":"Junior_Boys!$H$27","v":68},{"$f":"Junior_Boys!$I$27","v":"Oliver Douglass"},null,null,null,null,null,{"$f":"Junior_Boys!$O$27","v":"Northumberland"},null,null,null,{"$f":"Junior_Boys!$S$27","v":15.37},1]
[null,null,{"$f":"Junior_Boys!$G$28","v":22},{"$f":"Junior_Boys!$H$28","v":85},{"$f":"Junior_Boys!$I$28","v":"Alex Thompson"},null,null,null,null,null,{"$f":"Junior_Boys!$O$28","v":"North Yorkshire"},null,null,null,{"$f":"Junior_Boys!$S$28","v":15.39},1]
[null,null,{"$f":"Junior_Boys!$G$29","v":23},{"$f":"Junior_Boys!$H$29","v":51},{"$f":"Junior_Boys!$I$29","v":"Thomas Wraith"},null,null,null,null,null,{"$f":"Junior_Boys!$O$29","v":"Durham"},null,null,null,{"$f":"Junior_Boys!$S$29","v":15.41},1]
[null,null,{"$f":"Junior_Boys!$G$30","v":24},{"$f":"Junior_Boys!$H$30","v":27},{"$f":"Junior_Boys!$I$30","v":"James Young"},null,null,null,null,null,{"$f":"Junior_Boys!$O$30","v":"Cumbria"},null,null,null,{"$f":"Junior_Boys!$S$30","v":15.42},1]
[null,null,{"$f":"Junior_Boys!$G$31","v":25},{"$f":"Junior_Boys!$H$31","v":29},{"$f":"Junior_Boys!$I$31","v":"Ben Smith"},null,null,null,null,null,{"$f":"Junior_Boys!$O$31","v":"Cumbria"},null,null,null,{"$f":"Junior_Boys!$S$31","v":15.43},1]
[null,null,{"$f":"Junior_Boys!$G$32","v":26},{"$f":"Junior_Boys!$H$32","v":1},{"$f":"Junior_Boys!$I$32","v":"Max Creasey"},null,null,null,null,null,{"$f":"Junior_Boys!$O$32","v":"Cleveland"},null,null,null,{"$f":"Junior_Boys!$S$32","v":15.44},1]
[null,null,{"$f":"Junior_Boys!$G$33","v":27},{"$f":"Junior_Boys!$H$33","v":35},{"$f":"Junior_Boys!$I$33","v":"Harry Bowen"},null,null,null,null,null,{"$f":"Junior_Boys!$O$33","v":"Cumbria"},null,null,null,{"$f":"Junior_Boys!$S$33","v":15.46},1]
[null,null,{"$f":"Junior_Boys!$G$34","v":28},{"$f":"Junior_Boys!$H$34","v":47},{"$f":"Junior_Boys!$I$34","v":"Chris Coulson"},null,null,null,null,null,{"$f":"Junior_Boys!$O$34","v":"Durham"},null,null,null,{"$f":"Junior_Boys!$S$34","v":15.47},1]
[null,null,{"$f":"Junior_Boys!$G$35","v":29},{"$f":"Junior_Boys!$H$35","v":86},{"$f":"Junior_Boys!$I$35","v":"Jath Lee"},null,null,null,null,null,{"$f":"Junior_Boys!$O$35","v":"North Yorkshire"},null,null,null,{"$f":"Junior_Boys!$S$35","v":15.49},1]
[null,null,{"$f":"Junior_Boys!$G$36","v":30},{"$f":"Junior_Boys!$H$36","v":46},{"$f":"Junior_Boys!$I$36","v":"Duncan Hughes"},null,null,null,null,null,{"$f":"Junior_Boys!$O$36","v":"Durham"},null,null,null,{"$f":"Junior_Boys!$S$36","v":15.51},1]
[null,null,{"$f":"Junior_Boys!$G$37","v":31},{"$f":"Junior_Boys!$H$37","v":33},{"$f":"Junior_Boys!$I$37","v":"Finn Harrison"},null,null,null,null,null,{"$f":"Junior_Boys!$O$37","v":"Cumbria"},null,null,null,{"$f":"Junior_Boys!$S$37","v":15.52},1]
[null,null,{"$f":"Junior_Boys!$G$38","v":32},{"$f":"Junior_Boys!$H$38","v":34},{"$f":"Junior_Boys!$I$38","v":"Felix Bower"},null,null,null,null,null,{"$f":"Junior_Boys!$O$38","v":"Cumbria"},null,null,null,{"$f":"Junior_Boys!$S$38","v":15.54},1]
[null,null,{"$f":"Junior_Boys!$G$39","v":33},{"$f":"Junior_Boys!$H$39","v":28},{"$f":"Junior_Boys!$I$39","v":"James Dixon"},null,null,null,null,null,{"$f":"Junior_Boys!$O$39","v":"Cumbria"},null,null,null,{"$f":"Junior_Boys!$S$39","v":15.55},1]
[null,null,{"$f":"Junior_Boys!$G$40","v":34},{"$f":"Junior_Boys!$H$40","v":88},{"$f":"Junior_Boys!$I$40","v":"Xavier Martin"},null,null,null,null,null,{"$f":"Junior_Boys!$O$40","v":"North Yorkshire"},null,null,null,{"$f":"Junior_Boys!$S$40","v":15.56},1]
[null,null,{"$f":"Junior_Boys!$G$41","v":35},{"$f":"Junior_Boys!$H$41","v":69},{"$f":"Junior_Boys!$I$41","v":"Luis White"},null,null,null,null,null,{"$f":"Junior_Boys!$O$41","v":"Northumberland"},null,null,null,{"$f":"Junior_Boys!$S$41","v":15.57},1]
[null,null,{"$f":"Junior_Boys!$G$42","v":36},{"$f":"Junior_Boys!$H$42","v":71},{"$f":"Junior_Boys!$I$42","v":"Zak Old"},null,null,null,null,null,{"$f":"Junior_Boys!$O$42","v":"Northumberland"},null,null,null,{"$f":"Junior_Boys!$S$42","v":15.58},1]
[null,null,{"$f":"Junior_Boys!$G$43","v":37},{"$f":"Junior_Boys!$H$43","v":56},{"$f":"Junior_Boys!$I$43","v":"Theo Barrow"},null,null,null,null,null,{"$f":"Junior_Boys!$O$43","v":"Durham"},null,null,null,{"$f":"Junior_Boys!$S$43","v":15.59},1]
[null,null,{"$f":"Junior_Boys!$G$44","v":38},{"$f":"Junior_Boys!$H$44","v":67},{"$f":"Junior_Boys!$I$44","v":"Samuel Tate"},null,null,null,null,null,{"$f":"Junior_Boys!$O$44","v":"Northumberland"},null,null,null,{"$f":"Junior_Boys!$S$44","v":16},1]
[null,null,{"$f":"Junior_Boys!$G$45","v":39},{"$f":"Junior_Boys!$H$45","v":87},{"$f":"Junior_Boys!$I$45","v":"Ben Rees"},null,null,null,null,null,{"$f":"Junior_Boys!$O$45","v":"North Yorkshire"},null,null,null,{"$f":"Junior_Boys!$S$45","v":16},1]
[null,null,{"$f":"Junior_Boys!$G$46","v":40},{"$f":"Junior_Boys!$H$46","v":4},{"$f":"Junior_Boys!$I$46","v":"Ben Johnson"},null,null,null,null,null,{"$f":"Junior_Boys!$O$46","v":"Cleveland"},null,null,null,{"$f":"Junior_Boys!$S$46","v":16},1]
[null,null,{"$f":"Junior_Boys!$G$47","v":41},{"$f":"Junior_Boys!$H$47","v":55},{"$f":"Junior_Boys!$I$47","v":"Ben Underwood"},null,null,null,null,null,{"$f":"Junior_Boys!$O$47","v":"Durham"},null,null,null,{"$f":"Junior_Boys!$S$47","v":16},1]
[null,null,{"$f":"Junior_Boys!$G$48","v":42},{"$f":"Junior_Boys!$H$48","v":5},{"$f":"Junior_Boys!$I$48","v":"Liam Cooper"},null,null,null,null,null,{"$f":"Junior_Boys!$O$48","v":"Cleveland"},null,null,null,{"$f":"Junior_Boys!$S$48","v":16.02},1]
[null,null,{"$f":"Junior_Boys!$G$49","v":43},{"$f":"Junior_Boys!$H$49","v":90},{"$f":"Junior_Boys!$I$49","v":"Jack Mudd-Bowes"},null,null,null,null,null,{"$f":"Junior_Boys!$O$49","v":"North Yorkshire"},null,null,null,{"$f":"Junior_Boys!$S$49","v":16.02},1]
[null,null,{"$f":"Junior_Boys!$G$50","v":44},{"$f":"Junior_Boys!$H$50","v":53},{"$f":"Junior_Boys!$I$50","v":"Freddie Langton"},null,null,null,null,null,{"$f":"Junior_Boys!$O$50","v":"Durham"},null,null,null,{"$f":"Junior_Boys!$S$50","v":16.03},1]
[null,null,{"$f":"Junior_Boys!$G$51","v":45},{"$f":"Junior_Boys!$H$51","v":7},{"$f":"Junior_Boys!$I$51","v":"Harvey Kaid"},null,null,null,null,null,{"$f":"Junior_Boys!$O$51","v":"Cleveland"},null,null,null,{"$f":"Junior_Boys!$S$51","v":16.03},1]
[null,null,{"$f":"Junior_Boys!$G$52","v":46},{"$f":"Junior_Boys!$H$52","v":26},{"$f":"Junior_Boys!$I$52","v":"Ben O'Dowd"},null,null,null,null,null,{"$f":"Junior_Boys!$O$52","v":"Cumbria"},null,null,null,{"$f":"Junior_Boys!$S$52","v":16.05},1]
[null,null,{"$f":"Junior_Boys!$G$53","v":47},{"$f":"Junior_Boys!$H$53","v":89},{"$f":"Junior_Boys!$I$53","v":"Joe O'brien"},null,null,null,null,null,{"$f":"Junior_Boys!$O$53","v":"North Yorkshire"},null,null,null,{"$f":"Junior_Boys!$S$53","v":16.07},1]
[null,null,{"$f":"Junior_Boys!$G$54","v":48},{"$f":"Junior_Boys!$H$54","v":32},{"$f":"Junior_Boys!$I$54","v":"Lucas Messenger Jones"},null,null,null,null,null,{"$f":"Junior_Boys!$O$54","v":"Cumbria"},null,null,null,{"$f":"Junior_Boys!$S$54","v":16.100000000000001},1]
[null,null,{"$f":"Junior_Boys!$G$55","v":49},{"$f":"Junior_Boys!$H$55","v":36},{"$f":"Junior_Boys!$I$55","v":"Finlay Corkill"},null,null,null,null,null,{"$f":"Junior_Boys!$O$55","v":"Cumbria"},null,null,null,{"$f":"Junior_Boys!$S$55","v":16.13},1]
[null,null,{"$f":"Junior_Boys!$G$56","v":50},{"$f":"Junior_Boys!$H$56","v":91},{"$f":"Junior_Boys!$I$56","v":"Edward Hanley"},null,null,null,null,null,{"$f":"Junior_Boys!$O$56","v":"North Yorkshire"},null,null,null,{"$f":"Junior_Boys!$S$56","v":16.13},1]
[null,null,{"$f":"Junior_Boys!$G$57","v":51},{"$f":"Junior_Boys!$H$57","v":49},{"$f":"Junior_Boys!$I$57","v":"Dillon Revell"},null,null,null,null,null,{"$f":"Junior_Boys!$O$57","v":"Durham"},null,null,null,{"$f":"Junior_Boys!$S$57","v":16.170000000000002},1]
[null,null,{"$f":"Junior_Boys!$G$58","v":52},{"$f":"Junior_Boys!$H$58","v":2},{"$f":"Junior_Boys!$I$58","v":"James Hughes"},null,null,null,null,null,{"$f":"Junior_Boys!$O$58","v":"Cleveland"},null,null,null,{"$f":"Junior_Boys!$S$58","v":16.190000000000001},1]
[null,null,{"$f":"Junior_Boys!$G$59","v":53},{"$f":"Junior_Boys!$H$59","v":94},{"$f":"Junior_Boys!$I$59","v":"Charlie Wright"},null,null,null,null,null,{"$f":"Junior_Boys!$O$59","v":"North Yorkshire"},null,null,null,{"$f":"Junior_Boys!$S$59","v":16.2},1]
[null,null,{"$f":"Junior_Boys!$G$60","v":54},{"$f":"Junior_Boys!$H$60","v":9},{"$f":"Junior_Boys!$I$60","v":"Matthew Walters"},null,null,null,null,null,{"$f":"Junior_Boys!$O$60","v":"Cleveland"},null,null,null,{"$f":"Junior_Boys!$S$60","v":16.22},1]
[null,null,{"$f":"Junior_Boys!$G$61","v":55},{"$f":"Junior_Boys!$H$61","v":39},{"$f":"Junior_Boys!$I$61","v":"Jacob Nelson"},null,null,null,null,null,{"$f":"Junior_Boys!$O$61","v":"Cumbria"},null,null,null,{"$f":"Junior_Boys!$S$61","v":16.23},1]
[null,null,{"$f":"Junior_Boys!$G$62","v":56},{"$f":"Junior_Boys!$H$62","v":66},{"$f":"Junior_Boys!$I$62","v":"Ralph Robinson"},null,null,null,null,null,{"$f":"Junior_Boys!$O$62","v":"Northumberland"},null,null,null,{"$f":"Junior_Boys!$S$62","v":16.27},1]
[null,null,{"$f":"Junior_Boys!$G$63","v":57},{"$f":"Junior_Boys!$H$63","v":58},{"$f":"Junior_Boys!$I$63","v":"Harry Wilson"},null,null,null,null,null,{"$f":"Junior_Boys!$O$63","v":"Durham"},null,null,null,{"$f":"Junior_Boys!$S$63","v":16.309999999999999},1]
[null,null,{"$f":"Junior_Boys!$G$64","v":58},{"$f":"Junior_Boys!$H$64","v":72},{"$f":"Junior_Boys!$I$64","v":"Dylan Gooding"},null,null,null,null,null,{"$f":"Junior_Boys!$O$64","v":"Northumberland"},null,null,null,{"$f":"Junior_Boys!$S$64","v":16.32},1]
[null,null,{"$f":"Junior_Boys!$G$65","v":59},{"$f":"Junior_Boys!$H$65","v":95},{"$f":"Junior_Boys!$I$65","v":"Sam Headley "},null,null,null,null,null,{"$f":"Junior_Boys!$O$65","v":"North Yorkshire"},null,null,null,{"$f":"Junior_Boys!$S$65","v":16.32},1]
[null,null,{"$f":"Junior_Boys!$G$66","v":60},{"$f":"Junior_Boys!$H$66","v":57},{"$f":"Junior_Boys!$I$66","v":"Liam Eastaugh"},null,null,null,null,null,{"$f":"Junior_Boys!$O$66","v":"Durham"},null,null,null,{"$f":"Junior_Boys!$S$66","v":16.38},1]
[null,null,{"$f":"Junior_Boys!$G$67","v":61},{"$f":"Junior_Boys!$H$67","v":31},{"$f":"Junior_Boys!$I$67","v":"Dylan Edwards"},null,null,null,null,null,{"$f":"Junior_Boys!$O$67","v":"Cumbria"},null,null,null,{"$f":"Junior_Boys!$S$67","v":16.41},1]
[null,null,{"$f":"Junior_Boys!$G$68","v":62},{"$f":"Junior_Boys!$H$68","v":54},{"$f":"Junior_Boys!$I$68","v":"Oliver McKenna"},null,null,null,null,null,{"$f":"Junior_Boys!$O$68","v":"Durham"},null,null,null,{"$f":"Junior_Boys!$S$68","v":16.420000000000002},1]
[null,null,{"$f":"Junior_Boys!$G$69","v":63},{"$f":"Junior_Boys!$H$69","v":11},{"$f":"Junior_Boys!$I$69","v":"Ben Hodgson"},null,null,null,null,null,{"$f":"Junior_Boys!$O$69","v":"Cleveland"},null,null,null,{"$f":"Junior_Boys!$S$69","v":16.43},1]
[null,null,{"$f":"Junior_Boys!$G$70","v":64},{"$f":"Junior_Boys!$H$70","v":92},{"$f":"Junior_Boys!$I$70","v":"Will Atkinson"},null,null,null,null,null,{"$f":"Junior_Boys!$O$70","v":"North Yorkshire"},null,null,null,{"$f":"Junior_Boys!$S$70","v":16.489999999999998},1]
[null,null,{"$f":"Junior_Boys!$G$71","v":65},{"$f":"Junior_Boys!$H$71","v":48},{"$f":"Junior_Boys!$I$71","v":"Ben Dowsett"},null,null,null,null,null,{"$f":"Junior_Boys!$O$71","v":"Durham"},null,null,null,{"$f":"Junior_Boys!$S$71","v":16.510000000000002},1]
[null,null,{"$f":"Junior_Boys!$G$72","v":66},{"$f":"Junior_Boys!$H$72","v":12},{"$f":"Junior_Boys!$I$72","v":"Alex Lake"},null,null,null,null,null,{"$f":"Junior_Boys!$O$72","v":"Cleveland"},null,null,null,{"$f":"Junior_Boys!$S$72","v":16.510000000000002},{"$f":"IF(D359=0,\"\",1)","v":1}]
[null,null,{"$f":"Junior_Boys!$G$73","v":67},{"$f":"Junior_Boys!$H$73","v":73},{"$f":"Junior_Boys!$I$73","v":"Ben Waterfield"},null,null,null,null,null,{"$f":"Junior_Boys!$O$73","v":"Northumberland"},null,null,null,{"$f":"Junior_Boys!$S$73","v":16.53},1]
[null,null,{"$f":"Junior_Boys!$G$74","v":68},{"$f":"Junior_Boys!$H$74","v":8},{"$f":"Junior_Boys!$I$74","v":"James Skull"},null,null,null,null,null,{"$f":"Junior_Boys!$O$74","v":"Cleveland"},null,null,null,{"$f":"Junior_Boys!$S$74","v":16.54},1]
[null,null,{"$f":"Junior_Boys!$G$75","v":69},{"$f":"Junior_Boys!$H$75","v":6},{"$f":"Junior_Boys!$I$75","v":"Will Simpson"},null,null,null,null,null,{"$f":"Junior_Boys!$O$75","v":"Cleveland"},null,null,null,{"$f":"Junior_Boys!$S$75","v":16.55},1]
[null,null,{"$f":"Junior_Boys!$G$76","v":70},{"$f":"Junior_Boys!$H$76","v":44},{"$f":"Junior_Boys!$I$76","v":"Peter Cook"},null,null,null,null,null,{"$f":"Junior_Boys!$O$76","v":"Durham"},null,null,null,{"$f":"Junior_Boys!$S$76","v":16.579999999999998},1]
[null,null,{"$f":"Junior_Boys!$G$77","v":71},{"$f":"Junior_Boys!$H$77","v":13},{"$f":"Junior_Boys!$I$77","v":"Frankie Angloy"},null,null,null,null,null,{"$f":"Junior_Boys!$O$77","v":"Cleveland"},null,null,null,{"$f":"Junior_Boys!$S$77","v":17.170000000000002},1]
[null,null,{"$f":"Junior_Boys!$G$78","v":72},{"$f":"Junior_Boys!$H$78","v":10},{"$f":"Junior_Boys!$I$78","v":"Scott Temple"},null,null,null,null,null,{"$f":"Junior_Boys!$O$78","v":"Cleveland"},null,null,null,{"$f":"Junior_Boys!$S$78","v":17.18},1]
[null,null,{"$f":"Junior_Boys!$G$79","v":73},{"$f":"Junior_Boys!$H$79","v":52},{"$f":"Junior_Boys!$I$79","v":"Ryan Stewart"},null,null,null,null,null,{"$f":"Junior_Boys!$O$79","v":"Durham"},null,null,null,{"$f":"Junior_Boys!$S$79","v":17.2},1]
[null,null,{"$f":"Junior_Boys!$G$80","v":74},{"$f":"Junior_Boys!$H$80","v":93},{"$f":"Junior_Boys!$I$80","v":"Theo Walton"},null,null,null,null,null,{"$f":"Junior_Boys!$O$80","v":"North Yorkshire"},null,null,null,{"$f":"Junior_Boys!$S$80","v":17.3},1]
[null,null,{"$f":"Junior_Boys!$G$81","v":75},{"$f":"Junior_Boys!$H$81","v":70},{"$f":"Junior_Boys!$I$81","v":"Wesley Croom"},null,null,null,null,null,{"$f":"Junior_Boys!$O$81","v":"Northumberland"},null,null,null,{"$f":"Junior_Boys!$S$81","v":17.350000000000001},1]
[null,null,{"$f":"Junior_Boys!$G$82","v":76},{"$f":"Junior_Boys!$H$82","v":16},{"$f":"Junior_Boys!$I$82","v":"Ollie Cairney"},null,null,null,null,null,{"$f":"Junior_Boys!$O$82","v":"Cleveland"},null,null,null,{"$f":"Junior_Boys!$S$82","v":18.13},1]
[null,null,{"$f":"Junior_Boys!$G$83","v":77},{"$f":"Junior_Boys!$H$83","v":14},{"$f":"Junior_Boys!$I$83","v":"Lochlain Lacy"},null,null,null,null,null,{"$f":"Junior_Boys!$O$83","v":"Cleveland"},null,null,null,{"$f":"Junior_Boys!$S$83","v":18.54},1]
[null,null,{"$f":"Junior_Boys!$G$84","v":78},{"$f":"Junior_Boys!$H$84","v":0},{"$f":"Junior_Boys!$I$84","v":""},null,null,null,null,null,{"$f":"Junior_Boys!$O$84","v":""},null,null,null,{"$f":"Junior_Boys!$S$84","v":0},""]
[null,null,{"$f":"Junior_Boys!$G$85","v":79},{"$f":"Junior_Boys!$H$85","v":0},{"$f":"Junior_Boys!$I$85","v":""},null,null,null,null,null,{"$f":"Junior_Boys!$O$85","v":""},null,null,null,{"$f":"Junior_Boys!$S$85","v":0},""]
[null,null,{"$f":"Junior_Boys!$G$86","v":80},{"$f":"Junior_Boys!$H$86","v":0},{"$f":"Junior_Boys!$I$86","v":""},null,null,null,null,null,{"$f":"Junior_Boys!$O$86","v":""},null,null,null,{"$f":"Junior_Boys!$S$86","v":0},""]
[null,null,{"$f":"Junior_Boys!$G$87","v":81},{"$f":"Junior_Boys!$H$87","v":0},{"$f":"Junior_Boys!$I$87","v":""},null,null,null,null,null,{"$f":"Junior_Boys!$O$87","v":""},null,null,null,{"$f":"Junior_Boys!$S$87","v":0},""]
[null,null,{"$f":"Junior_Boys!$G$88","v":82},{"$f":"Junior_Boys!$H$88","v":0},{"$f":"Junior_Boys!$I$88","v":""},null,null,null,null,null,{"$f":"Junior_Boys!$O$88","v":""},null,null,null,{"$f":"Junior_Boys!$S$88","v":0},""]
[null,null,{"$f":"Junior_Boys!$G$89","v":83},{"$f":"Junior_Boys!$H$89","v":0},{"$f":"Junior_Boys!$I$89","v":""},null,null,null,null,null,{"$f":"Junior_Boys!$O$89","v":""},null,null,null,{"$f":"Junior_Boys!$S$89","v":0},""]
[null,null,{"$f":"Junior_Boys!$G$90","v":84},{"$f":"Junior_Boys!$H$90","v":0},{"$f":"Junior_Boys!$I$90","v":""},null,null,null,null,null,{"$f":"Junior_Boys!$O$90","v":""},null,null,null,{"$f":"Junior_Boys!$S$90","v":0},""]
[null,null,{"$f":"Junior_Boys!$G$91","v":85},{"$f":"Junior_Boys!$H$91","v":0},{"$f":"Junior_Boys!$I$91","v":""},null,null,null,null,null,{"$f":"Junior_Boys!$O$91","v":""},null,null,null,{"$f":"Junior_Boys!$S$91","v":0},""]
[null,null,{"$f":"Junior_Boys!$G$92","v":86},{"$f":"Junior_Boys!$H$92","v":0},{"$f":"Junior_Boys!$I$92","v":""},null,null,null,null,null,{"$f":"Junior_Boys!$O$92","v":""},null,null,null,{"$f":"Junior_Boys!$S$92","v":0},""]
[null,null,{"$f":"Junior_Boys!$G$93","v":87},{"$f":"Junior_Boys!$H$93","v":0},{"$f":"Junior_Boys!$I$93","v":""},null,null,null,null,null,{"$f":"Junior_Boys!$O$93","v":""},null,null,null,{"$f":"Junior_Boys!$S$93","v":0},""]
[null,null,{"$f":"Junior_Boys!$G$94","v":88},{"$f":"Junior_Boys!$H$94","v":0},{"$f":"Junior_Boys!$I$94","v":""},null,null,null,null,null,{"$f":"Junior_Boys!$O$94","v":""},null,null,null,{"$f":"Junior_Boys!$S$94","v":0},""]
[null,null,{"$f":"Junior_Boys!$G$95","v":89},{"$f":"Junior_Boys!$H$95","v":0},{"$f":"Junior_Boys!$I$95","v":""},null,null,null,null,null,{"$f":"Junior_Boys!$O$95","v":""},null,null,null,{"$f":"Junior_Boys!$S$95","v":0},""]
[null,null,{"$f":"Junior_Boys!$G$96","v":90},{"$f":"Junior_Boys!$H$96","v":0},{"$f":"Junior_Boys!$I$96","v":""},null,null,null,null,null,{"$f":"Junior_Boys!$O$96","v":""},null,null,null,{"$f":"Junior_Boys!$S$96","v":0},""]
[null,null,{"$f":"Junior_Boys!$G$97","v":91},{"$f":"Junior_Boys!$H$97","v":0},{"$f":"Junior_Boys!$I$97","v":""},null,null,null,null,null,{"$f":"Junior_Boys!$O$97","v":""},null,null,null,{"$f":"Junior_Boys!$S$97","v":0},""]
[null,null,{"$f":"Junior_Boys!$G$98","v":92},{"$f":"Junior_Boys!$H$98","v":0},{"$f":"Junior_Boys!$I$98","v":""},null,null,null,null,null,{"$f":"Junior_Boys!$O$98","v":""},null,null,null,{"$f":"Junior_Boys!$S$98","v":0},""]
[null,null,{"$f":"Junior_Boys!$G$99","v":93},{"$f":"Junior_Boys!$H$99","v":0},{"$f":"Junior_Boys!$I$99","v":""},null,null,null,null,null,{"$f":"Junior_Boys!$O$99","v":""},null,null,null,{"$f":"Junior_Boys!$S$99","v":0},""]
[null,null,{"$f":"Junior_Boys!$G$100","v":94},{"$f":"Junior_Boys!$H$100","v":0},{"$f":"Junior_Boys!$I$100","v":""},null,null,null,null,null,{"$f":"Junior_Boys!$O$100","v":""},null,null,null,{"$f":"Junior_Boys!$S$100","v":0},""]
[null,null,{"$f":"Junior_Boys!$G$101","v":95},{"$f":"Junior_Boys!$H$101","v":0},{"$f":"Junior_Boys!$I$101","v":""},null,null,null,null,null,{"$f":"Junior_Boys!$O$101","v":""},null,null,null,{"$f":"Junior_Boys!$S$101","v":0},""]
[null,null,{"$f":"Junior_Boys!$G$102","v":96},{"$f":"Junior_Boys!$H$102","v":0},{"$f":"Junior_Boys!$I$102","v":""},null,null,null,null,null,{"$f":"Junior_Boys!$O$102","v":""},null,null,null,{"$f":"Junior_Boys!$S$102","v":0},""]
[null,null,{"$f":"Junior_Boys!$G$103","v":97},{"$f":"Junior_Boys!$H$103","v":0},{"$f":"Junior_Boys!$I$103","v":""},null,null,null,null,null,{"$f":"Junior_Boys!$O$103","v":""},null,null,null,{"$f":"Junior_Boys!$S$103","v":0},""]
[null,null,{"$f":"Junior_Boys!$G$104","v":98},{"$f":"Junior_Boys!$H$104","v":0},{"$f":"Junior_Boys!$I$104","v":""},null,null,null,null,null,{"$f":"Junior_Boys!$O$104","v":""},null,null,null,{"$f":"Junior_Boys!$S$104","v":0},""]
[null,null,{"$f":"Junior_Boys!$G$105","v":99},{"$f":"Junior_Boys!$H$105","v":0},{"$f":"Junior_Boys!$I$105","v":""},null,null,null,null,null,{"$f":"Junior_Boys!$O$105","v":""},null,null,null,{"$f":"Junior_Boys!$S$105","v":0},""]
[null,null,{"$f":"Junior_Boys!$G$106","v":100},{"$f":"Junior_Boys!$H$106","v":0},{"$f":"Junior_Boys!$I$106","v":""},null,null,null,null,null,{"$f":"Junior_Boys!$O$106","v":""},null,null,null,{"$f":"Junior_Boys!$S$106","v":0},""]
[null,null,{"$f":"CONCATENATE($C292,\" \",\"Individual Medal Winners\")","v":"Junior Boys Individual Medal Winners"},null,null,null,null,null,null,null,null,null,null,null,null,{"$f":"IF(D396=\"\",\"\",1)","v":1}]
[null,null,"Pos","Num","Name",null,null,null,null,null,"County",null,null,null,"Time",{"$f":"IF(D396=\"\",\"\",1)","v":1}]
[null,null,1,{"$f":"Junior_Boys!$H$109","v":21},{"$f":"Junior_Boys!$I$109","v":"Fraser Sproul"},null,null,null,null,null,{"$f":"Junior_Boys!$O$109","v":"Cumbria"},null,null,null,{"$f":"Junior_Boys!$S$109","v":14.31},{"$f":"IF(D396=\"\",\"\",1)","v":1}]
[null,null,2,{"$f":"Junior_Boys!$H$110","v":81},{"$f":"Junior_Boys!$I$110","v":"Kyle Rabjohn"},null,null,null,null,null,{"$f":"Junior_Boys!$O$110","v":"North Yorkshire"},null,null,null,{"$f":"Junior_Boys!$S$110","v":14.33},{"$f":"IF(D397=\"\",\"\",1)","v":1}]
[null,null,3,{"$f":"Junior_Boys!$H$111","v":22},{"$f":"Junior_Boys!$I$111","v":"Daniel Sanderson"},null,null,null,null,null,{"$f":"Junior_Boys!$O$111","v":"Cumbria"},null,null,null,{"$f":"Junior_Boys!$S$111","v":14.46},1]
[]
[null,null,{"$f":"CONCATENATE($C292,\" \",\"Team Results\")","v":"Junior Boys Team Results"},null,null,null,null,null,null,null,null,null,null,null,null,{"$f":"IF(D402=\"\",\"\",1)","v":1}]
[null,null,null,"Team Name",null,null,null,null,"1st","2nd","3rd","4th","5th","6th","Points",{"$f":"IF(D402=\"\",\"\",1)","v":1}]
[null,null,1,{"$f":"Junior_Boys!$H$115","v":"Cumbria"},null,null,null,null,{"$f":"Junior_Boys!$M$115","v":1},{"$f":"Junior_Boys!$N$115","v":3},{"$f":"Junior_Boys!$O$115","v":13},{"$f":"Junior_Boys!$P$115","v":15},{"$f":"Junior_Boys!$Q$115","v":18},{"$f":"Junior_Boys!$R$115","v":20},{"$f":"Junior_Boys!$S$115","v":70},{"$f":"IF(D402=\"\",\"\",1)","v":1}]
[null,null,2,{"$f":"Junior_Boys!$H$116","v":"North Yorkshire"},null,null,null,null,{"$f":"Junior_Boys!$M$116","v":2},{"$f":"Junior_Boys!$N$116","v":4},{"$f":"Junior_Boys!$O$116","v":6},{"$f":"Junior_Boys!$P$116","v":9},{"$f":"Junior_Boys!$Q$116","v":22},{"$f":"Junior_Boys!$R$116","v":29},{"$f":"Junior_Boys!$S$116","v":72},{"$f":"IF(D403=\"\",\"\",1)","v":1}]
[null,null,3,{"$f":"Junior_Boys!$H$117","v":"Durham"},null,null,null,null,{"$f":"Junior_Boys!$M$117","v":7},{"$f":"Junior_Boys!$N$117","v":8},{"$f":"Junior_Boys!$O$117","v":10},{"$f":"Junior_Boys!$P$117","v":12},{"$f":"Junior_Boys!$Q$117","v":14},{"$f":"Junior_Boys!$R$117","v":23},{"$f":"Junior_Boys!$S$117","v":74},1]
[null,null,4,{"$f":"Junior_Boys!$H$118","v":"Northumberland"},null,null,null,null,{"$f":"Junior_Boys!$M$118","v":5},{"$f":"Junior_Boys!$N$118","v":11},{"$f":"Junior_Boys!$O$118","v":16},{"$f":"Junior_Boys!$P$118","v":17},{"$f":"Junior_Boys!$Q$118","v":19},{"$f":"Junior_Boys!$R$118","v":21},{"$f":"Junior_Boys!$S$118","v":89},1]
[null,null,5,{"$f":"Junior_Boys!$H$119","v":"Cleveland"},null,null,null,null,{"$f":"Junior_Boys!$M$119","v":26},{"$f":"Junior_Boys!$N$119","v":40},{"$f":"Junior_Boys!$O$119","v":42},{"$f":"Junior_Boys!$P$119","v":45},{"$f":"Junior_Boys!$Q$119","v":52},{"$f":"Junior_Boys!$R$119","v":54},{"$f":"Junior_Boys!$S$119","v":259},1]
[null,null,null,null,null,null,null,null,null,null,null,null,null,null,null,{"$f":"IF(D402=\"\",\"\",1)","v":1}]
[null,null,{"$f":"Home!$B$1","v":"Northern Schools' Inter-County Cross Country Championships"},null,null,null,null,null,null,null,null,null,null,null,null,{"$f":"IF(D414=0,\"\",1)","v":1},null,null,null,null,null,null,null,null,null,null,{"$f":"CONCATENATE(U408,\" \",V408)","v":" "}]
[null,null,{"$f":"Home!$B$2","v":"Barnard Castle School"},null,null,null,null,null,null,null,null,null,null,null,null,{"$f":"IF(D414=0,\"\",1)","v":1}]
[null,null,{"$f":"Home!$G$3","v":"Saturday 3rd February 2018"},null,null,null,null,null,null,null,null,null,null,null,null,{"$f":"IF(D414=0,\"\",1)","v":1}]
[null,null,null,null,null,null,null,null,null,null,null,null,null,null,null,{"$f":"IF(D414=0,\"\",1)","v":1}]
[null,null,{"$f":"Junior_Girls!$G$5","v":"Junior Girls"},null,null,null,null,null,null,null,null,null,null,null,null,{"$f":"IF(D414=0,\"\",1)","v":1}]
[null,null,"Pos","Num","Name",null,null,null,null,null,"County",null,null,null,"Time",{"$f":"IF(D414=0,\"\",1)","v":1}]
[null,null,{"$f":"Junior_Girls!$G$7","v":1},{"$f":"Junior_Girls!$H$7","v":21},{"$f":"Junior_Girls!$I$7","v":"Anna Mason"},null,null,null,null,null,{"$f":"Junior_Girls!$O$7","v":"Cumbria"},null,null,null,{"$f":"Junior_Girls!$S$7","v":12.2},{"$f":"IF(D414=0,\"\",1)","v":1}]
[null,null,{"$f":"Junior_Girls!$G$8","v":2},{"$f":"Junior_Girls!$H$8","v":22},{"$f":"Junior_Girls!$I$8","v":"Olesia Winder"},null,null,null,null,null,{"$f":"Junior_Girls!$O$8","v":"Cumbria"},null,null,null,{"$f":"Junior_Girls!$S$8","v":12.28},{"$f":"IF(D415=0,\"\",1)","v":1}]
[null,null,{"$f":"Junior_Girls!$G$9","v":3},{"$f":"Junior_Girls!$H$9","v":61},{"$f":"Junior_Girls!$I$9","v":"Ines Curran"},null,null,null,null,null,{"$f":"Junior_Girls!$O$9","v":"Northumberland"},null,null,null,{"$f":"Junior_Girls!$S$9","v":12.35},1]
[null,null,{"$f":"Junior_Girls!$G$10","v":4},{"$f":"Junior_Girls!$H$10","v":81},{"$f":"Junior_Girls!$I$10","v":"Alice Jones"},null,null,null,null,null,{"$f":"Junior_Girls!$O$10","v":"North Yorkshire"},null,null,null,{"$f":"Junior_Girls!$S$10","v":12.36},1]
[null,null,{"$f":"Junior_Girls!$G$11","v":5},{"$f":"Junior_Girls!$H$11","v":83},{"$f":"Junior_Girls!$I$11","v":"Issy Nicholls"},null,null,null,null,null,{"$f":"Junior_Girls!$O$11","v":"North Yorkshire"},null,null,null,{"$f":"Junior_Girls!$S$11","v":12.38},1]
[null,null,{"$f":"Junior_Girls!$G$12","v":6},{"$f":"Junior_Girls!$H$12","v":46},{"$f":"Junior_Girls!$I$12","v":"Katie Francis"},null,null,null,null,null,{"$f":"Junior_Girls!$O$12","v":"Durham"},null,null,null,{"$f":"Junior_Girls!$S$12","v":12.42},1]
[null,null,{"$f":"Junior_Girls!$G$13","v":7},{"$f":"Junior_Girls!$H$13","v":47},{"$f":"Junior_Girls!$I$13","v":"Lucy Scothern"},null,null,null,null,null,{"$f":"Junior_Girls!$O$13","v":"Durham"},null,null,null,{"$f":"Junior_Girls!$S$13","v":12.53},1]
[null,null,{"$f":"Junior_Girls!$G$14","v":8},{"$f":"Junior_Girls!$H$14","v":82},{"$f":"Junior_Girls!$I$14","v":"Eve Whitaker"},null,null,null,null,null,{"$f":"Junior_Girls!$O$14","v":"North Yorkshire"},null,null,null,{"$f":"Junior_Girls!$S$14","v":12.54},1]
[null,null,{"$f":"Junior_Girls!$G$15","v":9},{"$f":"Junior_Girls!$H$15","v":62},{"$f":"Junior_Girls!$I$15","v":"Lauren Brown"},null,null,null,null,null,{"$f":"Junior_Girls!$O$15","v":"Northumberland"},null,null,null,{"$f":"Junior_Girls!$S$15","v":12.56},1]
[null,null,{"$f":"Junior_Girls!$G$16","v":10},{"$f":"Junior_Girls!$H$16","v":43},{"$f":"Junior_Girls!$I$16","v":"Tess Graham"},null,null,null,null,null,{"$f":"Junior_Girls!$O$16","v":"Durham"},null,null,null,{"$f":"Junior_Girls!$S$16","v":12.58},1]
[null,null,{"$f":"Junior_Girls!$G$17","v":11},{"$f":"Junior_Girls!$H$17","v":41},{"$f":"Junior_Girls!$I$17","v":"Emily Chong"},null,null,null,null,null,{"$f":"Junior_Girls!$O$17","v":"Durham"},null,null,null,{"$f":"Junior_Girls!$S$17","v":13.02},1]
[null,null,{"$f":"Junior_Girls!$G$18","v":12},{"$f":"Junior_Girls!$H$18","v":42},{"$f":"Junior_Girls!$I$18","v":"Amy Leonard"},null,null,null,null,null,{"$f":"Junior_Girls!$O$18","v":"Durham"},null,null,null,{"$f":"Junior_Girls!$S$18","v":13.03},1]
[null,null,{"$f":"Junior_Girls!$G$19","v":13},{"$f":"Junior_Girls!$H$19","v":44},{"$f":"Junior_Girls!$I$19","v":"Erin Keeler-Clarke"},null,null,null,null,null,{"$f":"Junior_Girls!$O$19","v":"Durham"},null,null,null,{"$f":"Junior_Girls!$S$19","v":13.05},1]
[null,null,{"$f":"Junior_Girls!$G$20","v":14},{"$f":"Junior_Girls!$H$20","v":87},{"$f":"Junior_Girls!$I$20","v":"Lexi Whitaker"},null,null,null,null,null,{"$f":"Junior_Girls!$O$20","v":"North Yorkshire"},null,null,null,{"$f":"Junior_Girls!$S$20","v":13.1},1]
[null,null,{"$f":"Junior_Girls!$G$21","v":15},{"$f":"Junior_Girls!$H$21","v":90},{"$f":"Junior_Girls!$I$21","v":"Inez Khaddi"},null,null,null,null,null,{"$f":"Junior_Girls!$O$21","v":"North Yorkshire"},null,null,null,{"$f":"Junior_Girls!$S$21","v":13.1},1]
[null,null,{"$f":"Junior_Girls!$G$22","v":16},{"$f":"Junior_Girls!$H$22","v":63},{"$f":"Junior_Girls!$I$22","v":"Kate Salthouse"},null,null,null,null,null,{"$f":"Junior_Girls!$O$22","v":"Northumberland"},null,null,null,{"$f":"Junior_Girls!$S$22","v":13.1},1]
[null,null,{"$f":"Junior_Girls!$G$23","v":17},{"$f":"Junior_Girls!$H$23","v":26},{"$f":"Junior_Girls!$I$23","v":"Lizzy Pawson"},null,null,null,null,null,{"$f":"Junior_Girls!$O$23","v":"Cumbria"},null,null,null,{"$f":"Junior_Girls!$S$23","v":13.12},1]
[null,null,{"$f":"Junior_Girls!$G$24","v":18},{"$f":"Junior_Girls!$H$24","v":49},{"$f":"Junior_Girls!$I$24","v":"Scarlett Newby"},null,null,null,null,null,{"$f":"Junior_Girls!$O$24","v":"Durham"},null,null,null,{"$f":"Junior_Girls!$S$24","v":13.13},1]
[null,null,{"$f":"Junior_Girls!$G$25","v":19},{"$f":"Junior_Girls!$H$25","v":30},{"$f":"Junior_Girls!$I$25","v":"Emily Swarbrick"},null,null,null,null,null,{"$f":"Junior_Girls!$O$25","v":"Cumbria"},null,null,null,{"$f":"Junior_Girls!$S$25","v":13.15},1]
[null,null,{"$f":"Junior_Girls!$G$26","v":20},{"$f":"Junior_Girls!$H$26","v":31},{"$f":"Junior_Girls!$I$26","v":"Melissa Mcintosh"},null,null,null,null,null,{"$f":"Junior_Girls!$O$26","v":"Cumbria"},null,null,null,{"$f":"Junior_Girls!$S$26","v":13.16},1]
[null,null,{"$f":"Junior_Girls!$G$27","v":21},{"$f":"Junior_Girls!$H$27","v":23},{"$f":"Junior_Girls!$I$27","v":"Millie  Bell"},null,null,null,null,null,{"$f":"Junior_Girls!$O$27","v":"Cumbria"},null,null,null,{"$f":"Junior_Girls!$S$27","v":13.18},1]
[null,null,{"$f":"Junior_Girls!$G$28","v":22},{"$f":"Junior_Girls!$H$28","v":45},{"$f":"Junior_Girls!$I$28","v":"Cecilia Reid"},null,null,null,null,null,{"$f":"Junior_Girls!$O$28","v":"Durham"},null,null,null,{"$f":"Junior_Girls!$S$28","v":13.19},1]
[null,null,{"$f":"Junior_Girls!$G$29","v":23},{"$f":"Junior_Girls!$H$29","v":52},{"$f":"Junior_Girls!$I$29","v":"Ciara Thornley"},null,null,null,null,null,{"$f":"Junior_Girls!$O$29","v":"Durham"},null,null,null,{"$f":"Junior_Girls!$S$29","v":13.2},1]
[null,null,{"$f":"Junior_Girls!$G$30","v":24},{"$f":"Junior_Girls!$H$30","v":67},{"$f":"Junior_Girls!$I$30","v":"Lily Robson"},null,null,null,null,null,{"$f":"Junior_Girls!$O$30","v":"Northumberland"},null,null,null,{"$f":"Junior_Girls!$S$30","v":13.22},1]
[null,null,{"$f":"Junior_Girls!$G$31","v":25},{"$f":"Junior_Girls!$H$31","v":85},{"$f":"Junior_Girls!$I$31","v":"Marnie Scatchard"},null,null,null,null,null,{"$f":"Junior_Girls!$O$31","v":"North Yorkshire"},null,null,null,{"$f":"Junior_Girls!$S$31","v":13.24},1]
[null,null,{"$f":"Junior_Girls!$G$32","v":26},{"$f":"Junior_Girls!$H$32","v":91},{"$f":"Junior_Girls!$I$32","v":"Molly Acton"},null,null,null,null,null,{"$f":"Junior_Girls!$O$32","v":"North Yorkshire"},null,null,null,{"$f":"Junior_Girls!$S$32","v":13.24},1]
[null,null,{"$f":"Junior_Girls!$G$33","v":27},{"$f":"Junior_Girls!$H$33","v":66},{"$f":"Junior_Girls!$I$33","v":"Rosie Hughes"},null,null,null,null,null,{"$f":"Junior_Girls!$O$33","v":"Northumberland"},null,null,null,{"$f":"Junior_Girls!$S$33","v":13.24},1]
[null,null,{"$f":"Junior_Girls!$G$34","v":28},{"$f":"Junior_Girls!$H$34","v":65},{"$f":"Junior_Girls!$I$34","v":"Amy Ellis"},null,null,null,null,null,{"$f":"Junior_Girls!$O$34","v":"Northumberland"},null,null,null,{"$f":"Junior_Girls!$S$34","v":13.25},1]
[null,null,{"$f":"Junior_Girls!$G$35","v":29},{"$f":"Junior_Girls!$H$35","v":64},{"$f":"Junior_Girls!$I$35","v":"Millicent Breese"},null,null,null,null,null,{"$f":"Junior_Girls!$O$35","v":"Northumberland"},null,null,null,{"$f":"Junior_Girls!$S$35","v":13.26},1]
[null,null,{"$f":"Junior_Girls!$G$36","v":30},{"$f":"Junior_Girls!$H$36","v":69},{"$f":"Junior_Girls!$I$36","v":"Abigail Leiper"},null,null,null,null,null,{"$f":"Junior_Girls!$O$36","v":"Northumberland"},null,null,null,{"$f":"Junior_Girls!$S$36","v":13.27},1]
[null,null,{"$f":"Junior_Girls!$G$37","v":31},{"$f":"Junior_Girls!$H$37","v":2},{"$f":"Junior_Girls!$I$37","v":"Katie Lowe"},null,null,null,null,null,{"$f":"Junior_Girls!$O$37","v":"Cleveland"},null,null,null,{"$f":"Junior_Girls!$S$37","v":13.29},1]
[null,null,{"$f":"Junior_Girls!$G$38","v":32},{"$f":"Junior_Girls!$H$38","v":1},{"$f":"Junior_Girls!$I$38","v":"Lois Creasey"},null,null,null,null,null,{"$f":"Junior_Girls!$O$38","v":"Cleveland"},null,null,null,{"$f":"Junior_Girls!$S$38","v":13.31},1]
[null,null,{"$f":"Junior_Girls!$G$39","v":33},{"$f":"Junior_Girls!$H$39","v":29},{"$f":"Junior_Girls!$I$39","v":"Gemma O'Dowd"},null,null,null,null,null,{"$f":"Junior_Girls!$O$39","v":"Cumbria"},null,null,null,{"$f":"Junior_Girls!$S$39","v":13.32},1]
[null,null,{"$f":"Junior_Girls!$G$40","v":34},{"$f":"Junior_Girls!$H$40","v":86},{"$f":"Junior_Girls!$I$40","v":"Ella Colbourn"},null,null,null,null,null,{"$f":"Junior_Girls!$O$40","v":"North Yorkshire"},null,null,null,{"$f":"Junior_Girls!$S$40","v":13.36},1]
[null,null,{"$f":"Junior_Girls!$G$41","v":35},{"$f":"Junior_Girls!$H$41","v":70},{"$f":"Junior_Girls!$I$41","v":"Willow Morris"},null,null,null,null,null,{"$f":"Junior_Girls!$O$41","v":"Northumberland"},null,null,null,{"$f":"Junior_Girls!$S$41","v":13.39},1]
[null,null,{"$f":"Junior_Girls!$G$42","v":36},{"$f":"Junior_Girls!$H$42","v":88},{"$f":"Junior_Girls!$I$42","v":"Emma Peel"},null,null,null,null,null,{"$f":"Junior_Girls!$O$42","v":"North Yorkshire"},null,null,null,{"$f":"Junior_Girls!$S$42","v":13.44},1]
[null,null,{"$f":"Junior_Girls!$G$43","v":37},{"$f":"Junior_Girls!$H$43","v":6},{"$f":"Junior_Girls!$I$43","v":"Imogen Lillie"},null,null,null,null,null,{"$f":"Junior_Girls!$O$43","v":"Cleveland"},null,null,null,{"$f":"Junior_Girls!$S$43","v":13.44},1]
[null,null,{"$f":"Junior_Girls!$G$44","v":38},{"$f":"Junior_Girls!$H$44","v":36},{"$f":"Junior_Girls!$I$44","v":"Ava Taperell"},null,null,null,null,null,{"$f":"Junior_Girls!$O$44","v":"Cumbria"},null,null,null,{"$f":"Junior_Girls!$S$44","v":13},1]
[null,null,{"$f":"Junior_Girls!$G$45","v":39},{"$f":"Junior_Girls!$H$45","v":50},{"$f":"Junior_Girls!$I$45","v":"Abigail Thwaites"},null,null,null,null,null,{"$f":"Junior_Girls!$O$45","v":"Durham"},null,null,null,{"$f":"Junior_Girls!$S$45","v":13.44},1]
[null,null,{"$f":"Junior_Girls!$G$46","v":40},{"$f":"Junior_Girls!$H$46","v":25},{"$f":"Junior_Girls!$I$46","v":"Alicia Newing"},null,null,null,null,null,{"$f":"Junior_Girls!$O$46","v":"Cumbria"},null,null,null,{"$f":"Junior_Girls!$S$46","v":13.48},1]
[null,null,{"$f":"Junior_Girls!$G$47","v":41},{"$f":"Junior_Girls!$H$47","v":27},{"$f":"Junior_Girls!$I$47","v":"Amelie Marshall"},null,null,null,null,null,{"$f":"Junior_Girls!$O$47","v":"Cumbria"},null,null,null,{"$f":"Junior_Girls!$S$47","v":13.56},1]
[null,null,{"$f":"Junior_Girls!$G$48","v":42},{"$f":"Junior_Girls!$H$48","v":89},{"$f":"Junior_Girls!$I$48","v":"Alana Teasdale"},null,null,null,null,null,{"$f":"Junior_Girls!$O$48","v":"North Yorkshire"},null,null,null,{"$f":"Junior_Girls!$S$48","v":14},1]
[null,null,{"$f":"Junior_Girls!$G$49","v":43},{"$f":"Junior_Girls!$H$49","v":72},{"$f":"Junior_Girls!$I$49","v":"Holly Waugh"},null,null,null,null,null,{"$f":"Junior_Girls!$O$49","v":"Northumberland"},null,null,null,{"$f":"Junior_Girls!$S$49","v":14},1]
[null,null,{"$f":"Junior_Girls!$G$50","v":44},{"$f":"Junior_Girls!$H$50","v":48},{"$f":"Junior_Girls!$I$50","v":"Nicole Phillips"},null,null,null,null,null,{"$f":"Junior_Girls!$O$50","v":"Durham"},null,null,null,{"$f":"Junior_Girls!$S$50","v":14},1]
[null,null,{"$f":"Junior_Girls!$G$51","v":45},{"$f":"Junior_Girls!$H$51","v":32},{"$f":"Junior_Girls!$I$51","v":"Anna Taylor"},null,null,null,null,null,{"$f":"Junior_Girls!$O$51","v":"Cumbria"},null,null,null,{"$f":"Junior_Girls!$S$51","v":14.02},1]
[null,null,{"$f":"Junior_Girls!$G$52","v":46},{"$f":"Junior_Girls!$H$52","v":15},{"$f":"Junior_Girls!$I$52","v":"Jess Hall"},null,null,null,null,null,{"$f":"Junior_Girls!$O$52","v":"Cleveland"},null,null,null,{"$f":"Junior_Girls!$S$52","v":14.06},1]
[null,null,{"$f":"Junior_Girls!$G$53","v":47},{"$f":"Junior_Girls!$H$53","v":17},{"$f":"Junior_Girls!$I$53","v":0},null,null,null,null,null,{"$f":"Junior_Girls!$O$53","v":"Cleveland"},null,null,null,{"$f":"Junior_Girls!$S$53","v":14.07},1]
[null,null,{"$f":"Junior_Girls!$G$54","v":48},{"$f":"Junior_Girls!$H$54","v":4},{"$f":"Junior_Girls!$I$54","v":"Anna Reeves"},null,null,null,null,null,{"$f":"Junior_Girls!$O$54","v":"Cleveland"},null,null,null,{"$f":"Junior_Girls!$S$54","v":14.07},1]
[null,null,{"$f":"Junior_Girls!$G$55","v":49},{"$f":"Junior_Girls!$H$55","v":33},{"$f":"Junior_Girls!$I$55","v":"Martha Richards"},null,null,null,null,null,{"$f":"Junior_Girls!$O$55","v":"Cumbria"},null,null,null,{"$f":"Junior_Girls!$S$55","v":14.08},1]
[null,null,{"$f":"Junior_Girls!$G$56","v":50},{"$f":"Junior_Girls!$H$56","v":53},{"$f":"Junior_Girls!$I$56","v":"Beth Wilson"},null,null,null,null,null,{"$f":"Junior_Girls!$O$56","v":"Durham"},null,null,null,{"$f":"Junior_Girls!$S$56","v":14.09},1]
[null,null,{"$f":"Junior_Girls!$G$57","v":51},{"$f":"Junior_Girls!$H$57","v":68},{"$f":"Junior_Girls!$I$57","v":"Ellie Van Der Merwe"},null,null,null,null,null,{"$f":"Junior_Girls!$O$57","v":"Northumberland"},null,null,null,{"$f":"Junior_Girls!$S$57","v":14.12},1]
[null,null,{"$f":"Junior_Girls!$G$58","v":52},{"$f":"Junior_Girls!$H$58","v":5},{"$f":"Junior_Girls!$I$58","v":"Sophie Briming"},null,null,null,null,null,{"$f":"Junior_Girls!$O$58","v":"Cleveland"},null,null,null,{"$f":"Junior_Girls!$S$58","v":14.13},1]
[null,null,{"$f":"Junior_Girls!$G$59","v":53},{"$f":"Junior_Girls!$H$59","v":71},{"$f":"Junior_Girls!$I$59","v":"Rhiannon Hedley"},null,null,null,null,null,{"$f":"Junior_Girls!$O$59","v":"Northumberland"},null,null,null,{"$f":"Junior_Girls!$S$59","v":14.13},1]
[null,null,{"$f":"Junior_Girls!$G$60","v":54},{"$f":"Junior_Girls!$H$60","v":57},{"$f":"Junior_Girls!$I$60","v":"Kathyrn Lee"},null,null,null,null,null,{"$f":"Junior_Girls!$O$60","v":"Durham"},null,null,null,{"$f":"Junior_Girls!$S$60","v":14.13},1]
[null,null,{"$f":"Junior_Girls!$G$61","v":55},{"$f":"Junior_Girls!$H$61","v":3},{"$f":"Junior_Girls!$I$61","v":"Peta Collins"},null,null,null,null,null,{"$f":"Junior_Girls!$O$61","v":"Cleveland"},null,null,null,{"$f":"Junior_Girls!$S$61","v":14.16},1]
[null,null,{"$f":"Junior_Girls!$G$62","v":56},{"$f":"Junior_Girls!$H$62","v":28},{"$f":"Junior_Girls!$I$62","v":"Laura Brown"},null,null,null,null,null,{"$f":"Junior_Girls!$O$62","v":"Cumbria"},null,null,null,{"$f":"Junior_Girls!$S$62","v":14.18},1]
[null,null,{"$f":"Junior_Girls!$G$63","v":57},{"$f":"Junior_Girls!$H$63","v":8},{"$f":"Junior_Girls!$I$63","v":"Essie Croce"},null,null,null,null,null,{"$f":"Junior_Girls!$O$63","v":"Cleveland"},null,null,null,{"$f":"Junior_Girls!$S$63","v":14.25},1]
[null,null,{"$f":"Junior_Girls!$G$64","v":58},{"$f":"Junior_Girls!$H$64","v":73},{"$f":"Junior_Girls!$I$64","v":"Grace Larsen"},null,null,null,null,null,{"$f":"Junior_Girls!$O$64","v":"Northumberland"},null,null,null,{"$f":"Junior_Girls!$S$64","v":14.31},1]
[null,null,{"$f":"Junior_Girls!$G$65","v":59},{"$f":"Junior_Girls!$H$65","v":56},{"$f":"Junior_Girls!$I$65","v":"Florence Archer"},null,null,null,null,null,{"$f":"Junior_Girls!$O$65","v":"Durham"},null,null,null,{"$f":"Junior_Girls!$S$65","v":14.43},1]
[null,null,{"$f":"Junior_Girls!$G$66","v":60},{"$f":"Junior_Girls!$H$66","v":92},{"$f":"Junior_Girls!$I$66","v":"Mia Petrucci"},null,null,null,null,null,{"$f":"Junior_Girls!$O$66","v":"North Yorkshire"},null,null,null,{"$f":"Junior_Girls!$S$66","v":14.49},1]
[null,null,{"$f":"Junior_Girls!$G$67","v":61},{"$f":"Junior_Girls!$H$67","v":54},{"$f":"Junior_Girls!$I$67","v":"Bethaney Iveson"},null,null,null,null,null,{"$f":"Junior_Girls!$O$67","v":"Durham"},null,null,null,{"$f":"Junior_Girls!$S$67","v":14.57},1]
[null,null,{"$f":"Junior_Girls!$G$68","v":62},{"$f":"Junior_Girls!$H$68","v":12},{"$f":"Junior_Girls!$I$68","v":"Izzy Blackburn"},null,null,null,null,null,{"$f":"Junior_Girls!$O$68","v":"Cleveland"},null,null,null,{"$f":"Junior_Girls!$S$68","v":15},1]
[null,null,{"$f":"Junior_Girls!$G$69","v":63},{"$f":"Junior_Girls!$H$69","v":9},{"$f":"Junior_Girls!$I$69","v":"Maddy Cox"},null,null,null,null,null,{"$f":"Junior_Girls!$O$69","v":"Cleveland"},null,null,null,{"$f":"Junior_Girls!$S$69","v":15.02},1]
[null,null,{"$f":"Junior_Girls!$G$70","v":64},{"$f":"Junior_Girls!$H$70","v":37},{"$f":"Junior_Girls!$I$70","v":"Holly Dobson"},null,null,null,null,null,{"$f":"Junior_Girls!$O$70","v":"Cumbria"},null,null,null,{"$f":"Junior_Girls!$S$70","v":15.06},1]
[null,null,{"$f":"Junior_Girls!$G$71","v":65},{"$f":"Junior_Girls!$H$71","v":13},{"$f":"Junior_Girls!$I$71","v":"Lucy Mcgouran"},null,null,null,null,null,{"$f":"Junior_Girls!$O$71","v":"Cleveland"},null,null,null,{"$f":"Junior_Girls!$S$71","v":15.45},1]
[null,null,{"$f":"Junior_Girls!$G$72","v":66},{"$f":"Junior_Girls!$H$72","v":11},{"$f":"Junior_Girls!$I$72","v":"Heba Nane"},null,null,null,null,null,{"$f":"Junior_Girls!$O$72","v":"Cleveland"},null,null,null,{"$f":"Junior_Girls!$S$72","v":16.02},{"$f":"IF(D479=0,\"\",1)","v":1}]
[null,null,{"$f":"Junior_Girls!$G$73","v":67},{"$f":"Junior_Girls!$H$73","v":0},{"$f":"Junior_Girls!$I$73","v":""},null,null,null,null,null,{"$f":"Junior_Girls!$O$73","v":""},null,null,null,{"$f":"Junior_Girls!$S$73","v":0},""]
[null,null,{"$f":"Junior_Girls!$G$74","v":68},{"$f":"Junior_Girls!$H$74","v":0},{"$f":"Junior_Girls!$I$74","v":""},null,null,null,null,null,{"$f":"Junior_Girls!$O$74","v":""},null,null,null,{"$f":"Junior_Girls!$S$74","v":0},""]
[null,null,{"$f":"Junior_Girls!$G$75","v":69},{"$f":"Junior_Girls!$H$75","v":0},{"$f":"Junior_Girls!$I$75","v":""},null,null,null,null,null,{"$f":"Junior_Girls!$O$75","v":""},null,null,null,{"$f":"Junior_Girls!$S$75","v":0},""]
[null,null,{"$f":"Junior_Girls!$G$76","v":70},{"$f":"Junior_Girls!$H$76","v":0},{"$f":"Junior_Girls!$I$76","v":""},null,null,null,null,null,{"$f":"Junior_Girls!$O$76","v":""},null,null,null,{"$f":"Junior_Girls!$S$76","v":0},""]
[null,null,{"$f":"Junior_Girls!$G$77","v":71},{"$f":"Junior_Girls!$H$77","v":0},{"$f":"Junior_Girls!$I$77","v":""},null,null,null,null,null,{"$f":"Junior_Girls!$O$77","v":""},null,null,null,{"$f":"Junior_Girls!$S$77","v":0},""]
[null,null,{"$f":"Junior_Girls!$G$78","v":72},{"$f":"Junior_Girls!$H$78","v":0},{"$f":"Junior_Girls!$I$78","v":""},null,null,null,null,null,{"$f":"Junior_Girls!$O$78","v":""},null,null,null,{"$f":"Junior_Girls!$S$78","v":0},""]
[null,null,{"$f":"Junior_Girls!$G$79","v":73},{"$f":"Junior_Girls!$H$79","v":0},{"$f":"Junior_Girls!$I$79","v":""},null,null,null,null,null,{"$f":"Junior_Girls!$O$79","v":""},null,null,null,{"$f":"Junior_Girls!$S$79","v":0},""]
[null,null,{"$f":"Junior_Girls!$G$80","v":74},{"$f":"Junior_Girls!$H$80","v":0},{"$f":"Junior_Girls!$I$80","v":""},null,null,null,null,null,{"$f":"Junior_Girls!$O$80","v":""},null,null,null,{"$f":"Junior_Girls!$S$80","v":0},""]
[null,null,{"$f":"Junior_Girls!$G$81","v":75},{"$f":"Junior_Girls!$H$81","v":0},{"$f":"Junior_Girls!$I$81","v":""},null,null,null,null,null,{"$f":"Junior_Girls!$O$81","v":""},null,null,null,{"$f":"Junior_Girls!$S$81","v":0},""]
[null,null,{"$f":"Junior_Girls!$G$82","v":76},{"$f":"Junior_Girls!$H$82","v":0},{"$f":"Junior_Girls!$I$82","v":""},null,null,null,null,null,{"$f":"Junior_Girls!$O$82","v":""},null,null,null,{"$f":"Junior_Girls!$S$82","v":0},""]
[null,null,{"$f":"Junior_Girls!$G$83","v":77},{"$f":"Junior_Girls!$H$83","v":0},{"$f":"Junior_Girls!$I$83","v":""},null,null,null,null,null,{"$f":"Junior_Girls!$O$83","v":""},null,null,null,{"$f":"Junior_Girls!$S$83","v":0},""]
[null,null,{"$f":"Junior_Girls!$G$84","v":78},{"$f":"Junior_Girls!$H$84","v":0},{"$f":"Junior_Girls!$I$84","v":""},null,null,null,null,null,{"$f":"Junior_Girls!$O$84","v":""},null,null,null,{"$f":"Junior_Girls!$S$84","v":0},""]
[null,null,{"$f":"Junior_Girls!$G$85","v":79},{"$f":"Junior_Girls!$H$85","v":0},{"$f":"Junior_Girls!$I$85","v":""},null,null,null,null,null,{"$f":"Junior_Girls!$O$85","v":""},null,null,null,{"$f":"Junior_Girls!$S$85","v":0},""]
[null,null,{"$f":"Junior_Girls!$G$86","v":80},{"$f":"Junior_Girls!$H$86","v":0},{"$f":"Junior_Girls!$I$86","v":""},null,null,null,null,null,{"$f":"Junior_Girls!$O$86","v":""},null,null,null,{"$f":"Junior_Girls!$S$86","v":0},""]
[null,null,{"$f":"Junior_Girls!$G$87","v":81},{"$f":"Junior_Girls!$H$87","v":0},{"$f":"Junior_Girls!$I$87","v":""},null,null,null,null,null,{"$f":"Junior_Girls!$O$87","v":""},null,null,null,{"$f":"Junior_Girls!$S$87","v":0},""]
[null,null,{"$f":"Junior_Girls!$G$88","v":82},{"$f":"Junior_Girls!$H$88","v":0},{"$f":"Junior_Girls!$I$88","v":""},null,null,null,null,null,{"$f":"Junior_Girls!$O$88","v":""},null,null,null,{"$f":"Junior_Girls!$S$88","v":0},""]
[null,null,{"$f":"Junior_Girls!$G$89","v":83},{"$f":"Junior_Girls!$H$89","v":0},{"$f":"Junior_Girls!$I$89","v":""},null,null,null,null,null,{"$f":"Junior_Girls!$O$89","v":""},null,null,null,{"$f":"Junior_Girls!$S$89","v":0},""]
[null,null,{"$f":"Junior_Girls!$G$90","v":84},{"$f":"Junior_Girls!$H$90","v":0},{"$f":"Junior_Girls!$I$90","v":""},null,null,null,null,null,{"$f":"Junior_Girls!$O$90","v":""},null,null,null,{"$f":"Junior_Girls!$S$90","v":0},""]
[null,null,{"$f":"Junior_Girls!$G$91","v":85},{"$f":"Junior_Girls!$H$91","v":0},{"$f":"Junior_Girls!$I$91","v":""},null,null,null,null,null,{"$f":"Junior_Girls!$O$91","v":""},null,null,null,{"$f":"Junior_Girls!$S$91","v":0},""]
[null,null,{"$f":"Junior_Girls!$G$92","v":86},{"$f":"Junior_Girls!$H$92","v":0},{"$f":"Junior_Girls!$I$92","v":""},null,null,null,null,null,{"$f":"Junior_Girls!$O$92","v":""},null,null,null,{"$f":"Junior_Girls!$S$92","v":0},""]
[null,null,{"$f":"Junior_Girls!$G$93","v":87},{"$f":"Junior_Girls!$H$93","v":0},{"$f":"Junior_Girls!$I$93","v":""},null,null,null,null,null,{"$f":"Junior_Girls!$O$93","v":""},null,null,null,{"$f":"Junior_Girls!$S$93","v":0},""]
[null,null,{"$f":"Junior_Girls!$G$94","v":88},{"$f":"Junior_Girls!$H$94","v":0},{"$f":"Junior_Girls!$I$94","v":""},null,null,null,null,null,{"$f":"Junior_Girls!$O$94","v":""},null,null,null,{"$f":"Junior_Girls!$S$94","v":0},""]
[null,null,{"$f":"Junior_Girls!$G$95","v":89},{"$f":"Junior_Girls!$H$95","v":0},{"$f":"Junior_Girls!$I$95","v":""},null,null,null,null,null,{"$f":"Junior_Girls!$O$95","v":""},null,null,null,{"$f":"Junior_Girls!$S$95","v":0},""]
[null,null,{"$f":"Junior_Girls!$G$96","v":90},{"$f":"Junior_Girls!$H$96","v":0},{"$f":"Junior_Girls!$I$96","v":""},null,null,null,null,null,{"$f":"Junior_Girls!$O$96","v":""},null,null,null,{"$f":"Junior_Girls!$S$96","v":0},""]
[null,null,{"$f":"Junior_Girls!$G$97","v":91},{"$f":"Junior_Girls!$H$97","v":0},{"$f":"Junior_Girls!$I$97","v":""},null,null,null,null,null,{"$f":"Junior_Girls!$O$97","v":""},null,null,null,{"$f":"Junior_Girls!$S$97","v":0},""]
[null,null,{"$f":"Junior_Girls!$G$98","v":92},{"$f":"Junior_Girls!$H$98","v":0},{"$f":"Junior_Girls!$I$98","v":""},null,null,null,null,null,{"$f":"Junior_Girls!$O$98","v":""},null,null,null,{"$f":"Junior_Girls!$S$98","v":0},""]
[null,null,{"$f":"Junior_Girls!$G$99","v":93},{"$f":"Junior_Girls!$H$99","v":0},{"$f":"Junior_Girls!$I$99","v":""},null,null,null,null,null,{"$f":"Junior_Girls!$O$99","v":""},null,null,null,{"$f":"Junior_Girls!$S$99","v":0},""]
[null,null,{"$f":"Junior_Girls!$G$100","v":94},{"$f":"Junior_Girls!$H$100","v":0},{"$f":"Junior_Girls!$I$100","v":""},null,null,null,null,null,{"$f":"Junior_Girls!$O$100","v":""},null,null,null,{"$f":"Junior_Girls!$S$100","v":0},""]
[null,null,{"$f":"Junior_Girls!$G$101","v":95},{"$f":"Junior_Girls!$H$101","v":0},{"$f":"Junior_Girls!$I$101","v":""},null,null,null,null,null,{"$f":"Junior_Girls!$O$101","v":""},null,null,null,{"$f":"Junior_Girls!$S$101","v":0},""]
[null,null,{"$f":"Junior_Girls!$G$102","v":96},{"$f":"Junior_Girls!$H$102","v":0},{"$f":"Junior_Girls!$I$102","v":""},null,null,null,null,null,{"$f":"Junior_Girls!$O$102","v":""},null,null,null,{"$f":"Junior_Girls!$S$102","v":0},""]
[null,null,{"$f":"Junior_Girls!$G$103","v":97},{"$f":"Junior_Girls!$H$103","v":0},{"$f":"Junior_Girls!$I$103","v":""},null,null,null,null,null,{"$f":"Junior_Girls!$O$103","v":""},null,null,null,{"$f":"Junior_Girls!$S$103","v":0},""]
[null,null,{"$f":"Junior_Girls!$G$104","v":98},{"$f":"Junior_Girls!$H$104","v":0},{"$f":"Junior_Girls!$I$104","v":""},null,null,null,null,null,{"$f":"Junior_Girls!$O$104","v":""},null,null,null,{"$f":"Junior_Girls!$S$104","v":0},""]
[null,null,{"$f":"Junior_Girls!$G$105","v":99},{"$f":"Junior_Girls!$H$105","v":0},{"$f":"Junior_Girls!$I$105","v":""},null,null,null,null,null,{"$f":"Junior_Girls!$O$105","v":""},null,null,null,{"$f":"Junior_Girls!$S$105","v":0},""]
[null,null,{"$f":"Junior_Girls!$G$106","v":100},{"$f":"Junior_Girls!$H$106","v":0},{"$f":"Junior_Girls!$I$106","v":""},null,null,null,null,null,{"$f":"Junior_Girls!$O$106","v":""},null,null,null,{"$f":"Junior_Girls!$S$106","v":0},""]
[null,null,{"$f":"CONCATENATE($C412,\" \",\"Individual Medal Winners\")","v":"Junior Girls Individual Medal Winners"},null,null,null,null,null,null,null,null,null,null,null,null,{"$f":"IF(D516=\"\",\"\",1)","v":1}]
[null,null,"Pos","Num","Name",null,null,null,null,null,"County",null,null,null,"Time",{"$f":"IF(D516=\"\",\"\",1)","v":1}]
[null,null,1,{"$f":"Junior_Girls!$H$109","v":21},{"$f":"Junior_Girls!$I$109","v":"Anna Mason"},null,null,null,null,null,{"$f":"Junior_Girls!$O$109","v":"Cumbria"},null,null,null,{"$f":"Junior_Girls!$S$109","v":12.2},{"$f":"IF(D516=\"\",\"\",1)","v":1}]
[null,null,2,{"$f":"Junior_Girls!$H$110","v":22},{"$f":"Junior_Girls!$I$110","v":"Olesia Winder"},null,null,null,null,null,{"$f":"Junior_Girls!$O$110","v":"Cumbria"},null,null,null,{"$f":"Junior_Girls!$S$110","v":12.28},{"$f":"IF(D517=\"\",\"\",1)","v":1}]
[null,null,3,{"$f":"Junior_Girls!$H$111","v":61},{"$f":"Junior_Girls!$I$111","v":"Ines Curran"},null,null,null,null,null,{"$f":"Junior_Girls!$O$111","v":"Northumberland"},null,null,null,{"$f":"Junior_Girls!$S$111","v":12.35},1]
[]
[null,null,{"$f":"CONCATENATE($C412,\" \",\"Team Results\")","v":"Junior Girls Team Results"},null,null,null,null,null,null,null,null,null,null,null,null,{"$f":"IF(D522=\"\",\"\",1)","v":1}]
[null,null,null,"Team Name",null,null,null,null,"1st","2nd","3rd","4th","5th","6th","Points",{"$f":"IF(D522=\"\",\"\",1)","v":1}]
[null,null,1,{"$f":"Junior_Girls!$H$115","v":"Durham"},null,null,null,null,{"$f":"Junior_Girls!$M$115","v":6},{"$f":"Junior_Girls!$N$115","v":7},{"$f":"Junior_Girls!$O$115","v":10},{"$f":"Junior_Girls!$P$115","v":11},{"$f":"Junior_Girls!$Q$115","v":12},{"$f":"Junior_Girls!$R$115","v":13},{"$f":"Junior_Girls!$S$115","v":59},{"$f":"IF(D522=\"\",\"\",1)","v":1}]
[null,null,2,{"$f":"Junior_Girls!$H$116","v":"North Yorkshire"},null,null,null,null,{"$f":"Junior_Girls!$M$116","v":4},{"$f":"Junior_Girls!$N$116","v":5},{"$f":"Junior_Girls!$O$116","v":8},{"$f":"Junior_Girls!$P$116","v":14},{"$f":"Junior_Girls!$Q$116","v":15},{"$f":"Junior_Girls!$R$116","v":25},{"$f":"Junior_Girls!$S$116","v":71},{"$f":"IF(D523=\"\",\"\",1)","v":1}]
[null,null,3,{"$f":"Junior_Girls!$H$117","v":"Cumbria"},null,null,null,null,{"$f":"Junior_Girls!$M$117","v":1},{"$f":"Junior_Girls!$N$117","v":2},{"$f":"Junior_Girls!$O$117","v":17},{"$f":"Junior_Girls!$P$117","v":19},{"$f":"Junior_Girls!$Q$117","v":20},{"$f":"Junior_Girls!$R$117","v":21},{"$f":"Junior_Girls!$S$117","v":80},1]
[null,null,4,{"$f":"Junior_Girls!$H$118","v":"Northumberland"},null,null,null,null,{"$f":"Junior_Girls!$M$118","v":3},{"$f":"Junior_Girls!$N$118","v":9},{"$f":"Junior_Girls!$O$118","v":16},{"$f":"Junior_Girls!$P$118","v":24},{"$f":"Junior_Girls!$Q$118","v":27},{"$f":"Junior_Girls!$R$118","v":28},{"$f":"Junior_Girls!$S$118","v":107},1]
[null,null,5,{"$f":"Junior_Girls!$H$119","v":"Cleveland"},null,null,null,null,{"$f":"Junior_Girls!$M$119","v":31},{"$f":"Junior_Girls!$N$119","v":32},{"$f":"Junior_Girls!$O$119","v":37},{"$f":"Junior_Girls!$P$119","v":46},{"$f":"Junior_Girls!$Q$119","v":47},{"$f":"Junior_Girls!$R$119","v":48},{"$f":"Junior_Girls!$S$119","v":241},1]
[null,null,null,null,null,null,null,null,null,null,null,null,null,null,null,{"$f":"IF(D522=\"\",\"\",1)","v":1}]
[null,null,{"$f":"Home!$B$1","v":"Northern Schools' Inter-County Cross Country Championships"},null,null,null,null,null,null,null,null,null,null,null,null,{"$f":"IF(D534=0,\"\",1)","v":1},null,null,null,null,null,null,null,null,null,null,{"$f":"CONCATENATE(U528,\" \",V528)","v":" "}]
[null,null,{"$f":"Home!$B$2","v":"Barnard Castle School"},null,null,null,null,null,null,null,null,null,null,null,null,{"$f":"IF(D534=0,\"\",1)","v":1}]
[null,null,{"$f":"Home!$G$3","v":"Saturday 3rd February 2018"},null,null,null,null,null,null,null,null,null,null,null,null,{"$f":"IF(D534=0,\"\",1)","v":1}]
[null,null,null,null,null,null,null,null,null,null,null,null,null,null,null,{"$f":"IF(D534=0,\"\",1)","v":1}]
[null,null,{"$f":"Intermediate_Boys!$G$5","v":"Intermediate Boys"},null,null,null,null,null,null,null,null,null,null,null,null,{"$f":"IF(D534=0,\"\",1)","v":1}]
[null,null,"Pos","Num","Name",null,null,null,null,null,"County",null,null,null,"Time",{"$f":"IF(D534=0,\"\",1)","v":1}]
[null,null,{"$f":"Intermediate_Boys!$G$7","v":1},{"$f":"Intermediate_Boys!$H$7","v":1},{"$f":"Intermediate_Boys!$I$7","v":"Archie Lowe"},null,null,null,null,null,{"$f":"Intermediate_Boys!$O$7","v":"Cleveland"},null,null,null,{"$f":"Intermediate_Boys!$S$7","v":19.2},{"$f":"IF(D534=0,\"\",1)","v":1}]
[null,null,{"$f":"Intermediate_Boys!$G$8","v":2},{"$f":"Intermediate_Boys!$H$8","v":61},{"$f":"Intermediate_Boys!$I$8","v":"Sam Charlton"},null,null,null,null,null,{"$f":"Intermediate_Boys!$O$8","v":"Northumberland"},null,null,null,{"$f":"Intermediate_Boys!$S$8","v":19.43},{"$f":"IF(D535=0,\"\",1)","v":1}]
[null,null,{"$f":"Intermediate_Boys!$G$9","v":3},{"$f":"Intermediate_Boys!$H$9","v":4},{"$f":"Intermediate_Boys!$I$9","v":"Patrick Haycock"},null,null,null,null,null,{"$f":"Intermediate_Boys!$O$9","v":"Cleveland"},null,null,null,{"$f":"Intermediate_Boys!$S$9","v":20.22},1]
[null,null,{"$f":"Intermediate_Boys!$G$10","v":4},{"$f":"Intermediate_Boys!$H$10","v":57},{"$f":"Intermediate_Boys!$I$10","v":"Will Bellamy"},null,null,null,null,null,{"$f":"Intermediate_Boys!$O$10","v":"Durham"},null,null,null,{"$f":"Intermediate_Boys!$S$10","v":20.23},1]
[null,null,{"$f":"Intermediate_Boys!$G$11","v":5},{"$f":"Intermediate_Boys!$H$11","v":2},{"$f":"Intermediate_Boys!$I$11","v":"Daniel Currie"},null,null,null,null,null,{"$f":"Intermediate_Boys!$O$11","v":"Cleveland"},null,null,null,{"$f":"Intermediate_Boys!$S$11","v":20.260000000000002},1]
[null,null,{"$f":"Intermediate_Boys!$G$12","v":6},{"$f":"Intermediate_Boys!$H$12","v":62},{"$f":"Intermediate_Boys!$I$12","v":"Ross Charlton"},null,null,null,null,null,{"$f":"Intermediate_Boys!$O$12","v":"Northumberland"},null,null,null,{"$f":"Intermediate_Boys!$S$12","v":20.29},1]
[null,null,{"$f":"Intermediate_Boys!$G$13","v":7},{"$f":"Intermediate_Boys!$H$13","v":81},{"$f":"Intermediate_Boys!$I$13","v":"Finnian Hutchinson"},null,null,null,null,null,{"$f":"Intermediate_Boys!$O$13","v":"North Yorkshire"},null,null,null,{"$f":"Intermediate_Boys!$S$13","v":20.440000000000001},1]
[null,null,{"$f":"Intermediate_Boys!$G$14","v":8},{"$f":"Intermediate_Boys!$H$14","v":76},{"$f":"Intermediate_Boys!$I$14","v":"Charlie McMillan"},null,null,null,null,null,{"$f":"Intermediate_Boys!$O$14","v":"Northumberland"},null,null,null,{"$f":"Intermediate_Boys!$S$14","v":20.52},1]
[null,null,{"$f":"Intermediate_Boys!$G$15","v":9},{"$f":"Intermediate_Boys!$H$15","v":63},{"$f":"Intermediate_Boys!$I$15","v":"Daniel Melling"},null,null,null,null,null,{"$f":"Intermediate_Boys!$O$15","v":"Northumberland"},null,null,null,{"$f":"Intermediate_Boys!$S$15","v":21},1]
[null,null,{"$f":"Intermediate_Boys!$G$16","v":10},{"$f":"Intermediate_Boys!$H$16","v":65},{"$f":"Intermediate_Boys!$I$16","v":"Josh Fiddaman"},null,null,null,null,null,{"$f":"Intermediate_Boys!$O$16","v":"Northumberland"},null,null,null,{"$f":"Intermediate_Boys!$S$16","v":21.05},1]
[null,null,{"$f":"Intermediate_Boys!$G$17","v":11},{"$f":"Intermediate_Boys!$H$17","v":46},{"$f":"Intermediate_Boys!$I$17","v":"Jamie Barnshaw"},null,null,null,null,null,{"$f":"Intermediate_Boys!$O$17","v":"Durham"},null,null,null,{"$f":"Intermediate_Boys!$S$17","v":21.1},1]
[null,null,{"$f":"Intermediate_Boys!$G$18","v":12},{"$f":"Intermediate_Boys!$H$18","v":66},{"$f":"Intermediate_Boys!$I$18","v":"Thomas Susham"},null,null,null,null,null,{"$f":"Intermediate_Boys!$O$18","v":"Northumberland"},null,null,null,{"$f":"Intermediate_Boys!$S$18","v":21.13},1]
[null,null,{"$f":"Intermediate_Boys!$G$19","v":13},{"$f":"Intermediate_Boys!$H$19","v":3},{"$f":"Intermediate_Boys!$I$19","v":"Dan Payne"},null,null,null,null,null,{"$f":"Intermediate_Boys!$O$19","v":"Cleveland"},null,null,null,{"$f":"Intermediate_Boys!$S$19","v":21.19},1]
[null,null,{"$f":"Intermediate_Boys!$G$20","v":14},{"$f":"Intermediate_Boys!$H$20","v":86},{"$f":"Intermediate_Boys!$I$20","v":"Toby Antcliff"},null,null,null,null,null,{"$f":"Intermediate_Boys!$O$20","v":"North Yorkshire"},null,null,null,{"$f":"Intermediate_Boys!$S$20","v":21.21},1]
[null,null,{"$f":"Intermediate_Boys!$G$21","v":15},{"$f":"Intermediate_Boys!$H$21","v":43},{"$f":"Intermediate_Boys!$I$21","v":"Cameron Thomas"},null,null,null,null,null,{"$f":"Intermediate_Boys!$O$21","v":"Durham"},null,null,null,{"$f":"Intermediate_Boys!$S$21","v":21.26},1]
[null,null,{"$f":"Intermediate_Boys!$G$22","v":16},{"$f":"Intermediate_Boys!$H$22","v":88},{"$f":"Intermediate_Boys!$I$22","v":"Tom Hayes"},null,null,null,null,null,{"$f":"Intermediate_Boys!$O$22","v":"North Yorkshire"},null,null,null,{"$f":"Intermediate_Boys!$S$22","v":21.28},1]
[null,null,{"$f":"Intermediate_Boys!$G$23","v":17},{"$f":"Intermediate_Boys!$H$23","v":85},{"$f":"Intermediate_Boys!$I$23","v":"Archie Lawson"},null,null,null,null,null,{"$f":"Intermediate_Boys!$O$23","v":"North Yorkshire"},null,null,null,{"$f":"Intermediate_Boys!$S$23","v":21.29},1]
[null,null,{"$f":"Intermediate_Boys!$G$24","v":18},{"$f":"Intermediate_Boys!$H$24","v":89},{"$f":"Intermediate_Boys!$I$24","v":"Joe Crannley"},null,null,null,null,null,{"$f":"Intermediate_Boys!$O$24","v":"North Yorkshire"},null,null,null,{"$f":"Intermediate_Boys!$S$24","v":21.3},1]
[null,null,{"$f":"Intermediate_Boys!$G$25","v":19},{"$f":"Intermediate_Boys!$H$25","v":40},{"$f":"Intermediate_Boys!$I$25","v":"Leo Peres"},null,null,null,null,null,{"$f":"Intermediate_Boys!$O$25","v":"Cumbria"},null,null,null,{"$f":"Intermediate_Boys!$S$25","v":21.35},1]
[null,null,{"$f":"Intermediate_Boys!$G$26","v":20},{"$f":"Intermediate_Boys!$H$26","v":68},{"$f":"Intermediate_Boys!$I$26","v":"Tom Balsdon"},null,null,null,null,null,{"$f":"Intermediate_Boys!$O$26","v":"Northumberland"},null,null,null,{"$f":"Intermediate_Boys!$S$26","v":21.4},1]
[null,null,{"$f":"Intermediate_Boys!$G$27","v":21},{"$f":"Intermediate_Boys!$H$27","v":45},{"$f":"Intermediate_Boys!$I$27","v":"Daniel Boyer"},null,null,null,null,null,{"$f":"Intermediate_Boys!$O$27","v":"Durham"},null,null,null,{"$f":"Intermediate_Boys!$S$27","v":21.4},1]
[null,null,{"$f":"Intermediate_Boys!$G$28","v":22},{"$f":"Intermediate_Boys!$H$28","v":23},{"$f":"Intermediate_Boys!$I$28","v":"Charlie Harding"},null,null,null,null,null,{"$f":"Intermediate_Boys!$O$28","v":"Cumbria"},null,null,null,{"$f":"Intermediate_Boys!$S$28","v":21.44},1]
[null,null,{"$f":"Intermediate_Boys!$G$29","v":23},{"$f":"Intermediate_Boys!$H$29","v":5},{"$f":"Intermediate_Boys!$I$29","v":"Jake Creasey"},null,null,null,null,null,{"$f":"Intermediate_Boys!$O$29","v":"Cleveland"},null,null,null,{"$f":"Intermediate_Boys!$S$29","v":21.46},1]
[null,null,{"$f":"Intermediate_Boys!$G$30","v":24},{"$f":"Intermediate_Boys!$H$30","v":27},{"$f":"Intermediate_Boys!$I$30","v":"Lewis Bowness"},null,null,null,null,null,{"$f":"Intermediate_Boys!$O$30","v":"Cumbria"},null,null,null,{"$f":"Intermediate_Boys!$S$30","v":21.5},1]
[null,null,{"$f":"Intermediate_Boys!$G$31","v":25},{"$f":"Intermediate_Boys!$H$31","v":87},{"$f":"Intermediate_Boys!$I$31","v":"Matthew Somers"},null,null,null,null,null,{"$f":"Intermediate_Boys!$O$31","v":"North Yorkshire"},null,null,null,{"$f":"Intermediate_Boys!$S$31","v":21.53},1]
[null,null,{"$f":"Intermediate_Boys!$G$32","v":26},{"$f":"Intermediate_Boys!$H$32","v":69},{"$f":"Intermediate_Boys!$I$32","v":"Roean Bennett"},null,null,null,null,null,{"$f":"Intermediate_Boys!$O$32","v":"Northumberland"},null,null,null,{"$f":"Intermediate_Boys!$S$32","v":21.54},1]
[null,null,{"$f":"Intermediate_Boys!$G$33","v":27},{"$f":"Intermediate_Boys!$H$33","v":48},{"$f":"Intermediate_Boys!$I$33","v":"Izaak Robinson Taylor"},null,null,null,null,null,{"$f":"Intermediate_Boys!$O$33","v":"Durham"},null,null,null,{"$f":"Intermediate_Boys!$S$33","v":22.04},1]
[null,null,{"$f":"Intermediate_Boys!$G$34","v":28},{"$f":"Intermediate_Boys!$H$34","v":25},{"$f":"Intermediate_Boys!$I$34","v":"Toby Umpleby"},null,null,null,null,null,{"$f":"Intermediate_Boys!$O$34","v":"Cumbria"},null,null,null,{"$f":"Intermediate_Boys!$S$34","v":22.08},1]
[null,null,{"$f":"Intermediate_Boys!$G$35","v":29},{"$f":"Intermediate_Boys!$H$35","v":9},{"$f":"Intermediate_Boys!$I$35","v":"Dominic Shipman"},null,null,null,null,null,{"$f":"Intermediate_Boys!$O$35","v":"Cleveland"},null,null,null,{"$f":"Intermediate_Boys!$S$35","v":22.1},1]
[null,null,{"$f":"Intermediate_Boys!$G$36","v":30},{"$f":"Intermediate_Boys!$H$36","v":26},{"$f":"Intermediate_Boys!$I$36","v":"Max Parry"},null,null,null,null,null,{"$f":"Intermediate_Boys!$O$36","v":"Cumbria"},null,null,null,{"$f":"Intermediate_Boys!$S$36","v":22.1},1]
[null,null,{"$f":"Intermediate_Boys!$G$37","v":31},{"$f":"Intermediate_Boys!$H$37","v":44},{"$f":"Intermediate_Boys!$I$37","v":"Daniel Joyce"},null,null,null,null,null,{"$f":"Intermediate_Boys!$O$37","v":"Durham"},null,null,null,{"$f":"Intermediate_Boys!$S$37","v":22.19},1]
[null,null,{"$f":"Intermediate_Boys!$G$38","v":32},{"$f":"Intermediate_Boys!$H$38","v":8},{"$f":"Intermediate_Boys!$I$38","v":"Harry Dunmure"},null,null,null,null,null,{"$f":"Intermediate_Boys!$O$38","v":"Cleveland"},null,null,null,{"$f":"Intermediate_Boys!$S$38","v":22.21},1]
[null,null,{"$f":"Intermediate_Boys!$G$39","v":33},{"$f":"Intermediate_Boys!$H$39","v":77},{"$f":"Intermediate_Boys!$I$39","v":"Harry Morris"},null,null,null,null,null,{"$f":"Intermediate_Boys!$O$39","v":"Northumberland"},null,null,null,{"$f":"Intermediate_Boys!$S$39","v":22.22},1]
[null,null,{"$f":"Intermediate_Boys!$G$40","v":34},{"$f":"Intermediate_Boys!$H$40","v":31},{"$f":"Intermediate_Boys!$I$40","v":"Felix Kirsten"},null,null,null,null,null,{"$f":"Intermediate_Boys!$O$40","v":"Cumbria"},null,null,null,{"$f":"Intermediate_Boys!$S$40","v":22.23},1]
[null,null,{"$f":"Intermediate_Boys!$G$41","v":35},{"$f":"Intermediate_Boys!$H$41","v":24},{"$f":"Intermediate_Boys!$I$41","v":"Mitchell Liddle"},null,null,null,null,null,{"$f":"Intermediate_Boys!$O$41","v":"Cumbria"},null,null,null,{"$f":"Intermediate_Boys!$S$41","v":22.24},1]
[null,null,{"$f":"Intermediate_Boys!$G$42","v":36},{"$f":"Intermediate_Boys!$H$42","v":90},{"$f":"Intermediate_Boys!$I$42","v":"Arthur Peel"},null,null,null,null,null,{"$f":"Intermediate_Boys!$O$42","v":"North Yorkshire"},null,null,null,{"$f":"Intermediate_Boys!$S$42","v":22.26},1]
[null,null,{"$f":"Intermediate_Boys!$G$43","v":37},{"$f":"Intermediate_Boys!$H$43","v":52},{"$f":"Intermediate_Boys!$I$43","v":"Joshua Dan"},null,null,null,null,null,{"$f":"Intermediate_Boys!$O$43","v":"Durham"},null,null,null,{"$f":"Intermediate_Boys!$S$43","v":22.27},1]
[null,null,{"$f":"Intermediate_Boys!$G$44","v":38},{"$f":"Intermediate_Boys!$H$44","v":67},{"$f":"Intermediate_Boys!$I$44","v":"Oscar Onley"},null,null,null,null,null,{"$f":"Intermediate_Boys!$O$44","v":"Northumberland"},null,null,null,{"$f":"Intermediate_Boys!$S$44","v":22.27},1]
[null,null,{"$f":"Intermediate_Boys!$G$45","v":39},{"$f":"Intermediate_Boys!$H$45","v":47},{"$f":"Intermediate_Boys!$I$45","v":"James Roberts"},null,null,null,null,null,{"$f":"Intermediate_Boys!$O$45","v":"Durham"},null,null,null,{"$f":"Intermediate_Boys!$S$45","v":22.35},1]
[null,null,{"$f":"Intermediate_Boys!$G$46","v":40},{"$f":"Intermediate_Boys!$H$46","v":54},{"$f":"Intermediate_Boys!$I$46","v":"Will Lindsey"},null,null,null,null,null,{"$f":"Intermediate_Boys!$O$46","v":"Durham"},null,null,null,{"$f":"Intermediate_Boys!$S$46","v":22.4},1]
[null,null,{"$f":"Intermediate_Boys!$G$47","v":41},{"$f":"Intermediate_Boys!$H$47","v":84},{"$f":"Intermediate_Boys!$I$47","v":"Kyle McLeay"},null,null,null,null,null,{"$f":"Intermediate_Boys!$O$47","v":"North Yorkshire"},null,null,null,{"$f":"Intermediate_Boys!$S$47","v":22.44},1]
[null,null,{"$f":"Intermediate_Boys!$G$48","v":42},{"$f":"Intermediate_Boys!$H$48","v":92},{"$f":"Intermediate_Boys!$I$48","v":"Matthew Lambert"},null,null,null,null,null,{"$f":"Intermediate_Boys!$O$48","v":"North Yorkshire"},null,null,null,{"$f":"Intermediate_Boys!$S$48","v":22.44},1]
[null,null,{"$f":"Intermediate_Boys!$G$49","v":43},{"$f":"Intermediate_Boys!$H$49","v":91},{"$f":"Intermediate_Boys!$I$49","v":"Will Thompson"},null,null,null,null,null,{"$f":"Intermediate_Boys!$O$49","v":"North Yorkshire"},null,null,null,{"$f":"Intermediate_Boys!$S$49","v":22.57},1]
[null,null,{"$f":"Intermediate_Boys!$G$50","v":44},{"$f":"Intermediate_Boys!$H$50","v":53},{"$f":"Intermediate_Boys!$I$50","v":"Liam Brittle"},null,null,null,null,null,{"$f":"Intermediate_Boys!$O$50","v":"Durham"},null,null,null,{"$f":"Intermediate_Boys!$S$50","v":23.01},1]
[null,null,{"$f":"Intermediate_Boys!$G$51","v":45},{"$f":"Intermediate_Boys!$H$51","v":7},{"$f":"Intermediate_Boys!$I$51","v":"Henry Mitson"},null,null,null,null,null,{"$f":"Intermediate_Boys!$O$51","v":"Cleveland"},null,null,null,{"$f":"Intermediate_Boys!$S$51","v":23.02},1]
[null,null,{"$f":"Intermediate_Boys!$G$52","v":46},{"$f":"Intermediate_Boys!$H$52","v":71},{"$f":"Intermediate_Boys!$I$52","v":"Daniel Buffham"},null,null,null,null,null,{"$f":"Intermediate_Boys!$O$52","v":"Northumberland"},null,null,null,{"$f":"Intermediate_Boys!$S$52","v":23.07},1]
[null,null,{"$f":"Intermediate_Boys!$G$53","v":47},{"$f":"Intermediate_Boys!$H$53","v":50},{"$f":"Intermediate_Boys!$I$53","v":"Alfie Phillips"},null,null,null,null,null,{"$f":"Intermediate_Boys!$O$53","v":"Durham"},null,null,null,{"$f":"Intermediate_Boys!$S$53","v":23.19},1]
[null,null,{"$f":"Intermediate_Boys!$G$54","v":48},{"$f":"Intermediate_Boys!$H$54","v":72},{"$f":"Intermediate_Boys!$I$54","v":"Jamie Styles"},null,null,null,null,null,{"$f":"Intermediate_Boys!$O$54","v":"Northumberland"},null,null,null,{"$f":"Intermediate_Boys!$S$54","v":23.29},1]
[null,null,{"$f":"Intermediate_Boys!$G$55","v":49},{"$f":"Intermediate_Boys!$H$55","v":49},{"$f":"Intermediate_Boys!$I$55","v":"Joshua Maner"},null,null,null,null,null,{"$f":"Intermediate_Boys!$O$55","v":"Durham"},null,null,null,{"$f":"Intermediate_Boys!$S$55","v":23.32},1]
[null,null,{"$f":"Intermediate_Boys!$G$56","v":50},{"$f":"Intermediate_Boys!$H$56","v":33},{"$f":"Intermediate_Boys!$I$56","v":"Toby Winnard"},null,null,null,null,null,{"$f":"Intermediate_Boys!$O$56","v":"Cumbria"},null,null,null,{"$f":"Intermediate_Boys!$S$56","v":23.44},1]
[null,null,{"$f":"Intermediate_Boys!$G$57","v":51},{"$f":"Intermediate_Boys!$H$57","v":35},{"$f":"Intermediate_Boys!$I$57","v":"Alex Beddoes"},null,null,null,null,null,{"$f":"Intermediate_Boys!$O$57","v":"Cumbria"},null,null,null,{"$f":"Intermediate_Boys!$S$57","v":23.51},1]
[null,null,{"$f":"Intermediate_Boys!$G$58","v":52},{"$f":"Intermediate_Boys!$H$58","v":56},{"$f":"Intermediate_Boys!$I$58","v":"Ollie Barrett"},null,null,null,null,null,{"$f":"Intermediate_Boys!$O$58","v":"Durham"},null,null,null,{"$f":"Intermediate_Boys!$S$58","v":23.54},1]
[null,null,{"$f":"Intermediate_Boys!$G$59","v":53},{"$f":"Intermediate_Boys!$H$59","v":29},{"$f":"Intermediate_Boys!$I$59","v":"Ben Edmondson"},null,null,null,null,null,{"$f":"Intermediate_Boys!$O$59","v":"Cumbria"},null,null,null,{"$f":"Intermediate_Boys!$S$59","v":23.59},1]
[null,null,{"$f":"Intermediate_Boys!$G$60","v":54},{"$f":"Intermediate_Boys!$H$60","v":55},{"$f":"Intermediate_Boys!$I$60","v":"Charles McIntosh"},null,null,null,null,null,{"$f":"Intermediate_Boys!$O$60","v":"Durham"},null,null,null,{"$f":"Intermediate_Boys!$S$60","v":24.02},1]
[null,null,{"$f":"Intermediate_Boys!$G$61","v":55},{"$f":"Intermediate_Boys!$H$61","v":13},{"$f":"Intermediate_Boys!$I$61","v":"Luke Hutchinson"},null,null,null,null,null,{"$f":"Intermediate_Boys!$O$61","v":"Cleveland"},null,null,null,{"$f":"Intermediate_Boys!$S$61","v":24.07},1]
[null,null,{"$f":"Intermediate_Boys!$G$62","v":56},{"$f":"Intermediate_Boys!$H$62","v":73},{"$f":"Intermediate_Boys!$I$62","v":"Ben Murray-John"},null,null,null,null,null,{"$f":"Intermediate_Boys!$O$62","v":"Northumberland"},null,null,null,{"$f":"Intermediate_Boys!$S$62","v":24.1},1]
[null,null,{"$f":"Intermediate_Boys!$G$63","v":57},{"$f":"Intermediate_Boys!$H$63","v":75},{"$f":"Intermediate_Boys!$I$63","v":"Luke Shears"},null,null,null,null,null,{"$f":"Intermediate_Boys!$O$63","v":"Northumberland"},null,null,null,{"$f":"Intermediate_Boys!$S$63","v":24.18},1]
[null,null,{"$f":"Intermediate_Boys!$G$64","v":58},{"$f":"Intermediate_Boys!$H$64","v":51},{"$f":"Intermediate_Boys!$I$64","v":"Matthew Appleby"},null,null,null,null,null,{"$f":"Intermediate_Boys!$O$64","v":"Durham"},null,null,null,{"$f":"Intermediate_Boys!$S$64","v":24.32},1]
[null,null,{"$f":"Intermediate_Boys!$G$65","v":59},{"$f":"Intermediate_Boys!$H$65","v":10},{"$f":"Intermediate_Boys!$I$65","v":"Ben Grounds"},null,null,null,null,null,{"$f":"Intermediate_Boys!$O$65","v":"Cleveland"},null,null,null,{"$f":"Intermediate_Boys!$S$65","v":24.32},1]
[null,null,{"$f":"Intermediate_Boys!$G$66","v":60},{"$f":"Intermediate_Boys!$H$66","v":37},{"$f":"Intermediate_Boys!$I$66","v":"Craig Bottomley"},null,null,null,null,null,{"$f":"Intermediate_Boys!$O$66","v":"Cumbria"},null,null,null,{"$f":"Intermediate_Boys!$S$66","v":24.59},1]
[null,null,{"$f":"Intermediate_Boys!$G$67","v":61},{"$f":"Intermediate_Boys!$H$67","v":34},{"$f":"Intermediate_Boys!$I$67","v":"Elliott Judge"},null,null,null,null,null,{"$f":"Intermediate_Boys!$O$67","v":"Cumbria"},null,null,null,{"$f":"Intermediate_Boys!$S$67","v":26.03},1]
[null,null,{"$f":"Intermediate_Boys!$G$68","v":62},{"$f":"Intermediate_Boys!$H$68","v":74},{"$f":"Intermediate_Boys!$I$68","v":"Brad Brown"},null,null,null,null,null,{"$f":"Intermediate_Boys!$O$68","v":"Northumberland"},null,null,null,{"$f":"Intermediate_Boys!$S$68","v":26.27},1]
[null,null,{"$f":"Intermediate_Boys!$G$69","v":63},{"$f":"Intermediate_Boys!$H$69","v":0},{"$f":"Intermediate_Boys!$I$69","v":""},null,null,null,null,null,{"$f":"Intermediate_Boys!$O$69","v":""},null,null,null,{"$f":"Intermediate_Boys!$S$69","v":0},""]
[null,null,{"$f":"Intermediate_Boys!$G$70","v":64},{"$f":"Intermediate_Boys!$H$70","v":0},{"$f":"Intermediate_Boys!$I$70","v":""},null,null,null,null,null,{"$f":"Intermediate_Boys!$O$70","v":""},null,null,null,{"$f":"Intermediate_Boys!$S$70","v":0},""]
[null,null,{"$f":"Intermediate_Boys!$G$71","v":65},{"$f":"Intermediate_Boys!$H$71","v":0},{"$f":"Intermediate_Boys!$I$71","v":""},null,null,null,null,null,{"$f":"Intermediate_Boys!$O$71","v":""},null,null,null,{"$f":"Intermediate_Boys!$S$71","v":0},""]
[null,null,{"$f":"Intermediate_Boys!$G$72","v":66},{"$f":"Intermediate_Boys!$H$72","v":0},{"$f":"Intermediate_Boys!$I$72","v":""},null,null,null,null,null,{"$f":"Intermediate_Boys!$O$72","v":""},null,null,null,{"$f":"Intermediate_Boys!$S$72","v":0},{"$f":"IF(D599=0,\"\",1)","v":""}]
[null,null,{"$f":"Intermediate_Boys!$G$73","v":67},{"$f":"Intermediate_Boys!$H$73","v":0},{"$f":"Intermediate_Boys!$I$73","v":""},null,null,null,null,null,{"$f":"Intermediate_Boys!$O$73","v":""},null,null,null,{"$f":"Intermediate_Boys!$S$73","v":0},""]
[null,null,{"$f":"Intermediate_Boys!$G$74","v":68},{"$f":"Intermediate_Boys!$H$74","v":0},{"$f":"Intermediate_Boys!$I$74","v":""},null,null,null,null,null,{"$f":"Intermediate_Boys!$O$74","v":""},null,null,null,{"$f":"Intermediate_Boys!$S$74","v":0},""]
[null,null,{"$f":"Intermediate_Boys!$G$75","v":69},{"$f":"Intermediate_Boys!$H$75","v":0},{"$f":"Intermediate_Boys!$I$75","v":""},null,null,null,null,null,{"$f":"Intermediate_Boys!$O$75","v":""},null,null,null,{"$f":"Intermediate_Boys!$S$75","v":0},""]
[null,null,{"$f":"Intermediate_Boys!$G$76","v":70},{"$f":"Intermediate_Boys!$H$76","v":0},{"$f":"Intermediate_Boys!$I$76","v":""},null,null,null,null,null,{"$f":"Intermediate_Boys!$O$76","v":""},null,null,null,{"$f":"Intermediate_Boys!$S$76","v":0},""]
[null,null,{"$f":"Intermediate_Boys!$G$77","v":71},{"$f":"Intermediate_Boys!$H$77","v":0},{"$f":"Intermediate_Boys!$I$77","v":""},null,null,null,null,null,{"$f":"Intermediate_Boys!$O$77","v":""},null,null,null,{"$f":"Intermediate_Boys!$S$77","v":0},""]
[null,null,{"$f":"Intermediate_Boys!$G$78","v":72},{"$f":"Intermediate_Boys!$H$78","v":0},{"$f":"Intermediate_Boys!$I$78","v":""},null,null,null,null,null,{"$f":"Intermediate_Boys!$O$78","v":""},null,null,null,{"$f":"Intermediate_Boys!$S$78","v":0},""]
[null,null,{"$f":"Intermediate_Boys!$G$79","v":73},{"$f":"Intermediate_Boys!$H$79","v":0},{"$f":"Intermediate_Boys!$I$79","v":""},null,null,null,null,null,{"$f":"Intermediate_Boys!$O$79","v":""},null,null,null,{"$f":"Intermediate_Boys!$S$79","v":0},""]
[null,null,{"$f":"Intermediate_Boys!$G$80","v":74},{"$f":"Intermediate_Boys!$H$80","v":0},{"$f":"Intermediate_Boys!$I$80","v":""},null,null,null,null,null,{"$f":"Intermediate_Boys!$O$80","v":""},null,null,null,{"$f":"Intermediate_Boys!$S$80","v":0},""]
[null,null,{"$f":"Intermediate_Boys!$G$81","v":75},{"$f":"Intermediate_Boys!$H$81","v":0},{"$f":"Intermediate_Boys!$I$81","v":""},null,null,null,null,null,{"$f":"Intermediate_Boys!$O$81","v":""},null,null,null,{"$f":"Intermediate_Boys!$S$81","v":0},""]
[null,null,{"$f":"Intermediate_Boys!$G$82","v":76},{"$f":"Intermediate_Boys!$H$82","v":0},{"$f":"Intermediate_Boys!$I$82","v":""},null,null,null,null,null,{"$f":"Intermediate_Boys!$O$82","v":""},null,null,null,{"$f":"Intermediate_Boys!$S$82","v":0},""]
[null,null,{"$f":"Intermediate_Boys!$G$83","v":77},{"$f":"Intermediate_Boys!$H$83","v":0},{"$f":"Intermediate_Boys!$I$83","v":""},null,null,null,null,null,{"$f":"Intermediate_Boys!$O$83","v":""},null,null,null,{"$f":"Intermediate_Boys!$S$83","v":0},""]
[null,null,{"$f":"Intermediate_Boys!$G$84","v":78},{"$f":"Intermediate_Boys!$H$84","v":0},{"$f":"Intermediate_Boys!$I$84","v":""},null,null,null,null,null,{"$f":"Intermediate_Boys!$O$84","v":""},null,null,null,{"$f":"Intermediate_Boys!$S$84","v":0},""]
[null,null,{"$f":"Intermediate_Boys!$G$85","v":79},{"$f":"Intermediate_Boys!$H$85","v":0},{"$f":"Intermediate_Boys!$I$85","v":""},null,null,null,null,null,{"$f":"Intermediate_Boys!$O$85","v":""},null,null,null,{"$f":"Intermediate_Boys!$S$85","v":0},""]
[null,null,{"$f":"Intermediate_Boys!$G$86","v":80},{"$f":"Intermediate_Boys!$H$86","v":0},{"$f":"Intermediate_Boys!$I$86","v":""},null,null,null,null,null,{"$f":"Intermediate_Boys!$O$86","v":""},null,null,null,{"$f":"Intermediate_Boys!$S$86","v":0},""]
[null,null,{"$f":"Intermediate_Boys!$G$87","v":81},{"$f":"Intermediate_Boys!$H$87","v":0},{"$f":"Intermediate_Boys!$I$87","v":""},null,null,null,null,null,{"$f":"Intermediate_Boys!$O$87","v":""},null,null,null,{"$f":"Intermediate_Boys!$S$87","v":0},""]
[null,null,{"$f":"Intermediate_Boys!$G$88","v":82},{"$f":"Intermediate_Boys!$H$88","v":0},{"$f":"Intermediate_Boys!$I$88","v":""},null,null,null,null,null,{"$f":"Intermediate_Boys!$O$88","v":""},null,null,null,{"$f":"Intermediate_Boys!$S$88","v":0},""]
[null,null,{"$f":"Intermediate_Boys!$G$89","v":83},{"$f":"Intermediate_Boys!$H$89","v":0},{"$f":"Intermediate_Boys!$I$89","v":""},null,null,null,null,null,{"$f":"Intermediate_Boys!$O$89","v":""},null,null,null,{"$f":"Intermediate_Boys!$S$89","v":0},""]
[null,null,{"$f":"Intermediate_Boys!$G$90","v":84},{"$f":"Intermediate_Boys!$H$90","v":0},{"$f":"Intermediate_Boys!$I$90","v":""},null,null,null,null,null,{"$f":"Intermediate_Boys!$O$90","v":""},null,null,null,{"$f":"Intermediate_Boys!$S$90","v":0},""]
[null,null,{"$f":"Intermediate_Boys!$G$91","v":85},{"$f":"Intermediate_Boys!$H$91","v":0},{"$f":"Intermediate_Boys!$I$91","v":""},null,null,null,null,null,{"$f":"Intermediate_Boys!$O$91","v":""},null,null,null,{"$f":"Intermediate_Boys!$S$91","v":0},""]
[null,null,{"$f":"Intermediate_Boys!$G$92","v":86},{"$f":"Intermediate_Boys!$H$92","v":0},{"$f":"Intermediate_Boys!$I$92","v":""},null,null,null,null,null,{"$f":"Intermediate_Boys!$O$92","v":""},null,null,null,{"$f":"Intermediate_Boys!$S$92","v":0},""]
[null,null,{"$f":"Intermediate_Boys!$G$93","v":87},{"$f":"Intermediate_Boys!$H$93","v":0},{"$f":"Intermediate_Boys!$I$93","v":""},null,null,null,null,null,{"$f":"Intermediate_Boys!$O$93","v":""},null,null,null,{"$f":"Intermediate_Boys!$S$93","v":0},""]
[null,null,{"$f":"Intermediate_Boys!$G$94","v":88},{"$f":"Intermediate_Boys!$H$94","v":0},{"$f":"Intermediate_Boys!$I$94","v":""},null,null,null,null,null,{"$f":"Intermediate_Boys!$O$94","v":""},null,null,null,{"$f":"Intermediate_Boys!$S$94","v":0},""]
[null,null,{"$f":"Intermediate_Boys!$G$95","v":89},{"$f":"Intermediate_Boys!$H$95","v":0},{"$f":"Intermediate_Boys!$I$95","v":""},null,null,null,null,null,{"$f":"Intermediate_Boys!$O$95","v":""},null,null,null,{"$f":"Intermediate_Boys!$S$95","v":0},""]
[null,null,{"$f":"Intermediate_Boys!$G$96","v":90},{"$f":"Intermediate_Boys!$H$96","v":0},{"$f":"Intermediate_Boys!$I$96","v":""},null,null,null,null,null,{"$f":"Intermediate_Boys!$O$96","v":""},null,null,null,{"$f":"Intermediate_Boys!$S$96","v":0},""]
[null,null,{"$f":"Intermediate_Boys!$G$97","v":91},{"$f":"Intermediate_Boys!$H$97","v":0},{"$f":"Intermediate_Boys!$I$97","v":""},null,null,null,null,null,{"$f":"Intermediate_Boys!$O$97","v":""},null,null,null,{"$f":"Intermediate_Boys!$S$97","v":0},""]
[null,null,{"$f":"Intermediate_Boys!$G$98","v":92},{"$f":"Intermediate_Boys!$H$98","v":0},{"$f":"Intermediate_Boys!$I$98","v":""},null,null,null,null,null,{"$f":"Intermediate_Boys!$O$98","v":""},null,null,null,{"$f":"Intermediate_Boys!$S$98","v":0},""]
[null,null,{"$f":"Intermediate_Boys!$G$99","v":93},{"$f":"Intermediate_Boys!$H$99","v":0},{"$f":"Intermediate_Boys!$I$99","v":""},null,null,null,null,null,{"$f":"Intermediate_Boys!$O$99","v":""},null,null,null,{"$f":"Intermediate_Boys!$S$99","v":0},""]
[null,null,{"$f":"Intermediate_Boys!$G$100","v":94},{"$f":"Intermediate_Boys!$H$100","v":0},{"$f":"Intermediate_Boys!$I$100","v":""},null,null,null,null,null,{"$f":"Intermediate_Boys!$O$100","v":""},null,null,null,{"$f":"Intermediate_Boys!$S$100","v":0},""]
[null,null,{"$f":"Intermediate_Boys!$G$101","v":95},{"$f":"Intermediate_Boys!$H$101","v":0},{"$f":"Intermediate_Boys!$I$101","v":""},null,null,null,null,null,{"$f":"Intermediate_Boys!$O$101","v":""},null,null,null,{"$f":"Intermediate_Boys!$S$101","v":0},""]
[null,null,{"$f":"Intermediate_Boys!$G$102","v":96},{"$f":"Intermediate_Boys!$H$102","v":0},{"$f":"Intermediate_Boys!$I$102","v":""},null,null,null,null,null,{"$f":"Intermediate_Boys!$O$102","v":""},null,null,null,{"$f":"Intermediate_Boys!$S$102","v":0},""]
[null,null,{"$f":"Intermediate_Boys!$G$103","v":97},{"$f":"Intermediate_Boys!$H$103","v":0},{"$f":"Intermediate_Boys!$I$103","v":""},null,null,null,null,null,{"$f":"Intermediate_Boys!$O$103","v":""},null,null,null,{"$f":"Intermediate_Boys!$S$103","v":0},""]
[null,null,{"$f":"Intermediate_Boys!$G$104","v":98},{"$f":"Intermediate_Boys!$H$104","v":0},{"$f":"Intermediate_Boys!$I$104","v":""},null,null,null,null,null,{"$f":"Intermediate_Boys!$O$104","v":""},null,null,null,{"$f":"Intermediate_Boys!$S$104","v":0},""]
[null,null,{"$f":"Intermediate_Boys!$G$105","v":99},{"$f":"Intermediate_Boys!$H$105","v":0},{"$f":"Intermediate_Boys!$I$105","v":""},null,null,null,null,null,{"$f":"Intermediate_Boys!$O$105","v":""},null,null,null,{"$f":"Intermediate_Boys!$S$105","v":0},""]
[null,null,{"$f":"Intermediate_Boys!$G$106","v":100},{"$f":"Intermediate_Boys!$H$106","v":0},{"$f":"Intermediate_Boys!$I$106","v":""},null,null,null,null,null,{"$f":"Intermediate_Boys!$O$106","v":""},null,null,null,{"$f":"Intermediate_Boys!$S$106","v":0},""]
[null,null,{"$f":"CONCATENATE($C532,\" \",\"Individual Medal Winners\")","v":"Intermediate Boys Individual Medal Winners"},null,null,null,null,null,null,null,null,null,null,null,null,{"$f":"IF(D636=\"\",\"\",1)","v":1}]
[null,null,"Pos","Num","Name",null,null,null,null,null,"County",null,null,null,"Time",{"$f":"IF(D636=\"\",\"\",1)","v":1}]
[null,null,1,{"$f":"Intermediate_Boys!$H$109","v":1},{"$f":"Intermediate_Boys!$I$109","v":"Archie Lowe"},null,null,null,null,null,{"$f":"Intermediate_Boys!$O$109","v":"Cleveland"},null,null,null,{"$f":"Intermediate_Boys!$S$109","v":19.2},{"$f":"IF(D636=\"\",\"\",1)","v":1}]
[null,null,2,{"$f":"Intermediate_Boys!$H$110","v":61},{"$f":"Intermediate_Boys!$I$110","v":"Sam Charlton"},null,null,null,null,null,{"$f":"Intermediate_Boys!$O$110","v":"Northumberland"},null,null,null,{"$f":"Intermediate_Boys!$S$110","v":19.43},{"$f":"IF(D637=\"\",\"\",1)","v":1}]
[null,null,3,{"$f":"Intermediate_Boys!$H$111","v":4},{"$f":"Intermediate_Boys!$I$111","v":"Patrick Haycock"},null,null,null,null,null,{"$f":"Intermediate_Boys!$O$111","v":"Cleveland"},null,null,null,{"$f":"Intermediate_Boys!$S$111","v":20.22},1]
[]
[null,null,{"$f":"CONCATENATE($C532,\" \",\"Team Results\")","v":"Intermediate Boys Team Results"},null,null,null,null,null,null,null,null,null,null,null,null,{"$f":"IF(D642=\"\",\"\",1)","v":1}]
[null,null,null,"Team Name",null,null,null,null,"1st","2nd","3rd","4th","5th","6th","Points",{"$f":"IF(D642=\"\",\"\",1)","v":1}]
[null,null,1,{"$f":"Intermediate_Boys!$H$115","v":"Northumberland"},null,null,null,null,{"$f":"Intermediate_Boys!$M$115","v":2},{"$f":"Intermediate_Boys!$N$115","v":6},{"$f":"Intermediate_Boys!$O$115","v":8},{"$f":"Intermediate_Boys!$P$115","v":9},{"$f":"Intermediate_Boys!$Q$115","v":10},{"$f":"Intermediate_Boys!$R$115","v":12},{"$f":"Intermediate_Boys!$S$115","v":47},{"$f":"IF(D642=\"\",\"\",1)","v":1}]
[null,null,2,{"$f":"Intermediate_Boys!$H$116","v":"Cleveland"},null,null,null,null,{"$f":"Intermediate_Boys!$M$116","v":1},{"$f":"Intermediate_Boys!$N$116","v":3},{"$f":"Intermediate_Boys!$O$116","v":5},{"$f":"Intermediate_Boys!$P$116","v":13},{"$f":"Intermediate_Boys!$Q$116","v":23},{"$f":"Intermediate_Boys!$R$116","v":29},{"$f":"Intermediate_Boys!$S$116","v":74},{"$f":"IF(D643=\"\",\"\",1)","v":1}]
[null,null,3,{"$f":"Intermediate_Boys!$H$117","v":"North Yorkshire"},null,null,null,null,{"$f":"Intermediate_Boys!$M$117","v":7},{"$f":"Intermediate_Boys!$N$117","v":14},{"$f":"Intermediate_Boys!$O$117","v":16},{"$f":"Intermediate_Boys!$P$117","v":17},{"$f":"Intermediate_Boys!$Q$117","v":18},{"$f":"Intermediate_Boys!$R$117","v":25},{"$f":"Intermediate_Boys!$S$117","v":97},1]
[null,null,4,{"$f":"Intermediate_Boys!$H$118","v":"Durham"},null,null,null,null,{"$f":"Intermediate_Boys!$M$118","v":4},{"$f":"Intermediate_Boys!$N$118","v":11},{"$f":"Intermediate_Boys!$O$118","v":15},{"$f":"Intermediate_Boys!$P$118","v":21},{"$f":"Intermediate_Boys!$Q$118","v":27},{"$f":"Intermediate_Boys!$R$118","v":31},{"$f":"Intermediate_Boys!$S$118","v":109},1]
[null,null,5,{"$f":"Intermediate_Boys!$H$119","v":"Cumbria"},null,null,null,null,{"$f":"Intermediate_Boys!$M$119","v":19},{"$f":"Intermediate_Boys!$N$119","v":22},{"$f":"Intermediate_Boys!$O$119","v":24},{"$f":"Intermediate_Boys!$P$119","v":28},{"$f":"Intermediate_Boys!$Q$119","v":30},{"$f":"Intermediate_Boys!$R$119","v":34},{"$f":"Intermediate_Boys!$S$119","v":157},1]
[null,null,null,null,null,null,null,null,null,null,null,null,null,null,null,{"$f":"IF(D642=\"\",\"\",1)","v":1}]
[null,null,{"$f":"Home!$B$1","v":"Northern Schools' Inter-County Cross Country Championships"},null,null,null,null,null,null,null,null,null,null,null,null,{"$f":"IF(D654=0,\"\",1)","v":1},null,null,null,null,null,null,null,null,null,null,{"$f":"CONCATENATE(U648,\" \",V648)","v":" "}]
[null,null,{"$f":"Home!$B$2","v":"Barnard Castle School"},null,null,null,null,null,null,null,null,null,null,null,null,{"$f":"IF(D654=0,\"\",1)","v":1}]
[null,null,{"$f":"Home!$G$3","v":"Saturday 3rd February 2018"},null,null,null,null,null,null,null,null,null,null,null,null,{"$f":"IF(D654=0,\"\",1)","v":1}]
[null,null,null,null,null,null,null,null,null,null,null,null,null,null,null,{"$f":"IF(D654=0,\"\",1)","v":1}]
[null,null,{"$f":"Intermediate_Girls!$G$5","v":"Intermediate Girls"},null,null,null,null,null,null,null,null,null,null,null,null,{"$f":"IF(D654=0,\"\",1)","v":1}]
[null,null,"Pos","Num","Name",null,null,null,null,null,"County",null,null,null,"Time",{"$f":"IF(D654=0,\"\",1)","v":1}]
[null,null,{"$f":"Intermediate_Girls!$G$7","v":1},{"$f":"Intermediate_Girls!$H$7","v":33},{"$f":"Intermediate_Girls!$I$7","v":"Olivia Mason"},null,null,null,null,null,{"$f":"Intermediate_Girls!$O$7","v":"Cumbria"},null,null,null,{"$f":"Intermediate_Girls!$S$7","v":15.52},{"$f":"IF(D654=0,\"\",1)","v":1}]
[null,null,{"$f":"Intermediate_Girls!$G$8","v":2},{"$f":"Intermediate_Girls!$H$8","v":21},{"$f":"Intermediate_Girls!$I$8","v":"Rosie Woodhams"},null,null,null,null,null,{"$f":"Intermediate_Girls!$O$8","v":"Cumbria"},null,null,null,{"$f":"Intermediate_Girls!$S$8","v":16},{"$f":"IF(D655=0,\"\",1)","v":1}]
[null,null,{"$f":"Intermediate_Girls!$G$9","v":3},{"$f":"Intermediate_Girls!$H$9","v":22},{"$f":"Intermediate_Girls!$I$9","v":"Chloe Rylance"},null,null,null,null,null,{"$f":"Intermediate_Girls!$O$9","v":"Cumbria"},null,null,null,{"$f":"Intermediate_Girls!$S$9","v":16.09},1]
[null,null,{"$f":"Intermediate_Girls!$G$10","v":4},{"$f":"Intermediate_Girls!$H$10","v":42},{"$f":"Intermediate_Girls!$I$10","v":"Catherine Roberts"},null,null,null,null,null,{"$f":"Intermediate_Girls!$O$10","v":"Durham"},null,null,null,{"$f":"Intermediate_Girls!$S$10","v":16.21},1]
[null,null,{"$f":"Intermediate_Girls!$G$11","v":5},{"$f":"Intermediate_Girls!$H$11","v":43},{"$f":"Intermediate_Girls!$I$11","v":"Lydia James"},null,null,null,null,null,{"$f":"Intermediate_Girls!$O$11","v":"Durham"},null,null,null,{"$f":"Intermediate_Girls!$S$11","v":16.22},1]
[null,null,{"$f":"Intermediate_Girls!$G$12","v":6},{"$f":"Intermediate_Girls!$H$12","v":61},{"$f":"Intermediate_Girls!$I$12","v":"Holly Peck"},null,null,null,null,null,{"$f":"Intermediate_Girls!$O$12","v":"Northumberland"},null,null,null,{"$f":"Intermediate_Girls!$S$12","v":16.399999999999999},1]
[null,null,{"$f":"Intermediate_Girls!$G$13","v":7},{"$f":"Intermediate_Girls!$H$13","v":47},{"$f":"Intermediate_Girls!$I$13","v":"Rebecca Wren"},null,null,null,null,null,{"$f":"Intermediate_Girls!$O$13","v":"Durham"},null,null,null,{"$f":"Intermediate_Girls!$S$13","v":16.57},1]
[null,null,{"$f":"Intermediate_Girls!$G$14","v":8},{"$f":"Intermediate_Girls!$H$14","v":23},{"$f":"Intermediate_Girls!$I$14","v":"Molly Wren"},null,null,null,null,null,{"$f":"Intermediate_Girls!$O$14","v":"Cumbria"},null,null,null,{"$f":"Intermediate_Girls!$S$14","v":16.579999999999998},1]
[null,null,{"$f":"Intermediate_Girls!$G$15","v":9},{"$f":"Intermediate_Girls!$H$15","v":81},{"$f":"Intermediate_Girls!$I$15","v":"Bethany Bergstrand"},null,null,null,null,null,{"$f":"Intermediate_Girls!$O$15","v":"North Yorkshire"},null,null,null,{"$f":"Intermediate_Girls!$S$15","v":17.03},1]
[null,null,{"$f":"Intermediate_Girls!$G$16","v":10},{"$f":"Intermediate_Girls!$H$16","v":44},{"$f":"Intermediate_Girls!$I$16","v":"Anna Pigford"},null,null,null,null,null,{"$f":"Intermediate_Girls!$O$16","v":"Durham"},null,null,null,{"$f":"Intermediate_Girls!$S$16","v":17.09},1]
[null,null,{"$f":"Intermediate_Girls!$G$17","v":11},{"$f":"Intermediate_Girls!$H$17","v":83},{"$f":"Intermediate_Girls!$I$17","v":"Emma Hart"},null,null,null,null,null,{"$f":"Intermediate_Girls!$O$17","v":"North Yorkshire"},null,null,null,{"$f":"Intermediate_Girls!$S$17","v":17.149999999999999},1]
[null,null,{"$f":"Intermediate_Girls!$G$18","v":12},{"$f":"Intermediate_Girls!$H$18","v":25},{"$f":"Intermediate_Girls!$I$18","v":"Mia Easthope"},null,null,null,null,null,{"$f":"Intermediate_Girls!$O$18","v":"Cumbria"},null,null,null,{"$f":"Intermediate_Girls!$S$18","v":17.18},1]
[null,null,{"$f":"Intermediate_Girls!$G$19","v":13},{"$f":"Intermediate_Girls!$H$19","v":82},{"$f":"Intermediate_Girls!$I$19","v":"Emily Jones"},null,null,null,null,null,{"$f":"Intermediate_Girls!$O$19","v":"North Yorkshire"},null,null,null,{"$f":"Intermediate_Girls!$S$19","v":17.239999999999998},1]
[null,null,{"$f":"Intermediate_Girls!$G$20","v":14},{"$f":"Intermediate_Girls!$H$20","v":84},{"$f":"Intermediate_Girls!$I$20","v":"Holly Moss"},null,null,null,null,null,{"$f":"Intermediate_Girls!$O$20","v":"North Yorkshire"},null,null,null,{"$f":"Intermediate_Girls!$S$20","v":17.25},1]
[null,null,{"$f":"Intermediate_Girls!$G$21","v":15},{"$f":"Intermediate_Girls!$H$21","v":90},{"$f":"Intermediate_Girls!$I$21","v":"Anika Schwarze-Chintapatla"},null,null,null,null,null,{"$f":"Intermediate_Girls!$O$21","v":"North Yorkshire"},null,null,null,{"$f":"Intermediate_Girls!$S$21","v":17.329999999999998},1]
[null,null,{"$f":"Intermediate_Girls!$G$22","v":16},{"$f":"Intermediate_Girls!$H$22","v":46},{"$f":"Intermediate_Girls!$I$22","v":"Ellie Phillips"},null,null,null,null,null,{"$f":"Intermediate_Girls!$O$22","v":"Durham"},null,null,null,{"$f":"Intermediate_Girls!$S$22","v":17.350000000000001},1]
[null,null,{"$f":"Intermediate_Girls!$G$23","v":17},{"$f":"Intermediate_Girls!$H$23","v":45},{"$f":"Intermediate_Girls!$I$23","v":"Eva Hardie"},null,null,null,null,null,{"$f":"Intermediate_Girls!$O$23","v":"Durham"},null,null,null,{"$f":"Intermediate_Girls!$S$23","v":17.420000000000002},1]
[null,null,{"$f":"Intermediate_Girls!$G$24","v":18},{"$f":"Intermediate_Girls!$H$24","v":30},{"$f":"Intermediate_Girls!$I$24","v":"Mia Doherty"},null,null,null,null,null,{"$f":"Intermediate_Girls!$O$24","v":"Cumbria"},null,null,null,{"$f":"Intermediate_Girls!$S$24","v":17.57},1]
[null,null,{"$f":"Intermediate_Girls!$G$25","v":19},{"$f":"Intermediate_Girls!$H$25","v":27},{"$f":"Intermediate_Girls!$I$25","v":"Clara Davies"},null,null,null,null,null,{"$f":"Intermediate_Girls!$O$25","v":"Cumbria"},null,null,null,{"$f":"Intermediate_Girls!$S$25","v":17.579999999999998},1]
[null,null,{"$f":"Intermediate_Girls!$G$26","v":20},{"$f":"Intermediate_Girls!$H$26","v":26},{"$f":"Intermediate_Girls!$I$26","v":"Alex Duckitt"},null,null,null,null,null,{"$f":"Intermediate_Girls!$O$26","v":"Cumbria"},null,null,null,{"$f":"Intermediate_Girls!$S$26","v":17.579999999999998},1]
[null,null,{"$f":"Intermediate_Girls!$G$27","v":21},{"$f":"Intermediate_Girls!$H$27","v":62},{"$f":"Intermediate_Girls!$I$27","v":"Suzannah Fielding"},null,null,null,null,null,{"$f":"Intermediate_Girls!$O$27","v":"Northumberland"},null,null,null,{"$f":"Intermediate_Girls!$S$27","v":17.579999999999998},1]
[null,null,{"$f":"Intermediate_Girls!$G$28","v":22},{"$f":"Intermediate_Girls!$H$28","v":76},{"$f":"Intermediate_Girls!$I$28","v":"Hannah Tumia"},null,null,null,null,null,{"$f":"Intermediate_Girls!$O$28","v":"Northumberland"},null,null,null,{"$f":"Intermediate_Girls!$S$28","v":17.579999999999998},1]
[null,null,{"$f":"Intermediate_Girls!$G$29","v":23},{"$f":"Intermediate_Girls!$H$29","v":88},{"$f":"Intermediate_Girls!$I$29","v":"Georgia Neary"},null,null,null,null,null,{"$f":"Intermediate_Girls!$O$29","v":"North Yorkshire"},null,null,null,{"$f":"Intermediate_Girls!$S$29","v":18.02},1]
[null,null,{"$f":"Intermediate_Girls!$G$30","v":24},{"$f":"Intermediate_Girls!$H$30","v":65},{"$f":"Intermediate_Girls!$I$30","v":"Grace Varley"},null,null,null,null,null,{"$f":"Intermediate_Girls!$O$30","v":"Northumberland"},null,null,null,{"$f":"Intermediate_Girls!$S$30","v":18.07},1]
[null,null,{"$f":"Intermediate_Girls!$G$31","v":25},{"$f":"Intermediate_Girls!$H$31","v":48},{"$f":"Intermediate_Girls!$I$31","v":"Sophie Robson"},null,null,null,null,null,{"$f":"Intermediate_Girls!$O$31","v":"Durham"},null,null,null,{"$f":"Intermediate_Girls!$S$31","v":18.09},1]
[null,null,{"$f":"Intermediate_Girls!$G$32","v":26},{"$f":"Intermediate_Girls!$H$32","v":89},{"$f":"Intermediate_Girls!$I$32","v":"Phoebe Hall"},null,null,null,null,null,{"$f":"Intermediate_Girls!$O$32","v":"North Yorkshire"},null,null,null,{"$f":"Intermediate_Girls!$S$32","v":18.100000000000001},1]
[null,null,{"$f":"Intermediate_Girls!$G$33","v":27},{"$f":"Intermediate_Girls!$H$33","v":34},{"$f":"Intermediate_Girls!$I$33","v":"Nicole Mattinson"},null,null,null,null,null,{"$f":"Intermediate_Girls!$O$33","v":"Cumbria"},null,null,null,{"$f":"Intermediate_Girls!$S$33","v":18.2},1]
[null,null,{"$f":"Intermediate_Girls!$G$34","v":28},{"$f":"Intermediate_Girls!$H$34","v":50},{"$f":"Intermediate_Girls!$I$34","v":"Chloe Fairclough"},null,null,null,null,null,{"$f":"Intermediate_Girls!$O$34","v":"Durham"},null,null,null,{"$f":"Intermediate_Girls!$S$34","v":18.239999999999998},1]
[null,null,{"$f":"Intermediate_Girls!$G$35","v":29},{"$f":"Intermediate_Girls!$H$35","v":87},{"$f":"Intermediate_Girls!$I$35","v":"Freddie Moore"},null,null,null,null,null,{"$f":"Intermediate_Girls!$O$35","v":"North Yorkshire"},null,null,null,{"$f":"Intermediate_Girls!$S$35","v":18.25},1]
[null,null,{"$f":"Intermediate_Girls!$G$36","v":30},{"$f":"Intermediate_Girls!$H$36","v":24},{"$f":"Intermediate_Girls!$I$36","v":"Natasha Cookson"},null,null,null,null,null,{"$f":"Intermediate_Girls!$O$36","v":"Cumbria"},null,null,null,{"$f":"Intermediate_Girls!$S$36","v":18.27},1]
[null,null,{"$f":"Intermediate_Girls!$G$37","v":31},{"$f":"Intermediate_Girls!$H$37","v":49},{"$f":"Intermediate_Girls!$I$37","v":"Megan Noble"},null,null,null,null,null,{"$f":"Intermediate_Girls!$O$37","v":"Durham"},null,null,null,{"$f":"Intermediate_Girls!$S$37","v":18.329999999999998},1]
[null,null,{"$f":"Intermediate_Girls!$G$38","v":32},{"$f":"Intermediate_Girls!$H$38","v":55},{"$f":"Intermediate_Girls!$I$38","v":"Lara Greggs"},null,null,null,null,null,{"$f":"Intermediate_Girls!$O$38","v":"Durham"},null,null,null,{"$f":"Intermediate_Girls!$S$38","v":18.350000000000001},1]
[null,null,{"$f":"Intermediate_Girls!$G$39","v":33},{"$f":"Intermediate_Girls!$H$39","v":64},{"$f":"Intermediate_Girls!$I$39","v":"Lily Heaton"},null,null,null,null,null,{"$f":"Intermediate_Girls!$O$39","v":"Northumberland"},null,null,null,{"$f":"Intermediate_Girls!$S$39","v":18.39},1]
[null,null,{"$f":"Intermediate_Girls!$G$40","v":34},{"$f":"Intermediate_Girls!$H$40","v":28},{"$f":"Intermediate_Girls!$I$40","v":"Olivia Graham"},null,null,null,null,null,{"$f":"Intermediate_Girls!$O$40","v":"Cumbria"},null,null,null,{"$f":"Intermediate_Girls!$S$40","v":18.399999999999999},1]
[null,null,{"$f":"Intermediate_Girls!$G$41","v":35},{"$f":"Intermediate_Girls!$H$41","v":29},{"$f":"Intermediate_Girls!$I$41","v":"Ruby Frankland"},null,null,null,null,null,{"$f":"Intermediate_Girls!$O$41","v":"Cumbria"},null,null,null,{"$f":"Intermediate_Girls!$S$41","v":18.43},1]
[null,null,{"$f":"Intermediate_Girls!$G$42","v":36},{"$f":"Intermediate_Girls!$H$42","v":70},{"$f":"Intermediate_Girls!$I$42","v":"Lily Shaw"},null,null,null,null,null,{"$f":"Intermediate_Girls!$O$42","v":"Northumberland"},null,null,null,{"$f":"Intermediate_Girls!$S$42","v":18.48},1]
[null,null,{"$f":"Intermediate_Girls!$G$43","v":37},{"$f":"Intermediate_Girls!$H$43","v":35},{"$f":"Intermediate_Girls!$I$43","v":"Bella Matarewicz"},null,null,null,null,null,{"$f":"Intermediate_Girls!$O$43","v":"Cumbria"},null,null,null,{"$f":"Intermediate_Girls!$S$43","v":18.489999999999998},1]
[null,null,{"$f":"Intermediate_Girls!$G$44","v":38},{"$f":"Intermediate_Girls!$H$44","v":32},{"$f":"Intermediate_Girls!$I$44","v":"Nicole Clegg"},null,null,null,null,null,{"$f":"Intermediate_Girls!$O$44","v":"Cumbria"},null,null,null,{"$f":"Intermediate_Girls!$S$44","v":18.53},1]
[null,null,{"$f":"Intermediate_Girls!$G$45","v":39},{"$f":"Intermediate_Girls!$H$45","v":7},{"$f":"Intermediate_Girls!$I$45","v":"Ruby Whitney"},null,null,null,null,null,{"$f":"Intermediate_Girls!$O$45","v":"Cleveland"},null,null,null,{"$f":"Intermediate_Girls!$S$45","v":18.57},1]
[null,null,{"$f":"Intermediate_Girls!$G$46","v":40},{"$f":"Intermediate_Girls!$H$46","v":92},{"$f":"Intermediate_Girls!$I$46","v":"Abi Robinson"},null,null,null,null,null,{"$f":"Intermediate_Girls!$O$46","v":"North Yorkshire"},null,null,null,{"$f":"Intermediate_Girls!$S$46","v":18.57},1]
[null,null,{"$f":"Intermediate_Girls!$G$47","v":41},{"$f":"Intermediate_Girls!$H$47","v":74},{"$f":"Intermediate_Girls!$I$47","v":"Ella Duffield"},null,null,null,null,null,{"$f":"Intermediate_Girls!$O$47","v":"Northumberland"},null,null,null,{"$f":"Intermediate_Girls!$S$47","v":19.02},1]
[null,null,{"$f":"Intermediate_Girls!$G$48","v":42},{"$f":"Intermediate_Girls!$H$48","v":91},{"$f":"Intermediate_Girls!$I$48","v":"Jess Head"},null,null,null,null,null,{"$f":"Intermediate_Girls!$O$48","v":"North Yorkshire"},null,null,null,{"$f":"Intermediate_Girls!$S$48","v":19.03},1]
[null,null,{"$f":"Intermediate_Girls!$G$49","v":43},{"$f":"Intermediate_Girls!$H$49","v":4},{"$f":"Intermediate_Girls!$I$49","v":"Rebecca Tilley"},null,null,null,null,null,{"$f":"Intermediate_Girls!$O$49","v":"Cleveland"},null,null,null,{"$f":"Intermediate_Girls!$S$49","v":19.04},1]
[null,null,{"$f":"Intermediate_Girls!$G$50","v":44},{"$f":"Intermediate_Girls!$H$50","v":72},{"$f":"Intermediate_Girls!$I$50","v":"Kirsty Duffin"},null,null,null,null,null,{"$f":"Intermediate_Girls!$O$50","v":"Northumberland"},null,null,null,{"$f":"Intermediate_Girls!$S$50","v":19.07},1]
[null,null,{"$f":"Intermediate_Girls!$G$51","v":45},{"$f":"Intermediate_Girls!$H$51","v":2},{"$f":"Intermediate_Girls!$I$51","v":"Charlotte Bennett"},null,null,null,null,null,{"$f":"Intermediate_Girls!$O$51","v":"Cleveland"},null,null,null,{"$f":"Intermediate_Girls!$S$51","v":19.079999999999998},1]
[null,null,{"$f":"Intermediate_Girls!$G$52","v":46},{"$f":"Intermediate_Girls!$H$52","v":8},{"$f":"Intermediate_Girls!$I$52","v":"Megan Tipper"},null,null,null,null,null,{"$f":"Intermediate_Girls!$O$52","v":"Cleveland"},null,null,null,{"$f":"Intermediate_Girls!$S$52","v":19.09},1]
[null,null,{"$f":"Intermediate_Girls!$G$53","v":47},{"$f":"Intermediate_Girls!$H$53","v":52},{"$f":"Intermediate_Girls!$I$53","v":"Hannah Holman"},null,null,null,null,null,{"$f":"Intermediate_Girls!$O$53","v":"Durham"},null,null,null,{"$f":"Intermediate_Girls!$S$53","v":19.100000000000001},1]
[null,null,{"$f":"Intermediate_Girls!$G$54","v":48},{"$f":"Intermediate_Girls!$H$54","v":54},{"$f":"Intermediate_Girls!$I$54","v":"Jessica Levy"},null,null,null,null,null,{"$f":"Intermediate_Girls!$O$54","v":"Durham"},null,null,null,{"$f":"Intermediate_Girls!$S$54","v":19.100000000000001},1]
[null,null,{"$f":"Intermediate_Girls!$G$55","v":49},{"$f":"Intermediate_Girls!$H$55","v":51},{"$f":"Intermediate_Girls!$I$55","v":"Jessica Holman"},null,null,null,null,null,{"$f":"Intermediate_Girls!$O$55","v":"Durham"},null,null,null,{"$f":"Intermediate_Girls!$S$55","v":19.14},1]
[null,null,{"$f":"Intermediate_Girls!$G$56","v":50},{"$f":"Intermediate_Girls!$H$56","v":38},{"$f":"Intermediate_Girls!$I$56","v":"Anna Herr"},null,null,null,null,null,{"$f":"Intermediate_Girls!$O$56","v":"Cumbria"},null,null,null,{"$f":"Intermediate_Girls!$S$56","v":19.149999999999999},1]
[null,null,{"$f":"Intermediate_Girls!$G$57","v":51},{"$f":"Intermediate_Girls!$H$57","v":3},{"$f":"Intermediate_Girls!$I$57","v":"Jordan Thrower"},null,null,null,null,null,{"$f":"Intermediate_Girls!$O$57","v":"Cleveland"},null,null,null,{"$f":"Intermediate_Girls!$S$57","v":19.16},1]
[null,null,{"$f":"Intermediate_Girls!$G$58","v":52},{"$f":"Intermediate_Girls!$H$58","v":68},{"$f":"Intermediate_Girls!$I$58","v":"Megan Cottee"},null,null,null,null,null,{"$f":"Intermediate_Girls!$O$58","v":"Northumberland"},null,null,null,{"$f":"Intermediate_Girls!$S$58","v":19.2},1]
[null,null,{"$f":"Intermediate_Girls!$G$59","v":53},{"$f":"Intermediate_Girls!$H$59","v":66},{"$f":"Intermediate_Girls!$I$59","v":"Chloe Wellings"},null,null,null,null,null,{"$f":"Intermediate_Girls!$O$59","v":"Northumberland"},null,null,null,{"$f":"Intermediate_Girls!$S$59","v":19.239999999999998},1]
[null,null,{"$f":"Intermediate_Girls!$G$60","v":54},{"$f":"Intermediate_Girls!$H$60","v":75},{"$f":"Intermediate_Girls!$I$60","v":"Abigail Bedford"},null,null,null,null,null,{"$f":"Intermediate_Girls!$O$60","v":"Northumberland"},null,null,null,{"$f":"Intermediate_Girls!$S$60","v":19.25},1]
[null,null,{"$f":"Intermediate_Girls!$G$61","v":55},{"$f":"Intermediate_Girls!$H$61","v":36},{"$f":"Intermediate_Girls!$I$61","v":"Maisie Gough"},null,null,null,null,null,{"$f":"Intermediate_Girls!$O$61","v":"Cumbria"},null,null,null,{"$f":"Intermediate_Girls!$S$61","v":19.329999999999998},1]
[null,null,{"$f":"Intermediate_Girls!$G$62","v":56},{"$f":"Intermediate_Girls!$H$62","v":37},{"$f":"Intermediate_Girls!$I$62","v":"Molly Barrett"},null,null,null,null,null,{"$f":"Intermediate_Girls!$O$62","v":"Cumbria"},null,null,null,{"$f":"Intermediate_Girls!$S$62","v":19.350000000000001},1]
[null,null,{"$f":"Intermediate_Girls!$G$63","v":57},{"$f":"Intermediate_Girls!$H$63","v":56},{"$f":"Intermediate_Girls!$I$63","v":"Bethany Chapman"},null,null,null,null,null,{"$f":"Intermediate_Girls!$O$63","v":"Durham"},null,null,null,{"$f":"Intermediate_Girls!$S$63","v":19.5},1]
[null,null,{"$f":"Intermediate_Girls!$G$64","v":58},{"$f":"Intermediate_Girls!$H$64","v":14},{"$f":"Intermediate_Girls!$I$64","v":"Harriet Thompson"},null,null,null,null,null,{"$f":"Intermediate_Girls!$O$64","v":"Cleveland"},null,null,null,{"$f":"Intermediate_Girls!$S$64","v":19.52},1]
[null,null,{"$f":"Intermediate_Girls!$G$65","v":59},{"$f":"Intermediate_Girls!$H$65","v":73},{"$f":"Intermediate_Girls!$I$65","v":"Amelie Brook"},null,null,null,null,null,{"$f":"Intermediate_Girls!$O$65","v":"Northumberland"},null,null,null,{"$f":"Intermediate_Girls!$S$65","v":20.02},1]
[null,null,{"$f":"Intermediate_Girls!$G$66","v":60},{"$f":"Intermediate_Girls!$H$66","v":15},{"$f":"Intermediate_Girls!$I$66","v":"Sophie Vickers"},null,null,null,null,null,{"$f":"Intermediate_Girls!$O$66","v":"Cleveland"},null,null,null,{"$f":"Intermediate_Girls!$S$66","v":20.04},1]
[null,null,{"$f":"Intermediate_Girls!$G$67","v":61},{"$f":"Intermediate_Girls!$H$67","v":6},{"$f":"Intermediate_Girls!$I$67","v":"F Roger"},null,null,null,null,null,{"$f":"Intermediate_Girls!$O$67","v":"Cleveland"},null,null,null,{"$f":"Intermediate_Girls!$S$67","v":20.059999999999999},1]
[null,null,{"$f":"Intermediate_Girls!$G$68","v":62},{"$f":"Intermediate_Girls!$H$68","v":53},{"$f":"Intermediate_Girls!$I$68","v":"Ishbel Speirs"},null,null,null,null,null,{"$f":"Intermediate_Girls!$O$68","v":"Durham"},null,null,null,{"$f":"Intermediate_Girls!$S$68","v":20.18},1]
[null,null,{"$f":"Intermediate_Girls!$G$69","v":63},{"$f":"Intermediate_Girls!$H$69","v":57},{"$f":"Intermediate_Girls!$I$69","v":"Jasmine Crang"},null,null,null,null,null,{"$f":"Intermediate_Girls!$O$69","v":"Durham"},null,null,null,{"$f":"Intermediate_Girls!$S$69","v":20.21},1]
[null,null,{"$f":"Intermediate_Girls!$G$70","v":64},{"$f":"Intermediate_Girls!$H$70","v":13},{"$f":"Intermediate_Girls!$I$70","v":"Estelle Matthews"},null,null,null,null,null,{"$f":"Intermediate_Girls!$O$70","v":"Cleveland"},null,null,null,{"$f":"Intermediate_Girls!$S$70","v":20.29},1]
[null,null,{"$f":"Intermediate_Girls!$G$71","v":65},{"$f":"Intermediate_Girls!$H$71","v":69},{"$f":"Intermediate_Girls!$I$71","v":"Elena Walker"},null,null,null,null,null,{"$f":"Intermediate_Girls!$O$71","v":"Northumberland"},null,null,null,{"$f":"Intermediate_Girls!$S$71","v":20.32},1]
[null,null,{"$f":"Intermediate_Girls!$G$72","v":66},{"$f":"Intermediate_Girls!$H$72","v":12},{"$f":"Intermediate_Girls!$I$72","v":"Mia Templeton"},null,null,null,null,null,{"$f":"Intermediate_Girls!$O$72","v":"Cleveland"},null,null,null,{"$f":"Intermediate_Girls!$S$72","v":20.36},{"$f":"IF(D719=0,\"\",1)","v":1}]
[null,null,{"$f":"Intermediate_Girls!$G$73","v":67},{"$f":"Intermediate_Girls!$H$73","v":67},{"$f":"Intermediate_Girls!$I$73","v":"Anna Styles"},null,null,null,null,null,{"$f":"Intermediate_Girls!$O$73","v":"Northumberland"},null,null,null,{"$f":"Intermediate_Girls!$S$73","v":20.41},1]
[null,null,{"$f":"Intermediate_Girls!$G$74","v":68},{"$f":"Intermediate_Girls!$H$74","v":11},{"$f":"Intermediate_Girls!$I$74","v":"Hannah Skull"},null,null,null,null,null,{"$f":"Intermediate_Girls!$O$74","v":"Cleveland"},null,null,null,{"$f":"Intermediate_Girls!$S$74","v":20.46},1]
[null,null,{"$f":"Intermediate_Girls!$G$75","v":69},{"$f":"Intermediate_Girls!$H$75","v":10},{"$f":"Intermediate_Girls!$I$75","v":"Amelia O'Neill"},null,null,null,null,null,{"$f":"Intermediate_Girls!$O$75","v":"Cleveland"},null,null,null,{"$f":"Intermediate_Girls!$S$75","v":20.49},1]
[null,null,{"$f":"Intermediate_Girls!$G$76","v":70},{"$f":"Intermediate_Girls!$H$76","v":9},{"$f":"Intermediate_Girls!$I$76","v":"Victoria Lynn"},null,null,null,null,null,{"$f":"Intermediate_Girls!$O$76","v":"Cleveland"},null,null,null,{"$f":"Intermediate_Girls!$S$76","v":21.07},1]
[null,null,{"$f":"Intermediate_Girls!$G$77","v":71},{"$f":"Intermediate_Girls!$H$77","v":0},{"$f":"Intermediate_Girls!$I$77","v":""},null,null,null,null,null,{"$f":"Intermediate_Girls!$O$77","v":""},null,null,null,{"$f":"Intermediate_Girls!$S$77","v":0},""]
[null,null,{"$f":"Intermediate_Girls!$G$78","v":72},{"$f":"Intermediate_Girls!$H$78","v":0},{"$f":"Intermediate_Girls!$I$78","v":""},null,null,null,null,null,{"$f":"Intermediate_Girls!$O$78","v":""},null,null,null,{"$f":"Intermediate_Girls!$S$78","v":0},""]
[null,null,{"$f":"Intermediate_Girls!$G$79","v":73},{"$f":"Intermediate_Girls!$H$79","v":0},{"$f":"Intermediate_Girls!$I$79","v":""},null,null,null,null,null,{"$f":"Intermediate_Girls!$O$79","v":""},null,null,null,{"$f":"Intermediate_Girls!$S$79","v":0},""]
[null,null,{"$f":"Intermediate_Girls!$G$80","v":74},{"$f":"Intermediate_Girls!$H$80","v":0},{"$f":"Intermediate_Girls!$I$80","v":""},null,null,null,null,null,{"$f":"Intermediate_Girls!$O$80","v":""},null,null,null,{"$f":"Intermediate_Girls!$S$80","v":0},""]
[null,null,{"$f":"Intermediate_Girls!$G$81","v":75},{"$f":"Intermediate_Girls!$H$81","v":0},{"$f":"Intermediate_Girls!$I$81","v":""},null,null,null,null,null,{"$f":"Intermediate_Girls!$O$81","v":""},null,null,null,{"$f":"Intermediate_Girls!$S$81","v":0},""]
[null,null,{"$f":"Intermediate_Girls!$G$82","v":76},{"$f":"Intermediate_Girls!$H$82","v":0},{"$f":"Intermediate_Girls!$I$82","v":""},null,null,null,null,null,{"$f":"Intermediate_Girls!$O$82","v":""},null,null,null,{"$f":"Intermediate_Girls!$S$82","v":0},""]
[null,null,{"$f":"Intermediate_Girls!$G$83","v":77},{"$f":"Intermediate_Girls!$H$83","v":0},{"$f":"Intermediate_Girls!$I$83","v":""},null,null,null,null,null,{"$f":"Intermediate_Girls!$O$83","v":""},null,null,null,{"$f":"Intermediate_Girls!$S$83","v":0},""]
[null,null,{"$f":"Intermediate_Girls!$G$84","v":78},{"$f":"Intermediate_Girls!$H$84","v":0},{"$f":"Intermediate_Girls!$I$84","v":""},null,null,null,null,null,{"$f":"Intermediate_Girls!$O$84","v":""},null,null,null,{"$f":"Intermediate_Girls!$S$84","v":0},""]
[null,null,{"$f":"Intermediate_Girls!$G$85","v":79},{"$f":"Intermediate_Girls!$H$85","v":0},{"$f":"Intermediate_Girls!$I$85","v":""},null,null,null,null,null,{"$f":"Intermediate_Girls!$O$85","v":""},null,null,null,{"$f":"Intermediate_Girls!$S$85","v":0},""]
[null,null,{"$f":"Intermediate_Girls!$G$86","v":80},{"$f":"Intermediate_Girls!$H$86","v":0},{"$f":"Intermediate_Girls!$I$86","v":""},null,null,null,null,null,{"$f":"Intermediate_Girls!$O$86","v":""},null,null,null,{"$f":"Intermediate_Girls!$S$86","v":0},""]
[null,null,{"$f":"Intermediate_Girls!$G$87","v":81},{"$f":"Intermediate_Girls!$H$87","v":0},{"$f":"Intermediate_Girls!$I$87","v":""},null,null,null,null,null,{"$f":"Intermediate_Girls!$O$87","v":""},null,null,null,{"$f":"Intermediate_Girls!$S$87","v":0},""]
[null,null,{"$f":"Intermediate_Girls!$G$88","v":82},{"$f":"Intermediate_Girls!$H$88","v":0},{"$f":"Intermediate_Girls!$I$88","v":""},null,null,null,null,null,{"$f":"Intermediate_Girls!$O$88","v":""},null,null,null,{"$f":"Intermediate_Girls!$S$88","v":0},""]
[null,null,{"$f":"Intermediate_Girls!$G$89","v":83},{"$f":"Intermediate_Girls!$H$89","v":0},{"$f":"Intermediate_Girls!$I$89","v":""},null,null,null,null,null,{"$f":"Intermediate_Girls!$O$89","v":""},null,null,null,{"$f":"Intermediate_Girls!$S$89","v":0},""]
[null,null,{"$f":"Intermediate_Girls!$G$90","v":84},{"$f":"Intermediate_Girls!$H$90","v":0},{"$f":"Intermediate_Girls!$I$90","v":""},null,null,null,null,null,{"$f":"Intermediate_Girls!$O$90","v":""},null,null,null,{"$f":"Intermediate_Girls!$S$90","v":0},""]
[null,null,{"$f":"Intermediate_Girls!$G$91","v":85},{"$f":"Intermediate_Girls!$H$91","v":0},{"$f":"Intermediate_Girls!$I$91","v":""},null,null,null,null,null,{"$f":"Intermediate_Girls!$O$91","v":""},null,null,null,{"$f":"Intermediate_Girls!$S$91","v":0},""]
[null,null,{"$f":"Intermediate_Girls!$G$92","v":86},{"$f":"Intermediate_Girls!$H$92","v":0},{"$f":"Intermediate_Girls!$I$92","v":""},null,null,null,null,null,{"$f":"Intermediate_Girls!$O$92","v":""},null,null,null,{"$f":"Intermediate_Girls!$S$92","v":0},""]
[null,null,{"$f":"Intermediate_Girls!$G$93","v":87},{"$f":"Intermediate_Girls!$H$93","v":0},{"$f":"Intermediate_Girls!$I$93","v":""},null,null,null,null,null,{"$f":"Intermediate_Girls!$O$93","v":""},null,null,null,{"$f":"Intermediate_Girls!$S$93","v":0},""]
[null,null,{"$f":"Intermediate_Girls!$G$94","v":88},{"$f":"Intermediate_Girls!$H$94","v":0},{"$f":"Intermediate_Girls!$I$94","v":""},null,null,null,null,null,{"$f":"Intermediate_Girls!$O$94","v":""},null,null,null,{"$f":"Intermediate_Girls!$S$94","v":0},""]
[null,null,{"$f":"Intermediate_Girls!$G$95","v":89},{"$f":"Intermediate_Girls!$H$95","v":0},{"$f":"Intermediate_Girls!$I$95","v":""},null,null,null,null,null,{"$f":"Intermediate_Girls!$O$95","v":""},null,null,null,{"$f":"Intermediate_Girls!$S$95","v":0},""]
[null,null,{"$f":"Intermediate_Girls!$G$96","v":90},{"$f":"Intermediate_Girls!$H$96","v":0},{"$f":"Intermediate_Girls!$I$96","v":""},null,null,null,null,null,{"$f":"Intermediate_Girls!$O$96","v":""},null,null,null,{"$f":"Intermediate_Girls!$S$96","v":0},""]
[null,null,{"$f":"Intermediate_Girls!$G$97","v":91},{"$f":"Intermediate_Girls!$H$97","v":0},{"$f":"Intermediate_Girls!$I$97","v":""},null,null,null,null,null,{"$f":"Intermediate_Girls!$O$97","v":""},null,null,null,{"$f":"Intermediate_Girls!$S$97","v":0},""]
[null,null,{"$f":"Intermediate_Girls!$G$98","v":92},{"$f":"Intermediate_Girls!$H$98","v":0},{"$f":"Intermediate_Girls!$I$98","v":""},null,null,null,null,null,{"$f":"Intermediate_Girls!$O$98","v":""},null,null,null,{"$f":"Intermediate_Girls!$S$98","v":0},""]
[null,null,{"$f":"Intermediate_Girls!$G$99","v":93},{"$f":"Intermediate_Girls!$H$99","v":0},{"$f":"Intermediate_Girls!$I$99","v":""},null,null,null,null,null,{"$f":"Intermediate_Girls!$O$99","v":""},null,null,null,{"$f":"Intermediate_Girls!$S$99","v":0},""]
[null,null,{"$f":"Intermediate_Girls!$G$100","v":94},{"$f":"Intermediate_Girls!$H$100","v":0},{"$f":"Intermediate_Girls!$I$100","v":""},null,null,null,null,null,{"$f":"Intermediate_Girls!$O$100","v":""},null,null,null,{"$f":"Intermediate_Girls!$S$100","v":0},""]
[null,null,{"$f":"Intermediate_Girls!$G$101","v":95},{"$f":"Intermediate_Girls!$H$101","v":0},{"$f":"Intermediate_Girls!$I$101","v":""},null,null,null,null,null,{"$f":"Intermediate_Girls!$O$101","v":""},null,null,null,{"$f":"Intermediate_Girls!$S$101","v":0},""]
[null,null,{"$f":"Intermediate_Girls!$G$102","v":96},{"$f":"Intermediate_Girls!$H$102","v":0},{"$f":"Intermediate_Girls!$I$102","v":""},null,null,null,null,null,{"$f":"Intermediate_Girls!$O$102","v":""},null,null,null,{"$f":"Intermediate_Girls!$S$102","v":0},""]
[null,null,{"$f":"Intermediate_Girls!$G$103","v":97},{"$f":"Intermediate_Girls!$H$103","v":0},{"$f":"Intermediate_Girls!$I$103","v":""},null,null,null,null,null,{"$f":"Intermediate_Girls!$O$103","v":""},null,null,null,{"$f":"Intermediate_Girls!$S$103","v":0},""]
[null,null,{"$f":"Intermediate_Girls!$G$104","v":98},{"$f":"Intermediate_Girls!$H$104","v":0},{"$f":"Intermediate_Girls!$I$104","v":""},null,null,null,null,null,{"$f":"Intermediate_Girls!$O$104","v":""},null,null,null,{"$f":"Intermediate_Girls!$S$104","v":0},""]
[null,null,{"$f":"Intermediate_Girls!$G$105","v":99},{"$f":"Intermediate_Girls!$H$105","v":0},{"$f":"Intermediate_Girls!$I$105","v":""},null,null,null,null,null,{"$f":"Intermediate_Girls!$O$105","v":""},null,null,null,{"$f":"Intermediate_Girls!$S$105","v":0},""]
[null,null,{"$f":"Intermediate_Girls!$G$106","v":100},{"$f":"Intermediate_Girls!$H$106","v":0},{"$f":"Intermediate_Girls!$I$106","v":""},null,null,null,null,null,{"$f":"Intermediate_Girls!$O$106","v":""},null,null,null,{"$f":"Intermediate_Girls!$S$106","v":0},""]
[null,null,{"$f":"CONCATENATE($C652,\" \",\"Individual Medal Winners\")","v":"Intermediate Girls Individual Medal Winners"},null,null,null,null,null,null,null,null,null,null,null,null,{"$f":"IF(D756=\"\",\"\",1)","v":1}]
[null,null,"Pos","Num","Name",null,null,null,null,null,"County",null,null,null,"Time",{"$f":"IF(D756=\"\",\"\",1)","v":1}]
[null,null,1,{"$f":"Intermediate_Girls!$H$109","v":33},{"$f":"Intermediate_Girls!$I$109","v":"Olivia Mason"},null,null,null,null,null,{"$f":"Intermediate_Girls!$O$109","v":"Cumbria"},null,null,null,{"$f":"Intermediate_Girls!$S$109","v":15.52},{"$f":"IF(D756=\"\",\"\",1)","v":1}]
[null,null,2,{"$f":"Intermediate_Girls!$H$110","v":21},{"$f":"Intermediate_Girls!$I$110","v":"Rosie Woodhams"},null,null,null,null,null,{"$f":"Intermediate_Girls!$O$110","v":"Cumbria"},null,null,null,{"$f":"Intermediate_Girls!$S$110","v":16},{"$f":"IF(D757=\"\",\"\",1)","v":1}]
[null,null,3,{"$f":"Intermediate_Girls!$H$111","v":22},{"$f":"Intermediate_Girls!$I$111","v":"Chloe Rylance"},null,null,null,null,null,{"$f":"Intermediate_Girls!$O$111","v":"Cumbria"},null,null,null,{"$f":"Intermediate_Girls!$S$111","v":16.09},1]
[]
[null,null,{"$f":"CONCATENATE($C652,\" \",\"Team Results\")","v":"Intermediate Girls Team Results"},null,null,null,null,null,null,null,null,null,null,null,null,{"$f":"IF(D762=\"\",\"\",1)","v":1}]
[null,null,null,"Team Name",null,null,null,null,"1st","2nd","3rd","4th","5th","6th","Points",{"$f":"IF(D762=\"\",\"\",1)","v":1}]
[null,null,1,{"$f":"Intermediate_Girls!$H$115","v":"Cumbria"},null,null,null,null,{"$f":"Intermediate_Girls!$M$115","v":1},{"$f":"Intermediate_Girls!$N$115","v":2},{"$f":"Intermediate_Girls!$O$115","v":3},{"$f":"Intermediate_Girls!$P$115","v":8},{"$f":"Intermediate_Girls!$Q$115","v":12},{"$f":"Intermediate_Girls!$R$115","v":18},{"$f":"Intermediate_Girls!$S$115","v":44},{"$f":"IF(D762=\"\",\"\",1)","v":1}]
[null,null,2,{"$f":"Intermediate_Girls!$H$116","v":"Durham"},null,null,null,null,{"$f":"Intermediate_Girls!$M$116","v":4},{"$f":"Intermediate_Girls!$N$116","v":5},{"$f":"Intermediate_Girls!$O$116","v":7},{"$f":"Intermediate_Girls!$P$116","v":10},{"$f":"Intermediate_Girls!$Q$116","v":16},{"$f":"Intermediate_Girls!$R$116","v":17},{"$f":"Intermediate_Girls!$S$116","v":59},{"$f":"IF(D763=\"\",\"\",1)","v":1}]
[null,null,3,{"$f":"Intermediate_Girls!$H$117","v":"North Yorkshire"},null,null,null,null,{"$f":"Intermediate_Girls!$M$117","v":9},{"$f":"Intermediate_Girls!$N$117","v":11},{"$f":"Intermediate_Girls!$O$117","v":13},{"$f":"Intermediate_Girls!$P$117","v":14},{"$f":"Intermediate_Girls!$Q$117","v":15},{"$f":"Intermediate_Girls!$R$117","v":23},{"$f":"Intermediate_Girls!$S$117","v":85},1]
[null,null,4,{"$f":"Intermediate_Girls!$H$118","v":"Northumberland"},null,null,null,null,{"$f":"Intermediate_Girls!$M$118","v":6},{"$f":"Intermediate_Girls!$N$118","v":21},{"$f":"Intermediate_Girls!$O$118","v":22},{"$f":"Intermediate_Girls!$P$118","v":24},{"$f":"Intermediate_Girls!$Q$118","v":33},{"$f":"Intermediate_Girls!$R$118","v":36},{"$f":"Intermediate_Girls!$S$118","v":142},1]
[null,null,5,{"$f":"Intermediate_Girls!$H$119","v":"Cleveland"},null,null,null,null,{"$f":"Intermediate_Girls!$M$119","v":39},{"$f":"Intermediate_Girls!$N$119","v":43},{"$f":"Intermediate_Girls!$O$119","v":45},{"$f":"Intermediate_Girls!$P$119","v":46},{"$f":"Intermediate_Girls!$Q$119","v":51},{"$f":"Intermediate_Girls!$R$119","v":58},{"$f":"Intermediate_Girls!$S$119","v":282},1]
[null,null,null,null,null,null,null,null,null,null,null,null,null,null,null,{"$f":"IF(D762=\"\",\"\",1)","v":1}]
[null,null,{"$f":"Home!$B$1","v":"Northern Schools' Inter-County Cross Country Championships"},null,null,null,null,null,null,null,null,null,null,null,null,{"$f":"IF(D774=0,\"\",1)","v":1},null,null,null,null,null,null,null,null,null,null,{"$f":"CONCATENATE(U768,\" \",V768)","v":" "}]
[null,null,{"$f":"Home!$B$2","v":"Barnard Castle School"},null,null,null,null,null,null,null,null,null,null,null,null,{"$f":"IF(D774=0,\"\",1)","v":1}]
[null,null,{"$f":"Home!$G$3","v":"Saturday 3rd February 2018"},null,null,null,null,null,null,null,null,null,null,null,null,{"$f":"IF(D774=0,\"\",1)","v":1}]
[null,null,null,null,null,null,null,null,null,null,null,null,null,null,null,{"$f":"IF(D774=0,\"\",1)","v":1}]
[null,null,{"$f":"Senior_Boys!$G$5","v":"Senior Boys"},null,null,null,null,null,null,null,null,null,null,null,null,{"$f":"IF(D774=0,\"\",1)","v":1}]
[null,null,"Pos","Num","Name",null,null,null,null,null,"County",null,null,null,"Time",{"$f":"IF(D774=0,\"\",1)","v":1}]
[null,null,{"$f":"Senior_Boys!$G$7","v":1},{"$f":"Senior_Boys!$H$7","v":1},{"$f":"Senior_Boys!$I$7","v":"Josh Cowpertwaite"},null,null,null,null,null,{"$f":"Senior_Boys!$O$7","v":"Cleveland"},null,null,null,{"$f":"Senior_Boys!$S$7","v":23.41},{"$f":"IF(D774=0,\"\",1)","v":1}]
[null,null,{"$f":"Senior_Boys!$G$8","v":2},{"$f":"Senior_Boys!$H$8","v":21},{"$f":"Senior_Boys!$I$8","v":"Joe Dugdale"},null,null,null,null,null,{"$f":"Senior_Boys!$O$8","v":"Cumbria"},null,null,null,{"$f":"Senior_Boys!$S$8","v":24.24},{"$f":"IF(D775=0,\"\",1)","v":1}]
[null,null,{"$f":"Senior_Boys!$G$9","v":3},{"$f":"Senior_Boys!$H$9","v":61},{"$f":"Senior_Boys!$I$9","v":"Kieran Hedley"},null,null,null,null,null,{"$f":"Senior_Boys!$O$9","v":"Northumberland"},null,null,null,{"$f":"Senior_Boys!$S$9","v":24.52},1]
[null,null,{"$f":"Senior_Boys!$G$10","v":4},{"$f":"Senior_Boys!$H$10","v":81},{"$f":"Senior_Boys!$I$10","v":"Joe Hudson"},null,null,null,null,null,{"$f":"Senior_Boys!$O$10","v":"North Yorkshire"},null,null,null,{"$f":"Senior_Boys!$S$10","v":24.57},1]
[null,null,{"$f":"Senior_Boys!$G$11","v":5},{"$f":"Senior_Boys!$H$11","v":84},{"$f":"Senior_Boys!$I$11","v":"Jack Brennan"},null,null,null,null,null,{"$f":"Senior_Boys!$O$11","v":"North Yorkshire"},null,null,null,{"$f":"Senior_Boys!$S$11","v":24.59},1]
[null,null,{"$f":"Senior_Boys!$G$12","v":6},{"$f":"Senior_Boys!$H$12","v":62},{"$f":"Senior_Boys!$I$12","v":"Taylor Glover"},null,null,null,null,null,{"$f":"Senior_Boys!$O$12","v":"Northumberland"},null,null,null,{"$f":"Senior_Boys!$S$12","v":25.08},1]
[null,null,{"$f":"Senior_Boys!$G$13","v":7},{"$f":"Senior_Boys!$H$13","v":83},{"$f":"Senior_Boys!$I$13","v":"Ben Bergstrand"},null,null,null,null,null,{"$f":"Senior_Boys!$O$13","v":"North Yorkshire"},null,null,null,{"$f":"Senior_Boys!$S$13","v":25.21},1]
[null,null,{"$f":"Senior_Boys!$G$14","v":8},{"$f":"Senior_Boys!$H$14","v":82},{"$f":"Senior_Boys!$I$14","v":"Matthew Merrick"},null,null,null,null,null,{"$f":"Senior_Boys!$O$14","v":"North Yorkshire"},null,null,null,{"$f":"Senior_Boys!$S$14","v":25.43},1]
[null,null,{"$f":"Senior_Boys!$G$15","v":9},{"$f":"Senior_Boys!$H$15","v":85},{"$f":"Senior_Boys!$I$15","v":"Tom Barrett"},null,null,null,null,null,{"$f":"Senior_Boys!$O$15","v":"North Yorkshire"},null,null,null,{"$f":"Senior_Boys!$S$15","v":25.49},1]
[null,null,{"$f":"Senior_Boys!$G$16","v":10},{"$f":"Senior_Boys!$H$16","v":27},{"$f":"Senior_Boys!$I$16","v":"Joshua Liddle"},null,null,null,null,null,{"$f":"Senior_Boys!$O$16","v":"Cumbria"},null,null,null,{"$f":"Senior_Boys!$S$16","v":25.49},1]
[null,null,{"$f":"Senior_Boys!$G$17","v":11},{"$f":"Senior_Boys!$H$17","v":57},{"$f":"Senior_Boys!$I$17","v":"Luke Pickering"},null,null,null,null,null,{"$f":"Senior_Boys!$O$17","v":"Durham"},null,null,null,{"$f":"Senior_Boys!$S$17","v":25.56},1]
[null,null,{"$f":"Senior_Boys!$G$18","v":12},{"$f":"Senior_Boys!$H$18","v":23},{"$f":"Senior_Boys!$I$18","v":"Ben Van Djik"},null,null,null,null,null,{"$f":"Senior_Boys!$O$18","v":"Cumbria"},null,null,null,{"$f":"Senior_Boys!$S$18","v":25.58},1]
[null,null,{"$f":"Senior_Boys!$G$19","v":13},{"$f":"Senior_Boys!$H$19","v":25},{"$f":"Senior_Boys!$I$19","v":"Reuben Copley"},null,null,null,null,null,{"$f":"Senior_Boys!$O$19","v":"Cumbria"},null,null,null,{"$f":"Senior_Boys!$S$19","v":25.59},1]
[null,null,{"$f":"Senior_Boys!$G$20","v":14},{"$f":"Senior_Boys!$H$20","v":64},{"$f":"Senior_Boys!$I$20","v":"Max Pearson"},null,null,null,null,null,{"$f":"Senior_Boys!$O$20","v":"Northumberland"},null,null,null,{"$f":"Senior_Boys!$S$20","v":26.08},1]
[null,null,{"$f":"Senior_Boys!$G$21","v":15},{"$f":"Senior_Boys!$H$21","v":3},{"$f":"Senior_Boys!$I$21","v":"Luke Petit"},null,null,null,null,null,{"$f":"Senior_Boys!$O$21","v":"Cleveland"},null,null,null,{"$f":"Senior_Boys!$S$21","v":26.11},1]
[null,null,{"$f":"Senior_Boys!$G$22","v":16},{"$f":"Senior_Boys!$H$22","v":43},{"$f":"Senior_Boys!$I$22","v":"Jack Brown"},null,null,null,null,null,{"$f":"Senior_Boys!$O$22","v":"Durham"},null,null,null,{"$f":"Senior_Boys!$S$22","v":26.12},1]
[null,null,{"$f":"Senior_Boys!$G$23","v":17},{"$f":"Senior_Boys!$H$23","v":58},{"$f":"Senior_Boys!$I$23","v":"Michael Wade"},null,null,null,null,null,{"$f":"Senior_Boys!$O$23","v":"Durham"},null,null,null,{"$f":"Senior_Boys!$S$23","v":26.14},1]
[null,null,{"$f":"Senior_Boys!$G$24","v":18},{"$f":"Senior_Boys!$H$24","v":86},{"$f":"Senior_Boys!$I$24","v":"Sam Jackson"},null,null,null,null,null,{"$f":"Senior_Boys!$O$24","v":"North Yorkshire"},null,null,null,{"$f":"Senior_Boys!$S$24","v":26.19},1]
[null,null,{"$f":"Senior_Boys!$G$25","v":19},{"$f":"Senior_Boys!$H$25","v":24},{"$f":"Senior_Boys!$I$25","v":"Harry Greenbank"},null,null,null,null,null,{"$f":"Senior_Boys!$O$25","v":"Cumbria"},null,null,null,{"$f":"Senior_Boys!$S$25","v":26.21},1]
[null,null,{"$f":"Senior_Boys!$G$26","v":20},{"$f":"Senior_Boys!$H$26","v":31},{"$f":"Senior_Boys!$I$26","v":"Luke Bowen"},null,null,null,null,null,{"$f":"Senior_Boys!$O$26","v":"Cumbria"},null,null,null,{"$f":"Senior_Boys!$S$26","v":26.33},1]
[null,null,{"$f":"Senior_Boys!$G$27","v":21},{"$f":"Senior_Boys!$H$27","v":2},{"$f":"Senior_Boys!$I$27","v":"BenPalmer"},null,null,null,null,null,{"$f":"Senior_Boys!$O$27","v":"Cleveland"},null,null,null,{"$f":"Senior_Boys!$S$27","v":26.36},1]
[null,null,{"$f":"Senior_Boys!$G$28","v":22},{"$f":"Senior_Boys!$H$28","v":48},{"$f":"Senior_Boys!$I$28","v":"Joe Ponfret"},null,null,null,null,null,{"$f":"Senior_Boys!$O$28","v":"Durham"},null,null,null,{"$f":"Senior_Boys!$S$28","v":23.38},1]
[null,null,{"$f":"Senior_Boys!$G$29","v":23},{"$f":"Senior_Boys!$H$29","v":87},{"$f":"Senior_Boys!$I$29","v":"Jake Stephenson"},null,null,null,null,null,{"$f":"Senior_Boys!$O$29","v":"North Yorkshire"},null,null,null,{"$f":"Senior_Boys!$S$29","v":26.42},1]
[null,null,{"$f":"Senior_Boys!$G$30","v":24},{"$f":"Senior_Boys!$H$30","v":63},{"$f":"Senior_Boys!$I$30","v":"Patrick Donald"},null,null,null,null,null,{"$f":"Senior_Boys!$O$30","v":"Northumberland"},null,null,null,{"$f":"Senior_Boys!$S$30","v":26.42},1]
[null,null,{"$f":"Senior_Boys!$G$31","v":25},{"$f":"Senior_Boys!$H$31","v":89},{"$f":"Senior_Boys!$I$31","v":"Josh Fothergill"},null,null,null,null,null,{"$f":"Senior_Boys!$O$31","v":"North Yorkshire"},null,null,null,{"$f":"Senior_Boys!$S$31","v":26.43},1]
[null,null,{"$f":"Senior_Boys!$G$32","v":26},{"$f":"Senior_Boys!$H$32","v":45},{"$f":"Senior_Boys!$I$32","v":"Matthew Phillips"},null,null,null,null,null,{"$f":"Senior_Boys!$O$32","v":"Durham"},null,null,null,{"$f":"Senior_Boys!$S$32","v":26.44},1]
[null,null,{"$f":"Senior_Boys!$G$33","v":27},{"$f":"Senior_Boys!$H$33","v":29},{"$f":"Senior_Boys!$I$33","v":"Kieran Reynolds"},null,null,null,null,null,{"$f":"Senior_Boys!$O$33","v":"Cumbria"},null,null,null,{"$f":"Senior_Boys!$S$33","v":26.46},1]
[null,null,{"$f":"Senior_Boys!$G$34","v":28},{"$f":"Senior_Boys!$H$34","v":30},{"$f":"Senior_Boys!$I$34","v":"Edward Taylor"},null,null,null,null,null,{"$f":"Senior_Boys!$O$34","v":"Cumbria"},null,null,null,{"$f":"Senior_Boys!$S$34","v":26.49},1]
[null,null,{"$f":"Senior_Boys!$G$35","v":29},{"$f":"Senior_Boys!$H$35","v":65},{"$f":"Senior_Boys!$I$35","v":"James Morris"},null,null,null,null,null,{"$f":"Senior_Boys!$O$35","v":"Northumberland"},null,null,null,{"$f":"Senior_Boys!$S$35","v":26.5},1]
[null,null,{"$f":"Senior_Boys!$G$36","v":30},{"$f":"Senior_Boys!$H$36","v":33},{"$f":"Senior_Boys!$I$36","v":"Harry Bolton"},null,null,null,null,null,{"$f":"Senior_Boys!$O$36","v":"Cumbria"},null,null,null,{"$f":"Senior_Boys!$S$36","v":26.5},1]
[null,null,{"$f":"Senior_Boys!$G$37","v":31},{"$f":"Senior_Boys!$H$37","v":69},{"$f":"Senior_Boys!$I$37","v":"Matthew Briggs"},null,null,null,null,null,{"$f":"Senior_Boys!$O$37","v":"Northumberland"},null,null,null,{"$f":"Senior_Boys!$S$37","v":26.5},1]
[null,null,{"$f":"Senior_Boys!$G$38","v":32},{"$f":"Senior_Boys!$H$38","v":26},{"$f":"Senior_Boys!$I$38","v":"Jamie McMillan"},null,null,null,null,null,{"$f":"Senior_Boys!$O$38","v":"Cumbria"},null,null,null,{"$f":"Senior_Boys!$S$38","v":26.51},1]
[null,null,{"$f":"Senior_Boys!$G$39","v":33},{"$f":"Senior_Boys!$H$39","v":50},{"$f":"Senior_Boys!$I$39","v":"James Martin"},null,null,null,null,null,{"$f":"Senior_Boys!$O$39","v":"Durham"},null,null,null,{"$f":"Senior_Boys!$S$39","v":26.55},1]
[null,null,{"$f":"Senior_Boys!$G$40","v":34},{"$f":"Senior_Boys!$H$40","v":70},{"$f":"Senior_Boys!$I$40","v":"Alex Cunningham"},null,null,null,null,null,{"$f":"Senior_Boys!$O$40","v":"Northumberland"},null,null,null,{"$f":"Senior_Boys!$S$40","v":27},1]
[null,null,{"$f":"Senior_Boys!$G$41","v":35},{"$f":"Senior_Boys!$H$41","v":35},{"$f":"Senior_Boys!$I$41","v":"Jacob Aubrey"},null,null,null,null,null,{"$f":"Senior_Boys!$O$41","v":"Cumbria"},null,null,null,{"$f":"Senior_Boys!$S$41","v":27.07},1]
[null,null,{"$f":"Senior_Boys!$G$42","v":36},{"$f":"Senior_Boys!$H$42","v":44},{"$f":"Senior_Boys!$I$42","v":"Sean Mackie"},null,null,null,null,null,{"$f":"Senior_Boys!$O$42","v":"Durham"},null,null,null,{"$f":"Senior_Boys!$S$42","v":27.09},1]
[null,null,{"$f":"Senior_Boys!$G$43","v":37},{"$f":"Senior_Boys!$H$43","v":66},{"$f":"Senior_Boys!$I$43","v":"William Dixon"},null,null,null,null,null,{"$f":"Senior_Boys!$O$43","v":"Northumberland"},null,null,null,{"$f":"Senior_Boys!$S$43","v":27.2},1]
[null,null,{"$f":"Senior_Boys!$G$44","v":38},{"$f":"Senior_Boys!$H$44","v":4},{"$f":"Senior_Boys!$I$44","v":"Cameron Spence"},null,null,null,null,null,{"$f":"Senior_Boys!$O$44","v":"Cleveland"},null,null,null,{"$f":"Senior_Boys!$S$44","v":27.22},1]
[null,null,{"$f":"Senior_Boys!$G$45","v":39},{"$f":"Senior_Boys!$H$45","v":72},{"$f":"Senior_Boys!$I$45","v":"Leodhais MacPherson"},null,null,null,null,null,{"$f":"Senior_Boys!$O$45","v":"Northumberland"},null,null,null,{"$f":"Senior_Boys!$S$45","v":27.34},1]
[null,null,{"$f":"Senior_Boys!$G$46","v":40},{"$f":"Senior_Boys!$H$46","v":47},{"$f":"Senior_Boys!$I$46","v":"Jonny Langley"},null,null,null,null,null,{"$f":"Senior_Boys!$O$46","v":"Durham"},null,null,null,{"$f":"Senior_Boys!$S$46","v":27.4},1]
[null,null,{"$f":"Senior_Boys!$G$47","v":41},{"$f":"Senior_Boys!$H$47","v":67},{"$f":"Senior_Boys!$I$47","v":"Jack Boaden"},null,null,null,null,null,{"$f":"Senior_Boys!$O$47","v":"Northumberland"},null,null,null,{"$f":"Senior_Boys!$S$47","v":27.44},1]
[null,null,{"$f":"Senior_Boys!$G$48","v":42},{"$f":"Senior_Boys!$H$48","v":51},{"$f":"Senior_Boys!$I$48","v":"Jacob Stephenson"},null,null,null,null,null,{"$f":"Senior_Boys!$O$48","v":"Durham"},null,null,null,{"$f":"Senior_Boys!$S$48","v":28},1]
[null,null,{"$f":"Senior_Boys!$G$49","v":43},{"$f":"Senior_Boys!$H$49","v":52},{"$f":"Senior_Boys!$I$49","v":"Joshua Erlebach"},null,null,null,null,null,{"$f":"Senior_Boys!$O$49","v":"Durham"},null,null,null,{"$f":"Senior_Boys!$S$49","v":28.04},1]
[null,null,{"$f":"Senior_Boys!$G$50","v":44},{"$f":"Senior_Boys!$H$50","v":54},{"$f":"Senior_Boys!$I$50","v":"Conal Tufnell"},null,null,null,null,null,{"$f":"Senior_Boys!$O$50","v":"Durham"},null,null,null,{"$f":"Senior_Boys!$S$50","v":28.1},1]
[null,null,{"$f":"Senior_Boys!$G$51","v":45},{"$f":"Senior_Boys!$H$51","v":90},{"$f":"Senior_Boys!$I$51","v":"Jasper Johnson "},null,null,null,null,null,{"$f":"Senior_Boys!$O$51","v":"North Yorkshire"},null,null,null,{"$f":"Senior_Boys!$S$51","v":28.24},1]
[null,null,{"$f":"Senior_Boys!$G$52","v":46},{"$f":"Senior_Boys!$H$52","v":88},{"$f":"Senior_Boys!$I$52","v":"Harry Robson"},null,null,null,null,null,{"$f":"Senior_Boys!$O$52","v":"North Yorkshire"},null,null,null,{"$f":"Senior_Boys!$S$52","v":28.26},1]
[null,null,{"$f":"Senior_Boys!$G$53","v":47},{"$f":"Senior_Boys!$H$53","v":36},{"$f":"Senior_Boys!$I$53","v":"James Mattinson"},null,null,null,null,null,{"$f":"Senior_Boys!$O$53","v":"Cumbria"},null,null,null,{"$f":"Senior_Boys!$S$53","v":28.28},1]
[null,null,{"$f":"Senior_Boys!$G$54","v":48},{"$f":"Senior_Boys!$H$54","v":38},{"$f":"Senior_Boys!$I$54","v":"Struan Freeborn"},null,null,null,null,null,{"$f":"Senior_Boys!$O$54","v":"Cumbria"},null,null,null,{"$f":"Senior_Boys!$S$54","v":28.47},1]
[null,null,{"$f":"Senior_Boys!$G$55","v":49},{"$f":"Senior_Boys!$H$55","v":53},{"$f":"Senior_Boys!$I$55","v":"Adam Middleton"},null,null,null,null,null,{"$f":"Senior_Boys!$O$55","v":"Durham"},null,null,null,{"$f":"Senior_Boys!$S$55","v":29.26},1]
[null,null,{"$f":"Senior_Boys!$G$56","v":50},{"$f":"Senior_Boys!$H$56","v":56},{"$f":"Senior_Boys!$I$56","v":"Mitch Marshall"},null,null,null,null,null,{"$f":"Senior_Boys!$O$56","v":"Durham"},null,null,null,{"$f":"Senior_Boys!$S$56","v":29.59},1]
[null,null,{"$f":"Senior_Boys!$G$57","v":51},{"$f":"Senior_Boys!$H$57","v":22},{"$f":"Senior_Boys!$I$57","v":"Scott Evans"},null,null,null,null,null,{"$f":"Senior_Boys!$O$57","v":"Cumbria"},null,null,null,{"$f":"Senior_Boys!$S$57","v":30.11},1]
[null,null,{"$f":"Senior_Boys!$G$58","v":52},{"$f":"Senior_Boys!$H$58","v":55},{"$f":"Senior_Boys!$I$58","v":"Jack Prowse"},null,null,null,null,null,{"$f":"Senior_Boys!$O$58","v":"Durham"},null,null,null,{"$f":"Senior_Boys!$S$58","v":30.22},1]
[null,null,{"$f":"Senior_Boys!$G$59","v":53},{"$f":"Senior_Boys!$H$59","v":5},{"$f":"Senior_Boys!$I$59","v":"Scott Mann"},null,null,null,null,null,{"$f":"Senior_Boys!$O$59","v":"Cleveland"},null,null,null,{"$f":"Senior_Boys!$S$59","v":32.26},1]
[null,null,{"$f":"Senior_Boys!$G$60","v":54},{"$f":"Senior_Boys!$H$60","v":0},{"$f":"Senior_Boys!$I$60","v":""},null,null,null,null,null,{"$f":"Senior_Boys!$O$60","v":""},null,null,null,{"$f":"Senior_Boys!$S$60","v":0},""]
[null,null,{"$f":"Senior_Boys!$G$61","v":55},{"$f":"Senior_Boys!$H$61","v":0},{"$f":"Senior_Boys!$I$61","v":""},null,null,null,null,null,{"$f":"Senior_Boys!$O$61","v":""},null,null,null,{"$f":"Senior_Boys!$S$61","v":0},""]
[null,null,{"$f":"Senior_Boys!$G$62","v":56},{"$f":"Senior_Boys!$H$62","v":0},{"$f":"Senior_Boys!$I$62","v":""},null,null,null,null,null,{"$f":"Senior_Boys!$O$62","v":""},null,null,null,{"$f":"Senior_Boys!$S$62","v":0},""]
[null,null,{"$f":"Senior_Boys!$G$63","v":57},{"$f":"Senior_Boys!$H$63","v":0},{"$f":"Senior_Boys!$I$63","v":""},null,null,null,null,null,{"$f":"Senior_Boys!$O$63","v":""},null,null,null,{"$f":"Senior_Boys!$S$63","v":0},""]
[null,null,{"$f":"Senior_Boys!$G$64","v":58},{"$f":"Senior_Boys!$H$64","v":0},{"$f":"Senior_Boys!$I$64","v":""},null,null,null,null,null,{"$f":"Senior_Boys!$O$64","v":""},null,null,null,{"$f":"Senior_Boys!$S$64","v":0},""]
[null,null,{"$f":"Senior_Boys!$G$65","v":59},{"$f":"Senior_Boys!$H$65","v":0},{"$f":"Senior_Boys!$I$65","v":""},null,null,null,null,null,{"$f":"Senior_Boys!$O$65","v":""},null,null,null,{"$f":"Senior_Boys!$S$65","v":0},""]
[null,null,{"$f":"Senior_Boys!$G$66","v":60},{"$f":"Senior_Boys!$H$66","v":0},{"$f":"Senior_Boys!$I$66","v":""},null,null,null,null,null,{"$f":"Senior_Boys!$O$66","v":""},null,null,null,{"$f":"Senior_Boys!$S$66","v":0},""]
[null,null,{"$f":"Senior_Boys!$G$67","v":61},{"$f":"Senior_Boys!$H$67","v":0},{"$f":"Senior_Boys!$I$67","v":""},null,null,null,null,null,{"$f":"Senior_Boys!$O$67","v":""},null,null,null,{"$f":"Senior_Boys!$S$67","v":0},""]
[null,null,{"$f":"Senior_Boys!$G$68","v":62},{"$f":"Senior_Boys!$H$68","v":0},{"$f":"Senior_Boys!$I$68","v":""},null,null,null,null,null,{"$f":"Senior_Boys!$O$68","v":""},null,null,null,{"$f":"Senior_Boys!$S$68","v":0},""]
[null,null,{"$f":"Senior_Boys!$G$69","v":63},{"$f":"Senior_Boys!$H$69","v":0},{"$f":"Senior_Boys!$I$69","v":""},null,null,null,null,null,{"$f":"Senior_Boys!$O$69","v":""},null,null,null,{"$f":"Senior_Boys!$S$69","v":0},""]
[null,null,{"$f":"Senior_Boys!$G$70","v":64},{"$f":"Senior_Boys!$H$70","v":0},{"$f":"Senior_Boys!$I$70","v":""},null,null,null,null,null,{"$f":"Senior_Boys!$O$70","v":""},null,null,null,{"$f":"Senior_Boys!$S$70","v":0},""]
[null,null,{"$f":"Senior_Boys!$G$71","v":65},{"$f":"Senior_Boys!$H$71","v":0},{"$f":"Senior_Boys!$I$71","v":""},null,null,null,null,null,{"$f":"Senior_Boys!$O$71","v":""},null,null,null,{"$f":"Senior_Boys!$S$71","v":0},""]
[null,null,{"$f":"Senior_Boys!$G$72","v":66},{"$f":"Senior_Boys!$H$72","v":0},{"$f":"Senior_Boys!$I$72","v":""},null,null,null,null,null,{"$f":"Senior_Boys!$O$72","v":""},null,null,null,{"$f":"Senior_Boys!$S$72","v":0},{"$f":"IF(D839=0,\"\",1)","v":""}]
[null,null,{"$f":"Senior_Boys!$G$73","v":67},{"$f":"Senior_Boys!$H$73","v":0},{"$f":"Senior_Boys!$I$73","v":""},null,null,null,null,null,{"$f":"Senior_Boys!$O$73","v":""},null,null,null,{"$f":"Senior_Boys!$S$73","v":0},""]
[null,null,{"$f":"Senior_Boys!$G$74","v":68},{"$f":"Senior_Boys!$H$74","v":0},{"$f":"Senior_Boys!$I$74","v":""},null,null,null,null,null,{"$f":"Senior_Boys!$O$74","v":""},null,null,null,{"$f":"Senior_Boys!$S$74","v":0},""]
[null,null,{"$f":"Senior_Boys!$G$75","v":69},{"$f":"Senior_Boys!$H$75","v":0},{"$f":"Senior_Boys!$I$75","v":""},null,null,null,null,null,{"$f":"Senior_Boys!$O$75","v":""},null,null,null,{"$f":"Senior_Boys!$S$75","v":0},""]
[null,null,{"$f":"Senior_Boys!$G$76","v":70},{"$f":"Senior_Boys!$H$76","v":0},{"$f":"Senior_Boys!$I$76","v":""},null,null,null,null,null,{"$f":"Senior_Boys!$O$76","v":""},null,null,null,{"$f":"Senior_Boys!$S$76","v":0},""]
[null,null,{"$f":"Senior_Boys!$G$77","v":71},{"$f":"Senior_Boys!$H$77","v":0},{"$f":"Senior_Boys!$I$77","v":""},null,null,null,null,null,{"$f":"Senior_Boys!$O$77","v":""},null,null,null,{"$f":"Senior_Boys!$S$77","v":0},""]
[null,null,{"$f":"Senior_Boys!$G$78","v":72},{"$f":"Senior_Boys!$H$78","v":0},{"$f":"Senior_Boys!$I$78","v":""},null,null,null,null,null,{"$f":"Senior_Boys!$O$78","v":""},null,null,null,{"$f":"Senior_Boys!$S$78","v":0},""]
[null,null,{"$f":"Senior_Boys!$G$79","v":73},{"$f":"Senior_Boys!$H$79","v":0},{"$f":"Senior_Boys!$I$79","v":""},null,null,null,null,null,{"$f":"Senior_Boys!$O$79","v":""},null,null,null,{"$f":"Senior_Boys!$S$79","v":0},""]
[null,null,{"$f":"Senior_Boys!$G$80","v":74},{"$f":"Senior_Boys!$H$80","v":0},{"$f":"Senior_Boys!$I$80","v":""},null,null,null,null,null,{"$f":"Senior_Boys!$O$80","v":""},null,null,null,{"$f":"Senior_Boys!$S$80","v":0},""]
[null,null,{"$f":"Senior_Boys!$G$81","v":75},{"$f":"Senior_Boys!$H$81","v":0},{"$f":"Senior_Boys!$I$81","v":""},null,null,null,null,null,{"$f":"Senior_Boys!$O$81","v":""},null,null,null,{"$f":"Senior_Boys!$S$81","v":0},""]
[null,null,{"$f":"Senior_Boys!$G$82","v":76},{"$f":"Senior_Boys!$H$82","v":0},{"$f":"Senior_Boys!$I$82","v":""},null,null,null,null,null,{"$f":"Senior_Boys!$O$82","v":""},null,null,null,{"$f":"Senior_Boys!$S$82","v":0},""]
[null,null,{"$f":"Senior_Boys!$G$83","v":77},{"$f":"Senior_Boys!$H$83","v":0},{"$f":"Senior_Boys!$I$83","v":""},null,null,null,null,null,{"$f":"Senior_Boys!$O$83","v":""},null,null,null,{"$f":"Senior_Boys!$S$83","v":0},""]
[null,null,{"$f":"Senior_Boys!$G$84","v":78},{"$f":"Senior_Boys!$H$84","v":0},{"$f":"Senior_Boys!$I$84","v":""},null,null,null,null,null,{"$f":"Senior_Boys!$O$84","v":""},null,null,null,{"$f":"Senior_Boys!$S$84","v":0},""]
[null,null,{"$f":"Senior_Boys!$G$85","v":79},{"$f":"Senior_Boys!$H$85","v":0},{"$f":"Senior_Boys!$I$85","v":""},null,null,null,null,null,{"$f":"Senior_Boys!$O$85","v":""},null,null,null,{"$f":"Senior_Boys!$S$85","v":0},""]
[null,null,{"$f":"Senior_Boys!$G$86","v":80},{"$f":"Senior_Boys!$H$86","v":0},{"$f":"Senior_Boys!$I$86","v":""},null,null,null,null,null,{"$f":"Senior_Boys!$O$86","v":""},null,null,null,{"$f":"Senior_Boys!$S$86","v":0},""]
[null,null,{"$f":"Senior_Boys!$G$87","v":81},{"$f":"Senior_Boys!$H$87","v":0},{"$f":"Senior_Boys!$I$87","v":""},null,null,null,null,null,{"$f":"Senior_Boys!$O$87","v":""},null,null,null,{"$f":"Senior_Boys!$S$87","v":0},""]
[null,null,{"$f":"Senior_Boys!$G$88","v":82},{"$f":"Senior_Boys!$H$88","v":0},{"$f":"Senior_Boys!$I$88","v":""},null,null,null,null,null,{"$f":"Senior_Boys!$O$88","v":""},null,null,null,{"$f":"Senior_Boys!$S$88","v":0},""]
[null,null,{"$f":"Senior_Boys!$G$89","v":83},{"$f":"Senior_Boys!$H$89","v":0},{"$f":"Senior_Boys!$I$89","v":""},null,null,null,null,null,{"$f":"Senior_Boys!$O$89","v":""},null,null,null,{"$f":"Senior_Boys!$S$89","v":0},""]
[null,null,{"$f":"Senior_Boys!$G$90","v":84},{"$f":"Senior_Boys!$H$90","v":0},{"$f":"Senior_Boys!$I$90","v":""},null,null,null,null,null,{"$f":"Senior_Boys!$O$90","v":""},null,null,null,{"$f":"Senior_Boys!$S$90","v":0},""]
[null,null,{"$f":"Senior_Boys!$G$91","v":85},{"$f":"Senior_Boys!$H$91","v":0},{"$f":"Senior_Boys!$I$91","v":""},null,null,null,null,null,{"$f":"Senior_Boys!$O$91","v":""},null,null,null,{"$f":"Senior_Boys!$S$91","v":0},""]
[null,null,{"$f":"Senior_Boys!$G$92","v":86},{"$f":"Senior_Boys!$H$92","v":0},{"$f":"Senior_Boys!$I$92","v":""},null,null,null,null,null,{"$f":"Senior_Boys!$O$92","v":""},null,null,null,{"$f":"Senior_Boys!$S$92","v":0},""]
[null,null,{"$f":"Senior_Boys!$G$93","v":87},{"$f":"Senior_Boys!$H$93","v":0},{"$f":"Senior_Boys!$I$93","v":""},null,null,null,null,null,{"$f":"Senior_Boys!$O$93","v":""},null,null,null,{"$f":"Senior_Boys!$S$93","v":0},""]
[null,null,{"$f":"Senior_Boys!$G$94","v":88},{"$f":"Senior_Boys!$H$94","v":0},{"$f":"Senior_Boys!$I$94","v":""},null,null,null,null,null,{"$f":"Senior_Boys!$O$94","v":""},null,null,null,{"$f":"Senior_Boys!$S$94","v":0},""]
[null,null,{"$f":"Senior_Boys!$G$95","v":89},{"$f":"Senior_Boys!$H$95","v":0},{"$f":"Senior_Boys!$I$95","v":""},null,null,null,null,null,{"$f":"Senior_Boys!$O$95","v":""},null,null,null,{"$f":"Senior_Boys!$S$95","v":0},""]
[null,null,{"$f":"Senior_Boys!$G$96","v":90},{"$f":"Senior_Boys!$H$96","v":0},{"$f":"Senior_Boys!$I$96","v":""},null,null,null,null,null,{"$f":"Senior_Boys!$O$96","v":""},null,null,null,{"$f":"Senior_Boys!$S$96","v":0},""]
[null,null,{"$f":"Senior_Boys!$G$97","v":91},{"$f":"Senior_Boys!$H$97","v":0},{"$f":"Senior_Boys!$I$97","v":""},null,null,null,null,null,{"$f":"Senior_Boys!$O$97","v":""},null,null,null,{"$f":"Senior_Boys!$S$97","v":0},""]
[null,null,{"$f":"Senior_Boys!$G$98","v":92},{"$f":"Senior_Boys!$H$98","v":0},{"$f":"Senior_Boys!$I$98","v":""},null,null,null,null,null,{"$f":"Senior_Boys!$O$98","v":""},null,null,null,{"$f":"Senior_Boys!$S$98","v":0},""]
[null,null,{"$f":"Senior_Boys!$G$99","v":93},{"$f":"Senior_Boys!$H$99","v":0},{"$f":"Senior_Boys!$I$99","v":""},null,null,null,null,null,{"$f":"Senior_Boys!$O$99","v":""},null,null,null,{"$f":"Senior_Boys!$S$99","v":0},""]
[null,null,{"$f":"Senior_Boys!$G$100","v":94},{"$f":"Senior_Boys!$H$100","v":0},{"$f":"Senior_Boys!$I$100","v":""},null,null,null,null,null,{"$f":"Senior_Boys!$O$100","v":""},null,null,null,{"$f":"Senior_Boys!$S$100","v":0},""]
[null,null,{"$f":"Senior_Boys!$G$101","v":95},{"$f":"Senior_Boys!$H$101","v":0},{"$f":"Senior_Boys!$I$101","v":""},null,null,null,null,null,{"$f":"Senior_Boys!$O$101","v":""},null,null,null,{"$f":"Senior_Boys!$S$101","v":0},""]
[null,null,{"$f":"Senior_Boys!$G$102","v":96},{"$f":"Senior_Boys!$H$102","v":0},{"$f":"Senior_Boys!$I$102","v":""},null,null,null,null,null,{"$f":"Senior_Boys!$O$102","v":""},null,null,null,{"$f":"Senior_Boys!$S$102","v":0},""]
[null,null,{"$f":"Senior_Boys!$G$103","v":97},{"$f":"Senior_Boys!$H$103","v":0},{"$f":"Senior_Boys!$I$103","v":""},null,null,null,null,null,{"$f":"Senior_Boys!$O$103","v":""},null,null,null,{"$f":"Senior_Boys!$S$103","v":0},""]
[null,null,{"$f":"Senior_Boys!$G$104","v":98},{"$f":"Senior_Boys!$H$104","v":0},{"$f":"Senior_Boys!$I$104","v":""},null,null,null,null,null,{"$f":"Senior_Boys!$O$104","v":""},null,null,null,{"$f":"Senior_Boys!$S$104","v":0},""]
[null,null,{"$f":"Senior_Boys!$G$105","v":99},{"$f":"Senior_Boys!$H$105","v":0},{"$f":"Senior_Boys!$I$105","v":""},null,null,null,null,null,{"$f":"Senior_Boys!$O$105","v":""},null,null,null,{"$f":"Senior_Boys!$S$105","v":0},""]
[null,null,{"$f":"Senior_Boys!$G$106","v":100},{"$f":"Senior_Boys!$H$106","v":0},{"$f":"Senior_Boys!$I$106","v":""},null,null,null,null,null,{"$f":"Senior_Boys!$O$106","v":""},null,null,null,{"$f":"Senior_Boys!$S$106","v":0},""]
[null,null,{"$f":"CONCATENATE($C772,\" \",\"Individual Medal Winners\")","v":"Senior Boys Individual Medal Winners"},null,null,null,null,null,null,null,null,null,null,null,null,{"$f":"IF(D876=\"\",\"\",1)","v":1}]
[null,null,"Pos","Num","Name",null,null,null,null,null,"County",null,null,null,"Time",{"$f":"IF(D876=\"\",\"\",1)","v":1}]
[null,null,1,{"$f":"Senior_Boys!$H$109","v":1},{"$f":"Senior_Boys!$I$109","v":"Josh Cowpertwaite"},null,null,null,null,null,{"$f":"Senior_Boys!$O$109","v":"Cleveland"},null,null,null,{"$f":"Senior_Boys!$S$109","v":23.41},{"$f":"IF(D876=\"\",\"\",1)","v":1}]
[null,null,2,{"$f":"Senior_Boys!$H$110","v":21},{"$f":"Senior_Boys!$I$110","v":"Joe Dugdale"},null,null,null,null,null,{"$f":"Senior_Boys!$O$110","v":"Cumbria"},null,null,null,{"$f":"Senior_Boys!$S$110","v":24.24},{"$f":"IF(D877=\"\",\"\",1)","v":1}]
[null,null,3,{"$f":"Senior_Boys!$H$111","v":61},{"$f":"Senior_Boys!$I$111","v":"Kieran Hedley"},null,null,null,null,null,{"$f":"Senior_Boys!$O$111","v":"Northumberland"},null,null,null,{"$f":"Senior_Boys!$S$111","v":24.52},1]
[]
[null,null,{"$f":"CONCATENATE($C772,\" \",\"Team Results\")","v":"Senior Boys Team Results"},null,null,null,null,null,null,null,null,null,null,null,null,{"$f":"IF(D882=\"\",\"\",1)","v":1}]
[null,null,null,"Team Name",null,null,null,null,"1st","2nd","3rd","4th","5th","6th","Points",{"$f":"IF(D882=\"\",\"\",1)","v":1}]
[null,null,1,{"$f":"Senior_Boys!$H$115","v":"North Yorkshire"},null,null,null,null,{"$f":"Senior_Boys!$M$115","v":4},{"$f":"Senior_Boys!$N$115","v":5},{"$f":"Senior_Boys!$O$115","v":7},{"$f":"Senior_Boys!$P$115","v":8},{"$f":"Senior_Boys!$Q$115","v":9},{"$f":"Senior_Boys!$R$115","v":18},{"$f":"Senior_Boys!$S$115","v":51},{"$f":"IF(D882=\"\",\"\",1)","v":1}]
[null,null,2,{"$f":"Senior_Boys!$H$116","v":"Cumbria"},null,null,null,null,{"$f":"Senior_Boys!$M$116","v":2},{"$f":"Senior_Boys!$N$116","v":10},{"$f":"Senior_Boys!$O$116","v":12},{"$f":"Senior_Boys!$P$116","v":13},{"$f":"Senior_Boys!$Q$116","v":19},{"$f":"Senior_Boys!$R$116","v":20},{"$f":"Senior_Boys!$S$116","v":76},{"$f":"IF(D883=\"\",\"\",1)","v":1}]
[null,null,3,{"$f":"Senior_Boys!$H$117","v":"Northumberland"},null,null,null,null,{"$f":"Senior_Boys!$M$117","v":3},{"$f":"Senior_Boys!$N$117","v":6},{"$f":"Senior_Boys!$O$117","v":14},{"$f":"Senior_Boys!$P$117","v":24},{"$f":"Senior_Boys!$Q$117","v":29},{"$f":"Senior_Boys!$R$117","v":31},{"$f":"Senior_Boys!$S$117","v":107},1]
[null,null,4,{"$f":"Senior_Boys!$H$118","v":"Durham"},null,null,null,null,{"$f":"Senior_Boys!$M$118","v":11},{"$f":"Senior_Boys!$N$118","v":16},{"$f":"Senior_Boys!$O$118","v":17},{"$f":"Senior_Boys!$P$118","v":22},{"$f":"Senior_Boys!$Q$118","v":26},{"$f":"Senior_Boys!$R$118","v":33},{"$f":"Senior_Boys!$S$118","v":125},1]
[null,null,5,{"$f":"Senior_Boys!$H$119","v":""},null,null,null,null,{"$f":"Senior_Boys!$M$119","v":""},{"$f":"Senior_Boys!$N$119","v":""},{"$f":"Senior_Boys!$O$119","v":""},{"$f":"Senior_Boys!$P$119","v":""},{"$f":"Senior_Boys!$Q$119","v":""},{"$f":"Senior_Boys!$R$119","v":""},{"$f":"Senior_Boys!$S$119","v":0},""]
[null,null,null,null,null,null,null,null,null,null,null,null,null,null,null,{"$f":"IF(D882=\"\",\"\",1)","v":1}]
[null,null,{"$f":"Home!$B$1","v":"Northern Schools' Inter-County Cross Country Championships"},null,null,null,null,null,null,null,null,null,null,null,null,{"$f":"IF(D894=0,\"\",1)","v":1},null,null,null,null,null,null,null,null,null,null,{"$f":"CONCATENATE(U888,\" \",V888)","v":" "}]
[null,null,{"$f":"Home!$B$2","v":"Barnard Castle School"},null,null,null,null,null,null,null,null,null,null,null,null,{"$f":"IF(D894=0,\"\",1)","v":1}]
[null,null,{"$f":"Home!$G$3","v":"Saturday 3rd February 2018"},null,null,null,null,null,null,null,null,null,null,null,null,{"$f":"IF(D894=0,\"\",1)","v":1}]
[null,null,null,null,null,null,null,null,null,null,null,null,null,null,null,{"$f":"IF(D894=0,\"\",1)","v":1}]
[null,null,{"$f":"Senior_Girls!$G$5","v":"Senior Girls"},null,null,null,null,null,null,null,null,null,null,null,null,{"$f":"IF(D894=0,\"\",1)","v":1}]
[null,null,"Pos","Num","Name",null,null,null,null,null,"County",null,null,null,"Time",{"$f":"IF(D894=0,\"\",1)","v":1}]
[null,null,{"$f":"Senior_Girls!$G$7","v":1},{"$f":"Senior_Girls!$H$7","v":36},{"$f":"Senior_Girls!$I$7","v":"Imogen Burrow"},null,null,null,null,null,{"$f":"Senior_Girls!$O$7","v":"Cumbria"},null,null,null,{"$f":"Senior_Girls!$S$7","v":16.100000000000001},{"$f":"IF(D894=0,\"\",1)","v":1}]
[null,null,{"$f":"Senior_Girls!$G$8","v":2},{"$f":"Senior_Girls!$H$8","v":1},{"$f":"Senior_Girls!$I$8","v":"Eli Barnbrook"},null,null,null,null,null,{"$f":"Senior_Girls!$O$8","v":"Cleveland"},null,null,null,{"$f":"Senior_Girls!$S$8","v":16.2},{"$f":"IF(D895=0,\"\",1)","v":1}]
[null,null,{"$f":"Senior_Girls!$G$9","v":3},{"$f":"Senior_Girls!$H$9","v":76},{"$f":"Senior_Girls!$I$9","v":"Rhian Purves"},null,null,null,null,null,{"$f":"Senior_Girls!$O$9","v":"Northumberland"},null,null,null,{"$f":"Senior_Girls!$S$9","v":16.25},1]
[null,null,{"$f":"Senior_Girls!$G$10","v":4},{"$f":"Senior_Girls!$H$10","v":61},{"$f":"Senior_Girls!$I$10","v":"Robyn Bennett"},null,null,null,null,null,{"$f":"Senior_Girls!$O$10","v":"Northumberland"},null,null,null,{"$f":"Senior_Girls!$S$10","v":16.3},1]
[null,null,{"$f":"Senior_Girls!$G$11","v":5},{"$f":"Senior_Girls!$H$11","v":23},{"$f":"Senior_Girls!$I$11","v":"Eve Pannone"},null,null,null,null,null,{"$f":"Senior_Girls!$O$11","v":"Cumbria"},null,null,null,{"$f":"Senior_Girls!$S$11","v":16.5},1]
[null,null,{"$f":"Senior_Girls!$G$12","v":6},{"$f":"Senior_Girls!$H$12","v":63},{"$f":"Senior_Girls!$I$12","v":"Erin Prior"},null,null,null,null,null,{"$f":"Senior_Girls!$O$12","v":"Northumberland"},null,null,null,{"$f":"Senior_Girls!$S$12","v":16.53},1]
[null,null,{"$f":"Senior_Girls!$G$13","v":7},{"$f":"Senior_Girls!$H$13","v":65},{"$f":"Senior_Girls!$I$13","v":"Isobel Robinson"},null,null,null,null,null,{"$f":"Senior_Girls!$O$13","v":"Northumberland"},null,null,null,{"$f":"Senior_Girls!$S$13","v":16.55},1]
[null,null,{"$f":"Senior_Girls!$G$14","v":8},{"$f":"Senior_Girls!$H$14","v":64},{"$f":"Senior_Girls!$I$14","v":"Gracie Hufton"},null,null,null,null,null,{"$f":"Senior_Girls!$O$14","v":"Northumberland"},null,null,null,{"$f":"Senior_Girls!$S$14","v":16.57},1]
[null,null,{"$f":"Senior_Girls!$G$15","v":9},{"$f":"Senior_Girls!$H$15","v":25},{"$f":"Senior_Girls!$I$15","v":"Georgina Boyd-Moss"},null,null,null,null,null,{"$f":"Senior_Girls!$O$15","v":"Cumbria"},null,null,null,{"$f":"Senior_Girls!$S$15","v":17},1]
[null,null,{"$f":"Senior_Girls!$G$16","v":10},{"$f":"Senior_Girls!$H$16","v":66},{"$f":"Senior_Girls!$I$16","v":"Holly Matheson"},null,null,null,null,null,{"$f":"Senior_Girls!$O$16","v":"Northumberland"},null,null,null,{"$f":"Senior_Girls!$S$16","v":17},1]
[null,null,{"$f":"Senior_Girls!$G$17","v":11},{"$f":"Senior_Girls!$H$17","v":45},{"$f":"Senior_Girls!$I$17","v":"Hannah Short"},null,null,null,null,null,{"$f":"Senior_Girls!$O$17","v":"Durham"},null,null,null,{"$f":"Senior_Girls!$S$17","v":17.010000000000002},1]
[null,null,{"$f":"Senior_Girls!$G$18","v":12},{"$f":"Senior_Girls!$H$18","v":24},{"$f":"Senior_Girls!$I$18","v":"Hannah Durkin"},null,null,null,null,null,{"$f":"Senior_Girls!$O$18","v":"Cumbria"},null,null,null,{"$f":"Senior_Girls!$S$18","v":17.02},1]
[null,null,{"$f":"Senior_Girls!$G$19","v":13},{"$f":"Senior_Girls!$H$19","v":34},{"$f":"Senior_Girls!$I$19","v":"Josie Coulthard"},null,null,null,null,null,{"$f":"Senior_Girls!$O$19","v":"Cumbria"},null,null,null,{"$f":"Senior_Girls!$S$19","v":17.05},1]
[null,null,{"$f":"Senior_Girls!$G$20","v":14},{"$f":"Senior_Girls!$H$20","v":42},{"$f":"Senior_Girls!$I$20","v":"Sarah Knight"},null,null,null,null,null,{"$f":"Senior_Girls!$O$20","v":"Durham"},null,null,null,{"$f":"Senior_Girls!$S$20","v":17.07},1]
[null,null,{"$f":"Senior_Girls!$G$21","v":15},{"$f":"Senior_Girls!$H$21","v":67},{"$f":"Senior_Girls!$I$21","v":"Elisha Tait"},null,null,null,null,null,{"$f":"Senior_Girls!$O$21","v":"Northumberland"},null,null,null,{"$f":"Senior_Girls!$S$21","v":17.12},1]
[null,null,{"$f":"Senior_Girls!$G$22","v":16},{"$f":"Senior_Girls!$H$22","v":43},{"$f":"Senior_Girls!$I$22","v":"Evie Quinn"},null,null,null,null,null,{"$f":"Senior_Girls!$O$22","v":"Durham"},null,null,null,{"$f":"Senior_Girls!$S$22","v":17.170000000000002},1]
[null,null,{"$f":"Senior_Girls!$G$23","v":17},{"$f":"Senior_Girls!$H$23","v":89},{"$f":"Senior_Girls!$I$23","v":"Tara Schwarze-Chintapatla"},null,null,null,null,null,{"$f":"Senior_Girls!$O$23","v":"North Yorkshire"},null,null,null,{"$f":"Senior_Girls!$S$23","v":17.37},1]
[null,null,{"$f":"Senior_Girls!$G$24","v":18},{"$f":"Senior_Girls!$H$24","v":90},{"$f":"Senior_Girls!$I$24","v":"Chloe Dalton"},null,null,null,null,null,{"$f":"Senior_Girls!$O$24","v":"North Yorkshire"},null,null,null,{"$f":"Senior_Girls!$S$24","v":17.43},1]
[null,null,{"$f":"Senior_Girls!$G$25","v":19},{"$f":"Senior_Girls!$H$25","v":81},{"$f":"Senior_Girls!$I$25","v":"Maddy Mastrolonardo"},null,null,null,null,null,{"$f":"Senior_Girls!$O$25","v":"North Yorkshire"},null,null,null,{"$f":"Senior_Girls!$S$25","v":17.489999999999998},1]
[null,null,{"$f":"Senior_Girls!$G$26","v":20},{"$f":"Senior_Girls!$H$26","v":44},{"$f":"Senior_Girls!$I$26","v":"Stella Jones"},null,null,null,null,null,{"$f":"Senior_Girls!$O$26","v":"Durham"},null,null,null,{"$f":"Senior_Girls!$S$26","v":17.55},1]
[null,null,{"$f":"Senior_Girls!$G$27","v":21},{"$f":"Senior_Girls!$H$27","v":82},{"$f":"Senior_Girls!$I$27","v":"Lily Naylor"},null,null,null,null,null,{"$f":"Senior_Girls!$O$27","v":"North Yorkshire"},null,null,null,{"$f":"Senior_Girls!$S$27","v":17.59},1]
[null,null,{"$f":"Senior_Girls!$G$28","v":22},{"$f":"Senior_Girls!$H$28","v":27},{"$f":"Senior_Girls!$I$28","v":"Sally Bennett"},null,null,null,null,null,{"$f":"Senior_Girls!$O$28","v":"Cumbria"},null,null,null,{"$f":"Senior_Girls!$S$28","v":18.010000000000002},1]
[null,null,{"$f":"Senior_Girls!$G$29","v":23},{"$f":"Senior_Girls!$H$29","v":48},{"$f":"Senior_Girls!$I$29","v":"Laura Kirkham"},null,null,null,null,null,{"$f":"Senior_Girls!$O$29","v":"Durham"},null,null,null,{"$f":"Senior_Girls!$S$29","v":18.04},1]
[null,null,{"$f":"Senior_Girls!$G$30","v":24},{"$f":"Senior_Girls!$H$30","v":50},{"$f":"Senior_Girls!$I$30","v":"Lisa Thornley"},null,null,null,null,null,{"$f":"Senior_Girls!$O$30","v":"Durham"},null,null,null,{"$f":"Senior_Girls!$S$30","v":18.079999999999998},1]
[null,null,{"$f":"Senior_Girls!$G$31","v":25},{"$f":"Senior_Girls!$H$31","v":86},{"$f":"Senior_Girls!$I$31","v":"Eve Hutchinson"},null,null,null,null,null,{"$f":"Senior_Girls!$O$31","v":"North Yorkshire"},null,null,null,{"$f":"Senior_Girls!$S$31","v":18.09},1]
[null,null,{"$f":"Senior_Girls!$G$32","v":26},{"$f":"Senior_Girls!$H$32","v":24},{"$f":"Senior_Girls!$I$32","v":"Hannah Durkin"},null,null,null,null,null,{"$f":"Senior_Girls!$O$32","v":"Cumbria"},null,null,null,{"$f":"Senior_Girls!$S$32","v":18.12},1]
[null,null,{"$f":"Senior_Girls!$G$33","v":27},{"$f":"Senior_Girls!$H$33","v":5},{"$f":"Senior_Girls!$I$33","v":"Rebeckah Higgins"},null,null,null,null,null,{"$f":"Senior_Girls!$O$33","v":"Cleveland"},null,null,null,{"$f":"Senior_Girls!$S$33","v":18.149999999999999},1]
[null,null,{"$f":"Senior_Girls!$G$34","v":28},{"$f":"Senior_Girls!$H$34","v":31},{"$f":"Senior_Girls!$I$34","v":"Daisy Barnes"},null,null,null,null,null,{"$f":"Senior_Girls!$O$34","v":"Cumbria"},null,null,null,{"$f":"Senior_Girls!$S$34","v":18.170000000000002},1]
[null,null,{"$f":"Senior_Girls!$G$35","v":29},{"$f":"Senior_Girls!$H$35","v":46},{"$f":"Senior_Girls!$I$35","v":"Molly Foggon"},null,null,null,null,null,{"$f":"Senior_Girls!$O$35","v":"Durham"},null,null,null,{"$f":"Senior_Girls!$S$35","v":18.22},1]
[null,null,{"$f":"Senior_Girls!$G$36","v":30},{"$f":"Senior_Girls!$H$36","v":83},{"$f":"Senior_Girls!$I$36","v":"Lara Sterritt"},null,null,null,null,null,{"$f":"Senior_Girls!$O$36","v":"North Yorkshire"},null,null,null,{"$f":"Senior_Girls!$S$36","v":18.239999999999998},1]
[null,null,{"$f":"Senior_Girls!$G$37","v":31},{"$f":"Senior_Girls!$H$37","v":68},{"$f":"Senior_Girls!$I$37","v":"Sophie Robinson"},null,null,null,null,null,{"$f":"Senior_Girls!$O$37","v":"Northumberland"},null,null,null,{"$f":"Senior_Girls!$S$37","v":18.3},1]
[null,null,{"$f":"Senior_Girls!$G$38","v":32},{"$f":"Senior_Girls!$H$38","v":85},{"$f":"Senior_Girls!$I$38","v":"Libby Rickard"},null,null,null,null,null,{"$f":"Senior_Girls!$O$38","v":"North Yorkshire"},null,null,null,{"$f":"Senior_Girls!$S$38","v":18.37},1]
[null,null,{"$f":"Senior_Girls!$G$39","v":33},{"$f":"Senior_Girls!$H$39","v":49},{"$f":"Senior_Girls!$I$39","v":"Amy Jack"},null,null,null,null,null,{"$f":"Senior_Girls!$O$39","v":"Durham"},null,null,null,{"$f":"Senior_Girls!$S$39","v":18.41},1]
[null,null,{"$f":"Senior_Girls!$G$40","v":34},{"$f":"Senior_Girls!$H$40","v":73},{"$f":"Senior_Girls!$I$40","v":"Annabel Carroll"},null,null,null,null,null,{"$f":"Senior_Girls!$O$40","v":"Northumberland"},null,null,null,{"$f":"Senior_Girls!$S$40","v":18.440000000000001},1]
[null,null,{"$f":"Senior_Girls!$G$41","v":35},{"$f":"Senior_Girls!$H$41","v":7},{"$f":"Senior_Girls!$I$41","v":"Laura Edwards"},null,null,null,null,null,{"$f":"Senior_Girls!$O$41","v":"Cleveland"},null,null,null,{"$f":"Senior_Girls!$S$41","v":18.5},1]
[null,null,{"$f":"Senior_Girls!$G$42","v":36},{"$f":"Senior_Girls!$H$42","v":70},{"$f":"Senior_Girls!$I$42","v":"Eira Hegarty"},null,null,null,null,null,{"$f":"Senior_Girls!$O$42","v":"Northumberland"},null,null,null,{"$f":"Senior_Girls!$S$42","v":18.54},1]
[null,null,{"$f":"Senior_Girls!$G$43","v":37},{"$f":"Senior_Girls!$H$43","v":84},{"$f":"Senior_Girls!$I$43","v":"Julia Candela-Martinez"},null,null,null,null,null,{"$f":"Senior_Girls!$O$43","v":"North Yorkshire"},null,null,null,{"$f":"Senior_Girls!$S$43","v":19.02},1]
[null,null,{"$f":"Senior_Girls!$G$44","v":38},{"$f":"Senior_Girls!$H$44","v":88},{"$f":"Senior_Girls!$I$44","v":"Charlotte Morris"},null,null,null,null,null,{"$f":"Senior_Girls!$O$44","v":"North Yorkshire"},null,null,null,{"$f":"Senior_Girls!$S$44","v":19.09},1]
[null,null,{"$f":"Senior_Girls!$G$45","v":39},{"$f":"Senior_Girls!$H$45","v":71},{"$f":"Senior_Girls!$I$45","v":"Kay Errington"},null,null,null,null,null,{"$f":"Senior_Girls!$O$45","v":"Northumberland"},null,null,null,{"$f":"Senior_Girls!$S$45","v":19.14},1]
[null,null,{"$f":"Senior_Girls!$G$46","v":40},{"$f":"Senior_Girls!$H$46","v":91},{"$f":"Senior_Girls!$I$46","v":"Emily Dixon "},null,null,null,null,null,{"$f":"Senior_Girls!$O$46","v":"North Yorkshire"},null,null,null,{"$f":"Senior_Girls!$S$46","v":19.18},1]
[null,null,{"$f":"Senior_Girls!$G$47","v":41},{"$f":"Senior_Girls!$H$47","v":3},{"$f":"Senior_Girls!$I$47","v":"Willow Andrew"},null,null,null,null,null,{"$f":"Senior_Girls!$O$47","v":"Cleveland"},null,null,null,{"$f":"Senior_Girls!$S$47","v":19.260000000000002},1]
[null,null,{"$f":"Senior_Girls!$G$48","v":42},{"$f":"Senior_Girls!$H$48","v":51},{"$f":"Senior_Girls!$I$48","v":"Bridget Bradshaw"},null,null,null,null,null,{"$f":"Senior_Girls!$O$48","v":"Durham"},null,null,null,{"$f":"Senior_Girls!$S$48","v":19.329999999999998},1]
[null,null,{"$f":"Senior_Girls!$G$49","v":43},{"$f":"Senior_Girls!$H$49","v":28},{"$f":"Senior_Girls!$I$49","v":"Christina Peart"},null,null,null,null,null,{"$f":"Senior_Girls!$O$49","v":"Cumbria"},null,null,null,{"$f":"Senior_Girls!$S$49","v":19.37},1]
[null,null,{"$f":"Senior_Girls!$G$50","v":44},{"$f":"Senior_Girls!$H$50","v":69},{"$f":"Senior_Girls!$I$50","v":"Emma Dixon"},null,null,null,null,null,{"$f":"Senior_Girls!$O$50","v":"Northumberland"},null,null,null,{"$f":"Senior_Girls!$S$50","v":19.37},1]
[null,null,{"$f":"Senior_Girls!$G$51","v":45},{"$f":"Senior_Girls!$H$51","v":72},{"$f":"Senior_Girls!$I$51","v":"Beth Fraser"},null,null,null,null,null,{"$f":"Senior_Girls!$O$51","v":"Northumberland"},null,null,null,{"$f":"Senior_Girls!$S$51","v":19.38},1]
[null,null,{"$f":"Senior_Girls!$G$52","v":46},{"$f":"Senior_Girls!$H$52","v":52},{"$f":"Senior_Girls!$I$52","v":"Grace Curtis"},null,null,null,null,null,{"$f":"Senior_Girls!$O$52","v":"Durham"},null,null,null,{"$f":"Senior_Girls!$S$52","v":19.559999999999999},1]
[null,null,{"$f":"Senior_Girls!$G$53","v":47},{"$f":"Senior_Girls!$H$53","v":30},{"$f":"Senior_Girls!$I$53","v":"Honour Jeffrey"},null,null,null,null,null,{"$f":"Senior_Girls!$O$53","v":"Cumbria"},null,null,null,{"$f":"Senior_Girls!$S$53","v":20.04},1]
[null,null,{"$f":"Senior_Girls!$G$54","v":48},{"$f":"Senior_Girls!$H$54","v":29},{"$f":"Senior_Girls!$I$54","v":"Ally Hoy"},null,null,null,null,null,{"$f":"Senior_Girls!$O$54","v":"Cumbria"},null,null,null,{"$f":"Senior_Girls!$S$54","v":20.059999999999999},1]
[null,null,{"$f":"Senior_Girls!$G$55","v":49},{"$f":"Senior_Girls!$H$55","v":32},{"$f":"Senior_Girls!$I$55","v":"Amy Cooke"},null,null,null,null,null,{"$f":"Senior_Girls!$O$55","v":"Cumbria"},null,null,null,{"$f":"Senior_Girls!$S$55","v":20.18},1]
[null,null,{"$f":"Senior_Girls!$G$56","v":50},{"$f":"Senior_Girls!$H$56","v":87},{"$f":"Senior_Girls!$I$56","v":"Vicki Merrick"},null,null,null,null,null,{"$f":"Senior_Girls!$O$56","v":"North Yorkshire"},null,null,null,{"$f":"Senior_Girls!$S$56","v":21},1]
[null,null,{"$f":"Senior_Girls!$G$57","v":51},{"$f":"Senior_Girls!$H$57","v":6},{"$f":"Senior_Girls!$I$57","v":"Alice Knight"},null,null,null,null,null,{"$f":"Senior_Girls!$O$57","v":"Cleveland"},null,null,null,{"$f":"Senior_Girls!$S$57","v":21.19},1]
[null,null,{"$f":"Senior_Girls!$G$58","v":52},{"$f":"Senior_Girls!$H$58","v":4},{"$f":"Senior_Girls!$I$58","v":"Amelia Farrow"},null,null,null,null,null,{"$f":"Senior_Girls!$O$58","v":"Cleveland"},null,null,null,{"$f":"Senior_Girls!$S$58","v":22.05},1]
[null,null,{"$f":"Senior_Girls!$G$59","v":53},{"$f":"Senior_Girls!$H$59","v":53},{"$f":"Senior_Girls!$I$59","v":"Imogen Coxon"},null,null,null,null,null,{"$f":"Senior_Girls!$O$59","v":"Durham"},null,null,null,{"$f":"Senior_Girls!$S$59","v":23.32},1]
[null,null,{"$f":"Senior_Girls!$G$60","v":54},{"$f":"Senior_Girls!$H$60","v":55},{"$f":"Senior_Girls!$I$60","v":"Bethany Fitzsimmons"},null,null,null,null,null,{"$f":"Senior_Girls!$O$60","v":"Durham"},null,null,null,{"$f":"Senior_Girls!$S$60","v":25.01},1]
[null,null,{"$f":"Senior_Girls!$G$61","v":55},{"$f":"Senior_Girls!$H$61","v":0},{"$f":"Senior_Girls!$I$61","v":""},null,null,null,null,null,{"$f":"Senior_Girls!$O$61","v":""},null,null,null,{"$f":"Senior_Girls!$S$61","v":0},""]
[null,null,{"$f":"Senior_Girls!$G$62","v":56},{"$f":"Senior_Girls!$H$62","v":0},{"$f":"Senior_Girls!$I$62","v":""},null,null,null,null,null,{"$f":"Senior_Girls!$O$62","v":""},null,null,null,{"$f":"Senior_Girls!$S$62","v":0},""]
[null,null,{"$f":"Senior_Girls!$G$63","v":57},{"$f":"Senior_Girls!$H$63","v":0},{"$f":"Senior_Girls!$I$63","v":""},null,null,null,null,null,{"$f":"Senior_Girls!$O$63","v":""},null,null,null,{"$f":"Senior_Girls!$S$63","v":0},""]
[null,null,{"$f":"Senior_Girls!$G$64","v":58},{"$f":"Senior_Girls!$H$64","v":0},{"$f":"Senior_Girls!$I$64","v":""},null,null,null,null,null,{"$f":"Senior_Girls!$O$64","v":""},null,null,null,{"$f":"Senior_Girls!$S$64","v":0},""]
[null,null,{"$f":"Senior_Girls!$G$65","v":59},{"$f":"Senior_Girls!$H$65","v":0},{"$f":"Senior_Girls!$I$65","v":""},null,null,null,null,null,{"$f":"Senior_Girls!$O$65","v":""},null,null,null,{"$f":"Senior_Girls!$S$65","v":0},""]
[null,null,{"$f":"Senior_Girls!$G$66","v":60},{"$f":"Senior_Girls!$H$66","v":0},{"$f":"Senior_Girls!$I$66","v":""},null,null,null,null,null,{"$f":"Senior_Girls!$O$66","v":""},null,null,null,{"$f":"Senior_Girls!$S$66","v":0},""]
[null,null,{"$f":"Senior_Girls!$G$67","v":61},{"$f":"Senior_Girls!$H$67","v":0},{"$f":"Senior_Girls!$I$67","v":""},null,null,null,null,null,{"$f":"Senior_Girls!$O$67","v":""},null,null,null,{"$f":"Senior_Girls!$S$67","v":0},""]
[null,null,{"$f":"Senior_Girls!$G$68","v":62},{"$f":"Senior_Girls!$H$68","v":0},{"$f":"Senior_Girls!$I$68","v":""},null,null,null,null,null,{"$f":"Senior_Girls!$O$68","v":""},null,null,null,{"$f":"Senior_Girls!$S$68","v":0},""]
[null,null,{"$f":"Senior_Girls!$G$69","v":63},{"$f":"Senior_Girls!$H$69","v":0},{"$f":"Senior_Girls!$I$69","v":""},null,null,null,null,null,{"$f":"Senior_Girls!$O$69","v":""},null,null,null,{"$f":"Senior_Girls!$S$69","v":0},""]
[null,null,{"$f":"Senior_Girls!$G$70","v":64},{"$f":"Senior_Girls!$H$70","v":0},{"$f":"Senior_Girls!$I$70","v":""},null,null,null,null,null,{"$f":"Senior_Girls!$O$70","v":""},null,null,null,{"$f":"Senior_Girls!$S$70","v":0},""]
[null,null,{"$f":"Senior_Girls!$G$71","v":65},{"$f":"Senior_Girls!$H$71","v":0},{"$f":"Senior_Girls!$I$71","v":""},null,null,null,null,null,{"$f":"Senior_Girls!$O$71","v":""},null,null,null,{"$f":"Senior_Girls!$S$71","v":0},""]
[null,null,{"$f":"Senior_Girls!$G$72","v":66},{"$f":"Senior_Girls!$H$72","v":0},{"$f":"Senior_Girls!$I$72","v":""},null,null,null,null,null,{"$f":"Senior_Girls!$O$72","v":""},null,null,null,{"$f":"Senior_Girls!$S$72","v":0},{"$f":"IF(D959=0,\"\",1)","v":""}]
[null,null,{"$f":"Senior_Girls!$G$73","v":67},{"$f":"Senior_Girls!$H$73","v":0},{"$f":"Senior_Girls!$I$73","v":""},null,null,null,null,null,{"$f":"Senior_Girls!$O$73","v":""},null,null,null,{"$f":"Senior_Girls!$S$73","v":0},""]
[null,null,{"$f":"Senior_Girls!$G$74","v":68},{"$f":"Senior_Girls!$H$74","v":0},{"$f":"Senior_Girls!$I$74","v":""},null,null,null,null,null,{"$f":"Senior_Girls!$O$74","v":""},null,null,null,{"$f":"Senior_Girls!$S$74","v":0},""]
[null,null,{"$f":"Senior_Girls!$G$75","v":69},{"$f":"Senior_Girls!$H$75","v":0},{"$f":"Senior_Girls!$I$75","v":""},null,null,null,null,null,{"$f":"Senior_Girls!$O$75","v":""},null,null,null,{"$f":"Senior_Girls!$S$75","v":0},""]
[null,null,{"$f":"Senior_Girls!$G$76","v":70},{"$f":"Senior_Girls!$H$76","v":0},{"$f":"Senior_Girls!$I$76","v":""},null,null,null,null,null,{"$f":"Senior_Girls!$O$76","v":""},null,null,null,{"$f":"Senior_Girls!$S$76","v":0},""]
[null,null,{"$f":"Senior_Girls!$G$77","v":71},{"$f":"Senior_Girls!$H$77","v":0},{"$f":"Senior_Girls!$I$77","v":""},null,null,null,null,null,{"$f":"Senior_Girls!$O$77","v":""},null,null,null,{"$f":"Senior_Girls!$S$77","v":0},""]
[null,null,{"$f":"Senior_Girls!$G$78","v":72},{"$f":"Senior_Girls!$H$78","v":0},{"$f":"Senior_Girls!$I$78","v":""},null,null,null,null,null,{"$f":"Senior_Girls!$O$78","v":""},null,null,null,{"$f":"Senior_Girls!$S$78","v":0},""]
[null,null,{"$f":"Senior_Girls!$G$79","v":73},{"$f":"Senior_Girls!$H$79","v":0},{"$f":"Senior_Girls!$I$79","v":""},null,null,null,null,null,{"$f":"Senior_Girls!$O$79","v":""},null,null,null,{"$f":"Senior_Girls!$S$79","v":0},""]
[null,null,{"$f":"Senior_Girls!$G$80","v":74},{"$f":"Senior_Girls!$H$80","v":0},{"$f":"Senior_Girls!$I$80","v":""},null,null,null,null,null,{"$f":"Senior_Girls!$O$80","v":""},null,null,null,{"$f":"Senior_Girls!$S$80","v":0},""]
[null,null,{"$f":"Senior_Girls!$G$81","v":75},{"$f":"Senior_Girls!$H$81","v":0},{"$f":"Senior_Girls!$I$81","v":""},null,null,null,null,null,{"$f":"Senior_Girls!$O$81","v":""},null,null,null,{"$f":"Senior_Girls!$S$81","v":0},""]
[null,null,{"$f":"Senior_Girls!$G$82","v":76},{"$f":"Senior_Girls!$H$82","v":0},{"$f":"Senior_Girls!$I$82","v":""},null,null,null,null,null,{"$f":"Senior_Girls!$O$82","v":""},null,null,null,{"$f":"Senior_Girls!$S$82","v":0},""]
[null,null,{"$f":"Senior_Girls!$G$83","v":77},{"$f":"Senior_Girls!$H$83","v":0},{"$f":"Senior_Girls!$I$83","v":""},null,null,null,null,null,{"$f":"Senior_Girls!$O$83","v":""},null,null,null,{"$f":"Senior_Girls!$S$83","v":0},""]
[null,null,{"$f":"Senior_Girls!$G$84","v":78},{"$f":"Senior_Girls!$H$84","v":0},{"$f":"Senior_Girls!$I$84","v":""},null,null,null,null,null,{"$f":"Senior_Girls!$O$84","v":""},null,null,null,{"$f":"Senior_Girls!$S$84","v":0},""]
[null,null,{"$f":"Senior_Girls!$G$85","v":79},{"$f":"Senior_Girls!$H$85","v":0},{"$f":"Senior_Girls!$I$85","v":""},null,null,null,null,null,{"$f":"Senior_Girls!$O$85","v":""},null,null,null,{"$f":"Senior_Girls!$S$85","v":0},""]
[null,null,{"$f":"Senior_Girls!$G$86","v":80},{"$f":"Senior_Girls!$H$86","v":0},{"$f":"Senior_Girls!$I$86","v":""},null,null,null,null,null,{"$f":"Senior_Girls!$O$86","v":""},null,null,null,{"$f":"Senior_Girls!$S$86","v":0},""]
[null,null,{"$f":"Senior_Girls!$G$87","v":81},{"$f":"Senior_Girls!$H$87","v":0},{"$f":"Senior_Girls!$I$87","v":""},null,null,null,null,null,{"$f":"Senior_Girls!$O$87","v":""},null,null,null,{"$f":"Senior_Girls!$S$87","v":0},""]
[null,null,{"$f":"Senior_Girls!$G$88","v":82},{"$f":"Senior_Girls!$H$88","v":0},{"$f":"Senior_Girls!$I$88","v":""},null,null,null,null,null,{"$f":"Senior_Girls!$O$88","v":""},null,null,null,{"$f":"Senior_Girls!$S$88","v":0},""]
[null,null,{"$f":"Senior_Girls!$G$89","v":83},{"$f":"Senior_Girls!$H$89","v":0},{"$f":"Senior_Girls!$I$89","v":""},null,null,null,null,null,{"$f":"Senior_Girls!$O$89","v":""},null,null,null,{"$f":"Senior_Girls!$S$89","v":0},""]
[null,null,{"$f":"Senior_Girls!$G$90","v":84},{"$f":"Senior_Girls!$H$90","v":0},{"$f":"Senior_Girls!$I$90","v":""},null,null,null,null,null,{"$f":"Senior_Girls!$O$90","v":""},null,null,null,{"$f":"Senior_Girls!$S$90","v":0},""]
[null,null,{"$f":"Senior_Girls!$G$91","v":85},{"$f":"Senior_Girls!$H$91","v":0},{"$f":"Senior_Girls!$I$91","v":""},null,null,null,null,null,{"$f":"Senior_Girls!$O$91","v":""},null,null,null,{"$f":"Senior_Girls!$S$91","v":0},""]
[null,null,{"$f":"Senior_Girls!$G$92","v":86},{"$f":"Senior_Girls!$H$92","v":0},{"$f":"Senior_Girls!$I$92","v":""},null,null,null,null,null,{"$f":"Senior_Girls!$O$92","v":""},null,null,null,{"$f":"Senior_Girls!$S$92","v":0},""]
[null,null,{"$f":"Senior_Girls!$G$93","v":87},{"$f":"Senior_Girls!$H$93","v":0},{"$f":"Senior_Girls!$I$93","v":""},null,null,null,null,null,{"$f":"Senior_Girls!$O$93","v":""},null,null,null,{"$f":"Senior_Girls!$S$93","v":0},""]
[null,null,{"$f":"Senior_Girls!$G$94","v":88},{"$f":"Senior_Girls!$H$94","v":0},{"$f":"Senior_Girls!$I$94","v":""},null,null,null,null,null,{"$f":"Senior_Girls!$O$94","v":""},null,null,null,{"$f":"Senior_Girls!$S$94","v":0},""]
[null,null,{"$f":"Senior_Girls!$G$95","v":89},{"$f":"Senior_Girls!$H$95","v":0},{"$f":"Senior_Girls!$I$95","v":""},null,null,null,null,null,{"$f":"Senior_Girls!$O$95","v":""},null,null,null,{"$f":"Senior_Girls!$S$95","v":0},""]
[null,null,{"$f":"Senior_Girls!$G$96","v":90},{"$f":"Senior_Girls!$H$96","v":0},{"$f":"Senior_Girls!$I$96","v":""},null,null,null,null,null,{"$f":"Senior_Girls!$O$96","v":""},null,null,null,{"$f":"Senior_Girls!$S$96","v":0},""]
[null,null,{"$f":"Senior_Girls!$G$97","v":91},{"$f":"Senior_Girls!$H$97","v":0},{"$f":"Senior_Girls!$I$97","v":""},null,null,null,null,null,{"$f":"Senior_Girls!$O$97","v":""},null,null,null,{"$f":"Senior_Girls!$S$97","v":0},""]
[null,null,{"$f":"Senior_Girls!$G$98","v":92},{"$f":"Senior_Girls!$H$98","v":0},{"$f":"Senior_Girls!$I$98","v":""},null,null,null,null,null,{"$f":"Senior_Girls!$O$98","v":""},null,null,null,{"$f":"Senior_Girls!$S$98","v":0},""]
[null,null,{"$f":"Senior_Girls!$G$99","v":93},{"$f":"Senior_Girls!$H$99","v":0},{"$f":"Senior_Girls!$I$99","v":""},null,null,null,null,null,{"$f":"Senior_Girls!$O$99","v":""},null,null,null,{"$f":"Senior_Girls!$S$99","v":0},""]
[null,null,{"$f":"Senior_Girls!$G$100","v":94},{"$f":"Senior_Girls!$H$100","v":0},{"$f":"Senior_Girls!$I$100","v":""},null,null,null,null,null,{"$f":"Senior_Girls!$O$100","v":""},null,null,null,{"$f":"Senior_Girls!$S$100","v":0},""]
[null,null,{"$f":"Senior_Girls!$G$101","v":95},{"$f":"Senior_Girls!$H$101","v":0},{"$f":"Senior_Girls!$I$101","v":""},null,null,null,null,null,{"$f":"Senior_Girls!$O$101","v":""},null,null,null,{"$f":"Senior_Girls!$S$101","v":0},""]
[null,null,{"$f":"Senior_Girls!$G$102","v":96},{"$f":"Senior_Girls!$H$102","v":0},{"$f":"Senior_Girls!$I$102","v":""},null,null,null,null,null,{"$f":"Senior_Girls!$O$102","v":""},null,null,null,{"$f":"Senior_Girls!$S$102","v":0},""]
[null,null,{"$f":"Senior_Girls!$G$103","v":97},{"$f":"Senior_Girls!$H$103","v":0},{"$f":"Senior_Girls!$I$103","v":""},null,null,null,null,null,{"$f":"Senior_Girls!$O$103","v":""},null,null,null,{"$f":"Senior_Girls!$S$103","v":0},""]
[null,null,{"$f":"Senior_Girls!$G$104","v":98},{"$f":"Senior_Girls!$H$104","v":0},{"$f":"Senior_Girls!$I$104","v":""},null,null,null,null,null,{"$f":"Senior_Girls!$O$104","v":""},null,null,null,{"$f":"Senior_Girls!$S$104","v":0},""]
[null,null,{"$f":"Senior_Girls!$G$105","v":99},{"$f":"Senior_Girls!$H$105","v":0},{"$f":"Senior_Girls!$I$105","v":""},null,null,null,null,null,{"$f":"Senior_Girls!$O$105","v":""},null,null,null,{"$f":"Senior_Girls!$S$105","v":0},""]
[null,null,{"$f":"Senior_Girls!$G$106","v":100},{"$f":"Senior_Girls!$H$106","v":0},{"$f":"Senior_Girls!$I$106","v":""},null,null,null,null,null,{"$f":"Senior_Girls!$O$106","v":""},null,null,null,{"$f":"Senior_Girls!$S$106","v":0},""]
[null,null,{"$f":"CONCATENATE($C892,\" \",\"Individual Medal Winners\")","v":"Senior Girls Individual Medal Winners"},null,null,null,null,null,null,null,null,null,null,null,null,{"$f":"IF(D996=\"\",\"\",1)","v":1}]
[null,null,"Pos","Num","Name",null,null,null,null,null,"County",null,null,null,"Time",{"$f":"IF(D996=\"\",\"\",1)","v":1}]
[null,null,1,{"$f":"Senior_Girls!$H$109","v":36},{"$f":"Senior_Girls!$I$109","v":"Imogen Burrow"},null,null,null,null,null,{"$f":"Senior_Girls!$O$109","v":"Cumbria"},null,null,null,{"$f":"Senior_Girls!$S$109","v":16.100000000000001},{"$f":"IF(D996=\"\",\"\",1)","v":1}]
[null,null,2,{"$f":"Senior_Girls!$H$110","v":1},{"$f":"Senior_Girls!$I$110","v":"Eli Barnbrook"},null,null,null,null,null,{"$f":"Senior_Girls!$O$110","v":"Cleveland"},null,null,null,{"$f":"Senior_Girls!$S$110","v":16.2},{"$f":"IF(D997=\"\",\"\",1)","v":1}]
[null,null,3,{"$f":"Senior_Girls!$H$111","v":76},{"$f":"Senior_Girls!$I$111","v":"Rhian Purves"},null,null,null,null,null,{"$f":"Senior_Girls!$O$111","v":"Northumberland"},null,null,null,{"$f":"Senior_Girls!$S$111","v":16.25},1]
[]
[null,null,{"$f":"CONCATENATE($C892,\" \",\"Team Results\")","v":"Senior Girls Team Results"},null,null,null,null,null,null,null,null,null,null,null,null,{"$f":"IF(D1002=\"\",\"\",1)","v":1}]
[null,null,null,"Team Name",null,null,null,null,"1st","2nd","3rd","4th","5th","6th","Points",{"$f":"IF(D1002=\"\",\"\",1)","v":1}]
[null,null,1,{"$f":"Senior_Girls!$H$115","v":"Northumberland"},null,null,null,null,{"$f":"Senior_Girls!$M$115","v":3},{"$f":"Senior_Girls!$N$115","v":4},{"$f":"Senior_Girls!$O$115","v":6},{"$f":"Senior_Girls!$P$115","v":7},{"$f":"Senior_Girls!$Q$115","v":8},{"$f":"Senior_Girls!$R$115","v":10},{"$f":"Senior_Girls!$S$115","v":38},{"$f":"IF(D1002=\"\",\"\",1)","v":1}]
[null,null,2,{"$f":"Senior_Girls!$H$116","v":"Cumbria"},null,null,null,null,{"$f":"Senior_Girls!$M$116","v":1},{"$f":"Senior_Girls!$N$116","v":5},{"$f":"Senior_Girls!$O$116","v":9},{"$f":"Senior_Girls!$P$116","v":12},{"$f":"Senior_Girls!$Q$116","v":13},{"$f":"Senior_Girls!$R$116","v":22},{"$f":"Senior_Girls!$S$116","v":62},{"$f":"IF(D1003=\"\",\"\",1)","v":1}]
[null,null,3,{"$f":"Senior_Girls!$H$117","v":"Durham"},null,null,null,null,{"$f":"Senior_Girls!$M$117","v":11},{"$f":"Senior_Girls!$N$117","v":14},{"$f":"Senior_Girls!$O$117","v":16},{"$f":"Senior_Girls!$P$117","v":20},{"$f":"Senior_Girls!$Q$117","v":23},{"$f":"Senior_Girls!$R$117","v":24},{"$f":"Senior_Girls!$S$117","v":108},1]
[null,null,4,{"$f":"Senior_Girls!$H$118","v":"North Yorkshire"},null,null,null,null,{"$f":"Senior_Girls!$M$118","v":17},{"$f":"Senior_Girls!$N$118","v":18},{"$f":"Senior_Girls!$O$118","v":19},{"$f":"Senior_Girls!$P$118","v":21},{"$f":"Senior_Girls!$Q$118","v":25},{"$f":"Senior_Girls!$R$118","v":30},{"$f":"Senior_Girls!$S$118","v":130},1]
[null,null,5,{"$f":"Senior_Girls!$H$119","v":"Cleveland"},null,null,null,null,{"$f":"Senior_Girls!$M$119","v":2},{"$f":"Senior_Girls!$N$119","v":27},{"$f":"Senior_Girls!$O$119","v":35},{"$f":"Senior_Girls!$P$119","v":41},{"$f":"Senior_Girls!$Q$119","v":51},{"$f":"Senior_Girls!$R$119","v":52},{"$f":"Senior_Girls!$S$119","v":208},1]
[null,null,null,null,null,null,null,null,null,null,null,null,null,null,null,{"$f":"IF(D1002=\"\",\"\",1)","v":1}]